Workbook
Name __JJ132: [1]중기일위대가!$J$136
Name __JK132: [1]중기일위대가!$K$136
Name __JN132: [1]중기일위대가!$I$136
Name __p1: #REF!
Name _95년_포상금_지급내역: #REF!
Name _JJ132: [1]중기일위대가!$J$136
Name _JK132: [1]중기일위대가!$K$136
Name _JN132: [1]중기일위대가!$I$136
Name _p1: #REF!
Name a: #REF!
Name alf: [2]개발계획수립!$B$13:$I$131
Name b: #REF!
Name BOX형수로집계: #REF!
Name CV_1C: #REF!
Name d: #REF!
Name N: #REF!
Name P: #REF!
Name Print_Area_MI: #REF!
Name Q: #REF!
Name SIZE: #REF!
Name 강감찬: #REF!
Name 경계점말뚝: '[3]2.재료비'!#REF!
Name 계약단가: #REF!
Name 고급: [4]상세!$G$24
Name 공공시설: [5]내역서!#REF!
Name 공사비: #REF!
Name 공업용뇌관2: '[3]2.재료비'!#REF!
Name 교육: [5]내역서!#REF!
Name 교통: [5]내역서!#REF!
Name 기간: #REF!
Name 김유신: #REF!
Name 노임: #REF!
Name 다이너마이트2: '[3]2.재료비'!#REF!
Name 단가: #REF!
Name 단순공종: #REF!
Name 대기질: [5]내역서!#REF!
Name 대기질측정: [5]내역서!#REF!
Name 대안설정: [5]내역서!#REF!
Name 동식물상: [5]내역서!#REF!
Name ㅁ1: [6]예산총괄표!#REF!
Name 명수: #REF!
Name 문화재: [5]내역서!#REF!
Name 백색페인트: [7]예측단가간지!$D$21
Name 보정계수1: #REF!
Name 보정계수2: #REF!
Name 보정계수3: #REF!
Name 보조: [4]상세!$G$27
Name 보통공종: #REF!
Name 보통인부: '[3]1.인건비'!$H$12
Name 복잡공종: #REF!
Name 비닐전화선: '[3]2.재료비'!#REF!
Name 뿌로마이드: '[3]2.재료비'!#REF!
Name 사정: [5]내역서!#REF!
Name 사후환경조사: [5]내역서!#REF!
Name 산업: [5]내역서!#REF!
Name 선택: #REF!
Name 설계규모: #REF!
Name 섹션오일페이퍼: '[3]2.재료비'!#REF!
Name 소음진동: [5]내역서!#REF!
Name 수리수문: [5]내역서!#REF!

Sheet 원가계산
A1: [공사명] | C1: [ CAV기반 미래모빌리티 자율주행 평가플랫폼 구축 증축공사(통신)] | I1: ="금 액 : "&NUMBERSTRING(E35,1)&" 원정 ("&DOLLAR(E35,0)&")" -> 금 액 : 영 원정 (₩0)
A2: 비 목 | D2: 금 액 | G2: 구 성 비 | Q2: 비 고 | R2: 추정가격 = 순공사원가
B3: 재 료 비 | C3: 직 접 재 료 비 | E3: =총괄표!I29 -> 0 | R3: 추정금액 = 공급가액 + 부가세 + 도급자관급
C4: 간 접 재 료 비
C5: 작 업 설 , 부 산 물 등 (△) | E5: 0 | S5: =E3+E7+E10 -> 0 | T5: 직접노무비,경비 요율근거금액
A6: 순 | C6: [ 소 계 ] | E6: =E3+E4+E5 -> 0 | S6: =E3+E7+E31 -> 0 | T6: 안전관리비 요율근거금액
B7: 노 무 비 | C7: 직 접 노 무 비 | E7: =총괄표!L29 -> 0 | S7: =E24 -> 0 | T7: 일반관리비,이윤
C8: 간 접 노 무 비 | E8: =TRUNC(E7*I8) -> 0 | G8: 직접노무비 | H8: × | I8: 0.126 | S8: =E29+E31 -> 0 | T8: 퇴직공제근거금액
A9: 공 | C9: [ 소 계 ] | E9: =SUM(E7:E8) -> 0
C10: 기 계 경 비 | E10: =총괄표!N29 -> 0
C11: 산 재 보 험 료 | E11: =TRUNC(E9*I11) -> 0 | G11: 노무비 | H11: × | I11: 0.0356
A12: 사 | C12: 고 용 보 험 료 | E12: =TRUNC(E9*I12) -> 0 | G12: 노무비 | H12: × | I12: 0.0101
B13: 경 | C13: 건 강 보 험 료 | E13: =TRUNC(E7*I13) -> 0 | G13: 직접노무비 | H13: × | I13: 0.03545 | R13: 공사기간 1개월(30일) 이상인 모든 건설공사
C14: 노 인 장 기 요 양 보 험 료 | E14: =TRUNC(E13*I14) -> 0 | G14: 건강보험료 | H14: × | I14: 0.1295 | R14: 공사기간 1개월(30일) 이상인 모든 건설공사
C15: 연 금 보 험 료 | E15: =TRUNC(E7*I15) -> 0 | G15: 직접노무비 | H15: × | I15: 0.045 | R15: 공사기간 1개월(30일) 이상인 모든 건설공사
A16: 원 | C16: 퇴 직 공 제 부 금 비 | E16: =TRUNC(E7*I16) -> 0 | G16: 직접노무비 | H16: × | I16: 0.023 | R16: 추정금액이 1억 이상인 건설공사
C17: 산 업 안 전 보 건 관 리 비 | E17: =MIN(E18,E19) -> 0 | Q17: ①과②비교후 적은 금액 적용 | R17: 총 공사금액(도급금액+도급자관급금액) 2천만원 이상 건설공사
C18: ① | E18: =(TRUNC((E6+E7)*I18+K18)*M18) -> 0 | G18: ((재료비+직노) | H18: × | I18: 0.0293 | J18: + | K18: 0 | L18: ) × | M18: 1.2
A19: 가 | C19: ② | E19: =TRUNC((E6+E7+E31/1.1)*I19)+K19 -> 0 | G19: (재료비+직노+관급자재비(도급자/1.1)) | H19: × | I19: 0.0293 | J19: + | K19: 0
B20: 비 | C20: 기 타 경 비 | E20: =TRUNC((E6+E9)*I20) -> 0 | G20: (재료비+노무비) | H20: × | I20: 0.052
C21: 환 경 보 존 비 | E21: =TRUNC((E6+E7+E10)*I21) -> 0
C22: 건설하도급대금지급보증서발급수수료 | E22: =TRUNC((E6+E7+E10)*I22) -> 0
C23: [ 소 계 ] | E23: =SUM(E10:E17,E20:E22) -> 0
B24: 계 | E24: =E6+E9+E23 -> 0
A25: 일 반 관 리 비 | E25: =TRUNC(E24*I25) -> 0 | G25: 계 | H25: × | I25: 0.06
A26: 이 윤 | E26: =TRUNC((E9+E23+E25)*I26)+Q26 -> 0 | G26: (노무비+경비+일반관리비) | H26: × | I26: 0.15 | Q26: =Q23-MOD(SUM(E24:E25)+INT((SUM(E24:E25)-E6)*I26+Q24/100),10000) -> 0
A27: 공 급 가 액 | E27: =SUM(E24:E26) -> 0
A28: 부 가 가 치 세 | E28: =TRUNC(E27*I28) -> 0 | G28: 공급가액 | H28: × | I28: 0.1
A29: [도 급 액] | E29: =SUM(E27:E28) -> 0
A30: 관 급 자 재 (관급자설치) | G30: VAT포함
A31: 관 급 자 재 (도급자설치) | E31: =총괄표!P31 -> 0 | G31: VAT포함
A32: 관 급 공 사 비 (합 계) | E32: =ROUNDUP((E30+E31),-3) -> 0 | Q32: 천단위이하절상
A33: 한 전 불 입 금 | G33: VAT포함
A35: [총 공 사 비] | E35: =E29+E32+E33+E34 -> 0 | S35: 236406000
S36: =S35-E35 -> 236406000
O37: 제비율 | Q37: =E29/SUM(E3,E7,E10) -> #DIV/0!
D40: 1차 | E40: 11682000
D41: 2차 | E41: 224724000
D42: 계 | E42: =SUM(E40:E41) -> 236406000
E43: =E35-E42 -> -236406000

Sheet 총괄표
A1: 총줄수-> | B1: 185 | D1: [ CAV기반 미래모빌리티 자율주행 평가플랫폼 구축 증축공사 ] | AA1: 연속견적가로형식
A2: 번호 | B2: 공종코드 | C2: … | D2: 공 종 명 | E2: 규격 | F2: 단위 | G2: 수량 | H2: 재료비 | J2: 노무비 | M2: 경비 | P2: 계 | Q2: 비고
H3: 단가 | I3: 금액 | J3: 수량 | K3: 단가 | L3: 금액 | M3: 단가 | N3: 금액 | O3: 단가
B4: 공종줄 | D4: CAV기반 미래모빌리티 자율주행 평가플랫폼 구축 증축공사
B5: 01 | D5: 1.통신공사 | F5: 식 | G5: 1 | H5: =총괄표!I80 -> 0 | I5: =G5*H5 -> 0 | K5: =총괄표!L80 -> 0 | L5: =G5*K5 -> 0 | M5: =총괄표!N80 -> 0 | N5: =G5*M5 -> 0 | O5: =IF((H5+K5+M5)=0, "", (H5+K5+M5)) | P5: =SUM(I5,L5,N5) -> 0
C29: Total | D29: ( 합 계 ) | I29: =TRUNC(SUM(I5:I28)) -> 0 | L29: =TRUNC(SUM(L5:L28)) -> 0 | N29: =TRUNC(SUM(N5:N28)) -> 0 | O29: =IF((H29+K29+M29)=0, "", (H29+K29+M29)) | P29: =TRUNC(SUM(P5:P28)) -> 0
B30: 공종줄 | D30: CAV기반 미래모빌리티 자율주행 평가플랫폼 구축 증축공사
B31: 02 | D31: 2.도급자관급 | F31: 식 | G31: 1 | H31: =총괄표!I158 -> 0 | I31: =G31*H31 -> 0 | K31: =총괄표!L158 -> 0 | L31: =G31*K31 -> 0 | M31: =총괄표!N158 -> 0 | N31: =G31*M31 -> 0 | O31: =IF((H31+K31+M31)=0, "", (H31+K31+M31)) | P31: =SUM(I31,L31,N31) -> 0
C55: Total | D55: ( 합 계 ) | I55: =TRUNC(SUM(I31:I54)) -> 0 | L55: =TRUNC(SUM(L30:L54)) -> 0 | N55: =TRUNC(SUM(N30:N54)) -> 0 | O55: =IF((H55+K55+M55)=0, "", (H55+K55+M55)) | P55: =TRUNC(SUM(P31:P54)) -> 0
B56: 공종줄 | D56: 1.통신공사
B57: 0101 | D57: 1-1.워크샵 | F57: 식 | G57: 1 | H57: =총괄표!I106 -> 0 | I57: =G57*H57 -> 0 | K57: =총괄표!L106 -> 0 | L57: =G57*K57 -> 0 | M57: =총괄표!N106 -> 0 | N57: =G57*M57 -> 0 | O57: =IF((H57+K57+M57)=0, "", (H57+K57+M57)) | P57: =SUM(I57,L57,N57) -> 0
B58: 0103 | D58: 1-2.자동차전용도로 | F58: 식 | G58: 1 | H58: =총괄표!I132 -> 0 | I58: =G58*H58 -> 0 | K58: =총괄표!L132 -> 0 | L58: =G58*K58 -> 0 | M58: =총괄표!N132 -> 0 | N58: =G58*M58 -> 0 | O58: =IF((H58+K58+M58)=0, "", (H58+K58+M58)) | P58: =SUM(I58,L58,N58) -> 0
B80: 01 | C80: Total | D80: ( 합 계 ) | I80: =TRUNC(SUM(I57:I79)) -> 0 | L80: =TRUNC(SUM(L57:L79)) -> 0 | N80: =TRUNC(SUM(N57:N79)) -> 0 | O80: =IF((H80+K80+M80)=0, "", (H80+K80+M80)) | P80: =TRUNC(SUM(P57:P79)) -> 0
B81: 공종줄 | D81: 1.통신공사::1-1.워크샵
B82: 010101 | D82: 1-1-1.통합배선설비공사 | F82: 식 | G82: 1 | H82: =내역서!I44 -> 0 | I82: =G82*H82 -> 0 | K82: =내역서!L44 -> 0 | L82: =G82*K82 -> 0 | M82: =내역서!N44 -> 0 | N82: =G82*M82 -> 0 | O82: =IF((H82+K82+M82)=0, "", (H82+K82+M82)) | P82: =SUM(I82,L82,N82) -> 0
B106: 0101 | C106: Total | D106: ( 합 계 ) | I106: =TRUNC(SUM(I82:I105)) -> 0 | L106: =TRUNC(SUM(L82:L105)) -> 0 | N106: =TRUNC(SUM(N82:N105)) -> 0 | O106: =IF((H106+K106+M106)=0, "", (H106+K106+M106)) | P106: =TRUNC(SUM(P81:P105)) -> 0
B107: 공종줄 | D107: 1.통신공사::1-2.자동차전용도로
B108: 010301 | D108: 1-2-1.통신탑및CCTV주설비공사 | F108: 식 | G108: 1 | H108: =내역서!I68 -> 0 | I108: =G108*H108 -> 0 | K108: =내역서!L68 -> 0 | L108: =G108*K108 -> 0 | M108: =내역서!N68 -> 0 | N108: =G108*M108 -> 0 | O108: =IF((H108+K108+M108)=0, "", (H108+K108+M108)) | P108: =SUM(I108,L108,N108) -> 0
B132: 0103 | C132: Total | D132: ( 합 계 ) | I132: =TRUNC(SUM(I108:I131)) -> 0 | L132: =TRUNC(SUM(L108:L131)) -> 0 | N132: =TRUNC(SUM(N108:N131)) -> 0 | O132: =IF((H132+K132+M132)=0, "", (H132+K132+M132)) | P132: =TRUNC(SUM(P108:P131)) -> 0
B133: 공종줄 | D133: 2.도급자관급
B134: 0201 | D134: 2-1.콘크리트기초 | F134: 식 | G134: 1 | H134: =내역서!I75 -> 0 | I134: =G134*H134 -> 0 | K134: =내역서!L75 -> 0 | L134: =G134*K134 -> 0 | M134: =내역서!N75 -> 0 | N134: =G134*M134 -> 0 | O134: =IF((H134+K134+M134)=0, "", (H134+K134+M134)) | P134: =SUM(I134,L134,N134) -> 0
B158: 02 | C158: Total | D158: ( 합 계 ) | I158: =TRUNC(SUM(I133:I157)) -> 0 | L158: =TRUNC(SUM(L133:L157)) -> 0 | N158: =TRUNC(SUM(N133:N157)) -> 0 | O158: =IF((H158+K158+M158)=0, "", (H158+K158+M158)) | P158: =TRUNC(SUM(P133:P157)) -> 0

Sheet 내역서
A1: 총줄수-> | B1: 133 | D1: [ CAV기반 미래모빌리티 자율주행 평가플랫폼 구축 증축공사 ] | W1: 노임 계산 정보 | AA1: 부속재 및 손료
A2: 번호 | B2: 공종코드 | C2: 코드 | D2: 명 칭 | E2: 규 격 | F2: 단위 | G2: 수량 | H2: 재료비 | J2: 노무비 | M2: 경비 | P2: 계 | Q2: 비고 | W2: 노임계 | X2: 전체(%) | Y2: 공종별(%) | Z2: 노임 소수 | AA2: CD배관재 | AB2: 일반배관재 | AC2: 소모재 | AD2: 자재계 | AE2: 노임계
H3: 단가 | I3: 금액 | J3: 수량 | K3: 단가 | L3: 금액 | M3: 단가 | N3: 금액 | O3: 단가 | AD3: =IF(옵션!$C$11 =0, "1", 옵션!$C$11) -> 1 | AE3: =IF(옵션!$C$12 =0, "1", 옵션!$C$12) -> 1
B4: 공종줄 | D4: 1.통신공사::1-1.워크샵::1-1-1.통합배선설비공사
A5: 5975146H012 | B5: 010101 | C5: T59751467012 | D5: 경질비닐전선관 | E5: HI 16 mm | F5: M | G5: 4 | Q5: 제 9호 | AB5: =I5 -> 0 | AC5: =G5*H5 -> 0
A6: 5975146H032 | B6: 010101 | C6: T59751467032 | D6: 경질비닐전선관(지중) | E6: HI 16 mm | F6: M | G6: 15 | Q6: 제 10호 | AB6: =I6 -> 0 | AC6: =G6*H6 -> 0
A7: 56959000020 | B7: 010101 | C7: T56959000020 | D7: 나사없는전선관 | E7: E25 | F7: M | G7: 202 | Q7: 제 14호 | AC7: =G7*H7 -> 0
A8: 56959000022 | B8: 010101 | C8: T56959000022 | D8: 나사없는전선관 | E8: E31 | F8: M | G8: 171 | Q8: 제 15호 | AC8: =G8*H8 -> 0
A9: 56959000024 | B9: 010101 | C9: T56959000024 | D9: 나사없는전선관 | E9: E39 | F9: M | G9: 57 | Q9: 제 16호 | AC9: =G9*H9 -> 0
A10: MMH99991008 | B10: 010101 | C10: 9999999991020008 | D10: 볼트고정식 이음쇠 | E10: 커플링 E25 | F10: EA | G10: 55
A11: MMH99991009 | B11: 010101 | C11: 9999999991020009 | D11: 볼트고정식 이음쇠 | E11: 커플링 E31 | F11: EA | G11: 47
A12: MMH99991010 | B12: 010101 | C12: 9999999991020010 | D12: 볼트고정식 이음쇠 | E12: 커플링 E39 | F12: EA | G12: 15
A13: MMX99810001 | B13: 010101 | C13: 8974653100010161 | D13: 볼트고정식 이음쇠 | E13: 커넥터 E25 | F13: EA | G13: 20
A14: MMX99810002 | B14: 010101 | C14: 8974653100010162 | D14: 볼트고정식 이음쇠 | E14: 커넥터 E31 | F14: EA | G14: 54
A15: MMX99810003 | B15: 010101 | C15: 8974653100010163 | D15: 볼트고정식 이음쇠 | E15: 커넥터 E39 | F15: EA | G15: 18
A16: 5975487H200 | B16: 010101 | C16: T59754877200 | D16: 관로구방수장치 | E16: D30 | F16: 조 | G16: 5 | Q16: 제 17호
A17: 56951000000 | B17: 010101 | C17: EAU000000000 | D17: 새들(벽체) | E17: 16C | F17: 개소 | G17: 2 | Q17: 제 19호
A18: 56951000001 | B18: 010101 | C18: EAU000000001 | D18: 새들(벽체) | E18: 22C | F18: 개소 | G18: 46 | Q18: 제 20호
A19: 56951000002 | B19: 010101 | C19: EAU000000002 | D19: 새들(벽체) | E19: 28C | F19: 개소 | G19: 14 | Q19: 제 21호
A20: 56951000003 | B20: 010101 | C20: EAU000000003 | D20: 새들(벽체) | E20: 36C | F20: 개소 | G20: 4 | Q20: 제 22호
A21: 56951000201 | B21: 010101 | C21: EA1000000201 | D21: 파이프행가 | E21: 22 C | F21: 개소 | G21: 87 | Q21: 제 23호
A22: 56951000202 | B22: 010101 | C22: EA1000000202 | D22: 파이프행가 | E22: 28 C | F22: 개소 | G22: 100 | Q22: 제 24호
A23: 56951000203 | B23: 010101 | C23: EA1000000203 | D23: 파이프행가 | E23: 36 C | F23: 개소 | G23: 33 | Q23: 제 25호
A24: 56951001307 | B24: 010101 | C24: EA1000001307 | D24: 벽관통 구멍 | E24: Φ50-벽두께 25cm | F24: 개소 | G24: 1 | Q24: 제 26호
A25: 56951004500 | B25: 010101 | C25: EA1000004500 | D25: 방화구획(내화충전) | E25: W 100 | F25: 개소 | G25: 1 | Q25: 제 27호
A26: 5975377H102 | B26: 010101 | C26: T59753777102 | D26: 스위치박스 | E26: 1 개용 54 mm | F26: 개 | G26: 10 | Q26: 제 28호
A27: 5975385H031 | B27: 010101 | C27: T59753857031 | D27: 풀박스 | E27: 150×150×100 | F27: 개 | G27: 9 | Q27: 제 29호
A28: 56959000006 | B28: 010101 | C28: T56959000006 | D28: 전선덕트 | E28: 알루미늄 150x100mm | F28: M | G28: 4 | Q28: 제 30호
A29: E145092H203 | B29: 010101 | C29: TE1450927203 | D29: 접지용비닐절연전선(F-GV) | E29: 6㎟ | F29: M | G29: 31 | Q29: 제 31호 | AC29: =G29*H29 -> 0
A30: 56959000008 | B30: 010101 | C30: T56959000008 | D30: UTP 케이블 | E30: Cat.5E 0.5mm 25P 2열동시1열당 | F30: M | G30: 298 | Q30: 제 32호 | AC30: =G30*H30 -> 0
A31: 56959000010 | B31: 010101 | C31: T56959000010 | D31: UTP 케이블 | E31: Cat.6 0.5mm 4P 2열동시 1열당 | F31: M | G31: 430 | Q31: 제 33호 | AC31: =G31*H31 -> 0
A32: 56959000014 | B32: 010101 | C32: T56959000014 | D32: 광케이블(옥내용) | E32: SM 8c | F32: M | G32: 149 | Q32: 제 36호 | AC32: =G32*H32 -> 0
A33: 56951002617 | B33: 010101 | C33: EA1000002617 | D33: 케이블 국내성단 | E33: UTP 25P | F33: EA | G33: 4 | Q33: 제 37호
A34: 56951002620 | B34: 010101 | C34: EA1000002620 | D34: 케이블 회선시험 | E34: UTP 4P | F34: EA | G34: 20 | Q34: 제 38호
A35: 56951002625 | B35: 010101 | C35: EA1000002625 | D35: 광케이블 국내성단 | E35: 8C | F35: 코어 | G35: 2 | Q35: 제 39호
A36: 56951002631 | B36: 010101 | C36: EA1000002631 | D36: 광케이블시험 | E36: 8C | F36: 코어 | G36: 1 | Q36: 제 40호
A37: 56959000016 | B37: 010101 | C37: T56959000016 | D37: 모듈라짹 | E37: 매입형 8P 2구 | F37: 개 | G37: 10 | Q37: 제 41호
A38: 56959000018 | B38: 010101 | C38: T56959000018 | D38: 모듈라짹 | E38: RJ45 | F38: 개 | G38: 20 | Q38: 제 42호
A39: MMU87870301 | B39: 010101 | C39: 9999999991020036 | D39: 플레이트 | E39: 1개용 | F39: EA | G39: 10
A40: 56951001505 | B40: 010101 | C40: EA1000001505 | D40: 접지공사(통신) | E40: ø18x2400L(동봉3EA) | F40: 개소 | G40: 1 | Q40: 제 44호
...

Sheet 일대목차
B1: 55 | C1: [ CAV기반 미래모빌리티 자율주행 평가플랫폼 구축 증축공사 ] - 일위대가목차
A2: 번호 | B2: … | C2: 코드 | D2: 명 칭 | E2: 규 격 | F2: 단위 | G2: 수량 | H2: 재료비 | J2: 노무비 | M2: 경비 | O2: 계 | P2: 계 | Q2: 비고
H3: 단가 | I3: 금액 | J3: 수량 | K3: 단가 | L3: 금액 | M3: 단가 | N3: 금액 | O3: 단가
A4: 56951002800 | B4: EA1000002800 | C4: 제 1호 | D4: 인력터파기 | E4: 보통토사0-1m | F4: ㎥_ | H4: =일위대가!I6 -> 0 | I4: =H4 -> 0 | K4: =일위대가!L6 -> 33109 | L4: =K4 -> 33109 | M4: =일위대가!N6 -> 0 | N4: =M4 -> 0 | O4: =IF((H4+K4+M4)=0, "", (H4+K4+M4)) -> 33109 | P4: =SUM(I4,L4,N4) -> 33109
A5: 56951002811 | B5: EA1000002811 | C5: 제 2호 | D5: 인력되메우기 | E5: 보통토사0-1m | F5: ㎥_ | H5: =일위대가!I10 -> 0 | I5: =H5 -> 0 | K5: =일위대가!L10 -> 18209 | L5: =K5 -> 18209 | M5: =일위대가!N10 -> 0 | N5: =M5 -> 0 | O5: =IF((H5+K5+M5)=0, "", (H5+K5+M5)) -> 18209 | P5: =SUM(I5,L5,N5) -> 18209
A6: 56951002807 | B6: EA1000002807 | C6: 제 3호 | D6: 터파기(기계90%,인력10%) | E6: 보통토사 | F6: ㎥ | H6: =일위대가!I15 -> 465 | I6: =H6 -> 465 | K6: =일위대가!L15 -> 4298 | L6: =K6 -> 4298 | M6: =일위대가!N15 -> 431 | N6: =M6 -> 431 | O6: =IF((H6+K6+M6)=0, "", (H6+K6+M6)) -> 5194 | P6: =SUM(I6,L6,N6) -> 5194
A7: 56951002810 | B7: EA1000002810 | C7: 제 4호 | D7: 되메우기(기계90%,인력10%) | E7: 보통토사 | F7: ㎥ | H7: =일위대가!I20 -> 465 | I7: =H7 -> 465 | K7: =일위대가!L20 -> 2808 | L7: =K7 -> 2808 | M7: =일위대가!N20 -> 431 | N7: =M7 -> 431 | O7: =IF((H7+K7+M7)=0, "", (H7+K7+M7)) -> 3704 | P7: =SUM(I7,L7,N7) -> 3704
A8: 5975595H174 | B8: T59755957174 | C8: 제 5호 | D8: 지중선용 가선철물(통신) | E8: 케이블표지시트, 0.15x150 | F8: m | H8: =일위대가!I26 -> 94 | I8: =H8 -> 94 | K8: =일위대가!L26 -> 215 | L8: =K8 -> 215 | M8: =일위대가!N26 -> 0 | N8: =M8 -> 0 | O8: =IF((H8+K8+M8)=0, "", (H8+K8+M8)) -> 309 | P8: =SUM(I8,L8,N8) -> 309
A9: 56951002815 | B9: EA1000002815 | C9: 제 6호 | D9: 현장내잔토처리 | E9: 소운반.고르기 | F9: ㎥_ | H9: =일위대가!I30 -> 0 | I9: =H9 -> 0 | K9: =일위대가!L30 -> 33109 | L9: =K9 -> 33109 | M9: =일위대가!N30 -> 0 | N9: =M9 -> 0 | O9: =IF((H9+K9+M9)=0, "", (H9+K9+M9)) -> 33109 | P9: =SUM(I9,L9,N9) -> 33109
A10: 56951002821 | B10: EA1000002821 | C10: 제 7호 | D10: 잡석깔기지정 | E10: 떨공이다지기 | F10: ㎥ | H10: =일위대가!I35 -> 89 | I10: =H10 -> 89 | K10: =일위대가!L35 -> 2979 | L10: =K10 -> 2979 | M10: =일위대가!N35 -> 0 | N10: =M10 -> 0 | O10: =IF((H10+K10+M10)=0, "", (H10+K10+M10)) -> 3068 | P10: =SUM(I10,L10,N10) -> 3068
A11: 56951001403 | B11: EA1000001403 | C11: 제 8호 | D11: 핸드홀(수공1호) | E11: 950x450x700 | F11: 개소 | H11: =일위대가!I52 -> 513625 | I11: =H11 -> 513625 | K11: =일위대가!L52 -> 387049 | L11: =K11 -> 387049 | M11: =일위대가!N52 -> 21484 | N11: =M11 -> 21484 | O11: =IF((H11+K11+M11)=0, "", (H11+K11+M11)) -> 922158 | P11: =SUM(I11,L11,N11) -> 922158
A12: 5975146H012 | B12: T59751467012 | C12: 제 9호 | D12: 경질비닐전선관 | E12: HI 16 mm | F12: M | H12: =일위대가!I61 -> 788 | I12: =H12 -> 788 | K12: =일위대가!L61 -> 13363 | L12: =K12 -> 13363 | M12: =일위대가!N61 -> 0 | N12: =M12 -> 0 | O12: =IF((H12+K12+M12)=0, "", (H12+K12+M12)) -> 14151 | P12: =SUM(I12,L12,N12) -> 14151
A13: 5975146H032 | B13: T59751467032 | C13: 제 10호 | D13: 경질비닐전선관(지중) | E13: HI 16 mm | F13: M | H13: =일위대가!I70 -> 648 | I13: =H13 -> 648 | K13: =일위대가!L70 -> 9354 | L13: =K13 -> 9354 | M13: =일위대가!N70 -> 0 | N13: =M13 -> 0 | O13: =IF((H13+K13+M13)=0, "", (H13+K13+M13)) -> 10002 | P13: =SUM(I13,L13,N13) -> 10002
A14: 56959000002 | B14: T56959000002 | C14: 제 11호 | D14: 파상형 폴리에틸렌 전선관 | E14: 30㎜(통신) | F14: M | H14: =일위대가!I80 -> 579 | I14: =H14 -> 579 | K14: =일위대가!L80 -> 5029 | L14: =K14 -> 5029 | M14: =일위대가!N80 -> 0 | N14: =M14 -> 0 | O14: =IF((H14+K14+M14)=0, "", (H14+K14+M14)) -> 5608 | P14: =SUM(I14,L14,N14) -> 5608
A15: 56959000004 | B15: T56959000004 | C15: 제 12호 | D15: 파상형 폴리에틸렌 전선관 | E15: 40㎜(통신) | F15: M | H15: =일위대가!I90 -> 937 | I15: =H15 -> 937 | K15: =일위대가!L90 -> 9449 | L15: =K15 -> 9449 | M15: =일위대가!N90 -> 0 | N15: =M15 -> 0 | O15: =IF((H15+K15+M15)=0, "", (H15+K15+M15)) -> 10386 | P15: =SUM(I15,L15,N15) -> 10386
A16: 56959000026 | B16: T56959000026 | C16: 제 13호 | D16: 광케블내외관일체형전선관 | E16: COD 32-4 공 | F16: M | H16: =일위대가!I100 -> 16922 | I16: =H16 -> 16922 | K16: =일위대가!L100 -> 22431 | L16: =K16 -> 22431 | M16: =일위대가!N100 -> 0 | N16: =M16 -> 0 | O16: =IF((H16+K16+M16)=0, "", (H16+K16+M16)) -> 39353 | P16: =SUM(I16,L16,N16) -> 39353
A17: 56959000020 | B17: T56959000020 | C17: 제 14호 | D17: 나사없는전선관 | E17: E25 | F17: M | H17: =일위대가!I108 -> 3671 | I17: =H17 -> 3671 | K17: =일위대가!L108 -> 16036 | L17: =K17 -> 16036 | M17: =일위대가!N108 -> 0 | N17: =M17 -> 0 | O17: =IF((H17+K17+M17)=0, "", (H17+K17+M17)) -> 19707 | P17: =SUM(I17,L17,N17) -> 19707
A18: 56959000022 | B18: T56959000022 | C18: 제 15호 | D18: 나사없는전선관 | E18: E31 | F18: M | H18: =일위대가!I116 -> 4998 | I18: =H18 -> 4998 | K18: =일위대가!L116 -> 21382 | L18: =K18 -> 21382 | M18: =일위대가!N116 -> 0 | N18: =M18 -> 0 | O18: =IF((H18+K18+M18)=0, "", (H18+K18+M18)) -> 26380 | P18: =SUM(I18,L18,N18) -> 26380
A19: 56959000024 | B19: T56959000024 | C19: 제 16호 | D19: 나사없는전선관 | E19: E39 | F19: M | H19: =일위대가!I124 -> 6215 | I19: =H19 -> 6215 | K19: =일위대가!L124 -> 26727 | L19: =K19 -> 26727 | M19: =일위대가!N124 -> 0 | N19: =M19 -> 0 | O19: =IF((H19+K19+M19)=0, "", (H19+K19+M19)) -> 32942 | P19: =SUM(I19,L19,N19) -> 32942
A20: 5975487H200 | B20: T59754877200 | C20: 제 17호 | D20: 관로구방수장치 | E20: D30 | F20: 조 | H20: =일위대가!I131 -> 14906 | I20: =H20 -> 14906 | K20: =일위대가!L131 -> 71879 | L20: =K20 -> 71879 | M20: =일위대가!N131 -> 0 | N20: =M20 -> 0 | O20: =IF((H20+K20+M20)=0, "", (H20+K20+M20)) -> 86785 | P20: =SUM(I20,L20,N20) -> 86785
A21: 5975487H205 | B21: T59754877205 | C21: 제 18호 | D21: 관로구방수장치 | E21: D125 | F21: 조 | H21: =일위대가!I138 -> 35906 | I21: =H21 -> 35906 | K21: =일위대가!L138 -> 71879 | L21: =K21 -> 71879 | M21: =일위대가!N138 -> 0 | N21: =M21 -> 0 | O21: =IF((H21+K21+M21)=0, "", (H21+K21+M21)) -> 107785 | P21: =SUM(I21,L21,N21) -> 107785
A22: 56951000000 | B22: EAU000000000 | C22: 제 19호 | D22: 새들(벽체) | E22: 16C | F22: 개소 | H22: =일위대가!I144 -> 232 | I22: =H22 -> 232 | K22: =일위대가!L144 -> 4810 | L22: =K22 -> 4810 | M22: =일위대가!N144 -> 0 | N22: =M22 -> 0 | O22: =IF((H22+K22+M22)=0, "", (H22+K22+M22)) -> 5042 | P22: =SUM(I22,L22,N22) -> 5042
A23: 56951000001 | B23: EAU000000001 | C23: 제 20호 | D23: 새들(벽체) | E23: 22C | F23: 개소 | H23: =일위대가!I150 -> 237 | I23: =H23 -> 237 | K23: =일위대가!L150 -> 4810 | L23: =K23 -> 4810 | M23: =일위대가!N150 -> 0 | N23: =M23 -> 0 | O23: =IF((H23+K23+M23)=0, "", (H23+K23+M23)) -> 5047 | P23: =SUM(I23,L23,N23) -> 5047
A24: 56951000002 | B24: EAU000000002 | C24: 제 21호 | D24: 새들(벽체) | E24: 28C | F24: 개소 | H24: =일위대가!I156 -> 268 | I24: =H24 -> 268 | K24: =일위대가!L156 -> 4810 | L24: =K24 -> 4810 | M24: =일위대가!N156 -> 0 | N24: =M24 -> 0 | O24: =IF((H24+K24+M24)=0, "", (H24+K24+M24)) -> 5078 | P24: =SUM(I24,L24,N24) -> 5078
A25: 56951000003 | B25: EAU000000003 | C25: 제 22호 | D25: 새들(벽체) | E25: 36C | F25: 개소 | H25: =일위대가!I162 -> 299 | I25: =H25 -> 299 | K25: =일위대가!L162 -> 4810 | L25: =K25 -> 4810 | M25: =일위대가!N162 -> 0 | N25: =M25 -> 0 | O25: =IF((H25+K25+M25)=0, "", (H25+K25+M25)) -> 5109 | P25: =SUM(I25,L25,N25) -> 5109
A26: 56951000201 | B26: EA1000000201 | C26: 제 23호 | D26: 파이프행가 | E26: 22 C | F26: 개소 | H26: =일위대가!I172 -> 2477 | I26: =H26 -> 2477 | K26: =일위대가!L172 -> 32073 | L26: =K26 -> 32073 | M26: =일위대가!N172 -> 0 | N26: =M26 -> 0 | O26: =IF((H26+K26+M26)=0, "", (H26+K26+M26)) -> 34550 | P26: =SUM(I26,L26,N26) -> 34550
A27: 56951000202 | B27: EA1000000202 | C27: 제 24호 | D27: 파이프행가 | E27: 28 C | F27: 개소 | H27: =일위대가!I182 -> 2500 | I27: =H27 -> 2500 | K27: =일위대가!L182 -> 32073 | L27: =K27 -> 32073 | M27: =일위대가!N182 -> 0 | N27: =M27 -> 0 | O27: =IF((H27+K27+M27)=0, "", (H27+K27+M27)) -> 34573 | P27: =SUM(I27,L27,N27) -> 34573
A28: 56951000203 | B28: EA1000000203 | C28: 제 25호 | D28: 파이프행가 | E28: 36 C | F28: 개소 | H28: =일위대가!I192 -> 2525 | I28: =H28 -> 2525 | K28: =일위대가!L192 -> 32073 | L28: =K28 -> 32073 | M28: =일위대가!N192 -> 0 | N28: =M28 -> 0 | O28: =IF((H28+K28+M28)=0, "", (H28+K28+M28)) -> 34598 | P28: =SUM(I28,L28,N28) -> 34598
A29: 56951001307 | B29: EA1000001307 | C29: 제 26호 | D29: 벽관통 구멍 | E29: Φ50-벽두께 25cm | F29: 개소 | H29: =일위대가!I197 -> 2570 | I29: =H29 -> 2570 | K29: =일위대가!L197 -> 85688 | L29: =K29 -> 85688 | M29: =일위대가!N197 -> 0 | N29: =M29 -> 0 | O29: =IF((H29+K29+M29)=0, "", (H29+K29+M29)) -> 88258 | P29: =SUM(I29,L29,N29) -> 88258
A30: 56951004500 | B30: EA1000004500 | C30: 제 27호 | D30: 방화구획(내화충전) | E30: W 100 | F30: 개소 | H30: =일위대가!I203 -> 17914 | I30: =H30 -> 17914 | K30: =일위대가!L203 -> 24232 | L30: =K30 -> 24232 | M30: =일위대가!N203 -> 0 | N30: =M30 -> 0 | O30: =IF((H30+K30+M30)=0, "", (H30+K30+M30)) -> 42146 | P30: =SUM(I30,L30,N30) -> 42146
A31: 5975377H102 | B31: T59753777102 | C31: 제 28호 | D31: 스위치박스 | E31: 1 개용 54 mm | F31: 개 | H31: =일위대가!I209 -> 2026 | I31: =H31 -> 2026 | K31: =일위대가!L209 -> 48109 | L31: =K31 -> 48109 | M31: =일위대가!N209 -> 0 | N31: =M31 -> 0 | O31: =IF((H31+K31+M31)=0, "", (H31+K31+M31)) -> 50135 | P31: =SUM(I31,L31,N31) -> 50135
A32: 5975385H031 | B32: T59753857031 | C32: 제 29호 | D32: 풀박스 | E32: 150×150×100 | F32: 개 | H32: =일위대가!I215 -> 4618 | I32: =H32 -> 4618 | K32: =일위대가!L215 -> 58800 | L32: =K32 -> 58800 | M32: =일위대가!N215 -> 0 | N32: =M32 -> 0 | O32: =IF((H32+K32+M32)=0, "", (H32+K32+M32)) -> 63418 | P32: =SUM(I32,L32,N32) -> 63418
A33: 56959000006 | B33: T56959000006 | C33: 제 30호 | D33: 전선덕트 | E33: 알루미늄 150x100mm | F33: m | H33: =일위대가!I221 -> 35620 | I33: =H33 -> 35620 | K33: =일위대가!L221 -> 106910 | L33: =K33 -> 106910 | M33: =일위대가!N221 -> 0 | N33: =M33 -> 0 | O33: =IF((H33+K33+M33)=0, "", (H33+K33+M33)) -> 142530 | P33: =SUM(I33,L33,N33) -> 142530
A34: E145092H203 | B34: TE1450927203 | C34: 제 31호 | D34: 접지용비닐절연전선(F-GV) | E34: 6㎟ | F34: M | H34: =일위대가!I229 -> 1101 | I34: =H34 -> 1101 | K34: =일위대가!L229 -> 4009 | L34: =K34 -> 4009 | M34: =일위대가!N229 -> 0 | N34: =M34 -> 0 | O34: =IF((H34+K34+M34)=0, "", (H34+K34+M34)) -> 5110 | P34: =SUM(I34,L34,N34) -> 5110
A35: 56959000008 | B35: T56959000008 | C35: 제 32호 | D35: UTP 케이블 | E35: Cat.5E 0.5mm 25P 2열동시1열당 | F35: M | H35: =일위대가!I237 -> 2972 | I35: =H35 -> 2972 | K35: =일위대가!L237 -> 8962 | L35: =K35 -> 8962 | M35: =일위대가!N237 -> 0 | N35: =M35 -> 0 | O35: =IF((H35+K35+M35)=0, "", (H35+K35+M35)) -> 11934 | P35: =SUM(I35,L35,N35) -> 11934
A36: 56959000010 | B36: T56959000010 | C36: 제 33호 | D36: UTP 케이블 | E36: Cat.6 0.5mm 4P 2열동시 1열당 | F36: M | H36: =일위대가!I245 -> 625 | I36: =H36 -> 625 | K36: =일위대가!L245 -> 5601 | L36: =K36 -> 5601 | M36: =일위대가!N245 -> 0 | N36: =M36 -> 0 | O36: =IF((H36+K36+M36)=0, "", (H36+K36+M36)) -> 6226 | P36: =SUM(I36,L36,N36) -> 6226
A37: 6145216H501 | B37: T61452167501 | C37: 제 34호 | D37: UTP 케이블 | E37: Cat.6E 0.5mm 4P | F37: M | H37: =일위대가!I253 -> 1413 | I37: =H37 -> 1413 | K37: =일위대가!L253 -> 6224 | L37: =K37 -> 6224 | M37: =일위대가!N253 -> 0 | N37: =M37 -> 0 | O37: =IF((H37+K37+M37)=0, "", (H37+K37+M37)) -> 7637 | P37: =SUM(I37,L37,N37) -> 7637
A38: 56959000012 | B38: T56959000012 | C38: 제 35호 | D38: 광케이블(옥외용) | E38: SM 8c | F38: M | H38: =일위대가!I262 -> 1046 | I38: =H38 -> 1046 | K38: =일위대가!L262 -> 5071 | L38: =K38 -> 5071 | M38: =일위대가!N262 -> 0 | N38: =M38 -> 0 | O38: =IF((H38+K38+M38)=0, "", (H38+K38+M38)) -> 6117 | P38: =SUM(I38,L38,N38) -> 6117
A39: 56959000014 | B39: T56959000014 | C39: 제 36호 | D39: 광케이블(옥내용) | E39: SM 8c | F39: M | H39: =일위대가!I271 -> 1085 | I39: =H39 -> 1085 | K39: =일위대가!L271 -> 5071 | L39: =K39 -> 5071 | M39: =일위대가!N271 -> 0 | N39: =M39 -> 0 | O39: =IF((H39+K39+M39)=0, "", (H39+K39+M39)) -> 6156 | P39: =SUM(I39,L39,N39) -> 6156
A40: 56951002617 | B40: EA1000002617 | C40: 제 37호 | D40: 케이블 국내성단 | E40: UTP 25P | F40: EA | H40: =일위대가!I278 -> 1741 | I40: =H40 -> 1741 | K40: =일위대가!L278 -> 58048 | L40: =K40 -> 58048 | M40: =일위대가!N278 -> 0 | N40: =M40 -> 0 | O40: =IF((H40+K40+M40)=0, "", (H40+K40+M40)) -> 59789 | P40: =SUM(I40,L40,N40) -> 59789
...

Sheet 일위대가
B1: 393 | D1: [ CAV기반 미래모빌리티 자율주행 평가플랫폼 구축 증축공사 ] - 일위대가표 | W1: 노임 계산 정보 | AA1: 부속재 및 손료
A2: 번호 | B2: 목차코드 | C2: 코드 | D2: 명 칭 | E2: 규 격 | F2: 단위 | G2: 수량 | H2: 재료비 | J2: 노무비 | M2: 경비 | P2: 계 | Q2: 비고 | W2: 노임계 | X2: 전체(%) | Y2: 공종별(%) | Z2: 노임 소수 | AA2: CD배관재 | AB2: 일반배관재 | AC2: 소모재 | AD2: 자재계 | AE2: 노임계
H3: 단가 | I3: 금액 | J3: 수량 | K3: 단가 | L3: 금액 | M3: 단가 | N3: 금액 | O3: 단가 | AD3: 1 | AE3: 1
A4: 56951002800 | B4: 일목줄 | C4: EA1000002800 | D4: [제 1호] 인력터파기 보통토사0-1m [㎥_]
A5: 56900017041 | B5: 제 1호 | C5: L001010101000002 | D5: 노 무 비 | E5: 보통인부 | F5: 인 | G5: =일위노임!G6 -> 0.2 | H5: =합산자재!H78 -> 0 | I5: =IF(G5*H5<>0, TRUNC(G5*H5, 1), "") | J5: 0.2 | K5: =합산자재!I78 -> 165545 | L5: =IF(G5*K5<>0, TRUNC(G5*K5, 1), "") -> 33109 | M5: =합산자재!J78 -> 0 | N5: =IF(G5*M5<>0, TRUNC(G5*M5, 1), "") | O5: =IF((H5+K5+M5)=0, "", (H5+K5+M5)) -> 165545 | P5: =IF(SUM(I5,L5,N5)<>0,SUM(I5,L5,N5),"") -> 33109 | AE5: =L5 -> 33109
B6: 합계줄 | D6: ( 합 계 ) | I6: =TRUNC(SUM(I4:I5)) -> 0 | L6: =TRUNC(SUM(L4:L5)) -> 33109 | N6: =TRUNC(SUM(N4:N5)) -> 0 | O6: =IF((H6+K6+M6)=0, "", (H6+K6+M6)) | P6: =IF(SUM(I6,L6,N6)<>0,SUM(I6,L6,N6),"") -> 33109 | AE6: =TRUNC(SUM(AE4:AE5)) -> 33109
A8: 56951002811 | B8: 일목줄 | C8: EA1000002811 | D8: [제 2호] 인력되메우기 보통토사0-1m [㎥_]
A9: 56900017041 | B9: 제 2호 | C9: L001010101000002 | D9: 노 무 비 | E9: 보통인부 | F9: 인 | G9: =일위노임!G9 -> 0.11 | H9: =합산자재!H78 -> 0 | I9: =IF(G9*H9<>0, TRUNC(G9*H9, 1), "") | J9: 0.11 | K9: =합산자재!I78 -> 165545 | L9: =IF(G9*K9<>0, TRUNC(G9*K9, 1), "") -> 18209.9 | M9: =합산자재!J78 -> 0 | N9: =IF(G9*M9<>0, TRUNC(G9*M9, 1), "") | O9: =IF((H9+K9+M9)=0, "", (H9+K9+M9)) -> 165545 | P9: =IF(SUM(I9,L9,N9)<>0,SUM(I9,L9,N9),"") -> 18209.9 | AE9: =L9 -> 18209.9
B10: 합계줄 | D10: ( 합 계 ) | I10: =TRUNC(SUM(I8:I9)) -> 0 | L10: =TRUNC(SUM(L8:L9)) -> 18209 | N10: =TRUNC(SUM(N8:N9)) -> 0 | O10: =IF((H10+K10+M10)=0, "", (H10+K10+M10)) | P10: =IF(SUM(I10,L10,N10)<>0,SUM(I10,L10,N10),"") -> 18209 | AE10: =TRUNC(SUM(AE8:AE9)) -> 18209
A12: 56951002807 | B12: 일목줄 | C12: EA1000002807 | D12: [제 3호] 터파기(기계90%,인력10%) 보통토사 [㎥]
A13: 56951002800 | B13: 제 3호 | C13: EA1000002800 | D13: 인력터파기 | E13: 보통토사0-1m | F13: ㎥_ | G13: 0.1 | H13: =일대목차!H4 -> 0 | I13: =IF(G13*H13<>0, TRUNC(G13*H13, 1), "") | J13: 0.1 | K13: =일대목차!K4 -> 33109 | L13: =IF(G13*K13<>0, TRUNC(G13*K13, 1), "") -> 3310.9 | M13: =일대목차!M4 -> 0 | N13: =IF(G13*M13<>0, TRUNC(G13*M13, 1), "") | O13: =IF((H13+K13+M13)=0, "", (H13+K13+M13)) -> 33109 | P13: =IF(SUM(I13,L13,N13)<>0,SUM(I13,L13,N13),"") -> 3310.9 | Q13: 제 1호 | R13: ILD
A14: CA565826042 | B14: 제 3호 | C14: ECA565826042 | D14: 기계터파기 | E14: 보통토사(0.6㎥/43.6) | F14: ㎥ | G14: 0.9 | H14: =합산자재!H66 -> 517 | I14: =IF(G14*H14<>0, TRUNC(G14*H14, 1), "") -> 465.3 | J14: 0.9 | K14: =합산자재!I66 -> 1097 | L14: =IF(G14*K14<>0, TRUNC(G14*K14, 1), "") -> 987.3 | M14: =합산자재!J66 -> 479 | N14: =IF(G14*M14<>0, TRUNC(G14*M14, 1), "") -> 431.1 | O14: =IF((H14+K14+M14)=0, "", (H14+K14+M14)) -> 2093 | P14: =IF(SUM(I14,L14,N14)<>0,SUM(I14,L14,N14),"") -> 1883.7 | Q14: 166-하 | R14: ild
B15: 합계줄 | D15: ( 합 계 ) | I15: =TRUNC(SUM(I12:I14)) -> 465 | L15: =TRUNC(SUM(L12:L14)) -> 4298 | N15: =TRUNC(SUM(N12:N14)) -> 431 | O15: =IF((H15+K15+M15)=0, "", (H15+K15+M15)) | P15: =IF(SUM(I15,L15,N15)<>0,SUM(I15,L15,N15),"") -> 5194 | AE15: =TRUNC(SUM(AE12:AE14)) -> 0
A17: 56951002810 | B17: 일목줄 | C17: EA1000002810 | D17: [제 4호] 되메우기(기계90%,인력10%) 보통토사 [㎥]
A18: 56951002811 | B18: 제 4호 | C18: EA1000002811 | D18: 인력되메우기 | E18: 보통토사0-1m | F18: ㎥_ | G18: 0.1 | H18: =일대목차!H5 -> 0 | I18: =IF(G18*H18<>0, TRUNC(G18*H18, 1), "") | J18: 0.1 | K18: =일대목차!K5 -> 18209 | L18: =IF(G18*K18<>0, TRUNC(G18*K18, 1), "") -> 1820.9 | M18: =일대목차!M5 -> 0 | N18: =IF(G18*M18<>0, TRUNC(G18*M18, 1), "") | O18: =IF((H18+K18+M18)=0, "", (H18+K18+M18)) -> 18209 | P18: =IF(SUM(I18,L18,N18)<>0,SUM(I18,L18,N18),"") -> 1820.9 | Q18: 제 2호 | R18: ILD
A19: CA565826051 | B19: 제 4호 | C19: ECA565826051 | D19: 기계되메우기 | E19: 보통토사(0.6㎥/43.6) | F19: ㎥ | G19: 0.9 | H19: =합산자재!H67 -> 517 | I19: =IF(G19*H19<>0, TRUNC(G19*H19, 1), "") -> 465.3 | J19: 0.9 | K19: =합산자재!I67 -> 1097 | L19: =IF(G19*K19<>0, TRUNC(G19*K19, 1), "") -> 987.3 | M19: =합산자재!J67 -> 479 | N19: =IF(G19*M19<>0, TRUNC(G19*M19, 1), "") -> 431.1 | O19: =IF((H19+K19+M19)=0, "", (H19+K19+M19)) -> 2093 | P19: =IF(SUM(I19,L19,N19)<>0,SUM(I19,L19,N19),"") -> 1883.7 | Q19: 166-하 | R19: ild
B20: 합계줄 | D20: ( 합 계 ) | I20: =TRUNC(SUM(I17:I19)) -> 465 | L20: =TRUNC(SUM(L17:L19)) -> 2808 | N20: =TRUNC(SUM(N17:N19)) -> 431 | O20: =IF((H20+K20+M20)=0, "", (H20+K20+M20)) | P20: =IF(SUM(I20,L20,N20)<>0,SUM(I20,L20,N20),"") -> 3704 | AE20: =TRUNC(SUM(AE17:AE19)) -> 0
A22: 5975595H174 | B22: 일목줄 | C22: T59755957174 | D22: [제 5호] 지중선용 가선철물(통신) 케이블표지시트, 0.15x150 [m]
A23: 59755957174 | B23: 제 5호 | C23: 3912219529175621 | D23: 지중선용 가선철물(통신) | E23: 케이블표지시트, 0.15x150 | F23: M | G23: 1 | H23: =합산자재!H36 -> 88 | I23: =IF(G23*H23<>0, TRUNC(G23*H23, 1), "") -> 88 | J23: 1 | K23: =합산자재!I36 -> 0 | L23: =IF(G23*K23<>0, TRUNC(G23*K23, 1), "") | M23: =합산자재!J36 -> 0 | N23: =IF(G23*M23<>0, TRUNC(G23*M23, 1), "") | O23: =IF((H23+K23+M23)=0, "", (H23+K23+M23)) -> 88 | P23: =IF(SUM(I23,L23,N23)<>0,SUM(I23,L23,N23),"") -> 88
A24: 56900017041 | B24: 제 5호 | C24: L001010101000002 | D24: 노 무 비 | E24: 보통인부 | F24: 인 | G24: =일위노임!G12 -> 0.0013 | H24: =합산자재!H78 -> 0 | I24: =IF(G24*H24<>0, TRUNC(G24*H24, 1), "") | J24: 0.0013 | K24: =합산자재!I78 -> 165545 | L24: =IF(G24*K24<>0, TRUNC(G24*K24, 1), "") -> 215.2 | M24: =합산자재!J78 -> 0 | N24: =IF(G24*M24<>0, TRUNC(G24*M24, 1), "") | O24: =IF((H24+K24+M24)=0, "", (H24+K24+M24)) -> 165545 | P24: =IF(SUM(I24,L24,N24)<>0,SUM(I24,L24,N24),"") -> 215.2 | AE24: =L24 -> 215.2
A25: A0300000000 | B25: 제 5호 | C25: RENT000000000006 | D25: [ 공 구 손 료 ] | E25: 노무비의 3 % | F25: 식 | G25: 1 | H25: =IF(TRUNC((AD26+AC26)/$AE$3,1)*$AE$3-AD26 <0, AC26, TRUNC((AD26+AC26)/$AE$3,1)*$AE$3-AD26) -> 6.4 | I25: =H25 -> 6.4 | J25: 1 | L25: =IF(G25*K25<>0, TRUNC(G25*K25, 1), "") | N25: =IF(G25*M25<>0, TRUNC(G25*M25, 1), "") | O25: =IF((H25+K25+M25)=0, "", (H25+K25+M25)) -> 6.4 | P25: =IF(SUM(I25,L25,N25)<>0,SUM(I25,L25,N25),"") -> 6.4
B26: 합계줄 | D26: ( 합 계 ) | I26: =TRUNC(SUM(I22:I25)) -> 94 | L26: =TRUNC(SUM(L22:L25)) -> 215 | N26: =TRUNC(SUM(N22:N25)) -> 0 | O26: =IF((H26+K26+M26)=0, "", (H26+K26+M26)) | P26: =IF(SUM(I26,L26,N26)<>0,SUM(I26,L26,N26),"") -> 309 | AC26: =TRUNC(AE26*옵션!$B$36/100,1) -> 6.4 | AD26: =TRUNC(SUM(L22:L24)) -> 215 | AE26: =TRUNC(SUM(AE22:AE25)) -> 215
A28: 56951002815 | B28: 일목줄 | C28: EA1000002815 | D28: [제 6호] 현장내잔토처리 소운반.고르기 [㎥_]
A29: 56900017041 | B29: 제 6호 | C29: L001010101000002 | D29: 노 무 비 | E29: 보통인부 | F29: 인 | G29: =일위노임!G15 -> 0.2 | H29: =합산자재!H78 -> 0 | I29: =IF(G29*H29<>0, TRUNC(G29*H29, 1), "") | J29: 0.2 | K29: =합산자재!I78 -> 165545 | L29: =IF(G29*K29<>0, TRUNC(G29*K29, 1), "") -> 33109 | M29: =합산자재!J78 -> 0 | N29: =IF(G29*M29<>0, TRUNC(G29*M29, 1), "") | O29: =IF((H29+K29+M29)=0, "", (H29+K29+M29)) -> 165545 | P29: =IF(SUM(I29,L29,N29)<>0,SUM(I29,L29,N29),"") -> 33109 | AE29: =L29 -> 33109
B30: 합계줄 | D30: ( 합 계 ) | I30: =TRUNC(SUM(I28:I29)) -> 0 | L30: =TRUNC(SUM(L28:L29)) -> 33109 | N30: =TRUNC(SUM(N28:N29)) -> 0 | O30: =IF((H30+K30+M30)=0, "", (H30+K30+M30)) | P30: =IF(SUM(I30,L30,N30)<>0,SUM(I30,L30,N30),"") -> 33109 | AE30: =TRUNC(SUM(AE28:AE29)) -> 33109
A32: 56951002821 | B32: 일목줄 | C32: EA1000002821 | D32: [제 7호] 잡석깔기지정 떨공이다지기 [㎥]
A33: 56900017041 | B33: 제 7호 | C33: L001010101000002 | D33: 노 무 비 | E33: 보통인부 | F33: 인 | G33: =일위노임!G18 -> 0.018 | H33: =합산자재!H78 -> 0 | I33: =IF(G33*H33<>0, TRUNC(G33*H33, 1), "") | J33: 0.018 | K33: =합산자재!I78 -> 165545 | L33: =IF(G33*K33<>0, TRUNC(G33*K33, 1), "") -> 2979.8 | M33: =합산자재!J78 -> 0 | N33: =IF(G33*M33<>0, TRUNC(G33*M33, 1), "") | O33: =IF((H33+K33+M33)=0, "", (H33+K33+M33)) -> 165545 | P33: =IF(SUM(I33,L33,N33)<>0,SUM(I33,L33,N33),"") -> 2979.8 | AE33: =L33 -> 2979.8
A34: A0300000000 | B34: 제 7호 | C34: RENT000000000006 | D34: [ 공 구 손 료 ] | E34: 노무비의 3 % | F34: 식 | G34: 1 | H34: =IF(TRUNC((AD35+AC35)/$AE$3,1)*$AE$3-AD35 <0, AC35, TRUNC((AD35+AC35)/$AE$3,1)*$AE$3-AD35) -> 89.3 | I34: =H34 -> 89.3 | J34: 1 | L34: =IF(G34*K34<>0, TRUNC(G34*K34, 1), "") | N34: =IF(G34*M34<>0, TRUNC(G34*M34, 1), "") | O34: =IF((H34+K34+M34)=0, "", (H34+K34+M34)) -> 89.3 | P34: =IF(SUM(I34,L34,N34)<>0,SUM(I34,L34,N34),"") -> 89.3
B35: 합계줄 | D35: ( 합 계 ) | I35: =TRUNC(SUM(I32:I34)) -> 89 | L35: =TRUNC(SUM(L32:L34)) -> 2979 | N35: =TRUNC(SUM(N32:N34)) -> 0 | O35: =IF((H35+K35+M35)=0, "", (H35+K35+M35)) | P35: =IF(SUM(I35,L35,N35)<>0,SUM(I35,L35,N35),"") -> 3068 | AC35: =TRUNC(AE35*옵션!$B$36/100,1) -> 89.3 | AD35: =TRUNC(SUM(L32:L33)) -> 2979 | AE35: =TRUNC(SUM(AE32:AE34)) -> 2979
A37: 56951001403 | B37: 일목줄 | C37: EA1000001403 | D37: [제 8호] 핸드홀(수공1호) 950x450x700 [개소]
A38: 56300217281 | B38: 제 8호 | C38: 3012169821869021 | D38: 핸드홀 | E38: 수공1호 | F38: 조 | G38: 1 | H38: =합산자재!H37 -> 110000 | I38: =IF(G38*H38<>0, TRUNC(G38*H38, 1), "") -> 110000 | J38: 1 | K38: =합산자재!I37 -> 0 | L38: =IF(G38*K38<>0, TRUNC(G38*K38, 1), "") | M38: =합산자재!J37 -> 0 | N38: =IF(G38*M38<>0, TRUNC(G38*M38, 1), "") | O38: =IF((H38+K38+M38)=0, "", (H38+K38+M38)) -> 110000 | P38: =IF(SUM(I38,L38,N38)<>0,SUM(I38,L38,N38),"") -> 110000
A39: 56800447433 | B39: 제 8호 | C39: 3012169821869024 | D39: 핸드홀카바(수공1호) | E39: 주철각형(1120x620KS) | F39: 조 | G39: 1 | H39: =합산자재!H38 -> 350000 | I39: =IF(G39*H39<>0, TRUNC(G39*H39, 1), "") -> 350000 | J39: 1 | K39: =합산자재!I38 -> 0 | L39: =IF(G39*K39<>0, TRUNC(G39*K39, 1), "") | M39: =합산자재!J38 -> 0 | N39: =IF(G39*M39<>0, TRUNC(G39*M39, 1), "") | O39: =IF((H39+K39+M39)=0, "", (H39+K39+M39)) -> 350000 | P39: =IF(SUM(I39,L39,N39)<>0,SUM(I39,L39,N39),"") -> 350000
A40: E1450927208 | B40: 제 8호 | C40: 2612152420683701 | D40: 접지용비닐절연전선(F-GV) | E40: 35㎟ | F40: M | G40: 5 | H40: =합산자재!H23 -> 4487 | I40: =IF(G40*H40<>0, TRUNC(G40*H40, 1), "") -> 22435 | J40: 5 | K40: =합산자재!I23 -> 0 | L40: =IF(G40*K40<>0, TRUNC(G40*K40, 1), "") | M40: =합산자재!J23 -> 0 | N40: =IF(G40*M40<>0, TRUNC(G40*M40, 1), "") | O40: =IF((H40+K40+M40)=0, "", (H40+K40+M40)) -> 4487 | P40: =IF(SUM(I40,L40,N40)<>0,SUM(I40,L40,N40),"") -> 22435 | AC40: =G40*H40 -> 22435
A41: MM629312585 | B41: 제 8호 | C41: 3912161310054842 | D41: 접지봉-통신 | E41: 14Φ×1000 mm | F41: 개 | G41: 1 | H41: =합산자재!H34 -> 5780 | I41: =IF(G41*H41<>0, TRUNC(G41*H41, 1), "") -> 5780 | J41: 1 | K41: =합산자재!I34 -> 0 | L41: =IF(G41*K41<>0, TRUNC(G41*K41, 1), "") | M41: =합산자재!J34 -> 0 | N41: =IF(G41*M41<>0, TRUNC(G41*M41, 1), "") | O41: =IF((H41+K41+M41)=0, "", (H41+K41+M41)) -> 5780 | P41: =IF(SUM(I41,L41,N41)<>0,SUM(I41,L41,N41),"") -> 5780
A42: 56951002807 | B42: 제 8호 | C42: EA1000002807 | D42: 터파기(기계90%,인력10%) | E42: 보통토사 | F42: ㎥ | G42: 1.793 | H42: =일대목차!H6 -> 465 | I42: =IF(G42*H42<>0, TRUNC(G42*H42, 1), "") -> 833.7 | J42: 1.793 | K42: =일대목차!K6 -> 4298 | L42: =IF(G42*K42<>0, TRUNC(G42*K42, 1), "") -> 7706.3 | M42: =일대목차!M6 -> 431 | N42: =IF(G42*M42<>0, TRUNC(G42*M42, 1), "") -> 772.7 | O42: =IF((H42+K42+M42)=0, "", (H42+K42+M42)) -> 5194 | P42: =IF(SUM(I42,L42,N42)<>0,SUM(I42,L42,N42),"") -> 9312.7 | Q42: 제 3호 | R42: ILD
A43: 56951002810 | B43: 제 8호 | C43: EA1000002810 | D43: 되메우기(기계90%,인력10%) | E43: 보통토사 | F43: ㎥ | G43: 1.397 | H43: =일대목차!H7 -> 465 | I43: =IF(G43*H43<>0, TRUNC(G43*H43, 1), "") -> 649.6 | J43: 1.397 | K43: =일대목차!K7 -> 2808 | L43: =IF(G43*K43<>0, TRUNC(G43*K43, 1), "") -> 3922.7 | M43: =일대목차!M7 -> 431 | N43: =IF(G43*M43<>0, TRUNC(G43*M43, 1), "") -> 602.1 | O43: =IF((H43+K43+M43)=0, "", (H43+K43+M43)) -> 3704 | P43: =IF(SUM(I43,L43,N43)<>0,SUM(I43,L43,N43),"") -> 5174.4 | Q43: 제 4호 | R43: ILD
A44: 56951002815 | B44: 제 8호 | C44: EA1000002815 | D44: 현장내잔토처리 | E44: 소운반.고르기 | F44: ㎥_ | G44: 0.396 | H44: =일대목차!H9 -> 0 | I44: =IF(G44*H44<>0, TRUNC(G44*H44, 1), "") | J44: 0.396 | K44: =일대목차!K9 -> 33109 | L44: =IF(G44*K44<>0, TRUNC(G44*K44, 1), "") -> 13111.1 | M44: =일대목차!M9 -> 0 | N44: =IF(G44*M44<>0, TRUNC(G44*M44, 1), "") | O44: =IF((H44+K44+M44)=0, "", (H44+K44+M44)) -> 33109 | P44: =IF(SUM(I44,L44,N44)<>0,SUM(I44,L44,N44),"") -> 13111.1 | Q44: 제 6호 | R44: ILD
A45: 56951002821 | B45: 제 8호 | C45: EA1000002821 | D45: 잡석깔기지정 | E45: 떨공이다지기 | F45: ㎥ | G45: 0.132 | H45: =일대목차!H10 -> 89 | I45: =IF(G45*H45<>0, TRUNC(G45*H45, 1), "") -> 11.7 | J45: 0.132 | K45: =일대목차!K10 -> 2979 | L45: =IF(G45*K45<>0, TRUNC(G45*K45, 1), "") -> 393.2 | M45: =일대목차!M10 -> 0 | N45: =IF(G45*M45<>0, TRUNC(G45*M45, 1), "") | O45: =IF((H45+K45+M45)=0, "", (H45+K45+M45)) -> 3068 | P45: =IF(SUM(I45,L45,N45)<>0,SUM(I45,L45,N45),"") -> 404.9 | Q45: 제 7호 | R45: ILD
A46: CA565826043 | B46: 제 8호 | C46: ECA565826043 | D46: 크레인 | E46: 트럭 탑재형 3 Ton | F46: 분 | G46: 136.8 | H46: =합산자재!H68 -> 112 | I46: =IF(G46*H46<>0, TRUNC(G46*H46, 1), "") -> 15321.6 | J46: 136.8 | K46: =합산자재!I68 -> 661 | L46: =IF(G46*K46<>0, TRUNC(G46*K46, 1), "") -> 90424.8 | M46: =합산자재!J68 -> 147 | N46: =IF(G46*M46<>0, TRUNC(G46*M46, 1), "") -> 20109.6 | O46: =IF((H46+K46+M46)=0, "", (H46+K46+M46)) -> 920 | P46: =IF(SUM(I46,L46,N46)<>0,SUM(I46,L46,N46),"") -> 125856 | Q46: 168-하 | R46: ild
A47: A0100000000 | B47: 제 8호 | C47: RENT000000000003 | D47: [ 소모 잡자재 ] | E47: 전선, 전선관의 2 % | F47: 식 | G47: 1 | H47: =IF(TRUNC((AD47+AC47)/$AD$3,1)*$AD$3-AD47 <0, AC47, TRUNC((AD47+AC47)/$AD$3,1)*$AD$3-AD47) -> 448.7 | I47: =H47 -> 448.7 | J47: 1 | L47: =IF(G47*K47<>0, TRUNC(G47*K47, 1), "") | N47: =IF(G47*M47<>0, TRUNC(G47*M47, 1), "") | O47: =IF((H47+K47+M47)=0, "", (H47+K47+M47)) -> 448.7 | P47: =IF(SUM(I47,L47,N47)<>0,SUM(I47,L47,N47),"") -> 448.7 | AC47: =TRUNC(TRUNC(SUM(AC37:AC46))*옵션!$B$33/100,1) -> 448.7 | AD47: =TRUNC(SUM(I37:I46))+TRUNC(SUM(N37:N46)) -> 526515
...

Sheet 일위노임
B1: 211 | D1: [ CAV기반 미래모빌리티 자율주행 평가플랫폼 구축 증축공사 ] - 일위노임 산출근거(202401-노임) | AA1: 통신내선공 | AB1: 통신케이블공 | AC1: 통신설비공 | AD1: 통신외선공 | AE1: 통신관련산업기사 | AF1: 광케이블설치사 | AG1: 보통인부 | AH1: 특별인부 | AI1: 내장공 | AJ1: 방수공
A2: 번호 | B2: 공종코드 | C2: 코드 | D2: 명 칭 | E2: 규 격 | F2: 단위 | G2: 수량 | K2: 코드 | L2: 공량산출 | P2: 단 위 단 가 산 출 | S2: 품셈근거 | T2: 비고
G3: 결정수량 | H3: 할증 | I3: 산출수량 | J3: 재할% | L3: 명칭 | M3: 품셈 | N3: 할증% | O3: 공량 | P3: 단가 | Q3: 단위단가 | R3: 단위계
B4: 공종줄 | D4: [ 제 1호 ] 인력터파기 보통토사0-1m [㎥_]
B5: 800 | C5: 391115ZZ701Z0010 | D5: 품셈 산출근거 | E5: 인력터파기 보통토사 0-1M | F5: 식 | G5: 1 | H5: =IF(I5<>0, G5-I5, "") -> 0 | I5: 1 | K5: 56900017041 | L5: 보통인부 | M5: 0.2 | N5: 100 | O5: =IF(I5*M5=0, "", I5*M5*(N5/100)) -> 0.2 | Q5: =TRUNC(P5*M5*N5/100) -> 0 | S5: 토목3-1-2 | AG5: =O5 -> 0.2
B6: 800 | C6: L001010101000002 | D6: 노 무 비 | E6: 보통인부 | F6: 인 | G6: =IF(H6*I6/100+0.000005 <1, TRUNC(H6*I6/100+0.000005, 옵션!$E$13), TRUNC(H6*I6/100+0.000005, 옵션!$E$13)) -> 0.2 | H6: =옵션!$B$13 -> 100 | I6: =SUM(AG5:AG5) -> 0.2 | O6: =IF(I6*M6=0, "", I6*M6*(N6/100)) | Q6: =TRUNC(P6*M6*N6/100) -> 0 | Z6: 노임계 | AG6: =SUM(AG5:AG5) -> 0.2
B7: 공종줄 | D7: [ 제 2호 ] 인력되메우기 보통토사0-1m [㎥_]
B8: 800 | C8: 391115ZZ701Z0009 | D8: 품셈 산출근거 | E8: 인력되메우기 보통토사 0-1M | F8: 식 | G8: 1 | H8: =IF(I8<>0, G8-I8, "") -> 0 | I8: 1 | K8: 56900017041 | L8: 보통인부 | M8: 0.11 | N8: 100 | O8: =IF(I8*M8=0, "", I8*M8*(N8/100)) -> 0.11 | Q8: =TRUNC(P8*M8*N8/100) -> 0 | S8: 토목3-2-1 | AG8: =O8 -> 0.11
B9: 800 | C9: L001010101000002 | D9: 노 무 비 | E9: 보통인부 | F9: 인 | G9: =IF(H9*I9/100+0.000005 <1, TRUNC(H9*I9/100+0.000005, 옵션!$E$13), TRUNC(H9*I9/100+0.000005, 옵션!$E$13)) -> 0.11 | H9: =옵션!$B$13 -> 100 | I9: =SUM(AG8:AG8) -> 0.11 | O9: =IF(I9*M9=0, "", I9*M9*(N9/100)) | Q9: =TRUNC(P9*M9*N9/100) -> 0 | Z9: 노임계 | AG9: =SUM(AG8:AG8) -> 0.11
B10: 공종줄 | D10: [ 제 5호 ] 지중선용 가선철물(통신) 케이블표지시트, 0.15x150 [m]
B11: 800 | C11: 3912219529175621 | D11: 지중선용 가선철물(통신) | E11: 케이블표지시트, 0.15x150 | F11: M | G11: 1 | H11: =IF(I11<>0, G11-I11, "") -> 0 | I11: 1 | K11: 56900017041 | L11: 보통인부 | M11: 0.0013 | N11: 100 | O11: =IF(I11*M11=0, "", I11*M11*(N11/100)) -> 0.0013 | Q11: =TRUNC(P11*M11*N11/100) -> 0 | S11: 통신2-1-6 | AG11: =O11 -> 0.0013
B12: 800 | C12: L001010101000002 | D12: 노 무 비 | E12: 보통인부 | F12: 인 | G12: =IF(H12*I12/100+0.000005 <1, TRUNC(H12*I12/100+0.000005, 옵션!$E$13), TRUNC(H12*I12/100+0.000005, 옵션!$E$13)) -> 0.0013 | H12: =옵션!$B$13 -> 100 | I12: =SUM(AG11:AG11) -> 0.0013 | O12: =IF(I12*M12=0, "", I12*M12*(N12/100)) | Q12: =TRUNC(P12*M12*N12/100) -> 0 | Z12: 노임계 | AG12: =SUM(AG11:AG11) -> 0.0013
B13: 공종줄 | D13: [ 제 6호 ] 현장내잔토처리 소운반.고르기 [㎥_]
B14: 800 | C14: 391115ZZ701Z0013 | D14: 품셈 산출근거 | E14: 현장내잔토처리 소운반.고르기 | F14: 식 | G14: 1 | H14: =IF(I14<>0, G14-I14, "") -> 0 | I14: 1 | K14: 56900017041 | L14: 보통인부 | M14: 0.2 | N14: 100 | O14: =IF(I14*M14=0, "", I14*M14*(N14/100)) -> 0.2 | Q14: =TRUNC(P14*M14*N14/100) -> 0 | S14: 토목3-1-2 | AG14: =O14 -> 0.2
B15: 800 | C15: L001010101000002 | D15: 노 무 비 | E15: 보통인부 | F15: 인 | G15: =IF(H15*I15/100+0.000005 <1, TRUNC(H15*I15/100+0.000005, 옵션!$E$13), TRUNC(H15*I15/100+0.000005, 옵션!$E$13)) -> 0.2 | H15: =옵션!$B$13 -> 100 | I15: =SUM(AG14:AG14) -> 0.2 | O15: =IF(I15*M15=0, "", I15*M15*(N15/100)) | Q15: =TRUNC(P15*M15*N15/100) -> 0 | Z15: 노임계 | AG15: =SUM(AG14:AG14) -> 0.2
B16: 공종줄 | D16: [ 제 7호 ] 잡석깔기지정 떨공이다지기 [㎥]
B17: 800 | C17: 391115ZZ701Z0011 | D17: 품셈 산출근거 | E17: 잡석깔기지정 떨공이다지기 | F17: 식 | G17: 1 | H17: =IF(I17<>0, G17-I17, "") -> 0 | I17: 1 | K17: 56900017041 | L17: 보통인부 | M17: 0.018 | N17: 100 | O17: =IF(I17*M17=0, "", I17*M17*(N17/100)) -> 0.018 | Q17: =TRUNC(P17*M17*N17/100) -> 0 | S17: 토목3-2-4 | AG17: =O17 -> 0.018
B18: 800 | C18: L001010101000002 | D18: 노 무 비 | E18: 보통인부 | F18: 인 | G18: =IF(H18*I18/100+0.000005 <1, TRUNC(H18*I18/100+0.000005, 옵션!$E$13), TRUNC(H18*I18/100+0.000005, 옵션!$E$13)) -> 0.018 | H18: =옵션!$B$13 -> 100 | I18: =SUM(AG17:AG17) -> 0.018 | O18: =IF(I18*M18=0, "", I18*M18*(N18/100)) | Q18: =TRUNC(P18*M18*N18/100) -> 0 | Z18: 노임계 | AG18: =SUM(AG17:AG17) -> 0.018
B19: 공종줄 | D19: [ 제 8호 ] 핸드홀(수공1호) 950x450x700 [개소]
B20: 800 | C20: 3012169821869021 | D20: 핸드홀 | E20: 수공1호 | F20: 조 | G20: 1 | H20: =IF(I20<>0, G20-I20, "") -> 0 | I20: 1 | K20: 56900017115 | L20: 통신외선공 | M20: 0.03 | N20: 100 | O20: =IF(I20*M20=0, "", I20*M20*(N20/100)) -> 0.03 | Q20: =TRUNC(P20*M20*N20/100) -> 0 | S20: 통신2-3-1 | AD20: =O20 -> 0.03
B21: 800 | C21: 3012169821869021 | G21: 1 | H21: =IF(I21<>0, G21-I21, "") -> 0 | I21: 1 | K21: 56900017118 | L21: 특별인부 | M21: 0.07 | N21: 100 | O21: =IF(I21*M21=0, "", I21*M21*(N21/100)) -> 0.07 | Q21: =TRUNC(P21*M21*N21/100) -> 0 | S21: 통신2-3-1 | AH21: =O21 -> 0.07
B22: 800 | C22: 3012169821869021 | G22: 1 | H22: =IF(I22<>0, G22-I22, "") -> 0 | I22: 1 | K22: 56900017041 | L22: 보통인부 | M22: 0.43 | N22: 100 | O22: =IF(I22*M22=0, "", I22*M22*(N22/100)) -> 0.43 | Q22: =TRUNC(P22*M22*N22/100) -> 0 | S22: 통신2-3-1 | AG22: =O22 -> 0.43
B23: 800 | C23: 3012169821869024 | D23: 핸드홀카바(수공1호) | E23: 주철각형(1120x620KS) | F23: 조 | G23: 1 | H23: =IF(I23<>0, G23-I23, "") -> 0 | I23: 1 | K23: 56900017115 | L23: 통신외선공 | M23: 0.6 | N23: 20 | O23: =IF(I23*M23=0, "", I23*M23*(N23/100)) -> 0.12 | Q23: =TRUNC(P23*M23*N23/100) -> 0 | S23: 통신2-3-2 | AD23: =O23 -> 0.12
B24: 800 | C24: 3012169821869024 | G24: 1 | H24: =IF(I24<>0, G24-I24, "") -> 0 | I24: 1 | K24: 56900017041 | L24: 보통인부 | M24: 0.3 | N24: 20 | O24: =IF(I24*M24=0, "", I24*M24*(N24/100)) -> 0.06 | Q24: =TRUNC(P24*M24*N24/100) -> 0 | S24: 통신2-3-2 | AG24: =O24 -> 0.06
B25: 800 | C25: 2612152420683701 | D25: 접지용비닐절연전선(F-GV) | E25: 35㎟ | F25: M | G25: 5 | H25: =IF(I25<>0, G25-I25, "") -> 0 | I25: 5 | K25: 56900017115 | L25: 통신외선공 | M25: 0.012 | N25: 100 | O25: =IF(I25*M25=0, "", I25*M25*(N25/100)) -> 0.06 | Q25: =TRUNC(P25*M25*N25/100) -> 0 | S25: 통신11-5-1 | AD25: =O25 -> 0.06
B26: 800 | C26: 3912161310054842 | D26: 접지봉-통신 | E26: 14Φ×1000 mm | F26: 개 | G26: 1 | H26: =IF(I26<>0, G26-I26, "") -> 0 | I26: 1 | K26: 56900017115 | L26: 통신외선공 | M26: 0.2 | N26: 100 | O26: =IF(I26*M26=0, "", I26*M26*(N26/100)) -> 0.2 | Q26: =TRUNC(P26*M26*N26/100) -> 0 | S26: 통신11-5-1 | AD26: =O26 -> 0.2
B27: 800 | C27: 3912161310054842 | G27: 1 | H27: =IF(I27<>0, G27-I27, "") -> 0 | I27: 1 | K27: 56900017041 | L27: 보통인부 | M27: 0.1 | N27: 100 | O27: =IF(I27*M27=0, "", I27*M27*(N27/100)) -> 0.1 | Q27: =TRUNC(P27*M27*N27/100) -> 0 | S27: 통신11-5-1 | AG27: =O27 -> 0.1
B28: 800 | C28: L001010101000088 | D28: 노 무 비 | E28: 통신외선공 | F28: 인 | G28: =IF(H28*I28/100+0.000005 <1, TRUNC(H28*I28/100+0.000005, 옵션!$E$13), TRUNC(H28*I28/100+0.000005, 옵션!$E$13)) -> 0.41 | H28: =옵션!$B$13 -> 100 | I28: =SUM(AD20:AD27) -> 0.41 | O28: =IF(I28*M28=0, "", I28*M28*(N28/100)) | Q28: =TRUNC(P28*M28*N28/100) -> 0 | Z28: 노임계 | AD28: =SUM(AD20:AD27) -> 0.41 | AG28: =SUM(AG20:AG27) -> 0.59 | AH28: =SUM(AH20:AH27) -> 0.07
B29: 800 | C29: L001010101000002 | D29: 노 무 비 | E29: 보통인부 | F29: 인 | G29: =IF(H29*I29/100+0.000005 <1, TRUNC(H29*I29/100+0.000005, 옵션!$E$13), TRUNC(H29*I29/100+0.000005, 옵션!$E$13)) -> 0.59 | H29: =옵션!$B$13 -> 100 | I29: =SUM(AG20:AG27) -> 0.59 | O29: =IF(I29*M29=0, "", I29*M29*(N29/100)) | Q29: =TRUNC(P29*M29*N29/100) -> 0
B30: 800 | C30: L001010101000003 | D30: 노 무 비 | E30: 특별인부 | F30: 인 | G30: =IF(H30*I30/100+0.000005 <1, TRUNC(H30*I30/100+0.000005, 옵션!$E$13), TRUNC(H30*I30/100+0.000005, 옵션!$E$13)) -> 0.07 | H30: =옵션!$B$13 -> 100 | I30: =SUM(AH20:AH27) -> 0.07 | O30: =IF(I30*M30=0, "", I30*M30*(N30/100)) | Q30: =TRUNC(P30*M30*N30/100) -> 0
B31: 공종줄 | D31: [ 제 9호 ] 경질비닐전선관 HI 16 mm [M.]
B32: 800 | C32: 3913170610034965 | D32: 경질비닐전선관 | E32: HI 16 mm | F32: M | G32: 1 | H32: =IF(I32<>0, G32-I32, "") -> 0 | I32: 1 | K32: 56900017113 | L32: 통신내선공 | M32: 0.05 | N32: 100 | O32: =IF(I32*M32=0, "", I32*M32*(N32/100)) -> 0.05 | Q32: =TRUNC(P32*M32*N32/100) -> 0 | S32: 통신3-1-1 | AA32: =O32 -> 0.05
B33: 800 | C33: L001010101000086 | D33: 노 무 비 | E33: 통신내선공 | F33: 인 | G33: =IF(H33*I33/100+0.000005 <1, TRUNC(H33*I33/100+0.000005, 옵션!$E$13), TRUNC(H33*I33/100+0.000005, 옵션!$E$13)) -> 0.05 | H33: =옵션!$B$13 -> 100 | I33: =SUM(AA32:AA32) -> 0.05 | O33: =IF(I33*M33=0, "", I33*M33*(N33/100)) | Q33: =TRUNC(P33*M33*N33/100) -> 0 | Z33: 노임계 | AA33: =SUM(AA32:AA32) -> 0.05
B34: 공종줄 | D34: [ 제 10호 ] 경질비닐전선관(지중) HI 16 mm [M.]
B35: 800 | C35: 3913170610034965 | D35: 경질비닐전선관 | E35: HI 16 mm | F35: M | G35: 1 | H35: =IF(I35<>0, G35-I35, "") -> 0 | I35: 1 | K35: 56900017113 | L35: 통신내선공 | M35: 0.05 | N35: 70 | O35: =IF(I35*M35=0, "", I35*M35*(N35/100)) -> 0.035 | Q35: =TRUNC(P35*M35*N35/100) -> 0 | S35: 통신3-1-1 | AA35: =O35 -> 0.035
B36: 800 | C36: L001010101000086 | D36: 노 무 비 | E36: 통신내선공 | F36: 인 | G36: =IF(H36*I36/100+0.000005 <1, TRUNC(H36*I36/100+0.000005, 옵션!$E$13), TRUNC(H36*I36/100+0.000005, 옵션!$E$13)) -> 0.035 | H36: =옵션!$B$13 -> 100 | I36: =SUM(AA35:AA35) -> 0.035 | O36: =IF(I36*M36=0, "", I36*M36*(N36/100)) | Q36: =TRUNC(P36*M36*N36/100) -> 0 | Z36: 노임계 | AA36: =SUM(AA35:AA35) -> 0.035
B37: 공종줄 | D37: [ 제 11호 ] 파상형 폴리에틸렌 전선관 30㎜(통신) [M.]
B38: 800 | C38: 3913170610035631 | D38: 파상형 폴리에틸렌 전선관 | E38: 30㎜ | F38: M | G38: 1 | H38: =IF(I38<>0, G38-I38, "") -> 0 | I38: 1 | K38: 56900017115 | L38: 통신외선공 | M38: 0.007 | N38: 100 | O38: =IF(I38*M38=0, "", I38*M38*(N38/100)) -> 0.007 | Q38: =TRUNC(P38*M38*N38/100) -> 0 | S38: 통신2-1-3 | AD38: =O38 -> 0.007
B39: 800 | C39: 3913170610035631 | G39: 1 | H39: =IF(I39<>0, G39-I39, "") -> 0 | I39: 1 | K39: 56900017041 | L39: 보통인부 | M39: 0.014 | N39: 100 | O39: =IF(I39*M39=0, "", I39*M39*(N39/100)) -> 0.014 | Q39: =TRUNC(P39*M39*N39/100) -> 0 | S39: 통신2-1-3 | AG39: =O39 -> 0.014
B40: 800 | C40: L001010101000088 | D40: 노 무 비 | E40: 통신외선공 | F40: 인 | G40: =IF(H40*I40/100+0.000005 <1, TRUNC(H40*I40/100+0.000005, 옵션!$E$13), TRUNC(H40*I40/100+0.000005, 옵션!$E$13)) -> 0.007 | H40: =옵션!$B$13 -> 100 | I40: =SUM(AD38:AD39) -> 0.007 | O40: =IF(I40*M40=0, "", I40*M40*(N40/100)) | Q40: =TRUNC(P40*M40*N40/100) -> 0 | Z40: 노임계 | AD40: =SUM(AD38:AD39) -> 0.007 | AG40: =SUM(AG38:AG39) -> 0.014
...

Sheet 합산자재
B1: 81 | C1: [ CAV기반 미래모빌리티 자율주행 평가플랫폼 구축 증축공사 ] - 합산자재목록
A2: 번호 | B2: … | C2: 코드 | D2: 명 칭 | E2: 규 격 | F2: 단위 | G2: 수량 | H2: 재료비 | I2: 노무비 | J2: 경비 | K2: 지급비 | L2: 계 | M2: 비고
B4: 59751467012 | C4: 3913170610034965 | D4: 경질비닐전선관 | E4: HI 16 mm | F4: M | G4: 4.4 | H4: =ROUNDDOWN(단가조사!G4*옵션!$D$11, 0) -> 294 | L4: =SUM(H4,I4,J4) -> 294
B5: 59751467032 | C5: 3913170610034965 | D5: 경질비닐전선관 | E5: HI 16 mm | F5: M | G5: 31.93 | H5: =ROUNDDOWN(단가조사!G5*옵션!$D$11, 0) -> 294 | L5: =SUM(H5,I5,J5) -> 294
B6: MM495399225 | C6: 3913170610035631 | D6: 파상형 폴리에틸렌 전선관 | E6: 30㎜ | F6: M | G6: 409.94 | H6: =ROUNDDOWN(단가조사!G6*옵션!$D$11, 0) -> 343 | L6: =SUM(H6,I6,J6) -> 343
B7: MM495399226 | C7: 3913170610035632 | D7: 파상형 폴리에틸렌 전선관 | E7: 40㎜ | F7: M | G7: 88.58 | H7: =ROUNDDOWN(단가조사!G7*옵션!$D$11, 0) -> 523 | L7: =SUM(H7,I7,J7) -> 523
B8: 59754877200 | C8: 3912171220935649 | D8: 관로구방수장치 | E8: D30 | F8: 조 | G8: 12 | H8: =ROUNDDOWN(단가조사!G8*옵션!$D$11, 0) -> 12750 | L8: =SUM(H8,I8,J8) -> 12750
B9: 59754877205 | C9: 3913170820935665 | D9: 관로구방수장치 | E9: D125 | F9: 조 | G9: 2 | H9: =ROUNDDOWN(단가조사!G9*옵션!$D$11, 0) -> 33750 | L9: =SUM(H9,I9,J9) -> 33750
B10: 59753777102 | C10: 3912130610035778 | D10: 스위치박스 | E10: 1 개용 54 mm | F10: 개 | G10: 13 | H10: =ROUNDDOWN(단가조사!G10*옵션!$D$11, 0) -> 583 | L10: =SUM(H10,I10,J10) -> 583
B11: 59753857031 | C11: 3912130310035797 | D11: 풀박스 | E11: 150×150×100 | F11: 개 | G11: 9 | H11: =ROUNDDOWN(단가조사!G11*옵션!$D$11, 0) -> 2854 | L11: =SUM(H11,I11,J11) -> 2854
B12: MM300040379 | C12: 3913171221650789 | D12: 전선덕트 | E12: 알루미늄 150x100mm | F12: M | G12: 4.2 | H12: =ROUNDDOWN(단가조사!G12*옵션!$D$11, 0) -> 30870 | L12: =SUM(H12,I12,J12) -> 30870
B13: 59759017112 | C13: 3913170810036358 | D13: 강재전선관용 부품 | E13: 파이프행거, 22 C | F13: 개 | G13: 116 | H13: =ROUNDDOWN(단가조사!G13*옵션!$D$11, 0) -> 330 | L13: =SUM(H13,I13,J13) -> 330
B14: 59759017113 | C14: 3913170810036359 | D14: 강재전선관용 부품 | E14: 파이프행거, 28 C | F14: 개 | G14: 100 | H14: =ROUNDDOWN(단가조사!G14*옵션!$D$11, 0) -> 353 | L14: =SUM(H14,I14,J14) -> 353
B15: 59759017114 | C15: 3913170810036360 | D15: 강재전선관용 부품 | E15: 파이프행거, 36 C | F15: 개 | G15: 33 | H15: =ROUNDDOWN(단가조사!G15*옵션!$D$11, 0) -> 378 | L15: =SUM(H15,I15,J15) -> 378
... B54: MMA24070300 | C54: InMastDBNonCode | D54: 광케블내외관일체형전선관 | E54: COD 32-4 공 | F54: M | G54: 492.34 | H54: =ROUNDDOWN(단가조사!G54*옵션!$D$11, 0) -> 13000 | L54: =SUM(H54,I54,J54) -> 13000
B55: MMA24070600 | C55: InMastDBNonCode | D55: 통신탑(네트워크스위치이전) | F55: 식 | G55: 2 | H55: =ROUNDDOWN(단가조사!G55*옵션!$D$11, 0) -> 800000 | L55: =SUM(H55,I55,J55) -> 800000
B56: MMA24070803 | C56: InMastDBNonCode | D56: 콘크리트기초(CCTV주) | E56: 500*800*1000 | F56: 개 | G56: 1 | H56: =ROUNDDOWN(단가조사!G56*옵션!$D$11, 0) -> 256000 | L56: =SUM(H56,I56,J56) -> 256000
B57: MMA24070805 | C57: InMastDBNonCode | D57: 게이트차단기기초 | E57: 400*610*800 | F57: 개 | G57: 1 | H57: =ROUNDDOWN(단가조사!G57*옵션!$D$11, 0) -> 175000 | L57: =SUM(H57,I57,J57) -> 175000
B58: MMA24700900 | C58: InMastDBNonCode | D58: IDF RACK및교환기교체설비 | F58: 식 | G58: 1 | H58: =ROUNDDOWN(단가조사!G58*옵션!$D$11, 0) -> 66340000 | L58: =SUM(H58,I58,J58) -> 66340000
B59: MMA24070901 | C59: InMastDBNonCode | D59: 주차관제설비 | F59: 식 | G59: 1 | H59: =ROUNDDOWN(단가조사!G59*옵션!$D$11, 0) -> 8200000 | L59: =SUM(H59,I59,J59) -> 8200000
B60: MMA24071000 | C60: InMastDBNonCode | D60: 홈페이지셋팅설비 | F60: 식 | G60: 1 | H60: =ROUNDDOWN(단가조사!G60*옵션!$D$11, 0) -> 8000000 | L60: =SUM(H60,I60,J60) -> 8000000
B61: MMA24071200 | C61: InMastDBNonCode | D61: S/W HUB | E61: 8PORT | F61: 대 | G61: 1 | H61: =ROUNDDOWN(단가조사!G61*옵션!$D$11, 0) -> 128410 | J61: 180450 | L61: =SUM(H61,I61,J61) -> 308860
B62: MM999807812 | C62: 391115ZZ701Z0001 | D62: 가로등중공기초(철거) | E62: 500x800x1000 | F62: 개 | G62: 1 | H62: =ROUNDDOWN(단가조사!G62*옵션!$D$11, 0) -> 0 | L62: =SUM(H62,I62,J62) -> 0
B63: MMR54200247 | C63: 9999999999110322 | D63: 국내성단 | E63: UTP Cat.5E 25P | F63: 개 | G63: 4 | H63: =ROUNDDOWN(단가조사!G63*옵션!$D$11, 0) -> 0 | L63: =SUM(H63,I63,J63) -> 0
B64: MM999973972 | C64: 391115ZZ701Z0003 | D64: 조달 수수료(9) | E64: 0.54% | F64: 식 | G64: 1 | H64: =ROUNDDOWN(단가조사!G65*옵션!$D$11, 0) -> 2327 | L64: =SUM(H64,I64,J64) -> 2327
B65: MMR54200250 | C65: 9999999999110325 | D65: 회선시험 | E65: UTP 4P | F65: 개 | G65: 26 | H65: =ROUNDDOWN(단가조사!G64*옵션!$D$11, 0) -> 0 | L65: =SUM(H65,I65,J65) -> 0
B66: CA565826042 | C66: ECA565826042 | D66: 기계터파기 | E66: 보통토사(0.6㎥/43.6) | F66: ㎥ | G66: 224.0374 | H66: =단가조사!H66 -> 517 | I66: =단가조사!J66 -> 1097 | J66: =단가조사!L66 -> 479 | L66: =SUM(H66,I66,J66) -> 2093 | M66: 166-하
B67: CA565826051 | C67: ECA565826051 | D67: 기계되메우기 | E67: 보통토사(0.6㎥/43.6) | F67: ㎥ | G67: 223.681 | H67: =단가조사!H67 -> 517 | I67: =단가조사!J67 -> 1097 | J67: =단가조사!L67 -> 479 | L67: =SUM(H67,I67,J67) -> 2093 | M67: 166-하
B68: CA565826043 | C68: ECA565826043 | D68: 크레인 | E68: 트럭 탑재형 3 Ton | F68: 분 | G68: 136.8 | H68: =단가조사!H68 -> 112 | I68: =단가조사!J68 -> 661 | J68: =단가조사!L68 -> 147 | L68: =SUM(H68,I68,J68) -> 920 | M68: 168-하
B69: CA565826045 | C69: ECA565826045 | D69: 크레인 | E69: 타이어 30 Ton | F69: 분 | G69: 572.4 | H69: =단가조사!H69 -> 256 | I69: =단가조사!J69 -> 797 | J69: =단가조사!L69 -> 914 | L69: =SUM(H69,I69,J69) -> 1967 | M69: 167-하
B70: CA565826048 | C70: ECA565826048 | D70: 굴삭기 | E70: 0.2㎥ | F70: 분 | G70: 25.8 | H70: =단가조사!H70 -> 183 | I70: =단가조사!J70 -> 797 | J70: =단가조사!L70 -> 211 | L70: =SUM(H70,I70,J70) -> 1191 | M70: 166-하
B71: CA565885400 | C71: ECA565855049 | D71: 래머 | E71: 80kg | F71: 분 | G71: 6.192 | H71: =단가조사!H71 -> 17 | I71: =단가조사!J71 -> 475 | J71: =단가조사!L71 -> 8 | L71: =SUM(H71,I71,J71) -> 500 | M71: 167-하
B72: 56900017113 | C72: L001010101000086 | D72: 노 무 비 | E72: 통신내선공 | F72: 인 | G72: 77.4718 | I72: =ROUNDDOWN(단가조사!G72, 0) -> 267277 | L72: =SUM(H72,I72,J72) -> 267277
B73: 56900017116 | C73: L001010101000089 | D73: 노 무 비 | E73: 통신케이블공 | F73: 인 | G73: 17.4158 | I73: =ROUNDDOWN(단가조사!G73, 0) -> 414944 | L73: =SUM(H73,I73,J73) -> 414944
B74: 56900017114 | C74: L001010101000087 | D74: 노 무 비 | E74: 통신설비공 | F74: 인 | G74: 0.2 | I74: =ROUNDDOWN(단가조사!G74, 0) -> 296882 | L74: =SUM(H74,I74,J74) -> 296882
B75: 56900017115 | C75: L001010101000088 | D75: 노 무 비 | E75: 통신외선공 | F75: 인 | G75: 31.994 | I75: =ROUNDDOWN(단가조사!G75, 0) -> 387376 | L75: =SUM(H75,I75,J75) -> 387376
B76: 56900017112 | C76: L001010501000112 | D76: 노 무 비 | E76: 통신관련산업기사 | F76: 인 | G76: 0.2 | I76: =ROUNDDOWN(단가조사!G76, 0) -> 294019 | L76: =SUM(H76,I76,J76) -> 294019
B77: 56900017011 | C77: L001010201000092 | D77: 노 무 비 | E77: 광케이블설치사 | F77: 인 | G77: 8.5068 | I77: =ROUNDDOWN(단가조사!G77, 0) -> 444142 | L77: =SUM(H77,I77,J77) -> 444142
B78: 56900017041 | C78: L001010101000002 | D78: 노 무 비 | E78: 보통인부 | F78: 인 | G78: 60.409 | I78: =ROUNDDOWN(단가조사!G78, 0) -> 165545 | L78: =SUM(H78,I78,J78) -> 165545
B79: 56900017118 | C79: L001010101000003 | D79: 노 무 비 | E79: 특별인부 | F79: 인 | G79: 9.4234 | I79: =ROUNDDOWN(단가조사!G79, 0) -> 214222 | L79: =SUM(H79,I79,J79) -> 214222
...

Sheet 단가조사
B1: 93 | D1: [ CAV기반 미래모빌리티 자율주행 평가플랫폼 구축 증축공사 ] - 단가조사서
A2: 번호 | B2: 공종코드 | C2: 코드 | D2: 명 칭 | E2: 규 격 | F2: 단위 | G2: 적용단가 | H2: 시설단가 | J2: 거래가격 | L2: 물가정보 | N2: 물가자료 | P2: 조사단가1 | R2: 조사단가2 | T2: 비고
H3: 단가 | I3: 코드 | J3: 단가 | K3: PAGE | L3: 단가 | M3: PAGE | N3: 단가 | O3: PAGE | P3: 단가 | Q3: PAGE | R3: 단가 | S3: PAGE
C4: 3913170610034965 | D4: 경질비닐전선관 | E4: HI 16 mm | F4: M | G4: 294 | H4: 294 | J4: 332 | K4: 1024 | L4: 440 | M4: 1236 | N4: 390 | O4: 1107
C5: 3913170610034965 | D5: 경질비닐전선관 | E5: HI 16 mm | F5: M | G5: 294 | H5: 294 | J5: 332 | K5: 1024 | L5: 440 | M5: 1236 | N5: 390 | O5: 1107
C6: 3913170610035631 | D6: 파상형 폴리에틸렌 전선관 | E6: 30㎜ | F6: M | G6: 343 | H6: 343 | J6: 391 | K6: 1025 | L6: 480 | M6: 1234 | N6: 360 | O6: 1106
C7: 3913170610035632 | D7: 파상형 폴리에틸렌 전선관 | E7: 40㎜ | F7: M | G7: 523 | H7: 523 | J7: 563 | K7: 1025 | L7: 607 | M7: 1234 | N7: 550 | O7: 1106
C8: 3912171220935649 | D8: 관로구방수장치 | E8: D30 | F8: 조 | G8: 12750 | N8: 12750 | O8: 1229
C9: 3913170820935665 | D9: 관로구방수장치 | E9: D125 | F9: 조 | G9: 33750 | N9: 33750 | O9: 1229
C10: 3912130610035778 | D10: 스위치박스 | E10: 1 개용 54 mm | F10: 개 | G10: 583 | H10: 583 | J10: 650 | K10: 1028 | L10: 700 | M10: 1239 | N10: 650 | O10: 1105
C11: 3912130310035797 | D11: 풀박스 | E11: 150×150×100 | F11: 개 | G11: 2854 | H11: 2854 | J11: 7510 | K11: 1028 | L11: 3360 | M11: 1239 | N11: 3870 | O11: 1105
C12: 3913171221650789 | D12: 전선덕트 | E12: 알루미늄 150x100mm | F12: M | G12: 30870 | H12: 30870 | J12: 50000 | K12: 1031 | L12: 50000 | M12: 1238 | N12: 44100 | O12: 1099
C13: 3913170810036358 | D13: 강재전선관용 부품 | E13: 파이프행거, 22 C | F13: 개 | G13: 330 | H13: 330 | J13: 350 | K13: 1029 | L13: 745 | M13: 1235 | N13: 650 | O13: 1101
C14: 3913170810036359 | D14: 강재전선관용 부품 | E14: 파이프행거, 28 C | F14: 개 | G14: 353 | H14: 353 | J14: 391 | K14: 1029 | L14: 782 | M14: 1235 | N14: 680 | O14: 1101
C15: 3913170810036360 | D15: 강재전선관용 부품 | E15: 파이프행거, 36 C | F15: 개 | G15: 378 | H15: 378 | J15: 402 | K15: 1029 | L15: 828 | M15: 1235 | N15: 720 | O15: 1101
C16: 3913170810037051 | D16: 강재전선관용 부품 | E16: 새들 (KS) 16c | F16: EA | G16: 88 | J16: 88 | K16: 1029 | L16: 98 | M16: 1235 | N16: 104 | O16: 1101
C17: 3913170810037052 | D17: 강재전선관용 부품 | E17: 새들 (KS) 22c | F17: EA | G17: 93 | J17: 93 | K17: 1029 | L17: 104 | M17: 1235 | N17: 123 | O17: 1101
C18: 3913170810037053 | D18: 강재전선관용 부품 | E18: 새들 (KS) 28c | F18: EA | G18: 124 | J18: 124 | K18: 1029 | L18: 139 | M18: 1235 | N18: 198 | O18: 1101
C19: 3913170810037054 | D19: 강재전선관용 부품 | E19: 새들 (KS) 36c | F19: EA | G19: 155 | J19: 155 | K19: 1029 | L19: 178 | M19: 1235 | N19: 237 | O19: 1101
C20: 3116210220135769 | D20: 스트롱앵커 | E20: 3/8 | F20: 개 | G20: 100 | N20: 100 | O20: 53
C21: 3116169820135160 | D21: 행거볼트 | E21: ∮9×1000㎜ | F21: 개 | G21: 1017 | L21: 1226 | M21: 43 | N21: 1017 | O21: 46
C22: 2612152420683697 | D22: 접지용비닐절연전선(F-GV) | E22: 6㎟ | F22: M | G22: 896 | H22: 896 | J22: 1104 | K22: 994 | L22: 1087 | M22: 1197 | N22: 1110 | O22: 1075
C23: 2612152420683701 | D23: 접지용비닐절연전선(F-GV) | E23: 35㎟ | F23: M | G23: 4487 | H23: 4487 | J23: 5298 | K23: 994 | L23: 5428 | M23: 1197 | N23: 5340 | O23: 1075
C24: 2612160620185645 | D24: UTP 케이블 | E24: Cat.6E 0.5mm 4P | F24: M | G24: 1120 | N24: 1120 | O24: 1084
C25: 9000000000000105 | D25: UTP 케이블 | E25: Cat.5E 0.5mm 25P 2열동시1열당 | F25: M | G25: 2469 | H25: 2469 | J25: 3330 | K25: 1002 | L25: 10800 | M25: 1211 | N25: 5550 | O25: 1084
C26: 9000000000000110 | D26: UTP 케이블 | E26: Cat.6 0.5mm 4P 2열동시 1열당 | F26: M | G26: 418 | H26: 418 | J26: 670 | K26: 1002 | L26: 1860 | M26: 1211
C27: 2612163720177109 | D27: 광케이블(옥외용) | E27: SM 8c | F27: M | G27: 852 | H27: 852 | L27: 1466 | M27: 1208 | N27: 900 | O27: 1081
C28: 2612163720178139 | D28: 광케이블(옥내용) | E28: SM 8c | F28: M | G28: 852 | H28: 852 | L28: 1466 | M28: 1208 | N28: 900 | O28: 1081
C29: 3912140620170835 | D29: 콘센트 | E29: 노출-접지형, 15A 250V 2구 | F29: 개 | G29: 1457 | H29: 1457 | J29: 1983 | K29: 1100 | L29: 2898 | M29: 1314 | N29: 2880 | O29: 1204
C30: 9856458210000102 | D30: 모듈라짹 | E30: 매입형 8P 2구 | F30: 개 | G30: 5460 | H30: 5460 | J30: 5500 | K30: 1099 | L30: 6110 | M30: 1313 | N30: 7240 | O30: 1204
C31: 9856458210000120 | D31: 모듈라짹 | E31: RJ45 | F31: 개 | G31: 110 | P31: 110
C32: 4619160120097367 | D32: 내화충전(0.00032kg/cm3) | E32: 실리콘 RTV 폼 | F32: KG | G32: 45230 | N32: 45230 | O32: 963
C33: 4322330621650734 | D33: 분배기함 | E33: SUS, 400x500x150 | F33: 면 | G33: 72608 | H33: 72608 | L33: 117936 | M33: 1377
C34: 3912161310054842 | D34: 접지봉-통신 | E34: 14Φ×1000 mm | F34: 개 | G34: 5780 | L34: 8000 | M34: 1308 | N34: 5780 | O34: 1198
C35: 3912169720173983 | D35: 접지첨가제 | E35: 접지저항저감제,아스판엠,10Kg | F35: 개 | G35: 10035 | H35: 10035 | L35: 25000 | M35: 1308 | N35: 10500 | O35: 1198
C36: 3912219529175621 | D36: 지중선용 가선철물(통신) | E36: 케이블표지시트, 0.15x150 | F36: M | G36: 88 | J36: 297 | K36: 1134 | P36: 88 | Q36: 대한안전
C37: 3012169821869021 | D37: 핸드홀 | E37: 수공1호 | F37: 조 | G37: 110000 | L37: 110000 | M37: 206
C38: 3012169821869024 | D38: 핸드홀카바(수공1호) | E38: 주철각형(1120x620KS) | F38: 조 | G38: 350000 | J38: 350000 | K38: 235 | L38: 370000 | M38: 206
C39: 3116172710023970 | D39: 6각너트 | E39: 3/8,M10 | F39: EA | G39: 25 | L39: 29 | M39: 41 | N39: 25 | O39: 50
C40: 3116181120136195 | D40: 스프링와샤 | E40: D10 | F40: EA | G40: 9 | L40: 10 | M40: 43 | N40: 9 | O40: 49
...

Sheet 옵션
B1: 재료비 | C1: 노무비 | D1: 경비 | F1: 계
A2: 총 급 액 | B2: =총괄표!I29 -> 0 | C2: =총괄표!L29 -> 0 | D2: =총괄표!N29 -> 0 | F2: =SUM(B2,C2,D2) -> 0
A3: 도급자관급 | B3: =총괄표!I158 -> 0 | C3: =총괄표!L158 -> 0 | D3: =총괄표!N158 -> 0 | F3: =SUM(B3,C3,D3) -> 0 | H3: 금액조정이 안되나요?
