Workbook
Name __JJ132: [1]중기일위대가!$J$136
Name __JK132: [1]중기일위대가!$K$136
Name __JN132: [1]중기일위대가!$I$136
Name __p1: #REF!
Name _95년_포상금_지급내역: #REF!
Name _JJ132: [1]중기일위대가!$J$136
Name _JK132: [1]중기일위대가!$K$136
Name _JN132: [1]중기일위대가!$I$136
Name _p1: #REF!
Name a: #REF!
Name alf: [2]개발계획수립!$B$13:$I$131
Name b: #REF!
Name BOX형수로집계: #REF!
Name CV_1C: #REF!
Name d: #REF!
Name N: #REF!
Name P: #REF!
Name Print_Area_MI: #REF!
Name Q: #REF!
Name SIZE: #REF!
Name 강감찬: #REF!
Name 경계점말뚝: '[3]2.재료비'!#REF!
Name 계약단가: #REF!
Name 고급: [4]상세!$G$24
Name 공공시설: [5]내역서!#REF!
Name 공사비: #REF!
Name 공업용뇌관2: '[3]2.재료비'!#REF!
Name 교육: [5]내역서!#REF!
Name 교통: [5]내역서!#REF!
Name 기간: #REF!
Name 김유신: #REF!
Name 노임: #REF!
Name 다이너마이트2: '[3]2.재료비'!#REF!
Name 단가: #REF!
Name 단순공종: #REF!
Name 대기질: [5]내역서!#REF!
Name 대기질측정: [5]내역서!#REF!
Name 대안설정: [5]내역서!#REF!
Name 동식물상: [5]내역서!#REF!
Name ㅁ1: [6]예산총괄표!#REF!
Name 명수: #REF!
Name 문화재: [5]내역서!#REF!
Name 백색페인트: [7]예측단가간지!$D$21
Name 보정계수1: #REF!
Name 보정계수2: #REF!
Name 보정계수3: #REF!
Name 보조: [4]상세!$G$27
Name 보통공종: #REF!
Name 보통인부: '[3]1.인건비'!$H$12
Name 복잡공종: #REF!
Name 비닐전화선: '[3]2.재료비'!#REF!
Name 뿌로마이드: '[3]2.재료비'!#REF!
Name 사정: [5]내역서!#REF!
Name 사후환경조사: [5]내역서!#REF!
Name 산업: [5]내역서!#REF!
Name 선택: #REF!
Name 설계규모: #REF!
Name 섹션오일페이퍼: '[3]2.재료비'!#REF!
Name 소음진동: [5]내역서!#REF!
Name 수리수문: [5]내역서!#REF!

Sheet 원가계산
A1: [공사명] | C1: [ CAV기반 미래모빌리티 자율주행 평가플랫폼 구축 증축공사(소방)] | I1: ="금 액 : "&NUMBERSTRING(E36,1)&" 원정 ("&DOLLAR(E36,0)&")" -> 금 액 : 영 원정 (₩0)
A2: 비 목 | D2: 금 액 | G2: 구 성 비 | Q2: 비 고
B3: 재 료 비 | C3: 직 접 재 료 비 | E3: =총괄표!I29 -> 0
C4: 간 접 재 료 비
C5: 작 업 설 , 부 산 물 등 (△) | E5: 0 | S5: =E3+E7+E10 -> 0 | T5: 직접노무비,경비 요율근거금액
A6: 순 | C6: [ 소 계 ] | E6: =E3+E4+E5 -> 0 | S6: =E3+E7+E32 -> 0 | T6: 안전관리비 요율근거금액
B7: 노 무 비 | C7: 직 접 노 무 비 | E7: =총괄표!L29 -> 0 | S7: =E24 -> 0 | T7: 일반관리비,이윤
C8: 간 접 노 무 비 | E8: =TRUNC(E7*I8) -> 0 | G8: 직접노무비 | H8: × | I8: 0.126 | S8: =E30+E33 -> 0 | T8: 퇴직공제근거금액
A9: 공 | C9: [ 소 계 ] | E9: =SUM(E7:E8) -> 0
C10: 기 계 경 비 | E10: =총괄표!N29 -> 0
C11: 산 재 보 험 료 | E11: =TRUNC(E9*I11) -> 0 | G11: 노무비 | H11: × | I11: 0.0356
A12: 사 | C12: 고 용 보 험 료 | E12: =TRUNC(E9*I12) -> 0 | G12: 노무비 | H12: × | I12: 0.0101
B13: 경 | C13: 건 강 보 험 료 | E13: =TRUNC(E7*I13) -> 0 | G13: 직접노무비 | H13: × | I13: 0.03545 | R13: 공사기간 1개월(30일) 이상인 모든 건설공사
C14: 노 인 장 기 요 양 보 험 료 | E14: =TRUNC(E13*I14) -> 0 | G14: 건강보험료 | H14: × | I14: 0.1295 | R14: 공사기간 1개월(30일) 이상인 모든 건설공사
C15: 연 금 보 험 료 | E15: =TRUNC(E7*I15) -> 0 | G15: 직접노무비 | H15: × | I15: 0.045 | R15: 공사기간 1개월(30일) 이상인 모든 건설공사
A16: 원 | C16: 퇴 직 공 제 부 금 비 | E16: =TRUNC(E7*I16) -> 0 | G16: 직접노무비 | H16: × | I16: 0 | R16: 추정금액이 1억 이상인 건설공사
C17: 산 업 안 전 보 건 관 리 비 | E17: =MIN(E18,E19) -> 0 | Q17: ①과②비교후 적은 금액 적용 | R17: 총 공사금액(도급금액+도급자관급금액) 2천만원 이상 건설공사
C18: ① | E18: =(TRUNC((E6+E7)*I18+K18)*M18) -> 0 | G18: ((재료비+직노) | H18: × | I18: 0.0293 | J18: + | K18: 0 | L18: ) × | M18: 1.2
A19: 가 | C19: ② | E19: =TRUNC((E6+E7+E32/1.1)*I19)+K19 -> 0 | G19: (재료비+직노+관급자재비(도급자/1.1)) | H19: × | I19: 0.0293 | J19: + | K19: 0
B20: 비 | C20: 기 타 경 비 | E20: =TRUNC((E6+E9)*I20) -> 0 | G20: (재료비+노무비) | H20: × | I20: 0.052
C21: 환 경 보 존 비 | E21: =TRUNC((E6+E7+E10)*I21) -> 0
C22: 건설하도급대금지급보증서발급수수료 | E22: =TRUNC((E6+E7+E10)*I22) -> 0
C23: [ 소 계 ] | E23: =SUM(E10:E17,E20:E22) -> 0
B24: 계 | E24: =E6+E9+E23 -> 0
A25: 일 반 관 리 비 | E25: =TRUNC(E24*I25) -> 0 | G25: 계 | H25: × | I25: 0.06
A26: 이 윤 | E26: =TRUNC((E9+E23+E25)*I26)+Q26 -> 0 | G26: (노무비+경비+일반관리비) | H26: × | I26: 0.15 | Q26: =Q23-MOD(SUM(E24:E25)+INT((SUM(E24:E25)-E6)*I26+Q24/100),10000) -> 0
A27: 공 급 가 액 | E27: =SUM(E24:E26) -> 0
A28: 소 방 사 업 자 손 해 배 상 보 험 | E28: =E27*I28*(1+(0/1095)) -> 0 | G28: (공급가액) | H28: × | I28: 0.00364 | Q28: 3년초과일수(0일) | S28: https://www.figu.or.kr/main.do?
A29: 부 가 가 치 세 | E29: =TRUNC((E27+E28)*I29) -> 0 | G29: (공급가액+소방사업자손해배상보험) | H29: × | I29: 0.1
A30: [도 급 액] | E30: =TRUNC((E27+E28+E29),-3) -> 0
A31: 관 급 자 재 (관급자설치) | G31: VAT포함
A32: 관 급 자 재 (도급자설치) | G32: VAT포함
A33: 관 급 공 사 비 (합 계) | E33: =ROUNDDOWN((E31+E32),-3) -> 0 | Q33: 천단위이하절사
A34: 한 전 불 입 금 | G34: VAT포함
A36: [총 공 사 비] | E36: =E30+E33+E34+E35 -> 0
O38: 제비율 | Q38: =E30/SUM(E3,E7,E10) -> #DIV/0!

Sheet 총괄표
A1: 총줄수-> | B1: 81 | D1: [ CAV기반 미래모빌리티 자율주행 평가플랫폼 구축 증축공사 ] | AA1: 연속견적가로형식
A2: 번호 | B2: 공종코드 | C2: … | D2: 공 종 명 | E2: 규격 | F2: 단위 | G2: 수량 | H2: 재료비 | J2: 노무비 | M2: 경비 | P2: 계 | Q2: 비고
H3: 단가 | I3: 금액 | J3: 수량 | K3: 단가 | L3: 금액 | M3: 단가 | N3: 금액 | O3: 단가
B4: 공종줄 | D4: CAV기반 미래모빌리티 자율주행 평가플랫폼 구축 증축공사
B5: 01 | D5: 1.소방공사 | F5: 식 | G5: 1 | H5: =총괄표!I55 -> 0 | I5: =G5*H5 -> 0 | K5: =총괄표!L55 -> 0 | L5: =G5*K5 -> 0 | M5: =총괄표!N55 -> 0 | N5: =G5*M5 -> 0 | O5: =IF((H5+K5+M5)=0, "", (H5+K5+M5)) | P5: =SUM(I5,L5,N5) -> 0
C29: Total | D29: ( 합 계 ) | I29: =TRUNC(SUM(I4:I28)) -> 0 | L29: =TRUNC(SUM(L4:L28)) -> 0 | N29: =TRUNC(SUM(N4:N28)) -> 0 | O29: =IF((H29+K29+M29)=0, "", (H29+K29+M29)) | P29: =TRUNC(SUM(P4:P28)) -> 0
B30: 공종줄 | D30: 1.소방공사
B31: 0101 | D31: 1-1.워크샵 | F31: 식 | G31: 1 | H31: =총괄표!I81 -> 0 | I31: =G31*H31 -> 0 | K31: =총괄표!L81 -> 0 | L31: =G31*K31 -> 0 | M31: =총괄표!N81 -> 0 | N31: =G31*M31 -> 0 | O31: =IF((H31+K31+M31)=0, "", (H31+K31+M31)) | P31: =SUM(I31,L31,N31) -> 0
B55: 01 | C55: Total | D55: ( 합 계 ) | I55: =TRUNC(SUM(I30:I54)) -> 0 | L55: =TRUNC(SUM(L30:L54)) -> 0 | N55: =TRUNC(SUM(N30:N54)) -> 0 | O55: =IF((H55+K55+M55)=0, "", (H55+K55+M55)) | P55: =TRUNC(SUM(P30:P54)) -> 0
B56: 공종줄 | D56: 1.소방공사::1-1.워크샵
B57: 010101 | D57: 1-1-1.소방설비공사 | F57: 식 | G57: 1 | H57: =내역서!I24 -> 0 | I57: =G57*H57 -> 0 | K57: =내역서!L24 -> 0 | L57: =G57*K57 -> 0 | M57: =내역서!N24 -> 0 | N57: =G57*M57 -> 0 | O57: =IF((H57+K57+M57)=0, "", (H57+K57+M57)) | P57: =SUM(I57,L57,N57) -> 0
B58: 010102 | D58: 1-1-2.유도등설비공사 | F58: 식 | G58: 1 | H58: =내역서!I50 -> 0 | I58: =G58*H58 -> 0 | K58: =내역서!L50 -> 0 | L58: =G58*K58 -> 0 | M58: =내역서!N50 -> 0 | N58: =G58*M58 -> 0 | O58: =IF((H58+K58+M58)=0, "", (H58+K58+M58)) | P58: =SUM(I58,L58,N58) -> 0
B81: 0101 | C81: Total | D81: ( 합 계 ) | I81: =TRUNC(SUM(I56:I80)) -> 0 | L81: =TRUNC(SUM(L56:L80)) -> 0 | N81: =TRUNC(SUM(N56:N80)) -> 0 | O81: =IF((H81+K81+M81)=0, "", (H81+K81+M81)) | P81: =TRUNC(SUM(P56:P80)) -> 0

Sheet 내역서
A1: 총줄수-> | B1: 55 | D1: [ CAV기반 미래모빌리티 자율주행 평가플랫폼 구축 증축공사 ] | W1: 노임 계산 정보 | AA1: 부속재 및 손료
A2: 번호 | B2: 공종코드 | C2: 코드 | D2: 명 칭 | E2: 규 격 | F2: 단위 | G2: 수량 | H2: 재료비 | J2: 노무비 | M2: 경비 | P2: 계 | Q2: 비고 | W2: 노임계 | X2: 전체(%) | Y2: 공종별(%) | Z2: 노임 소수 | AA2: CD배관재 | AB2: 일반배관재 | AC2: 소모재 | AD2: 자재계 | AE2: 노임계
H3: 단가 | I3: 금액 | J3: 수량 | K3: 단가 | L3: 금액 | M3: 단가 | N3: 금액 | O3: 단가 | AD3: =IF(옵션!$C$11 =0, "1", 옵션!$C$11) -> 1 | AE3: =IF(옵션!$C$12 =0, "1", 옵션!$C$12) -> 1
B4: 공종줄 | D4: 1.소방공사::1-1.워크샵::1-1-1.소방설비공사
A5: MMH99991009 | B5: 010101 | C5: 9999999991020009 | D5: 볼트고정식 이음쇠 | E5: 커플링 E31 | F5: EA | G5: 22 | O5: =IF((H5+K5+M5)=0, "", (H5+K5+M5)) | P5: =SUM(I5,L5,N5) -> 0
A6: MMX99810002 | B6: 010101 | C6: 8974653100010162 | D6: 볼트고정식 이음쇠 | E6: 커넥터 E31 | F6: EA | G6: 28 | O6: =IF((H6+K6+M6)=0, "", (H6+K6+M6)) | P6: =SUM(I6,L6,N6) -> 0
A7: 5975E877200 | B7: 010101 | C7: E59754877200 | D7: 관로구방수장치 | E7: D30 | F7: 조 | G7: 2 | O7: =IF((H7+K7+M7)=0, "", (H7+K7+M7)) | P7: =SUM(I7,L7,N7) -> 0 | Q7: 제 10호
A8: 56951000002 | B8: 010101 | C8: EAU000000002 | D8: 새들(벽체) | E8: 28C | F8: 개소 | G8: 7 | O8: =IF((H8+K8+M8)=0, "", (H8+K8+M8)) | P8: =SUM(I8,L8,N8) -> 0 | Q8: 제 12호
A9: 56951000202 | B9: 010101 | C9: EA1000000202 | D9: 파이프행가 | E9: 28 C | F9: 개소 | G9: 45 | O9: =IF((H9+K9+M9)=0, "", (H9+K9+M9)) | P9: =SUM(I9,L9,N9) -> 0 | Q9: 제 14호
A10: 56951001307 | B10: 010101 | C10: EA1000001307 | D10: 벽관통 구멍 | E10: Φ50-벽두께 25cm | F10: 개소 | G10: 1 | O10: =IF((H10+K10+M10)=0, "", (H10+K10+M10)) | P10: =SUM(I10,L10,N10) -> 0 | Q10: 제 15호
A11: 5975D857031 | B11: 010101 | C11: E59753857031 | D11: 풀박스 | E11: 150×150×100 | F11: 개 | G11: 5 | O11: =IF((H11+K11+M11)=0, "", (H11+K11+M11)) | P11: =SUM(I11,L11,N11) -> 0 | Q11: 제 20호
A12: 56959000003 | B12: 010101 | C12: E56959000003 | D12: 450/750V 내열비닐절연전선 | E12: HFIX 1.78mm(2.5㎟) | F12: M | G12: 146 | O12: =IF((H12+K12+M12)=0, "", (H12+K12+M12)) | P12: =SUM(I12,L12,N12) -> 0 | Q12: 제 21호 | AC12: =G12*H12 -> 0
A13: E145A137401 | B13: 010101 | C13: EE1450137401 | D13: 소방용내화전선(F-FR-8) | E13: 4C×2.5㎟ | F13: M | G13: 276 | O13: =IF((H13+K13+M13)=0, "", (H13+K13+M13)) | P13: =SUM(I13,L13,N13) -> 0 | Q13: 제 22호 | AC13: =G13*H13 -> 0
A14: 56959000007 | B14: 010101 | C14: E56959000007 | D14: 수동발신기세트 | E14: W/PBL, ALL SUS | F14: SET | G14: 2 | O14: =IF((H14+K14+M14)=0, "", (H14+K14+M14)) | P14: =SUM(I14,L14,N14) -> 0 | Q14: 제 26호
A15: 56959000012 | B15: 010101 | C15: E56959000012 | D15: 화재 수신기 | E15: P형1급, 60회로(복합) | F15: 대 | G15: 1 | O15: =IF((H15+K15+M15)=0, "", (H15+K15+M15)) | P15: =SUM(I15,L15,N15) -> 0 | Q15: 제 27호
A16: 56959000010 | B16: 010101 | C16: E56959000010 | D16: 화재 수신기(철거) | E16: P형1급, 10회로(복합) | F16: 대 | G16: 1 | O16: =IF((H16+K16+M16)=0, "", (H16+K16+M16)) | P16: =SUM(I16,L16,N16) -> 0 | Q16: 제 28호
A17: 56959000011 | B17: 010101 | C17: E56959000011 | D17: 화재 수신기(철거) | E17: P형1급, 30회로(복합) | F17: 대 | G17: 1 | O17: =IF((H17+K17+M17)=0, "", (H17+K17+M17)) | P17: =SUM(I17,L17,N17) -> 0 | Q17: 제 29호
AE18: =TRUNC(SUM(AE4:AE17)) -> 0
B24: 합계줄 | D24: ( 합 계 ) | I24: =TRUNC(SUM(I4:I23)) -> 0 | L24: =TRUNC(SUM(L4:L23)) -> 0 | N24: =TRUNC(SUM(N4:N23)) -> 0 | O24: =IF((H24+K24+M24)=0, "", (H24+K24+M24)) | P24: =TRUNC(SUM(P4:P23)) -> 0
B25: 공종줄 | D25: 1.소방공사::1-1.워크샵::1-1-2.유도등설비공사
A26: 56959000001 | B26: 010102 | C26: E56959000001 | D26: 1종금속제가요전선관 | E26: 16 mm 고장력-비방수 | F26: M | G26: 8 | O26: =IF((H26+K26+M26)=0, "", (H26+K26+M26)) | P26: =SUM(I26,L26,N26) -> 0 | Q26: 제 7호 | AC26: =G26*H26 -> 0
A27: 59753017043 | B27: 010102 | C27: 3913170620174434 | D27: 1종금속제가요전선관 | E27: 커넥터, 16 mm 일반-비방수 | F27: 개 | G27: 8 | O27: =IF((H27+K27+M27)=0, "", (H27+K27+M27)) | P27: =SUM(I27,L27,N27) -> 0
A28: 56959000008 | B28: 010102 | C28: E56959000008 | D28: 나사없는전선관 | E28: E19 | F28: M | G28: 112 | O28: =IF((H28+K28+M28)=0, "", (H28+K28+M28)) | P28: =SUM(I28,L28,N28) -> 0 | Q28: 제 8호 | AC28: =G28*H28 -> 0
A29: MMH99991007 | B29: 010102 | C29: 9999999991020007 | D29: 볼트고정식 이음쇠 | E29: 커플링 E19 | F29: EA | G29: 30 | O29: =IF((H29+K29+M29)=0, "", (H29+K29+M29)) | P29: =SUM(I29,L29,N29) -> 0
A30: MMX99810000 | B30: 010102 | C30: 8974653100010160 | D30: 볼트고정식 이음쇠 | E30: 커넥터 E19 | F30: EA | G30: 46 | O30: =IF((H30+K30+M30)=0, "", (H30+K30+M30)) | P30: =SUM(I30,L30,N30) -> 0
A31: 56951000000 | B31: 010102 | C31: EAU000000000 | D31: 새들(벽체) | E31: 16C | F31: 개소 | G31: 20 | O31: =IF((H31+K31+M31)=0, "", (H31+K31+M31)) | P31: =SUM(I31,L31,N31) -> 0 | Q31: 제 11호
A32: 56951000200 | B32: 010102 | C32: EA1000000200 | D32: 파이프행가 | E32: 16 C | F32: 개소 | G32: 53 | O32: =IF((H32+K32+M32)=0, "", (H32+K32+M32)) | P32: =SUM(I32,L32,N32) -> 0 | Q32: 제 13호
A33: 5975D767011 | B33: 010102 | C33: E59753767011 | D33: 아우트렛박스 | E33: 8각 54㎜ | F33: 개 | G33: 4 | O33: =IF((H33+K33+M33)=0, "", (H33+K33+M33)) | P33: =SUM(I33,L33,N33) -> 0 | Q33: 제 16호
A34: 56959000002 | B34: 010102 | C34: E56959000002 | D34: 아우트렛박스 | E34: 중형4각 54㎜(벽체) | F34: 개 | G34: 9 | O34: =IF((H34+K34+M34)=0, "", (H34+K34+M34)) | P34: =SUM(I34,L34,N34) -> 0 | Q34: 제 17호
A35: 59753767221 | B35: 010102 | C35: 3912130820174712 | D35: 아우트렛박스 커버 | E35: 커버, 8각, 둥근구멍(평) | F35: 개 | G35: 4 | O35: =IF((H35+K35+M35)=0, "", (H35+K35+M35)) | P35: =SUM(I35,L35,N35) -> 0
A36: 59753767241 | B36: 010102 | C36: 3912130820174714 | D36: 아우트렛박스 커버 | E36: 커버, 4각, 둥근구멍(오목) | F36: 개 | G36: 9 | O36: =IF((H36+K36+M36)=0, "", (H36+K36+M36)) | P36: =SUM(I36,L36,N36) -> 0
A37: 6145F137894 | B37: 010102 | C37: E61455137894 | D37: 정션 박스 | E37: 100*100*50 | F37: 개 | G37: 4 | O37: =IF((H37+K37+M37)=0, "", (H37+K37+M37)) | P37: =SUM(I37,L37,N37) -> 0 | Q37: 제 18호
A38: 5975D857011 | B38: 010102 | C38: E59753857011 | D38: 풀박스 | E38: 100×100×75 | F38: 개 | G38: 5 | O38: =IF((H38+K38+M38)=0, "", (H38+K38+M38)) | P38: =SUM(I38,L38,N38) -> 0 | Q38: 제 19호
A39: 56959000003 | B39: 010102 | C39: E56959000003 | D39: 450/750V 내열비닐절연전선 | E39: HFIX 1.78mm(2.5㎟) | F39: M | G39: 372 | O39: =IF((H39+K39+M39)=0, "", (H39+K39+M39)) | P39: =SUM(I39,L39,N39) -> 0 | Q39: 제 21호 | AC39: =G39*H39 -> 0
A40: 56959000004 | B40: 010102 | C40: E56959000004 | D40: 피난구유도등(LED) | E40: 소형벽부-60분용 | F40: 개 | G40: 8 | O40: =IF((H40+K40+M40)=0, "", (H40+K40+M40)) | P40: =SUM(I40,L40,N40) -> 0 | Q40: 제 23호
A41: 56959000005 | B41: 010102 | C41: E56959000005 | D41: 피난구유도등(LED) | E41: 소형양면-60분용 | F41: 개 | G41: 4 | O41: =IF((H41+K41+M41)=0, "", (H41+K41+M41)) | P41: =SUM(I41,L41,N41) -> 0 | Q41: 제 24호
A42: 56959000006 | B42: 010102 | C42: E56959000006 | D42: 통로유도등(LED) | E42: 60분용 | F42: 개 | G42: 1 | O42: =IF((H42+K42+M42)=0, "", (H42+K42+M42)) | P42: =SUM(I42,L42,N42) -> 0 | Q42: 제 25호
A43: 42100357004 | B43: 010102 | C43: 4619160120096946 | D43: 소화기 | E43: 분말소화기(ABC) 4단위, 3.3KG | F43: 개 | G43: 9 | O43: =IF((H43+K43+M43)=0, "", (H43+K43+M43)) | P43: =SUM(I43,L43,N43) -> 0
A44: MM631764001 | B44: 010102 | C44: 4619160120097010 | D44: 소화기받침대 | E44: 2033A | F44: 개 | G44: 9 | O44: =IF((H44+K44+M44)=0, "", (H44+K44+M44)) | P44: =SUM(I44,L44,N44) -> 0
AE45: =TRUNC(SUM(AE25:AE44)) -> 0
B50: 합계줄 | D50: ( 합 계 ) | I50: =TRUNC(SUM(I25:I49)) -> 0 | L50: =TRUNC(SUM(L25:L49)) -> 0 | N50: =TRUNC(SUM(N25:N49)) -> 0 | O50: =IF((H50+K50+M50)=0, "", (H50+K50+M50)) | P50: =TRUNC(SUM(P25:P49)) -> 0

Sheet 일대목차
B1: 55 | C1: [ CAV기반 미래모빌리티 자율주행 평가플랫폼 구축 증축공사 ] - 일위대가목차
A2: 번호 | B2: … | C2: 코드 | D2: 명 칭 | E2: 규 격 | F2: 단위 | G2: 수량 | H2: 재료비 | J2: 노무비 | M2: 경비 | O2: 계 | P2: 계 | Q2: 비고
H3: 단가 | I3: 금액 | J3: 수량 | K3: 단가 | L3: 금액 | M3: 단가 | N3: 금액 | O3: 단가
A4: 56951002800 | B4: EA1000002800 | C4: 제 1호 | D4: 인력터파기 | E4: 보통토사0-1m | F4: ㎥_ | H4: =일위대가!I6 -> 0 | I4: =H4 -> 0 | K4: =일위대가!L6 -> 33109 | L4: =K4 -> 33109 | M4: =일위대가!N6 -> 0 | N4: =M4 -> 0 | O4: =IF((H4+K4+M4)=0, "", (H4+K4+M4)) -> 33109 | P4: =SUM(I4,L4,N4) -> 33109
A5: 56951002811 | B5: EA1000002811 | C5: 제 2호 | D5: 인력되메우기 | E5: 보통토사0-1m | F5: ㎥_ | H5: =일위대가!I10 -> 0 | I5: =H5 -> 0 | K5: =일위대가!L10 -> 18209 | L5: =K5 -> 18209 | M5: =일위대가!N10 -> 0 | N5: =M5 -> 0 | O5: =IF((H5+K5+M5)=0, "", (H5+K5+M5)) -> 18209 | P5: =SUM(I5,L5,N5) -> 18209
A6: 56951002807 | B6: EA1000002807 | C6: 제 3호 | D6: 터파기(기계90%,인력10%) | E6: 보통토사 | F6: ㎥ | H6: =일위대가!I15 -> 465 | I6: =H6 -> 465 | K6: =일위대가!L15 -> 4298 | L6: =K6 -> 4298 | M6: =일위대가!N15 -> 431 | N6: =M6 -> 431 | O6: =IF((H6+K6+M6)=0, "", (H6+K6+M6)) -> 5194 | P6: =SUM(I6,L6,N6) -> 5194
A7: 56951002810 | B7: EA1000002810 | C7: 제 4호 | D7: 되메우기(기계90%,인력10%) | E7: 보통토사 | F7: ㎥ | H7: =일위대가!I20 -> 465 | I7: =H7 -> 465 | K7: =일위대가!L20 -> 2808 | L7: =K7 -> 2808 | M7: =일위대가!N20 -> 431 | N7: =M7 -> 431 | O7: =IF((H7+K7+M7)=0, "", (H7+K7+M7)) -> 3704 | P7: =SUM(I7,L7,N7) -> 3704
A8: 5975F957174 | B8: E59755957174 | C8: 제 5호 | D8: 지중선용 가선철물(통신) | E8: 케이블표지시트, 0.15x150 | F8: m | H8: =일위대가!I26 -> 94 | I8: =H8 -> 94 | K8: =일위대가!L26 -> 215 | L8: =K8 -> 215 | M8: =일위대가!N26 -> 0 | N8: =M8 -> 0 | O8: =IF((H8+K8+M8)=0, "", (H8+K8+M8)) -> 309 | P8: =SUM(I8,L8,N8) -> 309
A9: 5975D178001 | B9: E59753178001 | C9: 제 6호 | D9: 파상형 폴리에틸렌 전선관 | E9: 30㎜ | F9: M | H9: =일위대가!I36 -> 553 | I9: =H9 -> 553 | K9: =일위대가!L36 -> 4730 | L9: =K9 -> 4730 | M9: =일위대가!N36 -> 0 | N9: =M9 -> 0 | O9: =IF((H9+K9+M9)=0, "", (H9+K9+M9)) -> 5283 | P9: =SUM(I9,L9,N9) -> 5283
A10: 56959000001 | B10: E56959000001 | C10: 제 7호 | D10: 1종금속제가요전선관 | E10: 16 mm 고장력-비방수 | F10: M | H10: =일위대가!I44 -> 1037 | I10: =H10 -> 1037 | K10: =일위대가!L44 -> 14269 | L10: =K10 -> 14269 | M10: =일위대가!N44 -> 0 | N10: =M10 -> 0 | O10: =IF((H10+K10+M10)=0, "", (H10+K10+M10)) -> 15306 | P10: =SUM(I10,L10,N10) -> 15306
A11: 56959000008 | B11: E56959000008 | C11: 제 8호 | D11: 나사없는전선관 | E11: E19 | F11: M | H11: =일위대가!I52 -> 2765 | I11: =H11 -> 2765 | K11: =일위대가!L52 -> 13512 | L11: =K11 -> 13512 | M11: =일위대가!N52 -> 0 | N11: =M11 -> 0 | O11: =IF((H11+K11+M11)=0, "", (H11+K11+M11)) -> 16277 | P11: =SUM(I11,L11,N11) -> 16277
A12: 56959000009 | B12: E56959000009 | C12: 제 9호 | D12: 나사없는전선관 | E12: E31 | F12: M | H12: =일위대가!I60 -> 5005 | I12: =H12 -> 5005 | K12: =일위대가!L60 -> 21620 | L12: =K12 -> 21620 | M12: =일위대가!N60 -> 0 | N12: =M12 -> 0 | O12: =IF((H12+K12+M12)=0, "", (H12+K12+M12)) -> 26625 | P12: =SUM(I12,L12,N12) -> 26625
A13: 5975E877200 | B13: E59754877200 | C13: 제 10호 | D13: 관로구방수장치 | E13: D30 | F13: 조 | H13: =일위대가!I67 -> 13558 | I13: =H13 -> 13558 | K13: =일위대가!L67 -> 26964 | L13: =K13 -> 26964 | M13: =일위대가!N67 -> 0 | N13: =M13 -> 0 | O13: =IF((H13+K13+M13)=0, "", (H13+K13+M13)) -> 40522 | P13: =SUM(I13,L13,N13) -> 40522
A14: 56951000000 | B14: EAU000000000 | C14: 제 11호 | D14: 새들(벽체) | E14: 16C | F14: 개소 | H14: =일위대가!I73 -> 233 | I14: =H14 -> 233 | K14: =일위대가!L73 -> 4864 | L14: =K14 -> 4864 | M14: =일위대가!N73 -> 0 | N14: =M14 -> 0 | O14: =IF((H14+K14+M14)=0, "", (H14+K14+M14)) -> 5097 | P14: =SUM(I14,L14,N14) -> 5097
A15: 56951000002 | B15: EAU000000002 | C15: 제 12호 | D15: 새들(벽체) | E15: 28C | F15: 개소 | H15: =일위대가!I79 -> 269 | I15: =H15 -> 269 | K15: =일위대가!L79 -> 4864 | L15: =K15 -> 4864 | M15: =일위대가!N79 -> 0 | N15: =M15 -> 0 | O15: =IF((H15+K15+M15)=0, "", (H15+K15+M15)) -> 5133 | P15: =SUM(I15,L15,N15) -> 5133
A16: 56951000200 | B16: EA1000000200 | C16: 제 13호 | D16: 파이프행가 | E16: 16 C | F16: 개소 | H16: =일위대가!I89 -> 1946 | I16: =H16 -> 1946 | K16: =일위대가!L89 -> 14593 | L16: =K16 -> 14593 | M16: =일위대가!N89 -> 0 | N16: =M16 -> 0 | O16: =IF((H16+K16+M16)=0, "", (H16+K16+M16)) -> 16539 | P16: =SUM(I16,L16,N16) -> 16539
A17: 56951000202 | B17: EA1000000202 | C17: 제 14호 | D17: 파이프행가 | E17: 28 C | F17: 개소 | H17: =일위대가!I99 -> 1975 | I17: =H17 -> 1975 | K17: =일위대가!L99 -> 14593 | L17: =K17 -> 14593 | M17: =일위대가!N99 -> 0 | N17: =M17 -> 0 | O17: =IF((H17+K17+M17)=0, "", (H17+K17+M17)) -> 16568 | P17: =SUM(I17,L17,N17) -> 16568
A18: 56951001307 | B18: EA1000001307 | C18: 제 15호 | D18: 벽관통 구멍 | E18: Φ50-벽두께 25cm | F18: 개소 | H18: =일위대가!I104 -> 2699 | I18: =H18 -> 2699 | K18: =일위대가!L104 -> 89973 | L18: =K18 -> 89973 | M18: =일위대가!N104 -> 0 | N18: =M18 -> 0 | O18: =IF((H18+K18+M18)=0, "", (H18+K18+M18)) -> 92672 | P18: =SUM(I18,L18,N18) -> 92672
A19: 5975D767011 | B19: E59753767011 | C19: 제 16호 | D19: 아우트렛박스 | E19: 8각 54㎜ | F19: 개 | H19: =일위대가!I110 -> 1589 | I19: =H19 -> 1589 | K19: =일위대가!L110 -> 32430 | L19: =K19 -> 32430 | M19: =일위대가!N110 -> 0 | N19: =M19 -> 0 | O19: =IF((H19+K19+M19)=0, "", (H19+K19+M19)) -> 34019 | P19: =SUM(I19,L19,N19) -> 34019
A20: 56959000002 | B20: E56959000002 | C20: 제 17호 | D20: 아우트렛박스 | E20: 중형4각 54㎜(벽체) | F20: 개 | H20: =일위대가!I116 -> 2541 | I20: =H20 -> 2541 | K20: =일위대가!L116 -> 54050 | L20: =K20 -> 54050 | M20: =일위대가!N116 -> 0 | N20: =M20 -> 0 | O20: =IF((H20+K20+M20)=0, "", (H20+K20+M20)) -> 56591 | P20: =SUM(I20,L20,N20) -> 56591
A21: 6145F137894 | B21: E61455137894 | C21: 제 18호 | D21: 정션 박스 | E21: 100*100*50 | F21: 개 | H21: =일위대가!I122 -> 2608 | I21: =H21 -> 2608 | K21: =일위대가!L122 -> 10810 | L21: =K21 -> 10810 | M21: =일위대가!N122 -> 0 | N21: =M21 -> 0 | O21: =IF((H21+K21+M21)=0, "", (H21+K21+M21)) -> 13418 | P21: =SUM(I21,L21,N21) -> 13418
A22: 5975D857011 | B22: E59753857011 | C22: 제 19호 | D22: 풀박스 | E22: 100×100×75 | F22: 개 | H22: =일위대가!I128 -> 4112 | I22: =H22 -> 4112 | K22: =일위대가!L128 -> 45942 | L22: =K22 -> 45942 | M22: =일위대가!N128 -> 0 | N22: =M22 -> 0 | O22: =IF((H22+K22+M22)=0, "", (H22+K22+M22)) -> 50054 | P22: =SUM(I22,L22,N22) -> 50054
A23: 5975D857031 | B23: E59753857031 | C23: 제 20호 | D23: 풀박스 | E23: 150×150×100 | F23: 개 | H23: =일위대가!I134 -> 7313 | I23: =H23 -> 7313 | K23: =일위대가!L134 -> 148638 | L23: =K23 -> 148638 | M23: =일위대가!N134 -> 0 | N23: =M23 -> 0 | O23: =IF((H23+K23+M23)=0, "", (H23+K23+M23)) -> 155951 | P23: =SUM(I23,L23,N23) -> 155951
A24: 56959000003 | B24: E56959000003 | C24: 제 21호 | D24: 450/750V 내열비닐절연전선 | E24: HFIX 1.78mm(2.5㎟) | F24: M | H24: =일위대가!I142 -> 531 | I24: =H24 -> 531 | K24: =일위대가!L142 -> 2702 | L24: =K24 -> 2702 | M24: =일위대가!N142 -> 0 | N24: =M24 -> 0 | O24: =IF((H24+K24+M24)=0, "", (H24+K24+M24)) -> 3233 | P24: =SUM(I24,L24,N24) -> 3233
A25: E145A137401 | B25: EE1450137401 | C25: 제 22호 | D25: 소방용내화전선(F-FR-8) | E25: 4C×2.5㎟ | F25: M | H25: =일위대가!I150 -> 4829 | I25: =H25 -> 4829 | K25: =일위대가!L150 -> 7690 | L25: =K25 -> 7690 | M25: =일위대가!N150 -> 0 | N25: =M25 -> 0 | O25: =IF((H25+K25+M25)=0, "", (H25+K25+M25)) -> 12519 | P25: =SUM(I25,L25,N25) -> 12519
A26: 56959000004 | B26: E56959000004 | C26: 제 23호 | D26: 피난구유도등(LED) | E26: 소형벽부-60분용 | F26: 개 | H26: =일위대가!I156 -> 46454 | I26: =H26 -> 46454 | K26: =일위대가!L156 -> 54050 | L26: =K26 -> 54050 | M26: =일위대가!N156 -> 0 | N26: =M26 -> 0 | O26: =IF((H26+K26+M26)=0, "", (H26+K26+M26)) -> 100504 | P26: =SUM(I26,L26,N26) -> 100504
A27: 56959000005 | B27: E56959000005 | C27: 제 24호 | D27: 피난구유도등(LED) | E27: 소형양면-60분용 | F27: 개 | H27: =일위대가!I162 -> 50142 | I27: =H27 -> 50142 | K27: =일위대가!L162 -> 54050 | L27: =K27 -> 54050 | M27: =일위대가!N162 -> 0 | N27: =M27 -> 0 | O27: =IF((H27+K27+M27)=0, "", (H27+K27+M27)) -> 104192 | P27: =SUM(I27,L27,N27) -> 104192
A28: 56959000006 | B28: E56959000006 | C28: 제 25호 | D28: 통로유도등(LED) | E28: 60분용 | F28: 개 | H28: =일위대가!I168 -> 101621 | I28: =H28 -> 101621 | K28: =일위대가!L168 -> 54050 | L28: =K28 -> 54050 | M28: =일위대가!N168 -> 0 | N28: =M28 -> 0 | O28: =IF((H28+K28+M28)=0, "", (H28+K28+M28)) -> 155671 | P28: =SUM(I28,L28,N28) -> 155671
A29: 56959000007 | B29: E56959000007 | C29: 제 26호 | D29: 수동발신기세트 | E29: W/PBL, ALL SUS | F29: SET | H29: =일위대가!I174 -> 107783 | I29: =H29 -> 107783 | K29: =일위대가!L174 -> 259440 | L29: =K29 -> 259440 | M29: =일위대가!N174 -> 0 | N29: =M29 -> 0 | O29: =IF((H29+K29+M29)=0, "", (H29+K29+M29)) -> 367223 | P29: =SUM(I29,L29,N29) -> 367223
A30: 56959000012 | B30: E56959000012 | C30: 제 27호 | D30: 화재 수신기 | E30: P형1급, 60회로(복합) | F30: 대 | H30: =일위대가!I180 -> 3494580 | I30: =H30 -> 3494580 | K30: =일위대가!L180 -> 6486024 | L30: =K30 -> 6486024 | M30: =일위대가!N180 -> 0 | N30: =M30 -> 0 | O30: =IF((H30+K30+M30)=0, "", (H30+K30+M30)) -> 9980604 | P30: =SUM(I30,L30,N30) -> 9980604
A31: 56959000010 | B31: E56959000010 | C31: 제 28호 | D31: 화재 수신기(철거) | E31: P형1급, 10회로(복합) | F31: 대 | H31: =일위대가!I186 -> 21890 | I31: =H31 -> 21890 | K31: =일위대가!L186 -> 729677 | L31: =K31 -> 729677 | M31: =일위대가!N186 -> 0 | N31: =M31 -> 0 | O31: =IF((H31+K31+M31)=0, "", (H31+K31+M31)) -> 751567 | P31: =SUM(I31,L31,N31) -> 751567
A32: 56959000011 | B32: E56959000011 | C32: 제 29호 | D32: 화재 수신기(철거) | E32: P형1급, 30회로(복합) | F32: 대 | H32: =일위대가!I192 -> 36483 | I32: =H32 -> 36483 | K32: =일위대가!L192 -> 1216129 | L32: =K32 -> 1216129 | M32: =일위대가!N192 -> 0 | N32: =M32 -> 0 | O32: =IF((H32+K32+M32)=0, "", (H32+K32+M32)) -> 1252612 | P32: =SUM(I32,L32,N32) -> 1252612

Sheet 일위대가
B1: 211 | D1: [ CAV기반 미래모빌리티 자율주행 평가플랫폼 구축 증축공사 ] - 일위대가표 | W1: 노임 계산 정보 | AA1: 부속재 및 손료
A2: 번호 | B2: 목차코드 | C2: 코드 | D2: 명 칭 | E2: 규 격 | F2: 단위 | G2: 수량 | H2: 재료비 | J2: 노무비 | M2: 경비 | P2: 계 | Q2: 비고 | W2: 노임계 | X2: 전체(%) | Y2: 공종별(%) | Z2: 노임 소수 | AA2: CD배관재 | AB2: 일반배관재 | AC2: 소모재 | AD2: 자재계 | AE2: 노임계
H3: 단가 | I3: 금액 | J3: 수량 | K3: 단가 | L3: 금액 | M3: 단가 | N3: 금액 | O3: 단가 | AD3: 1 | AE3: 1
A4: 56951002800 | B4: 일목줄 | C4: EA1000002800 | D4: [제 1호] 인력터파기 보통토사0-1m [㎥_]
A5: 56900017041 | B5: 제 1호 | C5: L001010101000002 | D5: 노 무 비 | E5: 보통인부 | F5: 인 | G5: =일위노임!G6 -> 0.2 | H5: =합산자재!H46 -> 0 | I5: =IF(G5*H5<>0, TRUNC(G5*H5, 1), "") | J5: 0.2 | K5: =합산자재!I46 -> 165545 | L5: =IF(G5*K5<>0, TRUNC(G5*K5, 1), "") -> 33109 | M5: =합산자재!J46 -> 0 | N5: =IF(G5*M5<>0, TRUNC(G5*M5, 1), "") | O5: =IF((H5+K5+M5)=0, "", (H5+K5+M5)) -> 165545 | P5: =IF(SUM(I5,L5,N5)<>0,SUM(I5,L5,N5),"") -> 33109 | AE5: =L5 -> 33109
B6: 합계줄 | D6: ( 합 계 ) | I6: =TRUNC(SUM(I4:I5)) -> 0 | L6: =TRUNC(SUM(L4:L5)) -> 33109 | N6: =TRUNC(SUM(N4:N5)) -> 0 | O6: =IF((H6+K6+M6)=0, "", (H6+K6+M6)) | P6: =IF(SUM(I6,L6,N6)<>0,SUM(I6,L6,N6),"") -> 33109 | AE6: =TRUNC(SUM(AE4:AE5)) -> 33109
A8: 56951002811 | B8: 일목줄 | C8: EA1000002811 | D8: [제 2호] 인력되메우기 보통토사0-1m [㎥_]
A9: 56900017041 | B9: 제 2호 | C9: L001010101000002 | D9: 노 무 비 | E9: 보통인부 | F9: 인 | G9: =일위노임!G9 -> 0.11 | H9: =합산자재!H46 -> 0 | I9: =IF(G9*H9<>0, TRUNC(G9*H9, 1), "") | J9: 0.11 | K9: =합산자재!I46 -> 165545 | L9: =IF(G9*K9<>0, TRUNC(G9*K9, 1), "") -> 18209.9 | M9: =합산자재!J46 -> 0 | N9: =IF(G9*M9<>0, TRUNC(G9*M9, 1), "") | O9: =IF((H9+K9+M9)=0, "", (H9+K9+M9)) -> 165545 | P9: =IF(SUM(I9,L9,N9)<>0,SUM(I9,L9,N9),"") -> 18209.9 | AE9: =L9 -> 18209.9
B10: 합계줄 | D10: ( 합 계 ) | I10: =TRUNC(SUM(I8:I9)) -> 0 | L10: =TRUNC(SUM(L8:L9)) -> 18209 | N10: =TRUNC(SUM(N8:N9)) -> 0 | O10: =IF((H10+K10+M10)=0, "", (H10+K10+M10)) | P10: =IF(SUM(I10,L10,N10)<>0,SUM(I10,L10,N10),"") -> 18209 | AE10: =TRUNC(SUM(AE8:AE9)) -> 18209
A12: 56951002807 | B12: 일목줄 | C12: EA1000002807 | D12: [제 3호] 터파기(기계90%,인력10%) 보통토사 [㎥]
A13: 56951002800 | B13: 제 3호 | C13: EA1000002800 | D13: 인력터파기 | E13: 보통토사0-1m | F13: ㎥_ | G13: 0.1 | H13: =일대목차!H4 -> 0 | I13: =IF(G13*H13<>0, TRUNC(G13*H13, 1), "") | J13: 0.1 | K13: =일대목차!K4 -> 33109 | L13: =IF(G13*K13<>0, TRUNC(G13*K13, 1), "") -> 3310.9 | M13: =일대목차!M4 -> 0 | N13: =IF(G13*M13<>0, TRUNC(G13*M13, 1), "") | O13: =IF((H13+K13+M13)=0, "", (H13+K13+M13)) -> 33109 | P13: =IF(SUM(I13,L13,N13)<>0,SUM(I13,L13,N13),"") -> 3310.9 | Q13: 제 1호 | R13: ILD
A14: CA565826042 | B14: 제 3호 | C14: ECA565826042 | D14: 기계터파기 | E14: 보통토사(0.6㎥/43.6) | F14: ㎥ | G14: 0.9 | H14: =합산자재!H41 -> 517 | I14: =IF(G14*H14<>0, TRUNC(G14*H14, 1), "") -> 465.3 | J14: 0.9 | K14: =합산자재!I41 -> 1097 | L14: =IF(G14*K14<>0, TRUNC(G14*K14, 1), "") -> 987.3 | M14: =합산자재!J41 -> 479 | N14: =IF(G14*M14<>0, TRUNC(G14*M14, 1), "") -> 431.1 | O14: =IF((H14+K14+M14)=0, "", (H14+K14+M14)) -> 2093 | P14: =IF(SUM(I14,L14,N14)<>0,SUM(I14,L14,N14),"") -> 1883.7 | Q14: 166-하 | R14: ild
B15: 합계줄 | D15: ( 합 계 ) | I15: =TRUNC(SUM(I12:I14)) -> 465 | L15: =TRUNC(SUM(L12:L14)) -> 4298 | N15: =TRUNC(SUM(N12:N14)) -> 431 | O15: =IF((H15+K15+M15)=0, "", (H15+K15+M15)) | P15: =IF(SUM(I15,L15,N15)<>0,SUM(I15,L15,N15),"") -> 5194 | AE15: =TRUNC(SUM(AE12:AE14)) -> 0
A17: 56951002810 | B17: 일목줄 | C17: EA1000002810 | D17: [제 4호] 되메우기(기계90%,인력10%) 보통토사 [㎥]
A18: 56951002811 | B18: 제 4호 | C18: EA1000002811 | D18: 인력되메우기 | E18: 보통토사0-1m | F18: ㎥_ | G18: 0.1 | H18: =일대목차!H5 -> 0 | I18: =IF(G18*H18<>0, TRUNC(G18*H18, 1), "") | J18: 0.1 | K18: =일대목차!K5 -> 18209 | L18: =IF(G18*K18<>0, TRUNC(G18*K18, 1), "") -> 1820.9 | M18: =일대목차!M5 -> 0 | N18: =IF(G18*M18<>0, TRUNC(G18*M18, 1), "") | O18: =IF((H18+K18+M18)=0, "", (H18+K18+M18)) -> 18209 | P18: =IF(SUM(I18,L18,N18)<>0,SUM(I18,L18,N18),"") -> 1820.9 | Q18: 제 2호 | R18: ILD
A19: CA565826051 | B19: 제 4호 | C19: ECA565826051 | D19: 기계되메우기 | E19: 보통토사(0.6㎥/43.6) | F19: ㎥ | G19: 0.9 | H19: =합산자재!H42 -> 517 | I19: =IF(G19*H19<>0, TRUNC(G19*H19, 1), "") -> 465.3 | J19: 0.9 | K19: =합산자재!I42 -> 1097 | L19: =IF(G19*K19<>0, TRUNC(G19*K19, 1), "") -> 987.3 | M19: =합산자재!J42 -> 479 | N19: =IF(G19*M19<>0, TRUNC(G19*M19, 1), "") -> 431.1 | O19: =IF((H19+K19+M19)=0, "", (H19+K19+M19)) -> 2093 | P19: =IF(SUM(I19,L19,N19)<>0,SUM(I19,L19,N19),"") -> 1883.7 | Q19: 166-하 | R19: ild
B20: 합계줄 | D20: ( 합 계 ) | I20: =TRUNC(SUM(I17:I19)) -> 465 | L20: =TRUNC(SUM(L17:L19)) -> 2808 | N20: =TRUNC(SUM(N17:N19)) -> 431 | O20: =IF((H20+K20+M20)=0, "", (H20+K20+M20)) | P20: =IF(SUM(I20,L20,N20)<>0,SUM(I20,L20,N20),"") -> 3704 | AE20: =TRUNC(SUM(AE17:AE19)) -> 0
A22: 5975F957174 | B22: 일목줄 | C22: E59755957174 | D22: [제 5호] 지중선용 가선철물(통신) 케이블표지시트, 0.15x150 [m]
A23: 59755957174 | B23: 제 5호 | C23: 3912219529175621 | D23: 지중선용 가선철물(통신) | E23: 케이블표지시트, 0.15x150 | F23: M | G23: 1 | H23: =합산자재!H29 -> 88 | I23: =IF(G23*H23<>0, TRUNC(G23*H23, 1), "") -> 88 | J23: 1 | K23: =합산자재!I29 -> 0 | L23: =IF(G23*K23<>0, TRUNC(G23*K23, 1), "") | M23: =합산자재!J29 -> 0 | N23: =IF(G23*M23<>0, TRUNC(G23*M23, 1), "") | O23: =IF((H23+K23+M23)=0, "", (H23+K23+M23)) -> 88 | P23: =IF(SUM(I23,L23,N23)<>0,SUM(I23,L23,N23),"") -> 88
A24: 56900017041 | B24: 제 5호 | C24: L001010101000002 | D24: 노 무 비 | E24: 보통인부 | F24: 인 | G24: =일위노임!G12 -> 0.0013 | H24: =합산자재!H46 -> 0 | I24: =IF(G24*H24<>0, TRUNC(G24*H24, 1), "") | J24: 0.0013 | K24: =합산자재!I46 -> 165545 | L24: =IF(G24*K24<>0, TRUNC(G24*K24, 1), "") -> 215.2 | M24: =합산자재!J46 -> 0 | N24: =IF(G24*M24<>0, TRUNC(G24*M24, 1), "") | O24: =IF((H24+K24+M24)=0, "", (H24+K24+M24)) -> 165545 | P24: =IF(SUM(I24,L24,N24)<>0,SUM(I24,L24,N24),"") -> 215.2 | AE24: =L24 -> 215.2
A25: A0300000000 | B25: 제 5호 | C25: RENT000000000006 | D25: [ 공 구 손 료 ] | E25: 노무비의 3 % | F25: 식 | G25: 1 | H25: =IF(TRUNC((AD26+AC26)/$AE$3,1)*$AE$3-AD26 <0, AC26, TRUNC((AD26+AC26)/$AE$3,1)*$AE$3-AD26) -> 6.4 | I25: =H25 -> 6.4 | J25: 1 | L25: =IF(G25*K25<>0, TRUNC(G25*K25, 1), "") | N25: =IF(G25*M25<>0, TRUNC(G25*M25, 1), "") | O25: =IF((H25+K25+M25)=0, "", (H25+K25+M25)) -> 6.4 | P25: =IF(SUM(I25,L25,N25)<>0,SUM(I25,L25,N25),"") -> 6.4
B26: 합계줄 | D26: ( 합 계 ) | I26: =TRUNC(SUM(I22:I25)) -> 94 | L26: =TRUNC(SUM(L22:L25)) -> 215 | N26: =TRUNC(SUM(N22:N25)) -> 0 | O26: =IF((H26+K26+M26)=0, "", (H26+K26+M26)) | P26: =IF(SUM(I26,L26,N26)<>0,SUM(I26,L26,N26),"") -> 309 | AC26: =TRUNC(AE26*옵션!$B$36/100,1) -> 6.4 | AD26: =TRUNC(SUM(L22:L24)) -> 215 | AE26: =TRUNC(SUM(AE22:AE25)) -> 215
A28: 5975D178001 | B28: 일목줄 | C28: E59753178001 | D28: [제 6호] 파상형 폴리에틸렌 전선관 30㎜ [M.]
A29: 59753178001 | B29: 제 6호 | C29: 3913170610035631 | D29: 파상형 폴리에틸렌 전선관 | E29: 30㎜ | F29: M | G29: 1 | H29: =합산자재!H4 -> 343 | I29: =IF(G29*H29<>0, TRUNC(G29*H29, 1), "") -> 343 | J29: 1 | K29: =합산자재!I4 -> 0 | L29: =IF(G29*K29<>0, TRUNC(G29*K29, 1), "") | M29: =합산자재!J4 -> 0 | N29: =IF(G29*M29<>0, TRUNC(G29*M29, 1), "") | O29: =IF((H29+K29+M29)=0, "", (H29+K29+M29)) -> 343 | P29: =IF(SUM(I29,L29,N29)<>0,SUM(I29,L29,N29),"") -> 343 | R29: ELP | AB29: =I29 -> 343 | AC29: =G29*H29 -> 343
A30: 59753178001 | B30: 제 6호 | C30: 3913170610035631 | D30: 파상형 폴리에틸렌 전선관 | E30: 30㎜ | F30: M | G30: 0.03 | H30: =합산자재!H4 -> 343 | I30: =IF(G30*H30<>0, TRUNC(G30*H30, 1), "") -> 10.2 | J30: 0.03 | K30: =합산자재!I4 -> 0 | L30: =IF(G30*K30<>0, TRUNC(G30*K30, 1), "") | M30: =합산자재!J4 -> 0 | N30: =IF(G30*M30<>0, TRUNC(G30*M30, 1), "") | O30: =IF((H30+K30+M30)=0, "", (H30+K30+M30)) -> 343 | P30: =IF(SUM(I30,L30,N30)<>0,SUM(I30,L30,N30),"") -> 10.2 | R30: ELP
A31: A0500000000 | B31: 제 6호 | C31: RENT000000000002 | D31: [ 배관 부속재 ] | E31: 전선관의 15 % | F31: 식 | G31: 1 | H31: =TRUNC(AB31*옵션!$B$31/100,1) -> 51.4 | I31: =IF(G31*H31<>0, TRUNC(G31*H31, 1), "") -> 51.4 | J31: 1 | L31: =IF(G31*K31<>0, TRUNC(G31*K31, 1), "") | N31: =IF(G31*M31<>0, TRUNC(G31*M31, 1), "") | O31: =IF((H31+K31+M31)=0, "", (H31+K31+M31)) -> 51.4 | P31: =IF(SUM(I31,L31,N31)<>0,SUM(I31,L31,N31),"") -> 51.4 | AB31: =TRUNC(SUM(AB28:AB30)) -> 343
A32: A0100000000 | B32: 제 6호 | C32: RENT000000000003 | D32: [ 소모 잡자재 ] | E32: 전선, 전선관의 2 % | F32: 식 | G32: 1 | H32: =IF(TRUNC((AD32+AC32)/$AD$3,1)*$AD$3-AD32 <0, AC32, TRUNC((AD32+AC32)/$AD$3,1)*$AD$3-AD32) -> 6.8 | I32: =H32 -> 6.8 | J32: 1 | L32: =IF(G32*K32<>0, TRUNC(G32*K32, 1), "") | N32: =IF(G32*M32<>0, TRUNC(G32*M32, 1), "") | O32: =IF((H32+K32+M32)=0, "", (H32+K32+M32)) -> 6.8 | P32: =IF(SUM(I32,L32,N32)<>0,SUM(I32,L32,N32),"") -> 6.8 | AC32: =TRUNC(TRUNC(SUM(AC28:AC31))*옵션!$B$33/100,1) -> 6.8 | AD32: =TRUNC(SUM(I28:I31))+TRUNC(SUM(N28:N31)) -> 404
A33: 56900017031 | B33: 제 6호 | C33: L001010101000081 | D33: 노 무 비 | E33: 배전전공 | F33: 인 | G33: =일위노임!G16 -> 0.006 | H33: =합산자재!H45 -> 0 | I33: =IF(G33*H33<>0, TRUNC(G33*H33, 1), "") | J33: 0.006 | K33: =합산자재!I45 -> 402085 | L33: =IF(G33*K33<>0, TRUNC(G33*K33, 1), "") -> 2412.5 | M33: =합산자재!J45 -> 0 | N33: =IF(G33*M33<>0, TRUNC(G33*M33, 1), "") | O33: =IF((H33+K33+M33)=0, "", (H33+K33+M33)) -> 402085 | P33: =IF(SUM(I33,L33,N33)<>0,SUM(I33,L33,N33),"") -> 2412.5 | AE33: =L33 -> 2412.5
A34: 56900017041 | B34: 제 6호 | C34: L001010101000002 | D34: 노 무 비 | E34: 보통인부 | F34: 인 | G34: =일위노임!G17 -> 0.014 | H34: =합산자재!H46 -> 0 | I34: =IF(G34*H34<>0, TRUNC(G34*H34, 1), "") | J34: 0.014 | K34: =합산자재!I46 -> 165545 | L34: =IF(G34*K34<>0, TRUNC(G34*K34, 1), "") -> 2317.6 | M34: =합산자재!J46 -> 0 | N34: =IF(G34*M34<>0, TRUNC(G34*M34, 1), "") | O34: =IF((H34+K34+M34)=0, "", (H34+K34+M34)) -> 165545 | P34: =IF(SUM(I34,L34,N34)<>0,SUM(I34,L34,N34),"") -> 2317.6 | AE34: =L34 -> 2317.6
A35: A0300000000 | B35: 제 6호 | C35: RENT000000000006 | D35: [ 공 구 손 료 ] | E35: 노무비의 3 % | F35: 식 | G35: 1 | H35: =IF(TRUNC((AD36+AC36)/$AE$3,1)*$AE$3-AD36 <0, AC36, TRUNC((AD36+AC36)/$AE$3,1)*$AE$3-AD36) -> 141.9 | I35: =H35 -> 141.9 | J35: 1 | L35: =IF(G35*K35<>0, TRUNC(G35*K35, 1), "") | N35: =IF(G35*M35<>0, TRUNC(G35*M35, 1), "") | O35: =IF((H35+K35+M35)=0, "", (H35+K35+M35)) -> 141.9 | P35: =IF(SUM(I35,L35,N35)<>0,SUM(I35,L35,N35),"") -> 141.9
B36: 합계줄 | D36: ( 합 계 ) | I36: =TRUNC(SUM(I28:I35)) -> 553 | L36: =TRUNC(SUM(L28:L35)) -> 4730 | N36: =TRUNC(SUM(N28:N35)) -> 0 | O36: =IF((H36+K36+M36)=0, "", (H36+K36+M36)) | P36: =IF(SUM(I36,L36,N36)<>0,SUM(I36,L36,N36),"") -> 5283 | AC36: =TRUNC(AE36*옵션!$B$36/100,1) -> 141.9 | AD36: =TRUNC(SUM(L28:L34)) -> 4730 | AE36: =TRUNC(SUM(AE28:AE35)) -> 4730
A38: 56959000001 | B38: 일목줄 | C38: E56959000001 | D38: [제 7호] 1종금속제가요전선관 16 mm 고장력-비방수 [M]
A39: MM496797011 | B39: 제 7호 | C39: 3913170620174478 | D39: 1종금속제가요전선관 | E39: 16 mm 고장력-비방수 | F39: M | G39: 1 | H39: =합산자재!H6 -> 544 | I39: =IF(G39*H39<>0, TRUNC(G39*H39, 1), "") -> 544 | J39: 1 | K39: =합산자재!I6 -> 0 | L39: =IF(G39*K39<>0, TRUNC(G39*K39, 1), "") | M39: =합산자재!J6 -> 0 | N39: =IF(G39*M39<>0, TRUNC(G39*M39, 1), "") | O39: =IF((H39+K39+M39)=0, "", (H39+K39+M39)) -> 544 | P39: =IF(SUM(I39,L39,N39)<>0,SUM(I39,L39,N39),"") -> 544 | R39: ST | AC39: =G39*H39 -> 544
A40: MM496797011 | B40: 제 7호 | C40: 3913170620174478 | D40: 1종금속제가요전선관 | E40: 16 mm 고장력-비방수 | F40: M | G40: 0.1 | H40: =합산자재!H6 -> 544 | I40: =IF(G40*H40<>0, TRUNC(G40*H40, 1), "") -> 54.4 | J40: 0.1 | K40: =합산자재!I6 -> 0 | L40: =IF(G40*K40<>0, TRUNC(G40*K40, 1), "") | M40: =합산자재!J6 -> 0 | N40: =IF(G40*M40<>0, TRUNC(G40*M40, 1), "") | O40: =IF((H40+K40+M40)=0, "", (H40+K40+M40)) -> 544 | P40: =IF(SUM(I40,L40,N40)<>0,SUM(I40,L40,N40),"") -> 54.4 | R40: ST
A41: A0100000000 | B41: 제 7호 | C41: RENT000000000003 | D41: [ 소모 잡자재 ] | E41: 전선, 전선관의 2 % | F41: 식 | G41: 1 | H41: =IF(TRUNC((AD41+AC41)/$AD$3,1)*$AD$3-AD41 <0, AC41, TRUNC((AD41+AC41)/$AD$3,1)*$AD$3-AD41) -> 10.8 | I41: =H41 -> 10.8 | J41: 1 | L41: =IF(G41*K41<>0, TRUNC(G41*K41, 1), "") | N41: =IF(G41*M41<>0, TRUNC(G41*M41, 1), "") | O41: =IF((H41+K41+M41)=0, "", (H41+K41+M41)) -> 10.8 | P41: =IF(SUM(I41,L41,N41)<>0,SUM(I41,L41,N41),"") -> 10.8 | AC41: =TRUNC(TRUNC(SUM(AC38:AC40))*옵션!$B$33/100,1) -> 10.8 | AD41: =TRUNC(SUM(I38:I40))+TRUNC(SUM(N38:N40)) -> 598
A42: 56900017016 | B42: 제 7호 | C42: L001010101000075 | D42: 노 무 비 | E42: 내선전공 | F42: 인 | G42: =일위노임!G20 -> 0.0528 | H42: =합산자재!H43 -> 0 | I42: =IF(G42*H42<>0, TRUNC(G42*H42, 1), "") | J42: 0.0528 | K42: =합산자재!I43 -> 270251 | L42: =IF(G42*K42<>0, TRUNC(G42*K42, 1), "") -> 14269.2 | M42: =합산자재!J43 -> 0 | N42: =IF(G42*M42<>0, TRUNC(G42*M42, 1), "") | O42: =IF((H42+K42+M42)=0, "", (H42+K42+M42)) -> 270251 | P42: =IF(SUM(I42,L42,N42)<>0,SUM(I42,L42,N42),"") -> 14269.2 | AE42: =L42 -> 14269.2
A43: A0300000000 | B43: 제 7호 | C43: RENT000000000006 | D43: [ 공 구 손 료 ] | E43: 노무비의 3 % | F43: 식 | G43: 1 | H43: =IF(TRUNC((AD44+AC44)/$AE$3,1)*$AE$3-AD44 <0, AC44, TRUNC((AD44+AC44)/$AE$3,1)*$AE$3-AD44) -> 428 | I43: =H43 -> 428 | J43: 1 | L43: =IF(G43*K43<>0, TRUNC(G43*K43, 1), "") | N43: =IF(G43*M43<>0, TRUNC(G43*M43, 1), "") | O43: =IF((H43+K43+M43)=0, "", (H43+K43+M43)) -> 428 | P43: =IF(SUM(I43,L43,N43)<>0,SUM(I43,L43,N43),"") -> 428
B44: 합계줄 | D44: ( 합 계 ) | I44: =TRUNC(SUM(I38:I43)) -> 1037 | L44: =TRUNC(SUM(L38:L43)) -> 14269 | N44: =TRUNC(SUM(N38:N43)) -> 0 | O44: =IF((H44+K44+M44)=0, "", (H44+K44+M44)) | P44: =IF(SUM(I44,L44,N44)<>0,SUM(I44,L44,N44),"") -> 15306 | AC44: =TRUNC(AE44*옵션!$B$36/100,1) -> 428 | AD44: =TRUNC(SUM(L38:L42)) -> 14269 | AE44: =TRUNC(SUM(AE38:AE43)) -> 14269
A46: 56959000008 | B46: 일목줄 | C46: E56959000008 | D46: [제 8호] 나사없는전선관 E19 [M]
A47: MMH99991000 | B47: 제 8호 | C47: 9999999991020000 | D47: 나사없는전선관 | E47: E19 | F47: M | G47: 1 | H47: =합산자재!H32 -> 2107 | I47: =IF(G47*H47<>0, TRUNC(G47*H47, 1), "") -> 2107 | J47: 1 | K47: =합산자재!I32 -> 0 | L47: =IF(G47*K47<>0, TRUNC(G47*K47, 1), "") | M47: =합산자재!J32 -> 0 | N47: =IF(G47*M47<>0, TRUNC(G47*M47, 1), "") | O47: =IF((H47+K47+M47)=0, "", (H47+K47+M47)) -> 2107 | P47: =IF(SUM(I47,L47,N47)<>0,SUM(I47,L47,N47),"") -> 2107 | AC47: =G47*H47 -> 2107
A48: MMH99991000 | B48: 제 8호 | C48: 9999999991020000 | D48: 나사없는전선관 | E48: E19 | F48: M | G48: 0.1 | H48: =합산자재!H32 -> 2107 | I48: =IF(G48*H48<>0, TRUNC(G48*H48, 1), "") -> 210.7 | J48: 0.1 | K48: =합산자재!I32 -> 0 | L48: =IF(G48*K48<>0, TRUNC(G48*K48, 1), "") | M48: =합산자재!J32 -> 0 | N48: =IF(G48*M48<>0, TRUNC(G48*M48, 1), "") | O48: =IF((H48+K48+M48)=0, "", (H48+K48+M48)) -> 2107 | P48: =IF(SUM(I48,L48,N48)<>0,SUM(I48,L48,N48),"") -> 210.7
A49: A0100000000 | B49: 제 8호 | C49: RENT000000000003 | D49: [ 소모 잡자재 ] | E49: 전선, 전선관의 2 % | F49: 식 | G49: 1 | H49: =IF(TRUNC((AD49+AC49)/$AD$3,1)*$AD$3-AD49 <0, AC49, TRUNC((AD49+AC49)/$AD$3,1)*$AD$3-AD49) -> 42.1 | I49: =H49 -> 42.1 | J49: 1 | L49: =IF(G49*K49<>0, TRUNC(G49*K49, 1), "") | N49: =IF(G49*M49<>0, TRUNC(G49*M49, 1), "") | O49: =IF((H49+K49+M49)=0, "", (H49+K49+M49)) -> 42.1 | P49: =IF(SUM(I49,L49,N49)<>0,SUM(I49,L49,N49),"") -> 42.1 | AC49: =TRUNC(TRUNC(SUM(AC46:AC48))*옵션!$B$33/100,1) -> 42.1 | AD49: =TRUNC(SUM(I46:I48))+TRUNC(SUM(N46:N48)) -> 2317
A50: 56900017016 | B50: 제 8호 | C50: L001010101000075 | D50: 노 무 비 | E50: 내선전공 | F50: 인 | G50: =일위노임!G23 -> 0.05 | H50: =합산자재!H43 -> 0 | I50: =IF(G50*H50<>0, TRUNC(G50*H50, 1), "") | J50: 0.05 | K50: =합산자재!I43 -> 270251 | L50: =IF(G50*K50<>0, TRUNC(G50*K50, 1), "") -> 13512.5 | M50: =합산자재!J43 -> 0 | N50: =IF(G50*M50<>0, TRUNC(G50*M50, 1), "") | O50: =IF((H50+K50+M50)=0, "", (H50+K50+M50)) -> 270251 | P50: =IF(SUM(I50,L50,N50)<>0,SUM(I50,L50,N50),"") -> 13512.5 | AE50: =L50 -> 13512.5
A51: A0300000000 | B51: 제 8호 | C51: RENT000000000006 | D51: [ 공 구 손 료 ] | E51: 노무비의 3 % | F51: 식 | G51: 1 | H51: =IF(TRUNC((AD52+AC52)/$AE$3,1)*$AE$3-AD52 <0, AC52, TRUNC((AD52+AC52)/$AE$3,1)*$AE$3-AD52) -> 405.3 | I51: =H51 -> 405.3 | J51: 1 | L51: =IF(G51*K51<>0, TRUNC(G51*K51, 1), "") | N51: =IF(G51*M51<>0, TRUNC(G51*M51, 1), "") | O51: =IF((H51+K51+M51)=0, "", (H51+K51+M51)) -> 405.3 | P51: =IF(SUM(I51,L51,N51)<>0,SUM(I51,L51,N51),"") -> 405.3
B52: 합계줄 | D52: ( 합 계 ) | I52: =TRUNC(SUM(I46:I51)) -> 2765 | L52: =TRUNC(SUM(L46:L51)) -> 13512 | N52: =TRUNC(SUM(N46:N51)) -> 0 | O52: =IF((H52+K52+M52)=0, "", (H52+K52+M52)) | P52: =IF(SUM(I52,L52,N52)<>0,SUM(I52,L52,N52),"") -> 16277 | AC52: =TRUNC(AE52*옵션!$B$36/100,1) -> 405.3 | AD52: =TRUNC(SUM(L46:L50)) -> 13512 | AE52: =TRUNC(SUM(AE46:AE51)) -> 13512
A54: 56959000009 | B54: 일목줄 | C54: E56959000009 | D54: [제 9호] 나사없는전선관 E31 [M]
A55: MMH99991002 | B55: 제 9호 | C55: 9999999991020002 | D55: 나사없는전선관 | E55: E31 | F55: M | G55: 1 | H55: =합산자재!H33 -> 3890 | I55: =IF(G55*H55<>0, TRUNC(G55*H55, 1), "") -> 3890 | J55: 1 | K55: =합산자재!I33 -> 0 | L55: =IF(G55*K55<>0, TRUNC(G55*K55, 1), "") | M55: =합산자재!J33 -> 0 | N55: =IF(G55*M55<>0, TRUNC(G55*M55, 1), "") | O55: =IF((H55+K55+M55)=0, "", (H55+K55+M55)) -> 3890 | P55: =IF(SUM(I55,L55,N55)<>0,SUM(I55,L55,N55),"") -> 3890 | AC55: =G55*H55 -> 3890
A56: MMH99991002 | B56: 제 9호 | C56: 9999999991020002 | D56: 나사없는전선관 | E56: E31 | F56: M | G56: 0.1 | H56: =합산자재!H33 -> 3890 | I56: =IF(G56*H56<>0, TRUNC(G56*H56, 1), "") -> 389 | J56: 0.1 | K56: =합산자재!I33 -> 0 | L56: =IF(G56*K56<>0, TRUNC(G56*K56, 1), "") | M56: =합산자재!J33 -> 0 | N56: =IF(G56*M56<>0, TRUNC(G56*M56, 1), "") | O56: =IF((H56+K56+M56)=0, "", (H56+K56+M56)) -> 3890 | P56: =IF(SUM(I56,L56,N56)<>0,SUM(I56,L56,N56),"") -> 389
A57: A0100000000 | B57: 제 9호 | C57: RENT000000000003 | D57: [ 소모 잡자재 ] | E57: 전선, 전선관의 2 % | F57: 식 | G57: 1 | H57: =IF(TRUNC((AD57+AC57)/$AD$3,1)*$AD$3-AD57 <0, AC57, TRUNC((AD57+AC57)/$AD$3,1)*$AD$3-AD57) -> 77.8 | I57: =H57 -> 77.8 | J57: 1 | L57: =IF(G57*K57<>0, TRUNC(G57*K57, 1), "") | N57: =IF(G57*M57<>0, TRUNC(G57*M57, 1), "") | O57: =IF((H57+K57+M57)=0, "", (H57+K57+M57)) -> 77.8 | P57: =IF(SUM(I57,L57,N57)<>0,SUM(I57,L57,N57),"") -> 77.8 | AC57: =TRUNC(TRUNC(SUM(AC54:AC56))*옵션!$B$33/100,1) -> 77.8 | AD57: =TRUNC(SUM(I54:I56))+TRUNC(SUM(N54:N56)) -> 4279
A58: 56900017016 | B58: 제 9호 | C58: L001010101000075 | D58: 노 무 비 | E58: 내선전공 | F58: 인 | G58: =일위노임!G26 -> 0.08 | H58: =합산자재!H43 -> 0 | I58: =IF(G58*H58<>0, TRUNC(G58*H58, 1), "") | J58: 0.08 | K58: =합산자재!I43 -> 270251 | L58: =IF(G58*K58<>0, TRUNC(G58*K58, 1), "") -> 21620 | M58: =합산자재!J43 -> 0 | N58: =IF(G58*M58<>0, TRUNC(G58*M58, 1), "") | O58: =IF((H58+K58+M58)=0, "", (H58+K58+M58)) -> 270251 | P58: =IF(SUM(I58,L58,N58)<>0,SUM(I58,L58,N58),"") -> 21620 | AE58: =L58 -> 21620
A59: A0300000000 | B59: 제 9호 | C59: RENT000000000006 | D59: [ 공 구 손 료 ] | E59: 노무비의 3 % | F59: 식 | G59: 1 | H59: =IF(TRUNC((AD60+AC60)/$AE$3,1)*$AE$3-AD60 <0, AC60, TRUNC((AD60+AC60)/$AE$3,1)*$AE$3-AD60) -> 648.6 | I59: =H59 -> 648.6 | J59: 1 | L59: =IF(G59*K59<>0, TRUNC(G59*K59, 1), "") | N59: =IF(G59*M59<>0, TRUNC(G59*M59, 1), "") | O59: =IF((H59+K59+M59)=0, "", (H59+K59+M59)) -> 648.6 | P59: =IF(SUM(I59,L59,N59)<>0,SUM(I59,L59,N59),"") -> 648.6
B60: 합계줄 | D60: ( 합 계 ) | I60: =TRUNC(SUM(I54:I59)) -> 5005 | L60: =TRUNC(SUM(L54:L59)) -> 21620 | N60: =TRUNC(SUM(N54:N59)) -> 0 | O60: =IF((H60+K60+M60)=0, "", (H60+K60+M60)) | P60: =IF(SUM(I60,L60,N60)<>0,SUM(I60,L60,N60),"") -> 26625 | AC60: =TRUNC(AE60*옵션!$B$36/100,1) -> 648.6 | AD60: =TRUNC(SUM(L54:L58)) -> 21620 | AE60: =TRUNC(SUM(AE54:AE59)) -> 21620
A62: 5975E877200 | B62: 일목줄 | C62: E59754877200 | D62: [제 10호] 관로구방수장치 D30 [조]
A63: 59754877200 | B63: 제 10호 | C63: 3912171220935649 | D63: 관로구방수장치 | E63: D30 | F63: 조 | G63: 1 | H63: =합산자재!H7 -> 12750 | I63: =IF(G63*H63<>0, TRUNC(G63*H63, 1), "") -> 12750 | J63: 1 | K63: =합산자재!I7 -> 0 | L63: =IF(G63*K63<>0, TRUNC(G63*K63, 1), "") | M63: =합산자재!J7 -> 0 | N63: =IF(G63*M63<>0, TRUNC(G63*M63, 1), "") | O63: =IF((H63+K63+M63)=0, "", (H63+K63+M63)) -> 12750 | P63: =IF(SUM(I63,L63,N63)<>0,SUM(I63,L63,N63),"") -> 12750
A64: 56900017076 | B64: 제 10호 | C64: L001010101000078 | D64: 노 무 비 | E64: 저압케이블전공 | F64: 인 | G64: =일위노임!G30 -> 0.024 | H64: =합산자재!H44 -> 0 | I64: =IF(G64*H64<>0, TRUNC(G64*H64, 1), "") | J64: 0.024 | K64: =합산자재!I44 -> 295784 | L64: =IF(G64*K64<>0, TRUNC(G64*K64, 1), "") -> 7098.8 | M64: =합산자재!J44 -> 0 | N64: =IF(G64*M64<>0, TRUNC(G64*M64, 1), "") | O64: =IF((H64+K64+M64)=0, "", (H64+K64+M64)) -> 295784 | P64: =IF(SUM(I64,L64,N64)<>0,SUM(I64,L64,N64),"") -> 7098.8 | AE64: =L64 -> 7098.8
A65: 56900017041 | B65: 제 10호 | C65: L001010101000002 | D65: 노 무 비 | E65: 보통인부 | F65: 인 | G65: =일위노임!G31 -> 0.12 | H65: =합산자재!H46 -> 0 | I65: =IF(G65*H65<>0, TRUNC(G65*H65, 1), "") | J65: 0.12 | K65: =합산자재!I46 -> 165545 | L65: =IF(G65*K65<>0, TRUNC(G65*K65, 1), "") -> 19865.4 | M65: =합산자재!J46 -> 0 | N65: =IF(G65*M65<>0, TRUNC(G65*M65, 1), "") | O65: =IF((H65+K65+M65)=0, "", (H65+K65+M65)) -> 165545 | P65: =IF(SUM(I65,L65,N65)<>0,SUM(I65,L65,N65),"") -> 19865.4 | AE65: =L65 -> 19865.4
A66: A0300000000 | B66: 제 10호 | C66: RENT000000000006 | D66: [ 공 구 손 료 ] | E66: 노무비의 3 % | F66: 식 | G66: 1 | H66: =IF(TRUNC((AD67+AC67)/$AE$3,1)*$AE$3-AD67 <0, AC67, TRUNC((AD67+AC67)/$AE$3,1)*$AE$3-AD67) -> 808.9 | I66: =H66 -> 808.9 | J66: 1 | L66: =IF(G66*K66<>0, TRUNC(G66*K66, 1), "") | N66: =IF(G66*M66<>0, TRUNC(G66*M66, 1), "") | O66: =IF((H66+K66+M66)=0, "", (H66+K66+M66)) -> 808.9 | P66: =IF(SUM(I66,L66,N66)<>0,SUM(I66,L66,N66),"") -> 808.9
B67: 합계줄 | D67: ( 합 계 ) | I67: =TRUNC(SUM(I62:I66)) -> 13558 | L67: =TRUNC(SUM(L62:L66)) -> 26964 | N67: =TRUNC(SUM(N62:N66)) -> 0 | O67: =IF((H67+K67+M67)=0, "", (H67+K67+M67)) | P67: =IF(SUM(I67,L67,N67)<>0,SUM(I67,L67,N67),"") -> 40522 | AC67: =TRUNC(AE67*옵션!$B$36/100,1) -> 808.9 | AD67: =TRUNC(SUM(L62:L65)) -> 26964 | AE67: =TRUNC(SUM(AE62:AE66)) -> 26964
B68: 일목줄
A69: 56951000000 | B69: 일목줄 | C69: EAU000000000 | D69: [제 11호] 새들(벽체) 16C [개소]
A70: MM300001801 | B70: 제 11호 | C70: 3913170810037051 | D70: 강재전선관용 부품 | E70: 새들 (KS) 16c | F70: EA | G70: 1 | H70: =합산자재!H17 -> 88 | I70: =IF(G70*H70<>0, TRUNC(G70*H70, 1), "") -> 88 | J70: 1 | K70: =합산자재!I17 -> 0 | L70: =IF(G70*K70<>0, TRUNC(G70*K70, 1), "") | M70: =합산자재!J17 -> 0 | N70: =IF(G70*M70<>0, TRUNC(G70*M70, 1), "") | O70: =IF((H70+K70+M70)=0, "", (H70+K70+M70)) -> 88 | P70: =IF(SUM(I70,L70,N70)<>0,SUM(I70,L70,N70),"") -> 88
A71: 56900017016 | B71: 제 11호 | C71: L001010101000075 | D71: 노 무 비 | E71: 내선전공 | F71: 인 | G71: =일위노임!G34 -> 0.018 | H71: =합산자재!H43 -> 0 | I71: =IF(G71*H71<>0, TRUNC(G71*H71, 1), "") | J71: 0.018 | K71: =합산자재!I43 -> 270251 | L71: =IF(G71*K71<>0, TRUNC(G71*K71, 1), "") -> 4864.5 | M71: =합산자재!J43 -> 0 | N71: =IF(G71*M71<>0, TRUNC(G71*M71, 1), "") | O71: =IF((H71+K71+M71)=0, "", (H71+K71+M71)) -> 270251 | P71: =IF(SUM(I71,L71,N71)<>0,SUM(I71,L71,N71),"") -> 4864.5 | AE71: =L71 -> 4864.5
A72: A0300000000 | B72: 제 11호 | C72: RENT000000000006 | D72: [ 공 구 손 료 ] | E72: 노무비의 3 % | F72: 식 | G72: 1 | H72: =IF(TRUNC((AD73+AC73)/$AE$3,1)*$AE$3-AD73 <0, AC73, TRUNC((AD73+AC73)/$AE$3,1)*$AE$3-AD73) -> 145.9 | I72: =H72 -> 145.9 | J72: 1 | L72: =IF(G72*K72<>0, TRUNC(G72*K72, 1), "") | N72: =IF(G72*M72<>0, TRUNC(G72*M72, 1), "") | O72: =IF((H72+K72+M72)=0, "", (H72+K72+M72)) -> 145.9 | P72: =IF(SUM(I72,L72,N72)<>0,SUM(I72,L72,N72),"") -> 145.9
B73: 합계줄 | D73: ( 합 계 ) | I73: =TRUNC(SUM(I69:I72)) -> 233 | L73: =TRUNC(SUM(L69:L72)) -> 4864 | N73: =TRUNC(SUM(N69:N72)) -> 0 | O73: =IF((H73+K73+M73)=0, "", (H73+K73+M73)) | P73: =IF(SUM(I73,L73,N73)<>0,SUM(I73,L73,N73),"") -> 5097 | AC73: =TRUNC(AE73*옵션!$B$36/100,1) -> 145.9 | AD73: =TRUNC(SUM(L69:L71)) -> 4864 | AE73: =TRUNC(SUM(AE69:AE72)) -> 4864
A75: 56951000002 | B75: 일목줄 | C75: EAU000000002 | D75: [제 12호] 새들(벽체) 28C [개소]
A76: MM300001803 | B76: 제 12호 | C76: 3913170810037053 | D76: 강재전선관용 부품 | E76: 새들 (KS) 28c | F76: EA | G76: 1 | H76: =합산자재!H18 -> 124 | I76: =IF(G76*H76<>0, TRUNC(G76*H76, 1), "") -> 124 | J76: 1 | K76: =합산자재!I18 -> 0 | L76: =IF(G76*K76<>0, TRUNC(G76*K76, 1), "") | M76: =합산자재!J18 -> 0 | N76: =IF(G76*M76<>0, TRUNC(G76*M76, 1), "") | O76: =IF((H76+K76+M76)=0, "", (H76+K76+M76)) -> 124 | P76: =IF(SUM(I76,L76,N76)<>0,SUM(I76,L76,N76),"") -> 124
A77: 56900017016 | B77: 제 12호 | C77: L001010101000075 | D77: 노 무 비 | E77: 내선전공 | F77: 인 | G77: =일위노임!G37 -> 0.018 | H77: =합산자재!H43 -> 0 | I77: =IF(G77*H77<>0, TRUNC(G77*H77, 1), "") | J77: 0.018 | K77: =합산자재!I43 -> 270251 | L77: =IF(G77*K77<>0, TRUNC(G77*K77, 1), "") -> 4864.5 | M77: =합산자재!J43 -> 0 | N77: =IF(G77*M77<>0, TRUNC(G77*M77, 1), "") | O77: =IF((H77+K77+M77)=0, "", (H77+K77+M77)) -> 270251 | P77: =IF(SUM(I77,L77,N77)<>0,SUM(I77,L77,N77),"") -> 4864.5 | AE77: =L77 -> 4864.5
A78: A0300000000 | B78: 제 12호 | C78: RENT000000000006 | D78: [ 공 구 손 료 ] | E78: 노무비의 3 % | F78: 식 | G78: 1 | H78: =IF(TRUNC((AD79+AC79)/$AE$3,1)*$AE$3-AD79 <0, AC79, TRUNC((AD79+AC79)/$AE$3,1)*$AE$3-AD79) -> 145.9 | I78: =H78 -> 145.9 | J78: 1 | L78: =IF(G78*K78<>0, TRUNC(G78*K78, 1), "") | N78: =IF(G78*M78<>0, TRUNC(G78*M78, 1), "") | O78: =IF((H78+K78+M78)=0, "", (H78+K78+M78)) -> 145.9 | P78: =IF(SUM(I78,L78,N78)<>0,SUM(I78,L78,N78),"") -> 145.9
B79: 합계줄 | D79: ( 합 계 ) | I79: =TRUNC(SUM(I75:I78)) -> 269 | L79: =TRUNC(SUM(L75:L78)) -> 4864 | N79: =TRUNC(SUM(N75:N78)) -> 0 | O79: =IF((H79+K79+M79)=0, "", (H79+K79+M79)) | P79: =IF(SUM(I79,L79,N79)<>0,SUM(I79,L79,N79),"") -> 5133 | AC79: =TRUNC(AE79*옵션!$B$36/100,1) -> 145.9 | AD79: =TRUNC(SUM(L75:L77)) -> 4864 | AE79: =TRUNC(SUM(AE75:AE78)) -> 4864
A81: 56951000200 | B81: 일목줄 | C81: EA1000000200 | D81: [제 13호] 파이프행가 16 C [개소]
A82: 59759017111 | B82: 제 13호 | C82: 3913170810036357 | D82: 강재전선관용 부품 | E82: 파이프행거, 16 C | F82: 개 | G82: 1 | H82: =합산자재!H15 -> 324 | I82: =IF(G82*H82<>0, TRUNC(G82*H82, 1), "") -> 324 | J82: 1 | K82: =합산자재!I15 -> 0 | L82: =IF(G82*K82<>0, TRUNC(G82*K82, 1), "") | M82: =합산자재!J15 -> 0 | N82: =IF(G82*M82<>0, TRUNC(G82*M82, 1), "") | O82: =IF((H82+K82+M82)=0, "", (H82+K82+M82)) -> 324 | P82: =IF(SUM(I82,L82,N82)<>0,SUM(I82,L82,N82),"") -> 324
A83: 53060327011 | B83: 제 13호 | C83: 3116169820135160 | D83: 행거볼트 | E83: ∮9×1000㎜ | F83: 개 | G83: 1 | H83: =합산자재!H20 -> 1017 | I83: =IF(G83*H83<>0, TRUNC(G83*H83, 1), "") -> 1017 | J83: 1 | K83: =합산자재!I20 -> 0 | L83: =IF(G83*K83<>0, TRUNC(G83*K83, 1), "") | M83: =합산자재!J20 -> 0 | N83: =IF(G83*M83<>0, TRUNC(G83*M83, 1), "") | O83: =IF((H83+K83+M83)=0, "", (H83+K83+M83)) -> 1017 | P83: =IF(SUM(I83,L83,N83)<>0,SUM(I83,L83,N83),"") -> 1017
A84: 53060807001 | B84: 제 13호 | C84: 3116210220135769 | D84: 스트롱앵커 | E84: 3/8 | F84: 개 | G84: 1 | H84: =합산자재!H19 -> 100 | I84: =IF(G84*H84<>0, TRUNC(G84*H84, 1), "") -> 100 | J84: 1 | K84: =합산자재!I19 -> 0 | L84: =IF(G84*K84<>0, TRUNC(G84*K84, 1), "") | M84: =합산자재!J19 -> 0 | N84: =IF(G84*M84<>0, TRUNC(G84*M84, 1), "") | O84: =IF((H84+K84+M84)=0, "", (H84+K84+M84)) -> 100 | P84: =IF(SUM(I84,L84,N84)<>0,SUM(I84,L84,N84),"") -> 100
A85: 53100028501 | B85: 제 13호 | C85: 3116172710023970 | D85: 6각너트 | E85: 3/8,M10 | F85: EA | G85: 2 | H85: =합산자재!H30 -> 25 | I85: =IF(G85*H85<>0, TRUNC(G85*H85, 1), "") -> 50 | J85: 2 | K85: =합산자재!I30 -> 0 | L85: =IF(G85*K85<>0, TRUNC(G85*K85, 1), "") | M85: =합산자재!J30 -> 0 | N85: =IF(G85*M85<>0, TRUNC(G85*M85, 1), "") | O85: =IF((H85+K85+M85)=0, "", (H85+K85+M85)) -> 25 | P85: =IF(SUM(I85,L85,N85)<>0,SUM(I85,L85,N85),"") -> 50
A86: 52100327001 | B86: 제 13호 | C86: 3116181120136195 | D86: 스프링와샤 | E86: D10 | F86: EA | G86: 2 | H86: =합산자재!H31 -> 9 | I86: =IF(G86*H86<>0, TRUNC(G86*H86, 1), "") -> 18 | J86: 2 | K86: =합산자재!I31 -> 0 | L86: =IF(G86*K86<>0, TRUNC(G86*K86, 1), "") | M86: =합산자재!J31 -> 0 | N86: =IF(G86*M86<>0, TRUNC(G86*M86, 1), "") | O86: =IF((H86+K86+M86)=0, "", (H86+K86+M86)) -> 9 | P86: =IF(SUM(I86,L86,N86)<>0,SUM(I86,L86,N86),"") -> 18
A87: 56900017016 | B87: 제 13호 | C87: L001010101000075 | D87: 노 무 비 | E87: 내선전공 | F87: 인 | G87: =일위노임!G40 -> 0.054 | H87: =합산자재!H43 -> 0 | I87: =IF(G87*H87<>0, TRUNC(G87*H87, 1), "") | J87: 0.054 | K87: =합산자재!I43 -> 270251 | L87: =IF(G87*K87<>0, TRUNC(G87*K87, 1), "") -> 14593.5 | M87: =합산자재!J43 -> 0 | N87: =IF(G87*M87<>0, TRUNC(G87*M87, 1), "") | O87: =IF((H87+K87+M87)=0, "", (H87+K87+M87)) -> 270251 | P87: =IF(SUM(I87,L87,N87)<>0,SUM(I87,L87,N87),"") -> 14593.5 | AE87: =L87 -> 14593.5
A88: A0300000000 | B88: 제 13호 | C88: RENT000000000006 | D88: [ 공 구 손 료 ] | E88: 노무비의 3 % | F88: 식 | G88: 1 | H88: =IF(TRUNC((AD89+AC89)/$AE$3,1)*$AE$3-AD89 <0, AC89, TRUNC((AD89+AC89)/$AE$3,1)*$AE$3-AD89) -> 437.7 | I88: =H88 -> 437.7 | J88: 1 | L88: =IF(G88*K88<>0, TRUNC(G88*K88, 1), "") | N88: =IF(G88*M88<>0, TRUNC(G88*M88, 1), "") | O88: =IF((H88+K88+M88)=0, "", (H88+K88+M88)) -> 437.7 | P88: =IF(SUM(I88,L88,N88)<>0,SUM(I88,L88,N88),"") -> 437.7
B89: 합계줄 | D89: ( 합 계 ) | I89: =TRUNC(SUM(I81:I88)) -> 1946 | L89: =TRUNC(SUM(L81:L88)) -> 14593 | N89: =TRUNC(SUM(N81:N88)) -> 0 | O89: =IF((H89+K89+M89)=0, "", (H89+K89+M89)) | P89: =IF(SUM(I89,L89,N89)<>0,SUM(I89,L89,N89),"") -> 16539 | AC89: =TRUNC(AE89*옵션!$B$36/100,1) -> 437.7 | AD89: =TRUNC(SUM(L81:L87)) -> 14593 | AE89: =TRUNC(SUM(AE81:AE88)) -> 14593
A91: 56951000202 | B91: 일목줄 | C91: EA1000000202 | D91: [제 14호] 파이프행가 28 C [개소]
A92: 59759017113 | B92: 제 14호 | C92: 3913170810036359 | D92: 강재전선관용 부품 | E92: 파이프행거, 28 C | F92: 개 | G92: 1 | H92: =합산자재!H16 -> 353 | I92: =IF(G92*H92<>0, TRUNC(G92*H92, 1), "") -> 353 | J92: 1 | K92: =합산자재!I16 -> 0 | L92: =IF(G92*K92<>0, TRUNC(G92*K92, 1), "") | M92: =합산자재!J16 -> 0 | N92: =IF(G92*M92<>0, TRUNC(G92*M92, 1), "") | O92: =IF((H92+K92+M92)=0, "", (H92+K92+M92)) -> 353 | P92: =IF(SUM(I92,L92,N92)<>0,SUM(I92,L92,N92),"") -> 353
A93: 53060327011 | B93: 제 14호 | C93: 3116169820135160 | D93: 행거볼트 | E93: ∮9×1000㎜ | F93: 개 | G93: 1 | H93: =합산자재!H20 -> 1017 | I93: =IF(G93*H93<>0, TRUNC(G93*H93, 1), "") -> 1017 | J93: 1 | K93: =합산자재!I20 -> 0 | L93: =IF(G93*K93<>0, TRUNC(G93*K93, 1), "") | M93: =합산자재!J20 -> 0 | N93: =IF(G93*M93<>0, TRUNC(G93*M93, 1), "") | O93: =IF((H93+K93+M93)=0, "", (H93+K93+M93)) -> 1017 | P93: =IF(SUM(I93,L93,N93)<>0,SUM(I93,L93,N93),"") -> 1017
A94: 53060807001 | B94: 제 14호 | C94: 3116210220135769 | D94: 스트롱앵커 | E94: 3/8 | F94: 개 | G94: 1 | H94: =합산자재!H19 -> 100 | I94: =IF(G94*H94<>0, TRUNC(G94*H94, 1), "") -> 100 | J94: 1 | K94: =합산자재!I19 -> 0 | L94: =IF(G94*K94<>0, TRUNC(G94*K94, 1), "") | M94: =합산자재!J19 -> 0 | N94: =IF(G94*M94<>0, TRUNC(G94*M94, 1), "") | O94: =IF((H94+K94+M94)=0, "", (H94+K94+M94)) -> 100 | P94: =IF(SUM(I94,L94,N94)<>0,SUM(I94,L94,N94),"") -> 100
A95: 53100028501 | B95: 제 14호 | C95: 3116172710023970 | D95: 6각너트 | E95: 3/8,M10 | F95: EA | G95: 2 | H95: =합산자재!H30 -> 25 | I95: =IF(G95*H95<>0, TRUNC(G95*H95, 1), "") -> 50 | J95: 2 | K95: =합산자재!I30 -> 0 | L95: =IF(G95*K95<>0, TRUNC(G95*K95, 1), "") | M95: =합산자재!J30 -> 0 | N95: =IF(G95*M95<>0, TRUNC(G95*M95, 1), "") | O95: =IF((H95+K95+M95)=0, "", (H95+K95+M95)) -> 25 | P95: =IF(SUM(I95,L95,N95)<>0,SUM(I95,L95,N95),"") -> 50
A96: 52100327001 | B96: 제 14호 | C96: 3116181120136195 | D96: 스프링와샤 | E96: D10 | F96: EA | G96: 2 | H96: =합산자재!H31 -> 9 | I96: =IF(G96*H96<>0, TRUNC(G96*H96, 1), "") -> 18 | J96: 2 | K96: =합산자재!I31 -> 0 | L96: =IF(G96*K96<>0, TRUNC(G96*K96, 1), "") | M96: =합산자재!J31 -> 0 | N96: =IF(G96*M96<>0, TRUNC(G96*M96, 1), "") | O96: =IF((H96+K96+M96)=0, "", (H96+K96+M96)) -> 9 | P96: =IF(SUM(I96,L96,N96)<>0,SUM(I96,L96,N96),"") -> 18
A97: 56900017016 | B97: 제 14호 | C97: L001010101000075 | D97: 노 무 비 | E97: 내선전공 | F97: 인 | G97: =일위노임!G43 -> 0.054 | H97: =합산자재!H43 -> 0 | I97: =IF(G97*H97<>0, TRUNC(G97*H97, 1), "") | J97: 0.054 | K97: =합산자재!I43 -> 270251 | L97: =IF(G97*K97<>0, TRUNC(G97*K97, 1), "") -> 14593.5 | M97: =합산자재!J43 -> 0 | N97: =IF(G97*M97<>0, TRUNC(G97*M97, 1), "") | O97: =IF((H97+K97+M97)=0, "", (H97+K97+M97)) -> 270251 | P97: =IF(SUM(I97,L97,N97)<>0,SUM(I97,L97,N97),"") -> 14593.5 | AE97: =L97 -> 14593.5
A98: A0300000000 | B98: 제 14호 | C98: RENT000000000006 | D98: [ 공 구 손 료 ] | E98: 노무비의 3 % | F98: 식 | G98: 1 | H98: =IF(TRUNC((AD99+AC99)/$AE$3,1)*$AE$3-AD99 <0, AC99, TRUNC((AD99+AC99)/$AE$3,1)*$AE$3-AD99) -> 437.7 | I98: =H98 -> 437.7 | J98: 1 | L98: =IF(G98*K98<>0, TRUNC(G98*K98, 1), "") | N98: =IF(G98*M98<>0, TRUNC(G98*M98, 1), "") | O98: =IF((H98+K98+M98)=0, "", (H98+K98+M98)) -> 437.7 | P98: =IF(SUM(I98,L98,N98)<>0,SUM(I98,L98,N98),"") -> 437.7
B99: 합계줄 | D99: ( 합 계 ) | I99: =TRUNC(SUM(I91:I98)) -> 1975 | L99: =TRUNC(SUM(L91:L98)) -> 14593 | N99: =TRUNC(SUM(N91:N98)) -> 0 | O99: =IF((H99+K99+M99)=0, "", (H99+K99+M99)) | P99: =IF(SUM(I99,L99,N99)<>0,SUM(I99,L99,N99),"") -> 16568 | AC99: =TRUNC(AE99*옵션!$B$36/100,1) -> 437.7 | AD99: =TRUNC(SUM(L91:L97)) -> 14593 | AE99: =TRUNC(SUM(AE91:AE98)) -> 14593
A101: 56951001307 | B101: 일목줄 | C101: EA1000001307 | D101: [제 15호] 벽관통 구멍 Φ50-벽두께 25cm [개소]
A102: 56900017118 | B102: 제 15호 | C102: L001010101000003 | D102: 노 무 비 | E102: 특별인부 | F102: 인 | G102: =일위노임!G46 -> 0.42 | H102: =합산자재!H47 -> 0 | I102: =IF(G102*H102<>0, TRUNC(G102*H102, 1), "") | J102: 0.42 | K102: =합산자재!I47 -> 214222 | L102: =IF(G102*K102<>0, TRUNC(G102*K102, 1), "") -> 89973.2 | M102: =합산자재!J47 -> 0 | N102: =IF(G102*M102<>0, TRUNC(G102*M102, 1), "") | O102: =IF((H102+K102+M102)=0, "", (H102+K102+M102)) -> 214222 | P102: =IF(SUM(I102,L102,N102)<>0,SUM(I102,L102,N102),"") -> 89973.2 | AE102: =L102 -> 89973.2
A103: A0300000000 | B103: 제 15호 | C103: RENT000000000006 | D103: [ 공 구 손 료 ] | E103: 노무비의 3 % | F103: 식 | G103: 1 | H103: =IF(TRUNC((AD104+AC104)/$AE$3,1)*$AE$3-AD104 <0, AC104, TRUNC((AD104+AC104)/$AE$3,1)*$AE$3-AD104) -> 2699.1 | I103: =H103 -> 2699.1 | J103: 1 | L103: =IF(G103*K103<>0, TRUNC(G103*K103, 1), "") | N103: =IF(G103*M103<>0, TRUNC(G103*M103, 1), "") | O103: =IF((H103+K103+M103)=0, "", (H103+K103+M103)) -> 2699.1 | P103: =IF(SUM(I103,L103,N103)<>0,SUM(I103,L103,N103),"") -> 2699.1
B104: 합계줄 | D104: ( 합 계 ) | I104: =TRUNC(SUM(I101:I103)) -> 2699 | L104: =TRUNC(SUM(L101:L103)) -> 89973 | N104: =TRUNC(SUM(N101:N103)) -> 0 | O104: =IF((H104+K104+M104)=0, "", (H104+K104+M104)) | P104: =IF(SUM(I104,L104,N104)<>0,SUM(I104,L104,N104),"") -> 92672 | AC104: =TRUNC(AE104*옵션!$B$36/100,1) -> 2699.1 | AD104: =TRUNC(SUM(L101:L102)) -> 89973 | AE104: =TRUNC(SUM(AE101:AE103)) -> 89973
A106: 5975D767011 | B106: 일목줄 | C106: E59753767011 | D106: [제 16호] 아우트렛박스 8각 54㎜ [개]
A107: 59753767011 | B107: 제 16호 | C107: 3912130810035750 | D107: 아우트렛박스 | E107: 8각 54㎜ | F107: 개 | G107: 1 | H107: =합산자재!H8 -> 617 | I107: =IF(G107*H107<>0, TRUNC(G107*H107, 1), "") -> 617 | J107: 1 | K107: =합산자재!I8 -> 0 | L107: =IF(G107*K107<>0, TRUNC(G107*K107, 1), "") | M107: =합산자재!J8 -> 0 | N107: =IF(G107*M107<>0, TRUNC(G107*M107, 1), "") | O107: =IF((H107+K107+M107)=0, "", (H107+K107+M107)) -> 617 | P107: =IF(SUM(I107,L107,N107)<>0,SUM(I107,L107,N107),"") -> 617
A108: 56900017016 | B108: 제 16호 | C108: L001010101000075 | D108: 노 무 비 | E108: 내선전공 | F108: 인 | G108: =일위노임!G49 -> 0.12 | H108: =합산자재!H43 -> 0 | I108: =IF(G108*H108<>0, TRUNC(G108*H108, 1), "") | J108: 0.12 | K108: =합산자재!I43 -> 270251 | L108: =IF(G108*K108<>0, TRUNC(G108*K108, 1), "") -> 32430.1 | M108: =합산자재!J43 -> 0 | N108: =IF(G108*M108<>0, TRUNC(G108*M108, 1), "") | O108: =IF((H108+K108+M108)=0, "", (H108+K108+M108)) -> 270251 | P108: =IF(SUM(I108,L108,N108)<>0,SUM(I108,L108,N108),"") -> 32430.1 | AE108: =L108 -> 32430.1
A109: A0300000000 | B109: 제 16호 | C109: RENT000000000006 | D109: [ 공 구 손 료 ] | E109: 노무비의 3 % | F109: 식 | G109: 1 | H109: =IF(TRUNC((AD110+AC110)/$AE$3,1)*$AE$3-AD110 <0, AC110, TRUNC((AD110+AC110)/$AE$3,1)*$AE$3-AD110) -> 972.9 | I109: =H109 -> 972.9 | J109: 1 | L109: =IF(G109*K109<>0, TRUNC(G109*K109, 1), "") | N109: =IF(G109*M109<>0, TRUNC(G109*M109, 1), "") | O109: =IF((H109+K109+M109)=0, "", (H109+K109+M109)) -> 972.9 | P109: =IF(SUM(I109,L109,N109)<>0,SUM(I109,L109,N109),"") -> 972.9
B110: 합계줄 | D110: ( 합 계 ) | I110: =TRUNC(SUM(I106:I109)) -> 1589 | L110: =TRUNC(SUM(L106:L109)) -> 32430 | N110: =TRUNC(SUM(N106:N109)) -> 0 | O110: =IF((H110+K110+M110)=0, "", (H110+K110+M110)) | P110: =IF(SUM(I110,L110,N110)<>0,SUM(I110,L110,N110),"") -> 34019 | AC110: =TRUNC(AE110*옵션!$B$36/100,1) -> 972.9 | AD110: =TRUNC(SUM(L106:L108)) -> 32430 | AE110: =TRUNC(SUM(AE106:AE109)) -> 32430
A112: 56959000002 | B112: 일목줄 | C112: E56959000002 | D112: [제 17호] 아우트렛박스 중형4각 54㎜(벽체) [개]
A113: MMD88900100 | B113: 제 17호 | C113: 9888811111000118 | D113: 아우트렛박스 | E113: 중형4각 54㎜(벽체) | F113: 개 | G113: 1 | H113: =합산자재!H9 -> 920 | I113: =IF(G113*H113<>0, TRUNC(G113*H113, 1), "") -> 920 | J113: 1 | K113: =합산자재!I9 -> 0 | L113: =IF(G113*K113<>0, TRUNC(G113*K113, 1), "") | M113: =합산자재!J9 -> 0 | N113: =IF(G113*M113<>0, TRUNC(G113*M113, 1), "") | O113: =IF((H113+K113+M113)=0, "", (H113+K113+M113)) -> 920 | P113: =IF(SUM(I113,L113,N113)<>0,SUM(I113,L113,N113),"") -> 920
A114: 56900017016 | B114: 제 17호 | C114: L001010101000075 | D114: 노 무 비 | E114: 내선전공 | F114: 인 | G114: =일위노임!G52 -> 0.2 | H114: =합산자재!H43 -> 0 | I114: =IF(G114*H114<>0, TRUNC(G114*H114, 1), "") | J114: 0.2 | K114: =합산자재!I43 -> 270251 | L114: =IF(G114*K114<>0, TRUNC(G114*K114, 1), "") -> 54050.2 | M114: =합산자재!J43 -> 0 | N114: =IF(G114*M114<>0, TRUNC(G114*M114, 1), "") | O114: =IF((H114+K114+M114)=0, "", (H114+K114+M114)) -> 270251 | P114: =IF(SUM(I114,L114,N114)<>0,SUM(I114,L114,N114),"") -> 54050.2 | AE114: =L114 -> 54050.2
A115: A0300000000 | B115: 제 17호 | C115: RENT000000000006 | D115: [ 공 구 손 료 ] | E115: 노무비의 3 % | F115: 식 | G115: 1 | H115: =IF(TRUNC((AD116+AC116)/$AE$3,1)*$AE$3-AD116 <0, AC116, TRUNC((AD116+AC116)/$AE$3,1)*$AE$3-AD116) -> 1621.5 | I115: =H115 -> 1621.5 | J115: 1 | L115: =IF(G115*K115<>0, TRUNC(G115*K115, 1), "") | N115: =IF(G115*M115<>0, TRUNC(G115*M115, 1), "") | O115: =IF((H115+K115+M115)=0, "", (H115+K115+M115)) -> 1621.5 | P115: =IF(SUM(I115,L115,N115)<>0,SUM(I115,L115,N115),"") -> 1621.5
...

Sheet 일위노임
B1: 107 | D1: [ CAV기반 미래모빌리티 자율주행 평가플랫폼 구축 증축공사 ] - 일위노임 산출근거(202401-노임) | AA1: 내선전공 | AB1: 저압케이블전공 | AC1: 배전전공 | AD1: 보통인부 | AE1: 특별인부
A2: 번호 | B2: 공종코드 | C2: 코드 | D2: 명 칭 | E2: 규 격 | F2: 단위 | G2: 수량 | K2: 코드 | L2: 공량산출 | P2: 단 위 단 가 산 출 | S2: 품셈근거 | T2: 비고
G3: 결정수량 | H3: 할증 | I3: 산출수량 | J3: 재할% | L3: 명칭 | M3: 품셈 | N3: 할증% | O3: 공량 | P3: 단가 | Q3: 단위단가 | R3: 단위계
B4: 공종줄 | D4: [ 제 1호 ] 인력터파기 보통토사0-1m [㎥_]
B5: 800 | C5: 391115ZZ701Z0003 | D5: 품셈 산출근거 | E5: 인력터파기 보통토사 0-1M | F5: 식 | G5: 1 | H5: =IF(I5<>0, G5-I5, "") -> 0 | I5: 1 | K5: 56900017041 | L5: 보통인부 | M5: 0.2 | N5: 100 | O5: =IF(I5*M5=0, "", I5*M5*(N5/100)) -> 0.2 | Q5: =TRUNC(P5*M5*N5/100) -> 0 | S5: 토목3-1-2 | AD5: =O5 -> 0.2
B6: 800 | C6: L001010101000002 | D6: 노 무 비 | E6: 보통인부 | F6: 인 | G6: =IF(H6*I6/100+0.000005 <1, TRUNC(H6*I6/100+0.000005, 옵션!$E$13), TRUNC(H6*I6/100+0.000005, 옵션!$E$13)) -> 0.2 | H6: =옵션!$B$13 -> 100 | I6: =SUM(AD5:AD5) -> 0.2 | O6: =IF(I6*M6=0, "", I6*M6*(N6/100)) | Q6: =TRUNC(P6*M6*N6/100) -> 0 | Z6: 노임계 | AD6: =SUM(AD5:AD5) -> 0.2
B7: 공종줄 | D7: [ 제 2호 ] 인력되메우기 보통토사0-1m [㎥_]
B8: 800 | C8: 391115ZZ701Z0002 | D8: 품셈 산출근거 | E8: 인력되메우기 보통토사 0-1M | F8: 식 | G8: 1 | H8: =IF(I8<>0, G8-I8, "") -> 0 | I8: 1 | K8: 56900017041 | L8: 보통인부 | M8: 0.11 | N8: 100 | O8: =IF(I8*M8=0, "", I8*M8*(N8/100)) -> 0.11 | Q8: =TRUNC(P8*M8*N8/100) -> 0 | S8: 토목3-2-1 | AD8: =O8 -> 0.11
B9: 800 | C9: L001010101000002 | D9: 노 무 비 | E9: 보통인부 | F9: 인 | G9: =IF(H9*I9/100+0.000005 <1, TRUNC(H9*I9/100+0.000005, 옵션!$E$13), TRUNC(H9*I9/100+0.000005, 옵션!$E$13)) -> 0.11 | H9: =옵션!$B$13 -> 100 | I9: =SUM(AD8:AD8) -> 0.11 | O9: =IF(I9*M9=0, "", I9*M9*(N9/100)) | Q9: =TRUNC(P9*M9*N9/100) -> 0 | Z9: 노임계 | AD9: =SUM(AD8:AD8) -> 0.11
B10: 공종줄 | D10: [ 제 5호 ] 지중선용 가선철물(통신) 케이블표지시트, 0.15x150 [m]
B11: 800 | C11: 3912219529175621 | D11: 지중선용 가선철물(통신) | E11: 케이블표지시트, 0.15x150 | F11: M | G11: 1 | H11: =IF(I11<>0, G11-I11, "") -> 0 | I11: 1 | K11: 56900017041 | L11: 보통인부 | M11: 0.0013 | N11: 100 | O11: =IF(I11*M11=0, "", I11*M11*(N11/100)) -> 0.0013 | Q11: =TRUNC(P11*M11*N11/100) -> 0 | S11: 통신2-1-6 | AD11: =O11 -> 0.0013
B12: 800 | C12: L001010101000002 | D12: 노 무 비 | E12: 보통인부 | F12: 인 | G12: =IF(H12*I12/100+0.000005 <1, TRUNC(H12*I12/100+0.000005, 옵션!$E$13), TRUNC(H12*I12/100+0.000005, 옵션!$E$13)) -> 0.0013 | H12: =옵션!$B$13 -> 100 | I12: =SUM(AD11:AD11) -> 0.0013 | O12: =IF(I12*M12=0, "", I12*M12*(N12/100)) | Q12: =TRUNC(P12*M12*N12/100) -> 0 | Z12: 노임계 | AD12: =SUM(AD11:AD11) -> 0.0013
B13: 공종줄 | D13: [ 제 6호 ] 파상형 폴리에틸렌 전선관 30㎜ [M.]
B14: 800 | C14: 3913170610035631 | D14: 파상형 폴리에틸렌 전선관 | E14: 30㎜ | F14: M | G14: 1 | H14: =IF(I14<>0, G14-I14, "") -> 0 | I14: 1 | K14: 56900017031 | L14: 배전전공 | M14: 0.006 | N14: 100 | O14: =IF(I14*M14=0, "", I14*M14*(N14/100)) -> 0.006 | Q14: =TRUNC(P14*M14*N14/100) -> 0 | S14: 전기4-31 | AC14: =O14 -> 0.006
B15: 800 | C15: 3913170610035631 | G15: 1 | H15: =IF(I15<>0, G15-I15, "") -> 0 | I15: 1 | K15: 56900017041 | L15: 보통인부 | M15: 0.014 | N15: 100 | O15: =IF(I15*M15=0, "", I15*M15*(N15/100)) -> 0.014 | Q15: =TRUNC(P15*M15*N15/100) -> 0 | S15: 전기4-31 | AD15: =O15 -> 0.014
B16: 800 | C16: L001010101000081 | D16: 노 무 비 | E16: 배전전공 | F16: 인 | G16: =IF(H16*I16/100+0.000005 <1, TRUNC(H16*I16/100+0.000005, 옵션!$E$13), TRUNC(H16*I16/100+0.000005, 옵션!$E$13)) -> 0.006 | H16: =옵션!$B$13 -> 100 | I16: =SUM(AC14:AC15) -> 0.006 | O16: =IF(I16*M16=0, "", I16*M16*(N16/100)) | Q16: =TRUNC(P16*M16*N16/100) -> 0 | Z16: 노임계 | AC16: =SUM(AC14:AC15) -> 0.006 | AD16: =SUM(AD14:AD15) -> 0.014
B17: 800 | C17: L001010101000002 | D17: 노 무 비 | E17: 보통인부 | F17: 인 | G17: =IF(H17*I17/100+0.000005 <1, TRUNC(H17*I17/100+0.000005, 옵션!$E$13), TRUNC(H17*I17/100+0.000005, 옵션!$E$13)) -> 0.014 | H17: =옵션!$B$13 -> 100 | I17: =SUM(AD14:AD15) -> 0.014 | O17: =IF(I17*M17=0, "", I17*M17*(N17/100)) | Q17: =TRUNC(P17*M17*N17/100) -> 0
B18: 공종줄 | D18: [ 제 7호 ] 1종금속제가요전선관 16 mm 고장력-비방수 [M]
B19: 800 | C19: 3913170620174478 | D19: 1종금속제가요전선관 | E19: 16 mm 고장력-비방수 | F19: M | G19: 1 | H19: =IF(I19<>0, G19-I19, "") -> 0 | I19: 1 | K19: 56900017016 | L19: 내선전공 | M19: 0.044 | N19: 120 | O19: =IF(I19*M19=0, "", I19*M19*(N19/100)) -> 0.0528 | Q19: =TRUNC(P19*M19*N19/100) -> 0 | S19: 전기5-1 | AA19: =O19 -> 0.0528
B20: 800 | C20: L001010101000075 | D20: 노 무 비 | E20: 내선전공 | F20: 인 | G20: =IF(H20*I20/100+0.000005 <1, TRUNC(H20*I20/100+0.000005, 옵션!$E$13), TRUNC(H20*I20/100+0.000005, 옵션!$E$13)) -> 0.0528 | H20: =옵션!$B$13 -> 100 | I20: =SUM(AA19:AA19) -> 0.0528 | O20: =IF(I20*M20=0, "", I20*M20*(N20/100)) | Q20: =TRUNC(P20*M20*N20/100) -> 0 | Z20: 노임계 | AA20: =SUM(AA19:AA19) -> 0.0528
B21: 공종줄 | D21: [ 제 8호 ] 나사없는전선관 E19 [M]
B22: 800 | C22: 9999999991020000 | D22: 나사없는전선관 | E22: E19 | F22: M | G22: 1 | H22: =IF(I22<>0, G22-I22, "") -> 0 | I22: 1 | K22: 56900017016 | L22: 내선전공 | M22: 0.05 | N22: 100 | O22: =IF(I22*M22=0, "", I22*M22*(N22/100)) -> 0.05 | Q22: =TRUNC(P22*M22*N22/100) -> 0 | S22: 전기5-1 | AA22: =O22 -> 0.05
B23: 800 | C23: L001010101000075 | D23: 노 무 비 | E23: 내선전공 | F23: 인 | G23: =IF(H23*I23/100+0.000005 <1, TRUNC(H23*I23/100+0.000005, 옵션!$E$13), TRUNC(H23*I23/100+0.000005, 옵션!$E$13)) -> 0.05 | H23: =옵션!$B$13 -> 100 | I23: =SUM(AA22:AA22) -> 0.05 | O23: =IF(I23*M23=0, "", I23*M23*(N23/100)) | Q23: =TRUNC(P23*M23*N23/100) -> 0 | Z23: 노임계 | AA23: =SUM(AA22:AA22) -> 0.05
B24: 공종줄 | D24: [ 제 9호 ] 나사없는전선관 E31 [M]
B25: 800 | C25: 9999999991020002 | D25: 나사없는전선관 | E25: E31 | F25: M | G25: 1 | H25: =IF(I25<>0, G25-I25, "") -> 0 | I25: 1 | K25: 56900017016 | L25: 내선전공 | M25: 0.08 | N25: 100 | O25: =IF(I25*M25=0, "", I25*M25*(N25/100)) -> 0.08 | Q25: =TRUNC(P25*M25*N25/100) -> 0 | S25: 전기5-1 | AA25: =O25 -> 0.08
B26: 800 | C26: L001010101000075 | D26: 노 무 비 | E26: 내선전공 | F26: 인 | G26: =IF(H26*I26/100+0.000005 <1, TRUNC(H26*I26/100+0.000005, 옵션!$E$13), TRUNC(H26*I26/100+0.000005, 옵션!$E$13)) -> 0.08 | H26: =옵션!$B$13 -> 100 | I26: =SUM(AA25:AA25) -> 0.08 | O26: =IF(I26*M26=0, "", I26*M26*(N26/100)) | Q26: =TRUNC(P26*M26*N26/100) -> 0 | Z26: 노임계 | AA26: =SUM(AA25:AA25) -> 0.08
B27: 공종줄 | D27: [ 제 10호 ] 관로구방수장치 D30 [조]
B28: 800 | C28: 3912171220935649 | D28: 관로구방수장치 | E28: D30 | F28: 조 | G28: 1 | H28: =IF(I28<>0, G28-I28, "") -> 0 | I28: 1 | K28: 56900017076 | L28: 저압케이블전공 | M28: 0.024 | N28: 100 | O28: =IF(I28*M28=0, "", I28*M28*(N28/100)) -> 0.024 | Q28: =TRUNC(P28*M28*N28/100) -> 0 | S28: 전기2-18 | AB28: =O28 -> 0.024
B29: 800 | C29: 3912171220935649 | G29: 1 | H29: =IF(I29<>0, G29-I29, "") -> 0 | I29: 1 | K29: 56900017041 | L29: 보통인부 | M29: 0.12 | N29: 100 | O29: =IF(I29*M29=0, "", I29*M29*(N29/100)) -> 0.12 | Q29: =TRUNC(P29*M29*N29/100) -> 0 | S29: 전기2-18 | AD29: =O29 -> 0.12
B30: 800 | C30: L001010101000078 | D30: 노 무 비 | E30: 저압케이블전공 | F30: 인 | G30: =IF(H30*I30/100+0.000005 <1, TRUNC(H30*I30/100+0.000005, 옵션!$E$13), TRUNC(H30*I30/100+0.000005, 옵션!$E$13)) -> 0.024 | H30: =옵션!$B$13 -> 100 | I30: =SUM(AB28:AB29) -> 0.024 | O30: =IF(I30*M30=0, "", I30*M30*(N30/100)) | Q30: =TRUNC(P30*M30*N30/100) -> 0 | Z30: 노임계 | AB30: =SUM(AB28:AB29) -> 0.024 | AD30: =SUM(AD28:AD29) -> 0.12
B31: 800 | C31: L001010101000002 | D31: 노 무 비 | E31: 보통인부 | F31: 인 | G31: =IF(H31*I31/100+0.000005 <1, TRUNC(H31*I31/100+0.000005, 옵션!$E$13), TRUNC(H31*I31/100+0.000005, 옵션!$E$13)) -> 0.12 | H31: =옵션!$B$13 -> 100 | I31: =SUM(AD28:AD29) -> 0.12 | O31: =IF(I31*M31=0, "", I31*M31*(N31/100)) | Q31: =TRUNC(P31*M31*N31/100) -> 0
B32: 공종줄 | D32: [ 제 11호 ] 새들(벽체) 16C [개소]
B33: 800 | C33: 3913170810037051 | D33: 강재전선관용 부품 | E33: 새들 (KS) 16c | F33: EA | G33: 1 | H33: =IF(I33<>0, G33-I33, "") -> 0 | I33: 1 | K33: 56900017016 | L33: 내선전공 | M33: 0.018 | N33: 100 | O33: =IF(I33*M33=0, "", I33*M33*(N33/100)) -> 0.018 | Q33: =TRUNC(P33*M33*N33/100) -> 0 | S33: 전기5-29 | AA33: =O33 -> 0.018
B34: 800 | C34: L001010101000075 | D34: 노 무 비 | E34: 내선전공 | F34: 인 | G34: =IF(H34*I34/100+0.000005 <1, TRUNC(H34*I34/100+0.000005, 옵션!$E$13), TRUNC(H34*I34/100+0.000005, 옵션!$E$13)) -> 0.018 | H34: =옵션!$B$13 -> 100 | I34: =SUM(AA33:AA33) -> 0.018 | O34: =IF(I34*M34=0, "", I34*M34*(N34/100)) | Q34: =TRUNC(P34*M34*N34/100) -> 0 | Z34: 노임계 | AA34: =SUM(AA33:AA33) -> 0.018
B35: 공종줄 | D35: [ 제 12호 ] 새들(벽체) 28C [개소]
B36: 800 | C36: 3913170810037053 | D36: 강재전선관용 부품 | E36: 새들 (KS) 28c | F36: EA | G36: 1 | H36: =IF(I36<>0, G36-I36, "") -> 0 | I36: 1 | K36: 56900017016 | L36: 내선전공 | M36: 0.018 | N36: 100 | O36: =IF(I36*M36=0, "", I36*M36*(N36/100)) -> 0.018 | Q36: =TRUNC(P36*M36*N36/100) -> 0 | S36: 전기5-29 | AA36: =O36 -> 0.018
B37: 800 | C37: L001010101000075 | D37: 노 무 비 | E37: 내선전공 | F37: 인 | G37: =IF(H37*I37/100+0.000005 <1, TRUNC(H37*I37/100+0.000005, 옵션!$E$13), TRUNC(H37*I37/100+0.000005, 옵션!$E$13)) -> 0.018 | H37: =옵션!$B$13 -> 100 | I37: =SUM(AA36:AA36) -> 0.018 | O37: =IF(I37*M37=0, "", I37*M37*(N37/100)) | Q37: =TRUNC(P37*M37*N37/100) -> 0 | Z37: 노임계 | AA37: =SUM(AA36:AA36) -> 0.018
B38: 공종줄 | D38: [ 제 13호 ] 파이프행가 16 C [개소]
B39: 800 | C39: 3116210220135769 | D39: 스트롱앵커 | E39: 3/8 | F39: 개 | G39: 1 | H39: =IF(I39<>0, G39-I39, "") -> 0 | I39: 1 | K39: 56900017016 | L39: 내선전공 | M39: 0.036 | N39: 150 | O39: =IF(I39*M39=0, "", I39*M39*(N39/100)) -> 0.054 | Q39: =TRUNC(P39*M39*N39/100) -> 0 | S39: 전기5-29 | AA39: =O39 -> 0.054
B40: 800 | C40: L001010101000075 | D40: 노 무 비 | E40: 내선전공 | F40: 인 | G40: =IF(H40*I40/100+0.000005 <1, TRUNC(H40*I40/100+0.000005, 옵션!$E$13), TRUNC(H40*I40/100+0.000005, 옵션!$E$13)) -> 0.054 | H40: =옵션!$B$13 -> 100 | I40: =SUM(AA39:AA39) -> 0.054 | O40: =IF(I40*M40=0, "", I40*M40*(N40/100)) | Q40: =TRUNC(P40*M40*N40/100) -> 0 | Z40: 노임계 | AA40: =SUM(AA39:AA39) -> 0.054
B41: 공종줄 | D41: [ 제 14호 ] 파이프행가 28 C [개소]
B42: 800 | C42: 3116210220135769 | D42: 스트롱앵커 | E42: 3/8 | F42: 개 | G42: 1 | H42: =IF(I42<>0, G42-I42, "") -> 0 | I42: 1 | K42: 56900017016 | L42: 내선전공 | M42: 0.036 | N42: 150 | O42: =IF(I42*M42=0, "", I42*M42*(N42/100)) -> 0.054 | Q42: =TRUNC(P42*M42*N42/100) -> 0 | S42: 전기5-29 | AA42: =O42 -> 0.054
B43: 800 | C43: L001010101000075 | D43: 노 무 비 | E43: 내선전공 | F43: 인 | G43: =IF(H43*I43/100+0.000005 <1, TRUNC(H43*I43/100+0.000005, 옵션!$E$13), TRUNC(H43*I43/100+0.000005, 옵션!$E$13)) -> 0.054 | H43: =옵션!$B$13 -> 100 | I43: =SUM(AA42:AA42) -> 0.054 | O43: =IF(I43*M43=0, "", I43*M43*(N43/100)) | Q43: =TRUNC(P43*M43*N43/100) -> 0 | Z43: 노임계 | AA43: =SUM(AA42:AA42) -> 0.054
B44: 공종줄 | D44: [ 제 15호 ] 벽관통 구멍 Φ50-벽두께 25cm [개소]
B45: 800 | C45: 391115ZZ701Z0001 | D45: 품셈 산출근거 | E45: 벽두께 25cm | F45: 식 | G45: 1 | H45: =IF(I45<>0, G45-I45, "") -> 0 | I45: 1 | K45: 56900017118 | L45: 특별인부 | M45: 0.42 | N45: 100 | O45: =IF(I45*M45=0, "", I45*M45*(N45/100)) -> 0.42 | Q45: =TRUNC(P45*M45*N45/100) -> 0 | S45: 전기5-29-2-1 | AE45: =O45 -> 0.42
B46: 800 | C46: L001010101000003 | D46: 노 무 비 | E46: 특별인부 | F46: 인 | G46: =IF(H46*I46/100+0.000005 <1, TRUNC(H46*I46/100+0.000005, 옵션!$E$13), TRUNC(H46*I46/100+0.000005, 옵션!$E$13)) -> 0.42 | H46: =옵션!$B$13 -> 100 | I46: =SUM(AE45:AE45) -> 0.42 | O46: =IF(I46*M46=0, "", I46*M46*(N46/100)) | Q46: =TRUNC(P46*M46*N46/100) -> 0 | Z46: 노임계 | AE46: =SUM(AE45:AE45) -> 0.42
B47: 공종줄 | D47: [ 제 16호 ] 아우트렛박스 8각 54㎜ [개]
B48: 800 | C48: 3912130810035750 | D48: 아우트렛박스 | E48: 8각 54㎜ | F48: 개 | G48: 1 | H48: =IF(I48<>0, G48-I48, "") -> 0 | I48: 1 | K48: 56900017016 | L48: 내선전공 | M48: 0.12 | N48: 100 | O48: =IF(I48*M48=0, "", I48*M48*(N48/100)) -> 0.12 | Q48: =TRUNC(P48*M48*N48/100) -> 0 | S48: 전기5-3 | AA48: =O48 -> 0.12
B49: 800 | C49: L001010101000075 | D49: 노 무 비 | E49: 내선전공 | F49: 인 | G49: =IF(H49*I49/100+0.000005 <1, TRUNC(H49*I49/100+0.000005, 옵션!$E$13), TRUNC(H49*I49/100+0.000005, 옵션!$E$13)) -> 0.12 | H49: =옵션!$B$13 -> 100 | I49: =SUM(AA48:AA48) -> 0.12 | O49: =IF(I49*M49=0, "", I49*M49*(N49/100)) | Q49: =TRUNC(P49*M49*N49/100) -> 0 | Z49: 노임계 | AA49: =SUM(AA48:AA48) -> 0.12
B50: 공종줄 | D50: [ 제 17호 ] 아우트렛박스 중형4각 54㎜(벽체) [개]
B51: 800 | C51: 9888811111000118 | D51: 아우트렛박스 | E51: 중형4각 54㎜(벽체) | F51: 개 | G51: 1 | H51: =IF(I51<>0, G51-I51, "") -> 0 | I51: 1 | K51: 56900017016 | L51: 내선전공 | M51: 0.2 | N51: 100 | O51: =IF(I51*M51=0, "", I51*M51*(N51/100)) -> 0.2 | Q51: =TRUNC(P51*M51*N51/100) -> 0 | S51: 전기5-3 | AA51: =O51 -> 0.2
B52: 800 | C52: L001010101000075 | D52: 노 무 비 | E52: 내선전공 | F52: 인 | G52: =IF(H52*I52/100+0.000005 <1, TRUNC(H52*I52/100+0.000005, 옵션!$E$13), TRUNC(H52*I52/100+0.000005, 옵션!$E$13)) -> 0.2 | H52: =옵션!$B$13 -> 100 | I52: =SUM(AA51:AA51) -> 0.2 | O52: =IF(I52*M52=0, "", I52*M52*(N52/100)) | Q52: =TRUNC(P52*M52*N52/100) -> 0 | Z52: 노임계 | AA52: =SUM(AA51:AA51) -> 0.2
B53: 공종줄 | D53: [ 제 18호 ] 정션 박스 100*100*50 [개]
B54: 800 | C54: 3912130320175917 | D54: 정션 박스 | E54: 100*100*50 | F54: 개 | G54: 1 | H54: =IF(I54<>0, G54-I54, "") -> 0 | I54: 1 | K54: 56900017016 | L54: 내선전공 | M54: 0.04 | N54: 100 | O54: =IF(I54*M54=0, "", I54*M54*(N54/100)) -> 0.04 | Q54: =TRUNC(P54*M54*N54/100) -> 0 | S54: 전기5-3 | AA54: =O54 -> 0.04
B55: 800 | C55: L001010101000075 | D55: 노 무 비 | E55: 내선전공 | F55: 인 | G55: =IF(H55*I55/100+0.000005 <1, TRUNC(H55*I55/100+0.000005, 옵션!$E$13), TRUNC(H55*I55/100+0.000005, 옵션!$E$13)) -> 0.04 | H55: =옵션!$B$13 -> 100 | I55: =SUM(AA54:AA54) -> 0.04 | O55: =IF(I55*M55=0, "", I55*M55*(N55/100)) | Q55: =TRUNC(P55*M55*N55/100) -> 0 | Z55: 노임계 | AA55: =SUM(AA54:AA54) -> 0.04
B56: 공종줄 | D56: [ 제 19호 ] 풀박스 100×100×75 [개]
B57: 800 | C57: 3912130310035795 | D57: 풀박스 | E57: 100×100×75 | F57: 개 | G57: 1 | H57: =IF(I57<>0, G57-I57, "") -> 0 | I57: 1 | K57: 56900017016 | L57: 내선전공 | M57: 0.17 | N57: 100 | O57: =IF(I57*M57=0, "", I57*M57*(N57/100)) -> 0.17 | Q57: =TRUNC(P57*M57*N57/100) -> 0 | S57: 전기5-4 | AA57: =O57 -> 0.17
B58: 800 | C58: L001010101000075 | D58: 노 무 비 | E58: 내선전공 | F58: 인 | G58: =IF(H58*I58/100+0.000005 <1, TRUNC(H58*I58/100+0.000005, 옵션!$E$13), TRUNC(H58*I58/100+0.000005, 옵션!$E$13)) -> 0.17 | H58: =옵션!$B$13 -> 100 | I58: =SUM(AA57:AA57) -> 0.17 | O58: =IF(I58*M58=0, "", I58*M58*(N58/100)) | Q58: =TRUNC(P58*M58*N58/100) -> 0 | Z58: 노임계 | AA58: =SUM(AA57:AA57) -> 0.17
B59: 공종줄 | D59: [ 제 20호 ] 풀박스 150×150×100 [개]
B60: 800 | C60: 3912130310035797 | D60: 풀박스 | E60: 150×150×100 | F60: 개 | G60: 1 | H60: =IF(I60<>0, G60-I60, "") -> 0 | I60: 1 | K60: 56900017016 | L60: 내선전공 | M60: 0.55 | N60: 100 | O60: =IF(I60*M60=0, "", I60*M60*(N60/100)) -> 0.55 | Q60: =TRUNC(P60*M60*N60/100) -> 0 | S60: 전기5-4 | AA60: =O60 -> 0.55
B61: 800 | C61: L001010101000075 | D61: 노 무 비 | E61: 내선전공 | F61: 인 | G61: =IF(H61*I61/100+0.000005 <1, TRUNC(H61*I61/100+0.000005, 옵션!$E$13), TRUNC(H61*I61/100+0.000005, 옵션!$E$13)) -> 0.55 | H61: =옵션!$B$13 -> 100 | I61: =SUM(AA60:AA60) -> 0.55 | O61: =IF(I61*M61=0, "", I61*M61*(N61/100)) | Q61: =TRUNC(P61*M61*N61/100) -> 0 | Z61: 노임계 | AA61: =SUM(AA60:AA60) -> 0.55
B62: 공종줄 | D62: [ 제 21호 ] 450/750V 내열비닐절연전선 HFIX 1.78mm(2.5㎟) [M]
B63: 800 | C63: 2612162922076727 | D63: 450/750V 내열비닐절연전선 | E63: HFIX 1.78mm(2.5㎟) | F63: M | G63: 1 | H63: =IF(I63<>0, G63-I63, "") -> 0 | I63: 1 | K63: 56900017016 | L63: 내선전공 | M63: 0.01 | N63: 100 | O63: =IF(I63*M63=0, "", I63*M63*(N63/100)) -> 0.01 | Q63: =TRUNC(P63*M63*N63/100) -> 0 | S63: 전기5-10 | AA63: =O63 -> 0.01
B64: 800 | C64: L001010101000075 | D64: 노 무 비 | E64: 내선전공 | F64: 인 | G64: =IF(H64*I64/100+0.000005 <1, TRUNC(H64*I64/100+0.000005, 옵션!$E$13), TRUNC(H64*I64/100+0.000005, 옵션!$E$13)) -> 0.01 | H64: =옵션!$B$13 -> 100 | I64: =SUM(AA63:AA63) -> 0.01 | O64: =IF(I64*M64=0, "", I64*M64*(N64/100)) | Q64: =TRUNC(P64*M64*N64/100) -> 0 | Z64: 노임계 | AA64: =SUM(AA63:AA63) -> 0.01
B65: 공종줄 | D65: [ 제 22호 ] 소방용내화전선(F-FR-8) 4C×2.5㎟ [M]
B66: 800 | C66: 2612164020684051 | D66: 소방용내화전선(F-FR-8) | E66: 4C×2.5㎟ | F66: M | G66: 1 | H66: =IF(I66<>0, G66-I66, "") -> 0 | I66: 1 | K66: 56900017076 | L66: 저압케이블전공 | M66: 0.026 | N66: 100 | O66: =IF(I66*M66=0, "", I66*M66*(N66/100)) -> 0.026 | Q66: =TRUNC(P66*M66*N66/100) -> 0 | S66: 전기5-13 | AB66: =O66 -> 0.026
B67: 800 | C67: L001010101000078 | D67: 노 무 비 | E67: 저압케이블전공 | F67: 인 | G67: =IF(H67*I67/100+0.000005 <1, TRUNC(H67*I67/100+0.000005, 옵션!$E$13), TRUNC(H67*I67/100+0.000005, 옵션!$E$13)) -> 0.026 | H67: =옵션!$B$13 -> 100 | I67: =SUM(AB66:AB66) -> 0.026 | O67: =IF(I67*M67=0, "", I67*M67*(N67/100)) | Q67: =TRUNC(P67*M67*N67/100) -> 0 | Z67: 노임계 | AB67: =SUM(AB66:AB66) -> 0.026
B68: 공종줄 | D68: [ 제 23호 ] 피난구유도등(LED) 소형벽부-60분용 [개]
B69: 800 | C69: 3911170820098001 | D69: 피난구유도등(LED) | E69: 소형벽부-60분용 | F69: 개 | G69: 1 | H69: =IF(I69<>0, G69-I69, "") -> 0 | I69: 1 | K69: 56900017016 | L69: 내선전공 | M69: 0.2 | N69: 100 | O69: =IF(I69*M69=0, "", I69*M69*(N69/100)) -> 0.2 | Q69: =TRUNC(P69*M69*N69/100) -> 0 | S69: 전기10-3-1 | AA69: =O69 -> 0.2
B70: 800 | C70: L001010101000075 | D70: 노 무 비 | E70: 내선전공 | F70: 인 | G70: =IF(H70*I70/100+0.000005 <1, TRUNC(H70*I70/100+0.000005, 옵션!$E$13), TRUNC(H70*I70/100+0.000005, 옵션!$E$13)) -> 0.2 | H70: =옵션!$B$13 -> 100 | I70: =SUM(AA69:AA69) -> 0.2 | O70: =IF(I70*M70=0, "", I70*M70*(N70/100)) | Q70: =TRUNC(P70*M70*N70/100) -> 0 | Z70: 노임계 | AA70: =SUM(AA69:AA69) -> 0.2
B71: 공종줄 | D71: [ 제 24호 ] 피난구유도등(LED) 소형양면-60분용 [개]
B72: 800 | C72: 9777000000000000 | D72: 피난구유도등(LED) | E72: 소형양면-60분용 | F72: 개 | G72: 1 | H72: =IF(I72<>0, G72-I72, "") -> 0 | I72: 1 | K72: 56900017016 | L72: 내선전공 | M72: 0.2 | N72: 100 | O72: =IF(I72*M72=0, "", I72*M72*(N72/100)) -> 0.2 | Q72: =TRUNC(P72*M72*N72/100) -> 0 | S72: 전기10-3-1 | AA72: =O72 -> 0.2
B73: 800 | C73: L001010101000075 | D73: 노 무 비 | E73: 내선전공 | F73: 인 | G73: =IF(H73*I73/100+0.000005 <1, TRUNC(H73*I73/100+0.000005, 옵션!$E$13), TRUNC(H73*I73/100+0.000005, 옵션!$E$13)) -> 0.2 | H73: =옵션!$B$13 -> 100 | I73: =SUM(AA72:AA72) -> 0.2 | O73: =IF(I73*M73=0, "", I73*M73*(N73/100)) | Q73: =TRUNC(P73*M73*N73/100) -> 0 | Z73: 노임계 | AA73: =SUM(AA72:AA72) -> 0.2
B74: 공종줄 | D74: [ 제 25호 ] 통로유도등(LED) 60분용 [개]
B75: 800 | C75: 3911170820098006 | D75: 통로유도등(LED) | E75: 60분용 | F75: 개 | G75: 1 | H75: =IF(I75<>0, G75-I75, "") -> 0 | I75: 1 | K75: 56900017016 | L75: 내선전공 | M75: 0.2 | N75: 100 | O75: =IF(I75*M75=0, "", I75*M75*(N75/100)) -> 0.2 | Q75: =TRUNC(P75*M75*N75/100) -> 0 | S75: 전기10-3-1 | AA75: =O75 -> 0.2
B76: 800 | C76: L001010101000075 | D76: 노 무 비 | E76: 내선전공 | F76: 인 | G76: =IF(H76*I76/100+0.000005 <1, TRUNC(H76*I76/100+0.000005, 옵션!$E$13), TRUNC(H76*I76/100+0.000005, 옵션!$E$13)) -> 0.2 | H76: =옵션!$B$13 -> 100 | I76: =SUM(AA75:AA75) -> 0.2 | O76: =IF(I76*M76=0, "", I76*M76*(N76/100)) | Q76: =TRUNC(P76*M76*N76/100) -> 0 | Z76: 노임계 | AA76: =SUM(AA75:AA75) -> 0.2
B77: 공종줄 | D77: [ 제 26호 ] 수동발신기세트 W/PBL, ALL SUS [SET]
B78: 800 | C78: 9514789100000001 | D78: 수동발신기세트 | E78: W/PBL, ALL SUS | F78: SET | G78: 1 | H78: =IF(I78<>0, G78-I78, "") -> 0 | I78: 1 | K78: 56900017016 | L78: 내선전공 | M78: 0.96 | N78: 100 | O78: =IF(I78*M78=0, "", I78*M78*(N78/100)) -> 0.96 | Q78: =TRUNC(P78*M78*N78/100) -> 0 | S78: 전기5-4+10-2-5 | AA78: =O78 -> 0.96
B79: 800 | C79: L001010101000075 | D79: 노 무 비 | E79: 내선전공 | F79: 인 | G79: =IF(H79*I79/100+0.000005 <1, TRUNC(H79*I79/100+0.000005, 옵션!$E$13), TRUNC(H79*I79/100+0.000005, 옵션!$E$13)) -> 0.96 | H79: =옵션!$B$13 -> 100 | I79: =SUM(AA78:AA78) -> 0.96 | O79: =IF(I79*M79=0, "", I79*M79*(N79/100)) | Q79: =TRUNC(P79*M79*N79/100) -> 0 | Z79: 노임계 | AA79: =SUM(AA78:AA78) -> 0.96
B80: 공종줄 | D80: [ 제 27호 ] 화재 수신기 P형1급, 60회로(복합) [대]
B81: 800 | C81: InMastDBNonCode | D81: 화재 수신기 | E81: P형1급, 60회로(복합) | F81: 대 | G81: 1 | H81: =IF(I81<>0, G81-I81, "") -> 0 | I81: 1 | K81: 56900017016 | L81: 내선전공 | M81: 24 | N81: 100 | O81: =IF(I81*M81=0, "", I81*M81*(N81/100)) -> 24 | Q81: =TRUNC(P81*M81*N81/100) -> 0 | S81: 전기10-2-7 | AA81: =O81 -> 24
B82: 800 | C82: L001010101000075 | D82: 노 무 비 | E82: 내선전공 | F82: 인 | G82: =IF(H82*I82/100+0.000005 <1, TRUNC(H82*I82/100+0.000005, 옵션!$E$13), TRUNC(H82*I82/100+0.000005, 옵션!$E$13)) -> 24 | H82: =옵션!$B$13 -> 100 | I82: =SUM(AA81:AA81) -> 24 | O82: =IF(I82*M82=0, "", I82*M82*(N82/100)) | Q82: =TRUNC(P82*M82*N82/100) -> 0 | Z82: 노임계 | AA82: =SUM(AA81:AA81) -> 24
B83: 공종줄 | D83: [ 제 28호 ] 화재 수신기(철거) P형1급, 10회로(복합) [대]
B84: 800 | C84: InMastDBNonCode | D84: 화재 수신기(철거) | E84: P형1급, 10회로(복합) | F84: 대 | G84: 1 | H84: =IF(I84<>0, G84-I84, "") -> 0 | I84: 1 | K84: 56900017016 | L84: 내선전공 | M84: 9 | N84: 30 | O84: =IF(I84*M84=0, "", I84*M84*(N84/100)) -> 2.7 | Q84: =TRUNC(P84*M84*N84/100) -> 0 | S84: 전기10-2-7 | AA84: =O84 -> 2.7
B85: 800 | C85: L001010101000075 | D85: 노 무 비 | E85: 내선전공 | F85: 인 | G85: =IF(H85*I85/100+0.000005 <1, TRUNC(H85*I85/100+0.000005, 옵션!$E$13), TRUNC(H85*I85/100+0.000005, 옵션!$E$13)) -> 2.7 | H85: =옵션!$B$13 -> 100 | I85: =SUM(AA84:AA84) -> 2.7 | O85: =IF(I85*M85=0, "", I85*M85*(N85/100)) | Q85: =TRUNC(P85*M85*N85/100) -> 0 | Z85: 노임계 | AA85: =SUM(AA84:AA84) -> 2.7
B86: 공종줄 | D86: [ 제 29호 ] 화재 수신기(철거) P형1급, 30회로(복합) [대]
B87: 800 | C87: InMastDBNonCode | D87: 화재 수신기(철거) | E87: P형1급, 30회로(복합) | F87: 대 | G87: 1 | H87: =IF(I87<>0, G87-I87, "") -> 0 | I87: 1 | K87: 56900017016 | L87: 내선전공 | M87: 15 | N87: 30 | O87: =IF(I87*M87=0, "", I87*M87*(N87/100)) -> 4.5 | Q87: =TRUNC(P87*M87*N87/100) -> 0 | S87: 전기10-2-7 | AA87: =O87 -> 4.5
B88: 800 | C88: L001010101000075 | D88: 노 무 비 | E88: 내선전공 | F88: 인 | G88: =IF(H88*I88/100+0.000005 <1, TRUNC(H88*I88/100+0.000005, 옵션!$E$13), TRUNC(H88*I88/100+0.000005, 옵션!$E$13)) -> 4.5 | H88: =옵션!$B$13 -> 100 | I88: =SUM(AA87:AA87) -> 4.5 | O88: =IF(I88*M88=0, "", I88*M88*(N88/100)) | Q88: =TRUNC(P88*M88*N88/100) -> 0 | Z88: 노임계 | AA88: =SUM(AA87:AA87) -> 4.5

Sheet 합산자재
B1: 55 | C1: [ CAV기반 미래모빌리티 자율주행 평가플랫폼 구축 증축공사 ] - 합산자재목록
A2: 번호 | B2: … | C2: 코드 | D2: 명 칭 | E2: 규 격 | F2: 단위 | G2: 수량 | H2: 재료비 | I2: 노무비 | J2: 경비 | K2: 지급비 | L2: 계 | M2: 비고
B4: 59753178001 | C4: 3913170610035631 | D4: 파상형 폴리에틸렌 전선관 | E4: 30㎜ | F4: M | G4: 82.4 | H4: =ROUNDDOWN(단가조사!G4*옵션!$D$11, 0) -> 343 | L4: =SUM(H4,I4,J4) -> 343
B5: 59753017043 | C5: 3913170620174434 | D5: 1종금속제가요전선관 | E5: 커넥터, 16 mm 일반-비방수 | F5: 개 | G5: 8 | H5: =ROUNDDOWN(단가조사!G5*옵션!$D$11, 0) -> 354 | L5: =SUM(H5,I5,J5) -> 354
B6: MM496797011 | C6: 3913170620174478 | D6: 1종금속제가요전선관 | E6: 16 mm 고장력-비방수 | F6: M | G6: 8.8 | H6: =ROUNDDOWN(단가조사!G6*옵션!$D$11, 0) -> 544 | L6: =SUM(H6,I6,J6) -> 544
B7: 59754877200 | C7: 3912171220935649 | D7: 관로구방수장치 | E7: D30 | F7: 조 | G7: 2 | H7: =ROUNDDOWN(단가조사!G7*옵션!$D$11, 0) -> 12750 | L7: =SUM(H7,I7,J7) -> 12750
B8: 59753767011 | C8: 3912130810035750 | D8: 아우트렛박스 | E8: 8각 54㎜ | F8: 개 | G8: 4 | H8: =ROUNDDOWN(단가조사!G8*옵션!$D$11, 0) -> 617 | L8: =SUM(H8,I8,J8) -> 617
B9: MMD88900100 | C9: 9888811111000118 | D9: 아우트렛박스 | E9: 중형4각 54㎜(벽체) | F9: 개 | G9: 9 | H9: =ROUNDDOWN(단가조사!G9*옵션!$D$11, 0) -> 920 | L9: =SUM(H9,I9,J9) -> 920
B10: 59753767221 | C10: 3912130820174712 | D10: 아우트렛박스 커버 | E10: 커버, 8각, 둥근구멍(평) | F10: 개 | G10: 4 | H10: =ROUNDDOWN(단가조사!G10*옵션!$D$11, 0) -> 343 | L10: =SUM(H10,I10,J10) -> 343
B11: 59753767241 | C11: 3912130820174714 | D11: 아우트렛박스 커버 | E11: 커버, 4각, 둥근구멍(오목) | F11: 개 | G11: 9 | H11: =ROUNDDOWN(단가조사!G11*옵션!$D$11, 0) -> 343 | L11: =SUM(H11,I11,J11) -> 343
B12: 61455137894 | C12: 3912130320175917 | D12: 정션 박스 | E12: 100*100*50 | F12: 개 | G12: 4 | H12: =ROUNDDOWN(단가조사!G12*옵션!$D$11, 0) -> 2284 | L12: =SUM(H12,I12,J12) -> 2284
B13: 59753857011 | C13: 3912130310035795 | D13: 풀박스 | E13: 100×100×75 | F13: 개 | G13: 5 | H13: =ROUNDDOWN(단가조사!G13*옵션!$D$11, 0) -> 2734 | L13: =SUM(H13,I13,J13) -> 2734
B14: 59753857031 | C14: 3912130310035797 | D14: 풀박스 | E14: 150×150×100 | F14: 개 | G14: 5 | H14: =ROUNDDOWN(단가조사!G14*옵션!$D$11, 0) -> 2854 | L14: =SUM(H14,I14,J14) -> 2854
B15: 59759017111 | C15: 3913170810036357 | D15: 강재전선관용 부품 | E15: 파이프행거, 16 C | F15: 개 | G15: 53 | H15: =ROUNDDOWN(단가조사!G15*옵션!$D$11, 0) -> 324 | L15: =SUM(H15,I15,J15) -> 324
... B37: MMX99810002 | C37: 8974653100010162 | D37: 볼트고정식 이음쇠 | E37: 커넥터 E31 | F37: EA | G37: 28 | H37: =ROUNDDOWN(단가조사!G37*옵션!$D$11, 0) -> 1513 | L37: =SUM(H37,I37,J37) -> 1513
B38: MMA24070400 | C38: InMastDBNonCode | D38: 화재 수신기(철거) | E38: P형1급, 10회로(복합) | F38: 대 | G38: 1 | H38: =ROUNDDOWN(단가조사!G39*옵션!$D$11, 0) -> 0 | L38: =SUM(H38,I38,J38) -> 0
B39: MMA24070401 | C39: InMastDBNonCode | D39: 화재 수신기(철거) | E39: P형1급, 30회로(복합) | F39: 대 | G39: 1 | H39: =ROUNDDOWN(단가조사!G40*옵션!$D$11, 0) -> 0 | L39: =SUM(H39,I39,J39) -> 0
B40: MMA24070402 | C40: InMastDBNonCode | D40: 화재 수신기 | E40: P형1급, 60회로(복합) | F40: 대 | G40: 1 | H40: =ROUNDDOWN(단가조사!G38*옵션!$D$11, 0) -> 3300000 | L40: =SUM(H40,I40,J40) -> 3300000
B41: CA565826042 | C41: ECA565826042 | D41: 기계터파기 | E41: 보통토사(0.6㎥/43.6) | F41: ㎥ | G41: 22.815 | H41: =단가조사!H41 -> 517 | I41: =단가조사!J41 -> 1097 | J41: =단가조사!L41 -> 479 | L41: =SUM(H41,I41,J41) -> 2093 | M41: 166-하
B42: CA565826051 | C42: ECA565826051 | D42: 기계되메우기 | E42: 보통토사(0.6㎥/43.6) | F42: ㎥ | G42: 22.815 | H42: =단가조사!H42 -> 517 | I42: =단가조사!J42 -> 1097 | J42: =단가조사!L42 -> 479 | L42: =SUM(H42,I42,J42) -> 2093 | M42: 166-하
B43: 56900017016 | C43: L001010101000075 | D43: 노 무 비 | E43: 내선전공 | F43: 인 | G43: 65.1404 | I43: =ROUNDDOWN(단가조사!G43, 0) -> 270251 | L43: =SUM(H43,I43,J43) -> 270251
B44: 56900017076 | C44: L001010101000078 | D44: 노 무 비 | E44: 저압케이블전공 | F44: 인 | G44: 7.224 | I44: =ROUNDDOWN(단가조사!G44, 0) -> 295784 | L44: =SUM(H44,I44,J44) -> 295784
B45: 56900017031 | C45: L001010101000081 | D45: 노 무 비 | E45: 배전전공 | F45: 인 | G45: 0.48 | I45: =ROUNDDOWN(단가조사!G45, 0) -> 402085 | L45: =SUM(H45,I45,J45) -> 402085
B46: 56900017041 | C46: L001010101000002 | D46: 노 무 비 | E46: 보통인부 | F46: 인 | G46: 2.2472 | I46: =ROUNDDOWN(단가조사!G46, 0) -> 165545 | L46: =SUM(H46,I46,J46) -> 165545
B47: 56900017118 | C47: L001010101000003 | D47: 노 무 비 | E47: 특별인부 | F47: 인 | G47: 0.42 | I47: =ROUNDDOWN(단가조사!G47, 0) -> 214222 | L47: =SUM(H47,I47,J47) -> 214222

Sheet 단가조사
B1: 63 | D1: [ CAV기반 미래모빌리티 자율주행 평가플랫폼 구축 증축공사 ] - 단가조사서
A2: 번호 | B2: 공종코드 | C2: 코드 | D2: 명 칭 | E2: 규 격 | F2: 단위 | G2: 적용단가 | H2: 시설단가 | J2: 거래가격 | L2: 물가정보 | N2: 물가자료 | P2: 조사단가1 | R2: 조사단가2 | T2: 비고
H3: 단가 | I3: 코드 | J3: 단가 | K3: PAGE | L3: 단가 | M3: PAGE | N3: 단가 | O3: PAGE | P3: 단가 | Q3: PAGE | R3: 단가 | S3: PAGE
C4: 3913170610035631 | D4: 파상형 폴리에틸렌 전선관 | E4: 30㎜ | F4: M | G4: 343 | H4: 343 | J4: 391 | K4: 1025 | L4: 480 | M4: 1234 | N4: 360 | O4: 1106
C5: 3913170620174434 | D5: 1종금속제가요전선관 | E5: 커넥터, 16 mm 일반-비방수 | F5: 개 | G5: 354 | H5: 354 | L5: 869 | M5: 1237 | N5: 1100 | O5: 1103
C6: 3913170620174478 | D6: 1종금속제가요전선관 | E6: 16 mm 고장력-비방수 | F6: M | G6: 544 | H6: 600 | L6: 544 | M6: 1237 | N6: 1380 | O6: 1103
C7: 3912171220935649 | D7: 관로구방수장치 | E7: D30 | F7: 조 | G7: 12750 | N7: 12750 | O7: 1229
C8: 3912130810035750 | D8: 아우트렛박스 | E8: 8각 54㎜ | F8: 개 | G8: 617 | H8: 617 | J8: 800 | K8: 1028 | L8: 845 | M8: 1239 | N8: 790 | O8: 1105
C9: 9888811111000118 | D9: 아우트렛박스 | E9: 중형4각 54㎜(벽체) | F9: 개 | G9: 920 | J9: 1000 | K9: 1028 | L9: 973 | M9: 1239 | N9: 920 | O9: 1105
C10: 3912130820174712 | D10: 아우트렛박스 커버 | E10: 커버, 8각, 둥근구멍(평) | F10: 개 | G10: 343 | J10: 400 | K10: 1028 | L10: 343 | M10: 1239 | N10: 400 | O10: 1105
C11: 3912130820174714 | D11: 아우트렛박스 커버 | E11: 커버, 4각, 둥근구멍(오목) | F11: 개 | G11: 343 | J11: 400 | K11: 1028 | L11: 343 | M11: 1239 | N11: 400 | O11: 1105
C12: 3912130320175917 | D12: 정션 박스 | E12: 100*100*50 | F12: 개 | G12: 2284 | H12: 2284 | J12: 4200 | K12: 1028 | L12: 2690 | M12: 1239
C13: 3912130310035795 | D13: 풀박스 | E13: 100×100×75 | F13: 개 | G13: 2734 | H13: 2734 | J13: 5100 | K13: 1028 | L13: 3220 | M13: 1239
C14: 3912130310035797 | D14: 풀박스 | E14: 150×150×100 | F14: 개 | G14: 2854 | H14: 2854 | J14: 7510 | K14: 1028 | L14: 3360 | M14: 1239 | N14: 3870 | O14: 1105
C15: 3913170810036357 | D15: 강재전선관용 부품 | E15: 파이프행거, 16 C | F15: 개 | G15: 324 | H15: 324 | J15: 340 | K15: 1029 | L15: 727 | M15: 1235 | N15: 620 | O15: 1101
C16: 3913170810036359 | D16: 강재전선관용 부품 | E16: 파이프행거, 28 C | F16: 개 | G16: 353 | H16: 353 | J16: 391 | K16: 1029 | L16: 782 | M16: 1235 | N16: 680 | O16: 1101
C17: 3913170810037051 | D17: 강재전선관용 부품 | E17: 새들 (KS) 16c | F17: EA | G17: 88 | J17: 88 | K17: 1029 | L17: 98 | M17: 1235 | N17: 104 | O17: 1101
C18: 3913170810037053 | D18: 강재전선관용 부품 | E18: 새들 (KS) 28c | F18: EA | G18: 124 | J18: 124 | K18: 1029 | L18: 139 | M18: 1235 | N18: 198 | O18: 1101
C19: 3116210220135769 | D19: 스트롱앵커 | E19: 3/8 | F19: 개 | G19: 100 | N19: 100 | O19: 53
C20: 3116169820135160 | D20: 행거볼트 | E20: ∮9×1000㎜ | F20: 개 | G20: 1017 | L20: 1226 | M20: 43 | N20: 1017 | O20: 46
C21: 2612162922076727 | D21: 450/750V 내열비닐절연전선 | E21: HFIX 1.78mm(2.5㎟) | F21: M | G21: 402 | H21: 402 | J21: 480 | K21: 993 | L21: 601 | M21: 1197 | N21: 418 | O21: 1074
C22: 2612164020684051 | D22: 소방용내화전선(F-FR-8) | E22: 4C×2.5㎟ | F22: M | G22: 4298 | H22: 4298 | J22: 5177 | K22: 998 | L22: 5277 | M22: 1205 | N22: 5172 | O22: 1078
C23: 3911170820098001 | D23: 피난구유도등(LED) | E23: 소형벽부-60분용 | F23: 개 | G23: 44833 | H23: 44833 | J23: 125000 | K23: 1193 | L23: 100000 | M23: 1433 | N23: 100000 | O23: 965
C24: 9777000000000000 | D24: 피난구유도등(LED) | E24: 소형양면-60분용 | F24: 개 | G24: 48521 | H24: 48521 | J24: 150000 | K24: 1193 | L24: 150000 | M24: 1433 | N24: 130000 | O24: 965
C25: 3911170820098006 | D25: 통로유도등(LED) | E25: 60분용 | F25: 개 | G25: 100000 | J25: 100000 | K25: 1194 | L25: 100000 | M25: 1433 | N25: 100000 | O25: 965
C26: 9514789100000001 | D26: 수동발신기세트 | E26: W/PBL, ALL SUS | F26: SET | G26: 100000 | J26: 110000 | K26: 1196 | L26: 100000 | M26: 1433 | N26: 110000 | O26: 964
C27: 4619160120096946 | D27: 소화기 | E27: 분말소화기(ABC) 4단위, 3.3KG | F27: 개 | G27: 25700 | J27: 25700 | K27: 1185 | L27: 26000 | M27: 1401 | N27: 27000 | O27: 961
C28: 4619160120097010 | D28: 소화기받침대 | E28: 2033A | F28: 개 | G28: 1500 | J28: 3000 | K28: 1185 | N28: 1500 | O28: 961
C29: 3912219529175621 | D29: 지중선용 가선철물(통신) | E29: 케이블표지시트, 0.15x150 | F29: M | G29: 88 | J29: 297 | K29: 1134 | P29: 88 | Q29: 대한안전
C30: 3116172710023970 | D30: 6각너트 | E30: 3/8,M10 | F30: EA | G30: 25 | L30: 29 | M30: 41 | N30: 25 | O30: 50
C31: 3116181120136195 | D31: 스프링와샤 | E31: D10 | F31: EA | G31: 9 | L31: 10 | M31: 43 | N31: 9 | O31: 49
C32: 9999999991020000 | D32: 나사없는전선관 | E32: E19 | F32: M | G32: 2107 | H32: 2107 | L32: 2547 | M32: 1234 | N32: 2547 | O32: 1102
C33: 9999999991020002 | D33: 나사없는전선관 | E33: E31 | F33: M | G33: 3890 | H33: 3890 | L33: 4696 | M33: 1234 | N33: 4696 | O33: 1102
C34: 9999999991020007 | D34: 볼트고정식 이음쇠 | E34: 커플링 E19 | F34: EA | G34: 830 | H34: 830 | L34: 4950 | M34: 1234 | N34: 4950 | O34: 1102
C35: 9999999991020009 | D35: 볼트고정식 이음쇠 | E35: 커플링 E31 | F35: EA | G35: 1246 | H35: 1246 | L35: 6307 | M35: 1234 | N35: 6307 | O35: 1102
C36: 8974653100010160 | D36: 볼트고정식 이음쇠 | E36: 커넥터 E19 | F36: EA | G36: 1087 | H36: 1087 | L36: 4095 | M36: 1234 | N36: 4095 | O36: 1102
C37: 8974653100010162 | D37: 볼트고정식 이음쇠 | E37: 커넥터 E31 | F37: EA | G37: 1513 | H37: 1513 | L37: 5240 | M37: 1234 | N37: 5240 | O37: 1102
C38: InMastDBNonCode | D38: 화재 수신기 | E38: P형1급, 60회로(복합) | F38: 대 | G38: 3300000 | L38: 3300000 | M38: 1433
C39: InMastDBNonCode | D39: 화재 수신기(철거) | E39: P형1급, 10회로(복합) | F39: 대
C40: InMastDBNonCode | D40: 화재 수신기(철거) | E40: P형1급, 30회로(복합) | F40: 대
C41: ECA565826042 | D41: 기계터파기 | E41: 보통토사(0.6㎥/43.6) | F41: ㎥ | G41: 경비 | H41: 517 | I41: 재료 | J41: 1097 | K41: 노무 | L41: 479 | M41: 경비
C42: ECA565826051 | D42: 기계되메우기 | E42: 보통토사(0.6㎥/43.6) | F42: ㎥ | G42: 경비 | H42: 517 | I42: 재료 | J42: 1097 | K42: 노무 | L42: 479 | M42: 경비
C43: L001010101000075 | D43: 노 무 비 | E43: 내선전공 | F43: 인 | G43: 270251
C44: L001010101000078 | D44: 노 무 비 | E44: 저압케이블전공 | F44: 인 | G44: 295784
C45: L001010101000081 | D45: 노 무 비 | E45: 배전전공 | F45: 인 | G45: 402085
C46: L001010101000002 | D46: 노 무 비 | E46: 보통인부 | F46: 인 | G46: 165545
C47: L001010101000003 | D47: 노 무 비 | E47: 특별인부 | F47: 인 | G47: 214222

Sheet 옵션
B1: 재료비 | C1: 노무비 | D1: 경비 | F1: 계
A2: 총 급 액 | B2: =총괄표!I29 -> 0 | C2: =총괄표!L29 -> 0 | D2: =총괄표!N29 -> 0 | F2: =SUM(B2,C2,D2) -> 0
A3: 관급 자재비 | F3: =SUM(B3,C3,D3) -> 0 | H3: 금액조정이 안되나요?
H6: 이지테크에서 변환할 때 2번 옵션을 지정하여 다시 해보세요
H9: 시트를 삭제할 때 에러가 뜨면 1번 옵션으로 하면 됩니다.
B10: 적용율(%) | C10: 끝자리 | D10: 적용율(%)/100 | E10: 일위대가소수
A11: 전체자재 적용율(%)(공종/일위대가) | B11: 100 | C11: 1 | D11: =$B$11/100 -> 1
A12: 전체노임 적용율(%)(공종) | B12: 100 | C12: 1 | D12: =$B$12/100 -> 1 | E12: 2 | H12: 2번 옵션으로 변환했을 때에는 결과값이 다를 수 있습니다.
A13: 전체노임 적용율(%)(일위대가) | B13: 100 | C13: 1 | D13: =$B$13/100 -> 1 | E13: 5
A20: *(그룹별 자재 단가 추가 할증)* | B20: 적용율(%) | D20: 적용율(%)/100
A21: Cable(CAB) 할증(%) | B21: =B11 -> 100 | D21: =$B$21/100 -> 1
A22: Wire (WIR) 할증(%) | B22: =B11 -> 100 | D22: =$B$22/100 -> 1
A23: Pipe (PIP) 할증(%) | B23: =B11 -> 100 | D23: =$B$23/100 -> 1
A24: 제 4그룹 할증(%) | B24: =B11 -> 100 | D24: =$B$24/100 -> 1
A25: 제 5그룹 할증(%) | B25: =B11 -> 100 | D25: =$B$25/100 -> 1
A30: *(그룹별 노임 추가 할증)* | B30: 적용율(%) | C30: 자동부속재(전기) | D30: 자동부속재(통신)
A31: 배관부속재(%) | B31: 15 | C31: 15 | D31: 20
A32: CD관부속재(%) | B32: 40 | C32: 40 | D32: 40
A33: 소모잡자재(%) | B33: 2 | H33: 본 파일은 이지테크에서 2번 옵션으로 만들었습니다.
A34: 방폭할증(%)
A35: 고소할증(%) | B35: 2
A36: 공구손료(%) | B36: 3
A40: *(공종별 노임 적용율(%))* | B40: 적용율(%) | C40: 소수자릿수
A41: 1-1-1.소방설비공사 | B41: 100 | C41: 0
A42: 1-1-2.유도등설비공사 | B42: 100 | C42: 0
