Workbook
Name __JJ132: [1]중기일위대가!$J$136
Name __JK132: [1]중기일위대가!$K$136
Name __JN132: [1]중기일위대가!$I$136
Name __p1: #REF!
Name _95년_포상금_지급내역: #REF!
Name _JJ132: [1]중기일위대가!$J$136
Name _JK132: [1]중기일위대가!$K$136
Name _JN132: [1]중기일위대가!$I$136
Name _p1: #REF!
Name a: #REF!
Name alf: [2]개발계획수립!$B$13:$I$131
Name b: #REF!
Name BOX형수로집계: #REF!
Name CV_1C: #REF!
Name d: #REF!
Name N: #REF!
Name P: #REF!
Name Print_Area_MI: #REF!
Name Q: #REF!
Name SIZE: #REF!
Name 강감찬: #REF!
Name 경계점말뚝: '[3]2.재료비'!#REF!
Name 계약단가: #REF!
Name 고급: [4]상세!$G$24
Name 공공시설: [5]내역서!#REF!
Name 공사비: #REF!
Name 공업용뇌관2: '[3]2.재료비'!#REF!
Name 교육: [5]내역서!#REF!
Name 교통: [5]내역서!#REF!
Name 기간: #REF!
Name 김유신: #REF!
Name 노임: #REF!
Name 다이너마이트2: '[3]2.재료비'!#REF!
Name 단가: #REF!
Name 단순공종: #REF!
Name 대기질: [5]내역서!#REF!
Name 대기질측정: [5]내역서!#REF!
Name 대안설정: [5]내역서!#REF!
Name 동식물상: [5]내역서!#REF!
Name ㅁ1: [6]예산총괄표!#REF!
Name 명수: #REF!
Name 문화재: [5]내역서!#REF!
Name 백색페인트: [7]예측단가간지!$D$21
Name 보정계수1: #REF!
Name 보정계수2: #REF!
Name 보정계수3: #REF!
Name 보조: [4]상세!$G$27
Name 보통공종: #REF!
Name 보통인부: '[3]1.인건비'!$H$12
Name 복잡공종: #REF!
Name 비닐전화선: '[3]2.재료비'!#REF!
Name 뿌로마이드: '[3]2.재료비'!#REF!
Name 사정: [5]내역서!#REF!
Name 사후환경조사: [5]내역서!#REF!
Name 산업: [5]내역서!#REF!
Name 선택: #REF!
Name 설계규모: #REF!
Name 섹션오일페이퍼: '[3]2.재료비'!#REF!
Name 소음진동: [5]내역서!#REF!
Name 수리수문: [5]내역서!#REF!

Sheet 원가계산
A1: [공사명] | C1: [ CAV기반 미래모빌리티 자율주행 평가플랫폼 구축 증축공사(전기)] | I1: ="금 액 : "&NUMBERSTRING(E35,1)&" 원정 ("&DOLLAR(E35,0)&")" -> 금 액 : 영 원정 (₩0)
A2: 비 목 | D2: 금 액 | G2: 구 성 비 | Q2: 비 고 | R2: 추정가격 = 순공사원가
B3: 재 료 비 | C3: 직 접 재 료 비 | E3: =총괄표!I29 -> 0 | R3: 추정금액 = 공급가액 + 부가세 + 도급자관급
C4: 간 접 재 료 비
C5: 작 업 설 , 부 산 물 등 (△) | E5: 0 | S5: =E3+E7+E10 -> 0 | T5: 직접노무비,경비 요율근거금액
A6: 순 | C6: [ 소 계 ] | E6: =E3+E4+E5 -> 0 | S6: =E3+E7+E31 -> 0 | T6: 안전관리비 요율근거금액
B7: 노 무 비 | C7: 직 접 노 무 비 | E7: =총괄표!L29 -> 0 | S7: =E24 -> 0 | T7: 일반관리비,이윤
C8: 간 접 노 무 비 | E8: =TRUNC(E7*I8) -> 0 | G8: 직접노무비 | H8: × | I8: 0.126 | S8: =E29+E31 -> 0 | T8: 퇴직공제근거금액
A9: 공 | C9: [ 소 계 ] | E9: =SUM(E7:E8) -> 0
C10: 기 계 경 비 | E10: =총괄표!N29 -> 0
C11: 산 재 보 험 료 | E11: =TRUNC(E9*I11) -> 0 | G11: 노무비 | H11: × | I11: 0.0356
A12: 사 | C12: 고 용 보 험 료 | E12: =TRUNC(E9*I12) -> 0 | G12: 노무비 | H12: × | I12: 0.0101
B13: 경 | C13: 건 강 보 험 료 | E13: =TRUNC(E7*I13) -> 0 | G13: 직접노무비 | H13: × | I13: 0.03545 | R13: 공사기간 1개월(30일) 이상인 모든 건설공사
C14: 노 인 장 기 요 양 보 험 료 | E14: =TRUNC(E13*I14) -> 0 | G14: 건강보험료 | H14: × | I14: 0.1295 | R14: 공사기간 1개월(30일) 이상인 모든 건설공사
C15: 연 금 보 험 료 | E15: =TRUNC(E7*I15) -> 0 | G15: 직접노무비 | H15: × | I15: 0.045 | R15: 공사기간 1개월(30일) 이상인 모든 건설공사
A16: 원 | C16: 퇴 직 공 제 부 금 비 | E16: =TRUNC(E7*I16) -> 0 | G16: 직접노무비 | H16: × | I16: 0.023 | R16: 추정금액이 1억 이상인 건설공사
C17: 산 업 안 전 보 건 관 리 비 | E17: =MIN(E18,E19) -> 0 | Q17: ①과②비교후 적은 금액 적용 | R17: 총 공사금액(도급금액+도급자관급금액) 2천만원 이상 건설공사
C18: ① | E18: =(TRUNC((E6+E7)*I18+K18)*M18) -> 0 | G18: ((재료비+직노) | H18: × | I18: 0.0293 | J18: + | K18: 0 | L18: ) × | M18: 1.2
A19: 가 | C19: ② | E19: =TRUNC((E6+E7+E31/1.1)*I19)+K19 -> 0 | G19: (재료비+직노+관급자재비(도급자/1.1)) | H19: × | I19: 0.0293 | J19: + | K19: 0
B20: 비 | C20: 기 타 경 비 | E20: =TRUNC((E6+E9)*I20) -> 0 | G20: (재료비+노무비) | H20: × | I20: 0.052
C21: 환 경 보 존 비 | E21: =TRUNC((E6+E7+E10)*I21) -> 0
C22: 건설하도급대금지급보증서발급수수료 | E22: =TRUNC((E6+E7+E10)*I22) -> 0
C23: [ 소 계 ] | E23: =SUM(E10:E17,E20:E22) -> 0
B24: 계 | E24: =E6+E9+E23 -> 0
A25: 일 반 관 리 비 | E25: =TRUNC(E24*I25) -> 0 | G25: 계 | H25: × | I25: 0.06
A26: 이 윤 | E26: =TRUNC((E9+E23+E25)*I26)+Q26 -> 0 | G26: (노무비+경비+일반관리비) | H26: × | I26: 0.15 | Q26: =Q23-MOD(SUM(E24:E25)+INT((SUM(E24:E25)-E6)*I26+Q24/100),10000) -> 0
A27: 공 급 가 액 | E27: =SUM(E24:E26) -> 0
A28: 부 가 가 치 세 | E28: =TRUNC(E27*I28) -> 0 | G28: 공급가액 | H28: × | I28: 0.1
A29: [도 급 액] | E29: =SUM(E27:E28) -> 0
A30: 관 급 자 재 (관급자설치) | G30: VAT포함
A31: 관 급 자 재 (도급자설치) | E31: =총괄표!P31 -> 0 | G31: VAT포함
A32: 관 급 공 사 비 (합 계) | E32: =ROUNDUP((E30+E31),-3) -> 0 | Q32: 천단위이하절상
A33: 한 전 불 입 금 | G33: VAT포함
A35: [총 공 사 비] | E35: =E29+E32+E33+E34 -> 0
O37: 제비율 | Q37: =E29/SUM(E3,E7,E10) -> #DIV/0!
D40: 1차 | E40: 86968000
D41: 2차 | E41: 405327000
D42: 계 | E42: =SUM(E40:E41) -> 492295000
E43: =E35-E42 -> -492295000

Sheet 총괄표
A1: 총줄수-> | B1: 211 | D1: [ CAV기반 미래모빌리티 자율주행 평가플랫폼 구축 증축공사 ] | AA1: 연속견적가로형식
A2: 번호 | B2: 공종코드 | C2: … | D2: 공 종 명 | E2: 규격 | F2: 단위 | G2: 수량 | H2: 재료비 | J2: 노무비 | M2: 경비 | P2: 계 | Q2: 비고
H3: 단가 | I3: 금액 | J3: 수량 | K3: 단가 | L3: 금액 | M3: 단가 | N3: 금액 | O3: 단가
B4: 공종줄 | D4: CAV기반 미래모빌리티 자율주행 평가플랫폼 구축 증축공사
B5: 01 | D5: 1.전기공사 | F5: 식 | G5: 1 | H5: =총괄표!I79 -> 0 | I5: =G5*H5 -> 0 | K5: =총괄표!L79 -> 0 | L5: =G5*K5 -> 0 | M5: =총괄표!N79 -> 0 | N5: =G5*M5 -> 0 | O5: =IF((H5+K5+M5)=0, "", (H5+K5+M5)) | P5: =SUM(I5,L5,N5) -> 0
C29: Total | D29: ( 합 계 ) | I29: =TRUNC(SUM(I4:I28)) -> 0 | L29: =TRUNC(SUM(L4:L28)) -> 0 | N29: =TRUNC(SUM(N4:N28)) -> 0 | O29: =IF((H29+K29+M29)=0, "", (H29+K29+M29)) | P29: =TRUNC(SUM(P4:P28)) -> 0
B30: 공종줄 | D30: CAV기반 미래모빌리티 자율주행 평가플랫폼 구축 증축공사
B31: 02 | D31: 2.도급자관급 | F31: 식 | G31: 1 | H31: =총괄표!I156 -> 0 | I31: =G31*H31 -> 0 | K31: =총괄표!L156 -> 0 | L31: =G31*K31 -> 0 | M31: =총괄표!N156 -> 0 | N31: =G31*M31 -> 0 | O31: =IF((H31+K31+M31)=0, "", (H31+K31+M31)) | P31: =SUM(I31,L31,N31) -> 0
C55: Total | D55: ( 합 계 ) | I55: =TRUNC(SUM(I30:I54)) -> 0 | L55: =TRUNC(SUM(L30:L54)) -> 0 | N55: =TRUNC(SUM(N30:N54)) -> 0 | O55: =IF((H55+K55+M55)=0, "", (H55+K55+M55)) | P55: =TRUNC(SUM(P30:P54)) -> 0
B56: 공종줄 | D56: 1.전기공사
B57: 0101 | D57: 1-1.워크샵 | F57: 식 | G57: 1 | H57: =총괄표!I105 -> 0 | I57: =G57*H57 -> 0 | K57: =총괄표!L105 -> 0 | L57: =G57*K57 -> 0 | M57: =총괄표!N105 -> 0 | N57: =G57*M57 -> 0 | O57: =IF((H57+K57+M57)=0, "", (H57+K57+M57)) | P57: =SUM(I57,L57,N57) -> 0
B58: 0103 | D58: 1-3.자동차전용도로 | F58: 식 | G58: 1 | H58: =총괄표!I131 -> 0 | I58: =G58*H58 -> 0 | K58: =총괄표!L131 -> 0 | L58: =G58*K58 -> 0 | M58: =총괄표!N131 -> 0 | N58: =G58*M58 -> 0 | O58: =IF((H58+K58+M58)=0, "", (H58+K58+M58)) | P58: =SUM(I58,L58,N58) -> 0
B79: 01 | C79: Total | D79: ( 합 계 ) | I79: =TRUNC(SUM(I56:I78)) -> 0 | L79: =TRUNC(SUM(L56:L78)) -> 0 | N79: =TRUNC(SUM(N56:N78)) -> 0 | O79: =IF((H79+K79+M79)=0, "", (H79+K79+M79)) | P79: =TRUNC(SUM(P56:P78)) -> 0
B80: 공종줄 | D80: 1.전기공사::1-1.워크샵
B81: 010101 | D81: 1-1-1.전력간선설비공사 | F81: 식 | G81: 1 | H81: =내역서!I37 -> 0 | I81: =G81*H81 -> 0 | K81: =내역서!L37 -> 0 | L81: =G81*K81 -> 0 | M81: =내역서!N37 -> 0 | N81: =G81*M81 -> 0 | O81: =IF((H81+K81+M81)=0, "", (H81+K81+M81)) | P81: =SUM(I81,L81,N81) -> 0
B82: 010102 | D82: 1-1-2.전등설비공사 | F82: 식 | G82: 1 | H82: =내역서!I71 -> 0 | I82: =G82*H82 -> 0 | K82: =내역서!L71 -> 0 | L82: =G82*K82 -> 0 | M82: =내역서!N71 -> 0 | N82: =G82*M82 -> 0 | O82: =IF((H82+K82+M82)=0, "", (H82+K82+M82)) | P82: =SUM(I82,L82,N82) -> 0
B83: 010103 | D83: 1-1-3.전열설비공사 | F83: 식 | G83: 1 | H83: =내역서!I97 -> 0 | I83: =G83*H83 -> 0 | K83: =내역서!L97 -> 0 | L83: =G83*K83 -> 0 | M83: =내역서!N97 -> 0 | N83: =G83*M83 -> 0 | O83: =IF((H83+K83+M83)=0, "", (H83+K83+M83)) | P83: =SUM(I83,L83,N83) -> 0
B84: 010104 | D84: 1-1-4.냉난방설비공사 | F84: 식 | G84: 1 | H84: =내역서!I129 -> 0 | I84: =G84*H84 -> 0 | K84: =내역서!L129 -> 0 | L84: =G84*K84 -> 0 | M84: =내역서!N129 -> 0 | N84: =G84*M84 -> 0 | O84: =IF((H84+K84+M84)=0, "", (H84+K84+M84)) | P84: =SUM(I84,L84,N84) -> 0
B85: 010105 | D85: 1-1-5.CABLE TRAY설치공사 | F85: 식 | G85: 1 | H85: =내역서!I144 -> 0 | I85: =G85*H85 -> 0 | K85: =내역서!L144 -> 0 | L85: =G85*K85 -> 0 | M85: =내역서!N144 -> 0 | N85: =G85*M85 -> 0 | O85: =IF((H85+K85+M85)=0, "", (H85+K85+M85)) | P85: =SUM(I85,L85,N85) -> 0
B105: 0101 | C105: Total | D105: ( 합 계 ) | I105: =TRUNC(SUM(I80:I104)) -> 0 | L105: =TRUNC(SUM(L80:L104)) -> 0 | N105: =TRUNC(SUM(N80:N104)) -> 0 | O105: =IF((H105+K105+M105)=0, "", (H105+K105+M105)) | P105: =TRUNC(SUM(P80:P104)) -> 0
B106: 공종줄 | D106: 1.전기공사::1-3.자동차전용도로
B107: 010301 | D107: 1-3-1.옥외가로등설비공사 | F107: 식 | G107: 1 | H107: =내역서!I151 -> 0 | I107: =G107*H107 -> 0 | K107: =내역서!L151 -> 0 | L107: =G107*K107 -> 0 | M107: =내역서!N151 -> 0 | N107: =G107*M107 -> 0 | O107: =IF((H107+K107+M107)=0, "", (H107+K107+M107)) | P107: =SUM(I107,L107,N107) -> 0
B108: 010302 | D108: 1-3-2.통신탑및CCTV주설비공사 | F108: 식 | G108: 1 | H108: =내역서!I169 -> 0 | I108: =G108*H108 -> 0 | K108: =내역서!L169 -> 0 | L108: =G108*K108 -> 0 | M108: =내역서!N169 -> 0 | N108: =G108*M108 -> 0 | O108: =IF((H108+K108+M108)=0, "", (H108+K108+M108)) | P108: =SUM(I108,L108,N108) -> 0
B131: 0103 | C131: Total | D131: ( 합 계 ) | I131: =TRUNC(SUM(I106:I130)) -> 0 | L131: =TRUNC(SUM(L106:L130)) -> 0 | N131: =TRUNC(SUM(N106:N130)) -> 0 | O131: =IF((H131+K131+M131)=0, "", (H131+K131+M131)) | P131: =TRUNC(SUM(P106:P130)) -> 0
B132: 공종줄 | D132: 2.도급자관급
B133: 0201 | D133: 2-1.분전반 | F133: 식 | G133: 1 | H133: =내역서!I177 -> 0 | I133: =G133*H133 -> 0 | K133: =내역서!L177 -> 0 | L133: =G133*K133 -> 0 | M133: =내역서!N177 -> 0 | N133: =G133*M133 -> 0 | O133: =IF((H133+K133+M133)=0, "", (H133+K133+M133)) | P133: =SUM(I133,L133,N133) -> 0
B134: 0202 | D134: 2-2.가로등조명기구 | F134: 식 | G134: 1 | H134: =내역서!I183 -> 0 | I134: =G134*H134 -> 0 | K134: =내역서!L183 -> 0 | L134: =G134*K134 -> 0 | M134: =내역서!N183 -> 0 | N134: =G134*M134 -> 0 | O134: =IF((H134+K134+M134)=0, "", (H134+K134+M134)) | P134: =SUM(I134,L134,N134) -> 0
B135: 0204 | D135: 2-3.가로등접속함 | F135: 식 | G135: 1 | H135: =내역서!I190 -> 0 | I135: =G135*H135 -> 0 | K135: =내역서!L190 -> 0 | L135: =G135*K135 -> 0 | M135: =내역서!N190 -> 0 | N135: =G135*M135 -> 0 | O135: =IF((H135+K135+M135)=0, "", (H135+K135+M135)) | P135: =SUM(I135,L135,N135) -> 0
B136: 0205 | D136: 2-4.가로등기초 | F136: 식 | G136: 1 | H136: =내역서!I196 -> 0 | I136: =G136*H136 -> 0 | K136: =내역서!L196 -> 0 | L136: =G136*K136 -> 0 | M136: =내역서!N196 -> 0 | N136: =G136*M136 -> 0 | O136: =IF((H136+K136+M136)=0, "", (H136+K136+M136)) | P136: =SUM(I136,L136,N136) -> 0
B137: 0206 | D137: 2-5.조명기구 | F137: 식 | G137: 1 | H137: =내역서!I207 -> 0 | I137: =G137*H137 -> 0 | K137: =내역서!L207 -> 0 | L137: =G137*K137 -> 0 | M137: =내역서!N207 -> 0 | N137: =G137*M137 -> 0 | O137: =IF((H137+K137+M137)=0, "", (H137+K137+M137)) | P137: =SUM(I137,L137,N137) -> 0
B156: 02 | C156: Total | D156: ( 합 계 ) | I156: =TRUNC(SUM(I133:I155)) -> 0 | L156: =TRUNC(SUM(L132:L155)) -> 0 | N156: =TRUNC(SUM(N132:N155)) -> 0 | O156: =IF((H156+K156+M156)=0, "", (H156+K156+M156)) | P156: =TRUNC(SUM(P133:P155)) -> 0

Sheet 내역서
A1: 총줄수-> | B1: 497 | D1: [ CAV기반 미래모빌리티 자율주행 평가플랫폼 구축 증축공사 ] | W1: 노임 계산 정보 | AA1: 부속재 및 손료
A2: 번호 | B2: 공종코드 | C2: 코드 | D2: 명 칭 | E2: 규 격 | F2: 단위 | G2: 수량 | H2: 재료비 | J2: 노무비 | M2: 경비 | P2: 계 | Q2: 비고 | W2: 노임계 | X2: 전체(%) | Y2: 공종별(%) | Z2: 노임 소수 | AA2: CD배관재 | AB2: 일반배관재 | AC2: 소모재 | AD2: 자재계 | AE2: 노임계
H3: 단가 | I3: 금액 | J3: 수량 | K3: 단가 | L3: 금액 | M3: 단가 | N3: 금액 | O3: 단가 | AD3: =IF(옵션!$C$11 =0, "1", 옵션!$C$11) -> 1 | AE3: =IF(옵션!$C$12 =0, "1", 옵션!$C$12) -> 1
B4: 공종줄 | D4: 1.전기공사::1-1.워크샵::1-1-1.전력간선설비공사
A5: 56959000010 | B5: 010101 | C5: E56959000010 | D5: 나사없는전선관 | E5: E51 | F5: M | G5: 30 | Q5: 제 28호 | AC5: =G5*H5 -> 0
A6: 56959000011 | B6: 010101 | C6: E56959000011 | D6: 나사없는전선관 | E6: E75 | F6: M | G6: 9 | Q6: 제 29호 | AC6: =G6*H6 -> 0
A7: MMH99991018 | B7: 010101 | C7: 9999999991020018 | D7: 나사없는전선관 | E7: 노말밴드, E51 | F7: EA | G7: 1
A8: MMH99991020 | B8: 010101 | C8: 9999999991020020 | D8: 나사없는전선관 | E8: 노말밴드, E75 | F8: EA | G8: 1
A9: MMH99991011 | B9: 010101 | C9: 9999999991020011 | D9: 볼트고정식 이음쇠 | E9: 커플링 E51 | F9: EA | G9: 8
A10: MMH99991013 | B10: 010101 | C10: 9999999991020013 | D10: 볼트고정식 이음쇠 | E10: 커플링 E75 | F10: EA | G10: 2
A11: MMX99810004 | B11: 010101 | C11: 8974653100010164 | D11: 볼트고정식 이음쇠 | E11: 커넥터 E51 | F11: EA | G11: 6
A12: MMX99810006 | B12: 010101 | C12: 8974653100010166 | D12: 볼트고정식 이음쇠 | E12: 커넥터 E75 | F12: EA | G12: 6
A13: 5975E877205 | B13: 010101 | C13: E59754877205 | D13: 관로구방수장치 | E13: D125 | F13: 조 | G13: 4 | Q13: 제 32호
A14: 56951000004 | B14: 010101 | C14: EAU000000004 | D14: 새들(벽체) | E14: 42C | F14: 개소 | G14: 5 | Q14: 제 36호
A15: 56951000006 | B15: 010101 | C15: EAU000000006 | D15: 새들(벽체) | E15: 70C | F15: 개소 | G15: 5 | Q15: 제 37호
A16: 56951000204 | B16: 010101 | C16: EA1000000204 | D16: 파이프행가 | E16: 42 C | F16: 개소 | G16: 14 | Q16: 제 41호
A17: 5975D857031 | B17: 010101 | C17: E59753857031 | D17: 풀박스 | E17: 150×150×100 | F17: 개 | G17: 4 | Q17: 제 48호
A18: E145A927205 | B18: 010101 | C18: EE1450927205 | D18: 접지용비닐절연전선(F-GV) | E18: 16㎟ | F18: M | G18: 32 | Q18: 제 62호 | AC18: =G18*H18 -> 0
A19: E145A927206 | B19: 010101 | C19: EE1450927206 | D19: 접지용비닐절연전선(F-GV) | E19: 25㎟ | F19: M | G19: 11 | Q19: 제 63호 | AC19: =G19*H19 -> 0
A20: E145A927212 | B20: 010101 | C20: EE1450927212 | D20: 접지용비닐절연전선(F-GV) | E20: 95㎟ | F20: M | G20: 179 | Q20: 제 64호 | AC20: =G20*H20 -> 0
A21: ELD69111302 | B21: 010101 | C21: ELD691113002 | D21: 폴리에틸렌 난연케이블 | E21: F-CV 1C 50㎟ 4열동시1열당 | F21: M | G21: 42 | Q21: 제 67호
A22: ELE64111302 | B22: 010101 | C22: ELE641113002 | D22: 폴리에틸렌 난연케이블 | E22: F-CV 1C 150㎟ 4열동시1열당 | F22: M | G22: 714 | Q22: 제 68호
A23: E145A287566 | B23: 010101 | C23: EE1450287566 | D23: 폴리에틸렌 난연케이블 | E23: 0.6/1kv F-CV 4C×25㎟ | F23: M | G23: 32 | Q23: 제 76호 | AC23: =G23*H23 -> 0
A24: E940A177028 | B24: 010101 | C24: EE9400177028 | D24: 러그단자 | E24: 동관단자 2 HOLE 150 ㎟ | F24: 개 | G24: 8 | Q24: 제 77호
A25: E940A267007 | B25: 010101 | C25: EE9400267007 | D25: 압착단자 | E25: R형동선 나압착 25 ㎟ | F25: 개 | G25: 8 | Q25: 제 79호
A26: E940A267009 | B26: 010101 | C26: EE9400267009 | D26: 압착단자 | E26: R형동선 나압착 50 ㎟ | F26: 개 | G26: 8 | Q26: 제 81호
A27: 56959000004 | B27: 010101 | C27: E56959000004 | D27: 러그단자(접지) | E27: 동관단자 2 HOLE 95 ㎟ | F27: 개 | G27: 2 | Q27: 제 82호
A28: 56959000005 | B28: 010101 | C28: E56959000005 | D28: 압착단자(접지) | E28: R형동선 나압착 16 ㎟ | F28: 개 | G28: 2 | Q28: 제 83호
A29: 56959000006 | B29: 010101 | C29: E56959000006 | D29: 압착단자(접지) | E29: R형동선 나압착 25 ㎟ | F29: 개 | G29: 2 | Q29: 제 84호
A30: 5925A327174 | B30: 010101 | C30: E59250327174 | D30: 배선용 차단기 | E30: 표준형, 4P 600V 225AF | F30: 대 | G30: 1 | Q30: 제 91호
A31: 56959000021 | B31: 010101 | C31: E56959000021 | D31: 분전반 | E31: LW-1 | F31: 면 | G31: 1 | Q31: 제 103호
A32: 56959000022 | B32: 010101 | C32: E56959000022 | D32: 분전반 | E32: LW-1A | F32: 면 | G32: 1 | Q32: 제 104호
A33: 56959000023 | B33: 010101 | C33: E56959000023 | D33: 분전반 | E33: LW-2 | F33: 면 | G33: 1 | Q33: 제 105호
A34: 56959000012 | B34: 010101 | C34: E56959000012 | D34: 배선용 차단기(철거) | E34: 4P 600V 225AF | F34: 대 | G34: 1 | Q34: 제 108호
B37: 합계줄 | D37: ( 합 계 )
B38: 공종줄 | D38: 1.전기공사::1-1.워크샵::1-1-2.전등설비공사
A39: 56959000001 | B39: 010102 | C39: E56959000001 | D39: 1종금속제가요전선관 | E39: 16 mm 고장력-비방수 | F39: M | G39: 57 | Q39: 제 23호 | AC39: =G39*H39 -> 0
A40: 59753017043 | B40: 010102 | C40: 3913170620174434 | D40: 1종금속제가요전선관 | E40: 커넥터, 16 mm 일반-비방수 | F40: 개 | G40: 68
A41: 56959000007 | B41: 010102 | C41: E56959000007 | D41: 나사없는전선관 | E41: E19 | F41: M | G41: 233 | Q41: 제 25호 | AC41: =G41*H41 -> 0
A42: 56959000008 | B42: 010102 | C42: E56959000008 | D42: 나사없는전선관 | E42: E25 | F42: M | G42: 21 | Q42: 제 26호 | AC42: =G42*H42 -> 0
A43: MMH99991007 | B43: 010102 | C43: 9999999991020007 | D43: 볼트고정식 이음쇠 | E43: 커플링 E19 | F43: EA | G43: 64
A44: MMH99991008 | B44: 010102 | C44: 9999999991020008 | D44: 볼트고정식 이음쇠 | E44: 커플링 E25 | F44: EA | G44: 5
A45: MMX99810000 | B45: 010102 | C45: 8974653100010160 | D45: 볼트고정식 이음쇠 | E45: 커넥터 E19 | F45: EA | G45: 144
A46: MMX99810001 | B46: 010102 | C46: 8974653100010161 | D46: 볼트고정식 이음쇠 | E46: 커넥터 E25 | F46: EA | G46: 10
A47: 56951000000 | B47: 010102 | C47: EAU000000000 | D47: 새들(벽체) | E47: 16C | F47: 개소 | G47: 22 | Q47: 제 33호
A48: 56951000001 | B48: 010102 | C48: EAU000000001 | D48: 새들(벽체) | E48: 22C | F48: 개소 | G48: 5 | Q48: 제 34호
A49: 56951000200 | B49: 010102 | C49: EA1000000200 | D49: 파이프행가 | E49: 16 C | F49: 개소 | G49: 132 | Q49: 제 38호
A50: 56951000201 | B50: 010102 | C50: EA1000000201 | D50: 파이프행가 | E50: 22 C | F50: 개소 | G50: 8 | Q50: 제 39호
A51: 5975D767011 | B51: 010102 | C51: E59753767011 | D51: 아우트렛박스 | E51: 8각 54㎜ | F51: 개 | G51: 51 | Q51: 제 42호
A52: 5975D767041 | B52: 010102 | C52: E59753767041 | D52: 아우트렛박스 | E52: 중형4각 54㎜ | F52: 개 | G52: 7 | Q52: 제 43호
A53: 5975D777102 | B53: 010102 | C53: E59753777102 | D53: 스위치박스 | E53: 1 개용 54 mm | F53: 개 | G53: 9 | Q53: 제 44호
A54: 59753767221 | B54: 010102 | C54: 3912130820174712 | D54: 아우트렛박스 커버 | E54: 커버, 8각, 둥근구멍(평) | F54: 개 | G54: 51
A55: 59753767251 | B55: 010102 | C55: 3912130820174715 | D55: 아우트렛박스 커버 | E55: 커버, 4각, 둥근구멍(평) | F55: 개 | G55: 7
A56: 5975D857011 | B56: 010102 | C56: E59753857011 | D56: 풀박스 | E56: 100×100×75 | F56: 개 | G56: 5 | Q56: 제 47호
A57: 56951001324 | B57: 010102 | C57: EA1000001324 | D57: 박스용 구멍따기 | E57: 각종두께 | F57: 개소 | G57: 21 | Q57: 제 49호
A58: 56959000003 | B58: 010102 | C58: E56959000003 | D58: 450/750V 내열비닐절연전선 | E58: HFIX 1.78mm(2.5㎟) | F58: M | G58: 1044 | Q58: 제 57호 | AC58: =G58*H58 -> 0
A59: 5930B517001 | B59: 010102 | C59: E59301517001 | D59: 매입스위치 | E59: 15A, 250V 1로1구 | F59: 개 | G59: 3 | Q59: 제 85호
A60: 5930B517002 | B60: 010102 | C60: E59301517002 | D60: 매입스위치 | E60: 15A, 250V 1로2구 | F60: 개 | G60: 2 | Q60: 제 86호
A61: 5930B517003 | B61: 010102 | C61: E59301517003 | D61: 매입스위치 | E61: 15A, 250V 1로3구 | F61: 개 | G61: 4 | Q61: 제 87호
A62: 56959000015 | B62: 010102 | C62: E56959000015 | D62: 조명기구(A) | E62: 체인펜던트 LED 80W | F62: EA | G62: 12 | Q62: 제 93호
A63: 56959000016 | B63: 010102 | C63: E56959000016 | D63: 조명기구(B) | E63: 매입등 LED 50W | F63: EA | G63: 12 | Q63: 제 94호
A64: 56959000017 | B64: 010102 | C64: E56959000017 | D64: 조명기구(C) | E64: P.P LED 40W | F64: EA | G64: 13 | Q64: 제 95호
A65: 56959000018 | B65: 010102 | C65: E56959000018 | D65: 조명기구(D) | E65: D/L LED 15W | F65: EA | G65: 9 | Q65: 제 96호
A66: 56959000019 | B66: 010102 | C66: E56959000019 | D66: 조명기구(E) | E66: 직부센서등 LED 12W | F66: EA | G66: 3 | Q66: 제 97호
A67: 56959000020 | B67: 010102 | C67: E56959000020 | D67: 조명기구(F) | E67: 원형직부등 LED 12W | F67: EA | G67: 9 | Q67: 제 98호
A68: 56951001830 | B68: 010102 | C68: EA1000001830 | D68: 등기구보강 | E68: 매입 LED 55W이하 | F68: EA | G68: 12 | Q68: 제 100호
B71: 합계줄 | D71: ( 합 계 )
B72: 공종줄 | D72: 1.전기공사::1-1.워크샵::1-1-3.전열설비공사
A73: 56959000007 | B73: 010103 | C73: E56959000007 | D73: 나사없는전선관 | E73: E19 | F73: M | G73: 377 | Q73: 제 25호 | AC73: =G73*H73 -> 0
A74: 56959000009 | B74: 010103 | C74: E56959000009 | D74: 나사없는전선관 | E74: E31 | F74: M | G74: 147 | Q74: 제 27호 | AC74: =G74*H74 -> 0
A75: MMH99991016 | B75: 010103 | C75: 9999999991020016 | D75: 나사없는전선관 | E75: 노말밴드, E31 | F75: EA | G75: 10
A76: MMH99991007 | B76: 010103 | C76: 9999999991020007 | D76: 볼트고정식 이음쇠 | E76: 커플링 E19 | F76: EA | G76: 104
A77: MMH99991009 | B77: 010103 | C77: 9999999991020009 | D77: 볼트고정식 이음쇠 | E77: 커플링 E31 | F77: EA | G77: 40
A78: MMX99810000 | B78: 010103 | C78: 8974653100010160 | D78: 볼트고정식 이음쇠 | E78: 커넥터 E19 | F78: EA | G78: 106
A79: MMX99810002 | B79: 010103 | C79: 8974653100010162 | D79: 볼트고정식 이음쇠 | E79: 커넥터 E31 | F79: EA | G79: 28
A80: 56951000000 | B80: 010103 | C80: EAU000000000 | D80: 새들(벽체) | E80: 16C | F80: 개소 | G80: 126 | Q80: 제 33호
A81: 56951000002 | B81: 010103 | C81: EAU000000002 | D81: 새들(벽체) | E81: 28C | F81: 개소 | G81: 41 | Q81: 제 35호
A82: 56951000200 | B82: 010103 | C82: EA1000000200 | D82: 파이프행가 | E82: 16 C | F82: 개소 | G82: 125 | Q82: 제 38호
A83: 56951000202 | B83: 010103 | C83: EA1000000202 | D83: 파이프행가 | E83: 28 C | F83: 개소 | G83: 55 | Q83: 제 40호
A84: 5975D777102 | B84: 010103 | C84: E59753777102 | D84: 스위치박스 | E84: 1 개용 54 mm | F84: 개 | G84: 24 | Q84: 제 44호
A85: 5975D777111 | B85: 010103 | C85: E59753777111 | D85: 스위치박스 | E85: 2 개용 54 mm | F85: 개 | G85: 1 | Q85: 제 45호
A86: 59753767281 | B86: 010103 | C86: 3912130820174718 | D86: 아우트렛박스 커버 | E86: 커버, 4각,2개용S/W (오목) | F86: 개 | G86: 1
A87: 6145F137894 | B87: 010103 | C87: E61455137894 | D87: 정션 박스 | E87: 100*100*50 | F87: 개 | G87: 13 | Q87: 제 46호
A88: 5975D857011 | B88: 010103 | C88: E59753857011 | D88: 풀박스 | E88: 100×100×75 | F88: 개 | G88: 2 | Q88: 제 47호
A89: 5975D857031 | B89: 010103 | C89: E59753857031 | D89: 풀박스 | E89: 150×150×100 | F89: 개 | G89: 7 | Q89: 제 48호
A90: E145A667003 | B90: 010103 | C90: EE1450667003 | D90: 450/750V 내열비닐절연전선 | E90: HFIX 2.25mm(4㎟) | F90: M | G90: 1194 | Q90: 제 58호 | AC90: =G90*H90 -> 0
A91: E145A927203 | B91: 010103 | C91: EE1450927203 | D91: 접지용비닐절연전선(F-GV) | E91: 6㎟ | F91: M | G91: 156 | Q91: 제 60호 | AC91: =G91*H91 -> 0
A92: E145A287563 | B92: 010103 | C92: EE1450287563 | D92: 폴리에틸렌 난연케이블 | E92: 0.6/1kv F-CV 4C×6㎟ | F92: M | G92: 156 | Q92: 제 75호 | AC92: =G92*H92 -> 0
A93: 5935A317206 | B93: 010103 | C93: E59350317206 | D93: 콘센트 | E93: 매입-접지형, 15A 250V 2구 | F93: 개 | G93: 20 | Q93: 제 88호
A94: 5935A317207 | B94: 010103 | C94: E59350317207 | D94: 방우콘센트 | E94: 매입-접지형, 15A 250V 1구 | F94: 개 | G94: 5 | Q94: 제 89호
AE95: =TRUNC(SUM(AE72:AE94)) -> 0
B97: 합계줄 | D97: ( 합 계 )
B98: 공종줄 | D98: 1.전기공사::1-1.워크샵::1-1-4.냉난방설비공사
A99: 56959000001 | B99: 010104 | C99: E56959000001 | D99: 1종금속제가요전선관 | E99: 16 mm 고장력-비방수 | F99: M | G99: 4 | Q99: 제 23호 | AC99: =G99*H99 -> 0
A100: 59753017043 | B100: 010104 | C100: 3913170620174434 | D100: 1종금속제가요전선관 | E100: 커넥터, 16 mm 일반-비방수 | F100: 개 | G100: 4
A101: 56959000002 | B101: 010104 | C101: E56959000002 | D101: 1종금속제가요전선관 | E101: 28 mm 고장력-방수 | F101: M | G101: 2 | Q101: 제 24호 | AC101: =G101*H101 -> 0
A102: MM618792344 | B102: 010104 | C102: 3912120220176448 | D102: 1종금속제가요전선관 | E102: KS방수 콘넥타 28mm | F102: 개 | G102: 2
A103: 56959000007 | B103: 010104 | C103: E56959000007 | D103: 나사없는전선관 | E103: E19 | F103: M | G103: 12 | Q103: 제 25호 | AC103: =G103*H103 -> 0
A104: 56959000008 | B104: 010104 | C104: E56959000008 | D104: 나사없는전선관 | E104: E25 | F104: M | G104: 12 | Q104: 제 26호 | AC104: =G104*H104 -> 0
A105: 56959000009 | B105: 010104 | C105: E56959000009 | D105: 나사없는전선관 | E105: E31 | F105: M | G105: 31 | Q105: 제 27호 | AC105: =G105*H105 -> 0
...

Sheet 일대목차
B1: 133 | C1: [ CAV기반 미래모빌리티 자율주행 평가플랫폼 구축 증축공사 ] - 일위대가목차
A2: 번호 | B2: … | C2: 코드 | D2: 명 칭 | E2: 규 격 | F2: 단위 | G2: 수량 | H2: 재료비 | J2: 노무비 | M2: 경비 | O2: 계 | P2: 계 | Q2: 비고
H3: 단가 | I3: 금액 | J3: 수량 | K3: 단가 | L3: 금액 | M3: 단가 | N3: 금액 | O3: 단가
A4: 56951002800 | B4: EA1000002800 | C4: 제 1호 | D4: 인력터파기 | E4: 보통토사0-1m | F4: ㎥_ | H4: =일위대가!I6 -> 0 | I4: =H4 -> 0 | K4: =일위대가!L6 -> 33109 | L4: =K4 -> 33109 | M4: =일위대가!N6 -> 0 | N4: =M4 -> 0 | O4: =IF((H4+K4+M4)=0, "", (H4+K4+M4)) -> 33109 | P4: =SUM(I4,L4,N4) -> 33109
A5: 56951002811 | B5: EA1000002811 | C5: 제 2호 | D5: 인력되메우기 | E5: 보통토사0-1m | F5: ㎥_ | H5: =일위대가!I10 -> 0 | I5: =H5 -> 0 | K5: =일위대가!L10 -> 18209 | L5: =K5 -> 18209 | M5: =일위대가!N10 -> 0 | N5: =M5 -> 0 | O5: =IF((H5+K5+M5)=0, "", (H5+K5+M5)) -> 18209 | P5: =SUM(I5,L5,N5) -> 18209
A6: 56951002807 | B6: EA1000002807 | C6: 제 3호 | D6: 터파기(기계90%,인력10%) | E6: 보통토사 | F6: ㎥ | H6: =일위대가!I15 -> 465 | I6: =H6 -> 465 | K6: =일위대가!L15 -> 4298 | L6: =K6 -> 4298 | M6: =일위대가!N15 -> 431 | N6: =M6 -> 431 | O6: =IF((H6+K6+M6)=0, "", (H6+K6+M6)) -> 5194 | P6: =SUM(I6,L6,N6) -> 5194
A7: 56951002810 | B7: EA1000002810 | C7: 제 4호 | D7: 되메우기(기계90%,인력10%) | E7: 보통토사 | F7: ㎥ | H7: =일위대가!I20 -> 465 | I7: =H7 -> 465 | K7: =일위대가!L20 -> 2808 | L7: =K7 -> 2808 | M7: =일위대가!N20 -> 431 | N7: =M7 -> 431 | O7: =IF((H7+K7+M7)=0, "", (H7+K7+M7)) -> 3704 | P7: =SUM(I7,L7,N7) -> 3704
A8: 5975F057152 | B8: E59755057152 | C8: 제 5호 | D8: 지중선용 가선철물(저압) | E8: 케이블표지시트, 0.15x150 | F8: m | H8: =일위대가!I27 -> 97 | I8: =H8 -> 97 | K8: =일위대가!L27 -> 313 | L8: =K8 -> 313 | M8: =일위대가!N27 -> 0 | N8: =M8 -> 0 | O8: =IF((H8+K8+M8)=0, "", (H8+K8+M8)) -> 410 | P8: =SUM(I8,L8,N8) -> 410
A9: 56951002815 | B9: EA1000002815 | C9: 제 6호 | D9: 현장내잔토처리 | E9: 소운반.고르기 | F9: ㎥_ | H9: =일위대가!I31 -> 0 | I9: =H9 -> 0 | K9: =일위대가!L31 -> 33109 | L9: =K9 -> 33109 | M9: =일위대가!N31 -> 0 | N9: =M9 -> 0 | O9: =IF((H9+K9+M9)=0, "", (H9+K9+M9)) -> 33109 | P9: =SUM(I9,L9,N9) -> 33109
A10: 56951002821 | B10: EA1000002821 | C10: 제 7호 | D10: 잡석깔기지정 | E10: 떨공이다지기 | F10: ㎥ | H10: =일위대가!I36 -> 89 | I10: =H10 -> 89 | K10: =일위대가!L36 -> 2979 | L10: =K10 -> 2979 | M10: =일위대가!N36 -> 0 | N10: =M10 -> 0 | O10: =IF((H10+K10+M10)=0, "", (H10+K10+M10)) -> 3068 | P10: =SUM(I10,L10,N10) -> 3068
A11: 56951001408 | B11: EA1000001408 | C11: 제 8호 | D11: 맨 홀 | E11: 1000x1000x1000 | F11: 개소 | H11: =일위대가!I56 -> 691174 | I11: =H11 -> 691174 | K11: =일위대가!L56 -> 868912 | L11: =K11 -> 868912 | M11: =일위대가!N56 -> 49982 | N11: =M11 -> 49982 | O11: =IF((H11+K11+M11)=0, "", (H11+K11+M11)) -> 1610068 | P11: =SUM(I11,L11,N11) -> 1610068
A12: 56951001410 | B12: EA1000001410 | C12: 제 9호 | D12: 맨 홀 | E12: 1500x1500x1500 | F12: 개소 | H12: =일위대가!I76 -> 926917 | I12: =H12 -> 926917 | K12: =일위대가!L76 -> 1024504 | L12: =K12 -> 1024504 | M12: =일위대가!N76 -> 64560 | N12: =M12 -> 64560 | O12: =IF((H12+K12+M12)=0, "", (H12+K12+M12)) -> 2015981 | P12: =SUM(I12,L12,N12) -> 2015981
A13: 56951002900 | B13: EA1000002900 | C13: 제 10호 | D13: 아스팔트 포장 컷팅 | E13: 터파기 별도 계상 | F13: m | H13: =일위대가!I82 -> 618 | I13: =H13 -> 618 | K13: =일위대가!L82 -> 1258 | L13: =K13 -> 1258 | M13: =일위대가!N82 -> 0 | N13: =M13 -> 0 | O13: =IF((H13+K13+M13)=0, "", (H13+K13+M13)) -> 1876 | P13: =SUM(I13,L13,N13) -> 1876
A14: 56951002902 | B14: EA1000002902 | C14: 제 11호 | D14: 아스팔트 포장 파괴 | E14: 터파기 별도 계상 | F14: ㎡ | H14: =일위대가!I87 -> 9768 | I14: =H14 -> 9768 | K14: =일위대가!L87 -> 325617 | L14: =K14 -> 325617 | M14: =일위대가!N87 -> 0 | N14: =M14 -> 0 | O14: =IF((H14+K14+M14)=0, "", (H14+K14+M14)) -> 335385 | P14: =SUM(I14,L14,N14) -> 335385
A15: 56951005200 | B15: EA1000005200 | C15: 제 12호 | D15: 아스콘 포장 | E15: 소규모(표층) | F15: ㎡ | H15: =일위대가!I97 -> 693 | I15: =H15 -> 693 | K15: =일위대가!L97 -> 6185 | L15: =K15 -> 6185 | M15: =일위대가!N97 -> 354 | N15: =M15 -> 354 | O15: =IF((H15+K15+M15)=0, "", (H15+K15+M15)) -> 7232 | P15: =SUM(I15,L15,N15) -> 7232
A16: 56951005201 | B16: EA1000005201 | C16: 제 13호 | D16: 아스콘 포장 | E16: 소규모(기층) | F16: ㎡ | H16: =일위대가!I107 -> 650 | I16: =H16 -> 650 | K16: =일위대가!L107 -> 5801 | L16: =K16 -> 5801 | M16: =일위대가!N107 -> 332 | N16: =M16 -> 332 | O16: =IF((H16+K16+M16)=0, "", (H16+K16+M16)) -> 6783 | P16: =SUM(I16,L16,N16) -> 6783
A17: 56951002905 | B17: EA1000002905 | C17: 제 14호 | D17: 폐기물처리(아스팔트) | E17: 30km이하 | F17: ton | H17: =일위대가!I113 -> 49998 | I17: =H17 -> 49998 | K17: =일위대가!L113 -> 0 | L17: =K17 -> 0 | M17: =일위대가!N113 -> 0 | N17: =M17 -> 0 | O17: =IF((H17+K17+M17)=0, "", (H17+K17+M17)) -> 49998 | P17: =SUM(I17,L17,N17) -> 49998
A18: 5975D067012 | B18: E59753067012 | C18: 제 15호 | D18: 폴리에틸렌 전선관(지중) | E18: PE 16㎜ | F18: M | H18: =일위대가!I123 -> 434 | I18: =H18 -> 434 | K18: =일위대가!L123 -> 3996 | L18: =K18 -> 3996 | M18: =일위대가!N123 -> 0 | N18: =M18 -> 0 | O18: =IF((H18+K18+M18)=0, "", (H18+K18+M18)) -> 4430 | P18: =SUM(I18,L18,N18) -> 4430
A19: 5975D068016 | B19: E59753068016 | C19: 제 16호 | D19: 폴리에틸렌 전선관(지중) | E19: PE 42㎜(가로등, 구내) | F19: M | H19: =일위대가!I133 -> 1344 | I19: =H19 -> 1344 | K19: =일위대가!L133 -> 8691 | L19: =K19 -> 8691 | M19: =일위대가!N133 -> 0 | N19: =M19 -> 0 | O19: =IF((H19+K19+M19)=0, "", (H19+K19+M19)) -> 10035 | P19: =SUM(I19,L19,N19) -> 10035
A20: 5975D068017 | B20: E59753068017 | C20: 제 17호 | D20: 폴리에틸렌 전선관(지중) | E20: PE 54㎜(가로등, 구내) | F20: M | H20: =일위대가!I143 -> 2024 | I20: =H20 -> 2024 | K20: =일위대가!L143 -> 8691 | L20: =K20 -> 8691 | M20: =일위대가!N143 -> 0 | N20: =M20 -> 0 | O20: =IF((H20+K20+M20)=0, "", (H20+K20+M20)) -> 10715 | P20: =SUM(I20,L20,N20) -> 10715
A21: 5975D077001 | B21: E59753077001 | C21: 제 18호 | D21: 파상형 폴리에틸렌 전선관 | E21: 30㎜(가로등,신호,구내) | F21: M | H21: =일위대가!I153 -> 624 | I21: =H21 -> 624 | K21: =일위대가!L153 -> 7095 | L21: =K21 -> 7095 | M21: =일위대가!N153 -> 0 | N21: =M21 -> 0 | O21: =IF((H21+K21+M21)=0, "", (H21+K21+M21)) -> 7719 | P21: =SUM(I21,L21,N21) -> 7719
A22: 5975D077002 | B22: E59753077002 | C22: 제 19호 | D22: 파상형 폴리에틸렌 전선관 | E22: 40㎜(가로등,신호,구내) | F22: M | H22: =일위대가!I163 -> 888 | I22: =H22 -> 888 | K22: =일위대가!L163 -> 8691 | L22: =K22 -> 8691 | M22: =일위대가!N163 -> 0 | N22: =M22 -> 0 | O22: =IF((H22+K22+M22)=0, "", (H22+K22+M22)) -> 9579 | P22: =SUM(I22,L22,N22) -> 9579
A23: 5975D178001 | B23: E59753178001 | C23: 제 20호 | D23: 파상형 폴리에틸렌 전선관 | E23: 30㎜ | F23: M | H23: =일위대가!I173 -> 553 | I23: =H23 -> 553 | K23: =일위대가!L173 -> 4730 | L23: =K23 -> 4730 | M23: =일위대가!N173 -> 0 | N23: =M23 -> 0 | O23: =IF((H23+K23+M23)=0, "", (H23+K23+M23)) -> 5283 | P23: =SUM(I23,L23,N23) -> 5283
A24: 5975D178003 | B24: E59753178003 | C24: 제 21호 | D24: 파상형 폴리에틸렌 전선관 | E24: 50㎜ | F24: M | H24: =일위대가!I183 -> 989 | I24: =H24 -> 989 | K24: =일위대가!L183 -> 5794 | L24: =K24 -> 5794 | M24: =일위대가!N183 -> 0 | N24: =M24 -> 0 | O24: =IF((H24+K24+M24)=0, "", (H24+K24+M24)) -> 6783 | P24: =SUM(I24,L24,N24) -> 6783
A25: EKB54521002 | B25: EKB545210002 | C25: 제 22호 | D25: 파상형 폴리에틸렌 전선관 | E25: 125mm, 2열동시1열당(가로등) | F25: m | H25: =일위대가!I193 -> 3937 | I25: =H25 -> 3937 | K25: =일위대가!L193 -> 19412 | L25: =K25 -> 19412 | M25: =일위대가!N193 -> 0 | N25: =M25 -> 0 | O25: =IF((H25+K25+M25)=0, "", (H25+K25+M25)) -> 23349 | P25: =SUM(I25,L25,N25) -> 23349
A26: 56959000001 | B26: E56959000001 | C26: 제 23호 | D26: 1종금속제가요전선관 | E26: 16 mm 고장력-비방수 | F26: M | H26: =일위대가!I201 -> 1037 | I26: =H26 -> 1037 | K26: =일위대가!L201 -> 14269 | L26: =K26 -> 14269 | M26: =일위대가!N201 -> 0 | N26: =M26 -> 0 | O26: =IF((H26+K26+M26)=0, "", (H26+K26+M26)) -> 15306 | P26: =SUM(I26,L26,N26) -> 15306
A27: 56959000002 | B27: E56959000002 | C27: 제 24호 | D27: 1종금속제가요전선관 | E27: 28 mm 고장력-방수 | F27: M | H27: =일위대가!I209 -> 3256 | I27: =H27 -> 3256 | K27: =일위대가!L209 -> 23349 | L27: =K27 -> 23349 | M27: =일위대가!N209 -> 0 | N27: =M27 -> 0 | O27: =IF((H27+K27+M27)=0, "", (H27+K27+M27)) -> 26605 | P27: =SUM(I27,L27,N27) -> 26605
A28: 56959000007 | B28: E56959000007 | C28: 제 25호 | D28: 나사없는전선관 | E28: E19 | F28: M | H28: =일위대가!I217 -> 2765 | I28: =H28 -> 2765 | K28: =일위대가!L217 -> 13512 | L28: =K28 -> 13512 | M28: =일위대가!N217 -> 0 | N28: =M28 -> 0 | O28: =IF((H28+K28+M28)=0, "", (H28+K28+M28)) -> 16277 | P28: =SUM(I28,L28,N28) -> 16277
A29: 56959000008 | B29: E56959000008 | C29: 제 26호 | D29: 나사없는전선관 | E29: E25 | F29: M | H29: =일위대가!I225 -> 3677 | I29: =H29 -> 3677 | K29: =일위대가!L225 -> 16215 | L29: =K29 -> 16215 | M29: =일위대가!N225 -> 0 | N29: =M29 -> 0 | O29: =IF((H29+K29+M29)=0, "", (H29+K29+M29)) -> 19892 | P29: =SUM(I29,L29,N29) -> 19892
A30: 56959000009 | B30: E56959000009 | C30: 제 27호 | D30: 나사없는전선관 | E30: E31 | F30: M | H30: =일위대가!I233 -> 5005 | I30: =H30 -> 5005 | K30: =일위대가!L233 -> 21620 | L30: =K30 -> 21620 | M30: =일위대가!N233 -> 0 | N30: =M30 -> 0 | O30: =IF((H30+K30+M30)=0, "", (H30+K30+M30)) -> 26625 | P30: =SUM(I30,L30,N30) -> 26625
A31: 56959000010 | B31: E56959000010 | C31: 제 28호 | D31: 나사없는전선관 | E31: E51 | F31: M | H31: =일위대가!I241 -> 8200 | I31: =H31 -> 8200 | K31: =일위대가!L241 -> 35132 | L31: =K31 -> 35132 | M31: =일위대가!N241 -> 0 | N31: =M31 -> 0 | O31: =IF((H31+K31+M31)=0, "", (H31+K31+M31)) -> 43332 | P31: =SUM(I31,L31,N31) -> 43332
A32: 56959000011 | B32: E56959000011 | C32: 제 29호 | D32: 나사없는전선관 | E32: E75 | F32: M | H32: =일위대가!I249 -> 15179 | I32: =H32 -> 15179 | K32: =일위대가!L249 -> 75670 | L32: =K32 -> 75670 | M32: =일위대가!N249 -> 0 | N32: =M32 -> 0 | O32: =IF((H32+K32+M32)=0, "", (H32+K32+M32)) -> 90849 | P32: =SUM(I32,L32,N32) -> 90849
A33: 5975E877200 | B33: E59754877200 | C33: 제 30호 | D33: 관로구방수장치 | E33: D30 | F33: 조 | H33: =일위대가!I256 -> 13558 | I33: =H33 -> 13558 | K33: =일위대가!L256 -> 26964 | L33: =K33 -> 26964 | M33: =일위대가!N256 -> 0 | N33: =M33 -> 0 | O33: =IF((H33+K33+M33)=0, "", (H33+K33+M33)) -> 40522 | P33: =SUM(I33,L33,N33) -> 40522
A34: 5975E877201 | B34: E59754877201 | C34: 제 31호 | D34: 관로구방수장치 | E34: D50 | F34: 조 | H34: =일위대가!I263 -> 15658 | I34: =H34 -> 15658 | K34: =일위대가!L263 -> 26964 | L34: =K34 -> 26964 | M34: =일위대가!N263 -> 0 | N34: =M34 -> 0 | O34: =IF((H34+K34+M34)=0, "", (H34+K34+M34)) -> 42622 | P34: =SUM(I34,L34,N34) -> 42622
A35: 5975E877205 | B35: E59754877205 | C35: 제 32호 | D35: 관로구방수장치 | E35: D125 | F35: 조 | H35: =일위대가!I270 -> 34682 | I35: =H35 -> 34682 | K35: =일위대가!L270 -> 31092 | L35: =K35 -> 31092 | M35: =일위대가!N270 -> 0 | N35: =M35 -> 0 | O35: =IF((H35+K35+M35)=0, "", (H35+K35+M35)) -> 65774 | P35: =SUM(I35,L35,N35) -> 65774
A36: 56951000000 | B36: EAU000000000 | C36: 제 33호 | D36: 새들(벽체) | E36: 16C | F36: 개소 | H36: =일위대가!I276 -> 233 | I36: =H36 -> 233 | K36: =일위대가!L276 -> 4864 | L36: =K36 -> 4864 | M36: =일위대가!N276 -> 0 | N36: =M36 -> 0 | O36: =IF((H36+K36+M36)=0, "", (H36+K36+M36)) -> 5097 | P36: =SUM(I36,L36,N36) -> 5097
A37: 56951000001 | B37: EAU000000001 | C37: 제 34호 | D37: 새들(벽체) | E37: 22C | F37: 개소 | H37: =일위대가!I282 -> 238 | I37: =H37 -> 238 | K37: =일위대가!L282 -> 4864 | L37: =K37 -> 4864 | M37: =일위대가!N282 -> 0 | N37: =M37 -> 0 | O37: =IF((H37+K37+M37)=0, "", (H37+K37+M37)) -> 5102 | P37: =SUM(I37,L37,N37) -> 5102
A38: 56951000002 | B38: EAU000000002 | C38: 제 35호 | D38: 새들(벽체) | E38: 28C | F38: 개소 | H38: =일위대가!I288 -> 269 | I38: =H38 -> 269 | K38: =일위대가!L288 -> 4864 | L38: =K38 -> 4864 | M38: =일위대가!N288 -> 0 | N38: =M38 -> 0 | O38: =IF((H38+K38+M38)=0, "", (H38+K38+M38)) -> 5133 | P38: =SUM(I38,L38,N38) -> 5133
A39: 56951000004 | B39: EAU000000004 | C39: 제 36호 | D39: 새들(벽체) | E39: 42C | F39: 개소 | H39: =일위대가!I294 -> 320 | I39: =H39 -> 320 | K39: =일위대가!L294 -> 4864 | L39: =K39 -> 4864 | M39: =일위대가!N294 -> 0 | N39: =M39 -> 0 | O39: =IF((H39+K39+M39)=0, "", (H39+K39+M39)) -> 5184 | P39: =SUM(I39,L39,N39) -> 5184
A40: 56951000006 | B40: EAU000000006 | C40: 제 37호 | D40: 새들(벽체) | E40: 70C | F40: 개소 | H40: =일위대가!I300 -> 732 | I40: =H40 -> 732 | K40: =일위대가!L300 -> 4864 | L40: =K40 -> 4864 | M40: =일위대가!N300 -> 0 | N40: =M40 -> 0 | O40: =IF((H40+K40+M40)=0, "", (H40+K40+M40)) -> 5596 | P40: =SUM(I40,L40,N40) -> 5596
A41: 56951000200 | B41: EA1000000200 | C41: 제 38호 | D41: 파이프행가 | E41: 16 C | F41: 개소 | H41: =일위대가!I310 -> 1946 | I41: =H41 -> 1946 | K41: =일위대가!L310 -> 14593 | L41: =K41 -> 14593 | M41: =일위대가!N310 -> 0 | N41: =M41 -> 0 | O41: =IF((H41+K41+M41)=0, "", (H41+K41+M41)) -> 16539 | P41: =SUM(I41,L41,N41) -> 16539
A42: 56951000201 | B42: EA1000000201 | C42: 제 39호 | D42: 파이프행가 | E42: 22 C | F42: 개소 | H42: =일위대가!I320 -> 1952 | I42: =H42 -> 1952 | K42: =일위대가!L320 -> 14593 | L42: =K42 -> 14593 | M42: =일위대가!N320 -> 0 | N42: =M42 -> 0 | O42: =IF((H42+K42+M42)=0, "", (H42+K42+M42)) -> 16545 | P42: =SUM(I42,L42,N42) -> 16545
A43: 56951000202 | B43: EA1000000202 | C43: 제 40호 | D43: 파이프행가 | E43: 28 C | F43: 개소 | H43: =일위대가!I330 -> 1975 | I43: =H43 -> 1975 | K43: =일위대가!L330 -> 14593 | L43: =K43 -> 14593 | M43: =일위대가!N330 -> 0 | N43: =M43 -> 0 | O43: =IF((H43+K43+M43)=0, "", (H43+K43+M43)) -> 16568 | P43: =SUM(I43,L43,N43) -> 16568
A44: 56951000204 | B44: EA1000000204 | C44: 제 41호 | D44: 파이프행가 | E44: 42 C | F44: 개소 | H44: =일위대가!I340 -> 2027 | I44: =H44 -> 2027 | K44: =일위대가!L340 -> 14593 | L44: =K44 -> 14593 | M44: =일위대가!N340 -> 0 | N44: =M44 -> 0 | O44: =IF((H44+K44+M44)=0, "", (H44+K44+M44)) -> 16620 | P44: =SUM(I44,L44,N44) -> 16620
A45: 5975D767011 | B45: E59753767011 | C45: 제 42호 | D45: 아우트렛박스 | E45: 8각 54㎜ | F45: 개 | H45: =일위대가!I346 -> 1589 | I45: =H45 -> 1589 | K45: =일위대가!L346 -> 32430 | L45: =K45 -> 32430 | M45: =일위대가!N346 -> 0 | N45: =M45 -> 0 | O45: =IF((H45+K45+M45)=0, "", (H45+K45+M45)) -> 34019 | P45: =SUM(I45,L45,N45) -> 34019
A46: 5975D767041 | B46: E59753767041 | C46: 제 43호 | D46: 아우트렛박스 | E46: 중형4각 54㎜ | F46: 개 | H46: =일위대가!I352 -> 1892 | I46: =H46 -> 1892 | K46: =일위대가!L352 -> 32430 | L46: =K46 -> 32430 | M46: =일위대가!N352 -> 0 | N46: =M46 -> 0 | O46: =IF((H46+K46+M46)=0, "", (H46+K46+M46)) -> 34322 | P46: =SUM(I46,L46,N46) -> 34322
A47: 5975D777102 | B47: E59753777102 | C47: 제 44호 | D47: 스위치박스 | E47: 1 개용 54 mm | F47: 개 | H47: =일위대가!I358 -> 2204 | I47: =H47 -> 2204 | K47: =일위대가!L358 -> 54050 | L47: =K47 -> 54050 | M47: =일위대가!N358 -> 0 | N47: =M47 -> 0 | O47: =IF((H47+K47+M47)=0, "", (H47+K47+M47)) -> 56254 | P47: =SUM(I47,L47,N47) -> 56254
A48: 5975D777111 | B48: E59753777111 | C48: 제 45호 | D48: 스위치박스 | E48: 2 개용 54 mm | F48: 개 | H48: =일위대가!I364 -> 2432 | I48: =H48 -> 2432 | K48: =일위대가!L364 -> 54050 | L48: =K48 -> 54050 | M48: =일위대가!N364 -> 0 | N48: =M48 -> 0 | O48: =IF((H48+K48+M48)=0, "", (H48+K48+M48)) -> 56482 | P48: =SUM(I48,L48,N48) -> 56482
A49: 6145F137894 | B49: E61455137894 | C49: 제 46호 | D49: 정션 박스 | E49: 100*100*50 | F49: 개 | H49: =일위대가!I370 -> 2608 | I49: =H49 -> 2608 | K49: =일위대가!L370 -> 10810 | L49: =K49 -> 10810 | M49: =일위대가!N370 -> 0 | N49: =M49 -> 0 | O49: =IF((H49+K49+M49)=0, "", (H49+K49+M49)) -> 13418 | P49: =SUM(I49,L49,N49) -> 13418
A50: 5975D857011 | B50: E59753857011 | C50: 제 47호 | D50: 풀박스 | E50: 100×100×75 | F50: 개 | H50: =일위대가!I376 -> 4112 | I50: =H50 -> 4112 | K50: =일위대가!L376 -> 45942 | L50: =K50 -> 45942 | M50: =일위대가!N376 -> 0 | N50: =M50 -> 0 | O50: =IF((H50+K50+M50)=0, "", (H50+K50+M50)) -> 50054 | P50: =SUM(I50,L50,N50) -> 50054
A51: 5975D857031 | B51: E59753857031 | C51: 제 48호 | D51: 풀박스 | E51: 150×150×100 | F51: 개 | H51: =일위대가!I382 -> 7313 | I51: =H51 -> 7313 | K51: =일위대가!L382 -> 148638 | L51: =K51 -> 148638 | M51: =일위대가!N382 -> 0 | N51: =M51 -> 0 | O51: =IF((H51+K51+M51)=0, "", (H51+K51+M51)) -> 155951 | P51: =SUM(I51,L51,N51) -> 155951
A52: 56951001324 | B52: EA1000001324 | C52: 제 49호 | D52: 박스용 구멍따기 | E52: 각종두께 | F52: 개소 | H52: =일위대가!I387 -> 364 | I52: =H52 -> 364 | K52: =일위대가!L387 -> 12161 | L52: =K52 -> 12161 | M52: =일위대가!N387 -> 0 | N52: =M52 -> 0 | O52: =IF((H52+K52+M52)=0, "", (H52+K52+M52)) -> 12525 | P52: =SUM(I52,L52,N52) -> 12525
A53: 5975B817222 | B53: E59751817222 | C53: 제 50호 | D53: 케이블트레이 | E53: STRAIGHT,St W300x100Hx2.3t | F53: m | H53: =일위대가!I393 -> 13532 | I53: =H53 -> 13532 | K53: =일위대가!L393 -> 62157 | L53: =K53 -> 62157 | M53: =일위대가!N393 -> 0 | N53: =M53 -> 0 | O53: =IF((H53+K53+M53)=0, "", (H53+K53+M53)) -> 75689 | P53: =SUM(I53,L53,N53) -> 75689
A54: 5975B817334 | B54: E59751817334 | C54: 제 51호 | D54: 케이블트레이 | E54: COVER,St W300 | F54: m | H54: =일위대가!I399 -> 27609 | I54: =H54 -> 27609 | K54: =일위대가!L399 -> 12431 | L54: =K54 -> 12431 | M54: =일위대가!N399 -> 0 | N54: =M54 -> 0 | O54: =IF((H54+K54+M54)=0, "", (H54+K54+M54)) -> 40040 | P54: =SUM(I54,L54,N54) -> 40040
A55: 5975E967011 | B55: E59754967011 | C55: 제 52호 | D55: 케이블트레이부속품 | E55: H. ELBOW, St,W300x100Hx2.3t | F55: 개 | H55: =일위대가!I405 -> 17533 | I55: =H55 -> 17533 | K55: =일위대가!L405 -> 62157 | L55: =K55 -> 62157 | M55: =일위대가!N405 -> 0 | N55: =M55 -> 0 | O55: =IF((H55+K55+M55)=0, "", (H55+K55+M55)) -> 79690 | P55: =SUM(I55,L55,N55) -> 79690
A56: 5975E967111 | B56: E59754967111 | C56: 제 53호 | D56: 케이블트레이부속품 | E56: V. ELBOW, St,W300x100Hx2.3t | F56: 개 | H56: =일위대가!I411 -> 12932 | I56: =H56 -> 12932 | K56: =일위대가!L411 -> 62157 | L56: =K56 -> 62157 | M56: =일위대가!N411 -> 0 | N56: =M56 -> 0 | O56: =IF((H56+K56+M56)=0, "", (H56+K56+M56)) -> 75089 | P56: =SUM(I56,L56,N56) -> 75089
A57: 56951000402 | B57: EA1000000402 | C57: 제 54호 | D57: 케이블트레이지지대 | E57: W300, 인서트 시공 | F57: 개소 | H57: =일위대가!I420 -> 6268 | I57: =H57 -> 6268 | K57: =일위대가!L420 -> 0 | L57: =K57 -> 0 | M57: =일위대가!N420 -> 0 | N57: =M57 -> 0 | O57: =IF((H57+K57+M57)=0, "", (H57+K57+M57)) -> 6268 | P57: =SUM(I57,L57,N57) -> 6268
A58: 56951000503 | B58: EA1000000503 | C58: 제 55호 | D58: EPS SUPPORT | E58: W300, 인서트 시공 | F58: 개소 | H58: =일위대가!I429 -> 4488 | I58: =H58 -> 4488 | K58: =일위대가!L429 -> 0 | L58: =K58 -> 0 | M58: =일위대가!N429 -> 0 | N58: =M58 -> 0 | O58: =IF((H58+K58+M58)=0, "", (H58+K58+M58)) -> 4488 | P58: =SUM(I58,L58,N58) -> 4488
A59: 56951004503 | B59: EA1000004503 | C59: 제 56호 | D59: 방화구획(내화충전) | E59: W 300 | F59: 개소 | H59: =일위대가!I435 -> 53774 | I59: =H59 -> 53774 | K59: =일위대가!L435 -> 58667 | L59: =K59 -> 58667 | M59: =일위대가!N435 -> 0 | N59: =M59 -> 0 | O59: =IF((H59+K59+M59)=0, "", (H59+K59+M59)) -> 112441 | P59: =SUM(I59,L59,N59) -> 112441
A60: 56959000003 | B60: E56959000003 | C60: 제 57호 | D60: 450/750V 내열비닐절연전선 | E60: HFIX 1.78mm(2.5㎟) | F60: M | H60: =일위대가!I443 -> 531 | I60: =H60 -> 531 | K60: =일위대가!L443 -> 2702 | L60: =K60 -> 2702 | M60: =일위대가!N443 -> 0 | N60: =M60 -> 0 | O60: =IF((H60+K60+M60)=0, "", (H60+K60+M60)) -> 3233 | P60: =SUM(I60,L60,N60) -> 3233
A61: E145A667003 | B61: EE1450667003 | C61: 제 58호 | D61: 450/750V 내열비닐절연전선 | E61: HFIX 2.25mm(4㎟) | F61: M | H61: =일위대가!I451 -> 770 | I61: =H61 -> 770 | K61: =일위대가!L451 -> 2702 | L61: =K61 -> 2702 | M61: =일위대가!N451 -> 0 | N61: =M61 -> 0 | O61: =IF((H61+K61+M61)=0, "", (H61+K61+M61)) -> 3472 | P61: =SUM(I61,L61,N61) -> 3472
A62: E145A927202 | B62: EE1450927202 | C62: 제 59호 | D62: 접지용비닐절연전선(F-GV) | E62: 4㎟ | F62: M | H62: =일위대가!I459 -> 954 | I62: =H62 -> 954 | K62: =일위대가!L459 -> 2432 | L62: =K62 -> 2432 | M62: =일위대가!N459 -> 0 | N62: =M62 -> 0 | O62: =IF((H62+K62+M62)=0, "", (H62+K62+M62)) -> 3386 | P62: =SUM(I62,L62,N62) -> 3386
A63: E145A927203 | B63: EE1450927203 | C63: 제 60호 | D63: 접지용비닐절연전선(F-GV) | E63: 6㎟ | F63: M | H63: =일위대가!I467 -> 1076 | I63: =H63 -> 1076 | K63: =일위대가!L467 -> 2432 | L63: =K63 -> 2432 | M63: =일위대가!N467 -> 0 | N63: =M63 -> 0 | O63: =IF((H63+K63+M63)=0, "", (H63+K63+M63)) -> 3508 | P63: =SUM(I63,L63,N63) -> 3508
A64: E145A927204 | B64: EE1450927204 | C64: 제 61호 | D64: 접지용비닐절연전선(F-GV) | E64: 10㎟ | F64: M | H64: =일위대가!I475 -> 1778 | I64: =H64 -> 1778 | K64: =일위대가!L475 -> 2432 | L64: =K64 -> 2432 | M64: =일위대가!N475 -> 0 | N64: =M64 -> 0 | O64: =IF((H64+K64+M64)=0, "", (H64+K64+M64)) -> 4210 | P64: =SUM(I64,L64,N64) -> 4210
A65: E145A927205 | B65: EE1450927205 | C65: 제 62호 | D65: 접지용비닐절연전선(F-GV) | E65: 16㎟ | F65: M | H65: =일위대가!I483 -> 2393 | I65: =H65 -> 2393 | K65: =일위대가!L483 -> 2837 | L65: =K65 -> 2837 | M65: =일위대가!N483 -> 0 | N65: =M65 -> 0 | O65: =IF((H65+K65+M65)=0, "", (H65+K65+M65)) -> 5230 | P65: =SUM(I65,L65,N65) -> 5230
A66: E145A927206 | B66: EE1450927206 | C66: 제 63호 | D66: 접지용비닐절연전선(F-GV) | E66: 25㎟ | F66: M | H66: =일위대가!I491 -> 3660 | I66: =H66 -> 3660 | K66: =일위대가!L491 -> 2837 | L66: =K66 -> 2837 | M66: =일위대가!N491 -> 0 | N66: =M66 -> 0 | O66: =IF((H66+K66+M66)=0, "", (H66+K66+M66)) -> 6497 | P66: =SUM(I66,L66,N66) -> 6497
A67: E145A927212 | B67: EE1450927212 | C67: 제 64호 | D67: 접지용비닐절연전선(F-GV) | E67: 95㎟ | F67: M | H67: =일위대가!I499 -> 13067 | I67: =H67 -> 13067 | K67: =일위대가!L499 -> 3243 | L67: =K67 -> 3243 | M67: =일위대가!N499 -> 0 | N67: =M67 -> 0 | O67: =IF((H67+K67+M67)=0, "", (H67+K67+M67)) -> 16310 | P67: =SUM(I67,L67,N67) -> 16310
A68: ELD65111302 | B68: ELD651113002 | C68: 제 65호 | D68: 폴리에틸렌 난연케이블 | E68: F-CV 1C 10㎟ 4열동시1열당 | F68: m | H68: =일위대가!I507 -> 2010 | I68: =H68 -> 2010 | K68: =일위대가!L507 -> 4525 | L68: =K68 -> 4525 | M68: =일위대가!N507 -> 0 | N68: =M68 -> 0 | O68: =IF((H68+K68+M68)=0, "", (H68+K68+M68)) -> 6535 | P68: =SUM(I68,L68,N68) -> 6535
A69: ELD66111302 | B69: ELD661113002 | C69: 제 66호 | D69: 폴리에틸렌 난연케이블 | E69: F-CV 1C 16㎟ 4열동시1열당 | F69: m | H69: =일위대가!I515 -> 3059 | I69: =H69 -> 3059 | K69: =일위대가!L515 -> 5782 | L69: =K69 -> 5782 | M69: =일위대가!N515 -> 0 | N69: =M69 -> 0 | O69: =IF((H69+K69+M69)=0, "", (H69+K69+M69)) -> 8841 | P69: =SUM(I69,L69,N69) -> 8841
A70: ELD69111302 | B70: ELD691113002 | C70: 제 67호 | D70: 폴리에틸렌 난연케이블 | E70: F-CV 1C 50㎟ 4열동시1열당 | F70: m | H70: =일위대가!I523 -> 8371 | I70: =H70 -> 8371 | K70: =일위대가!L523 -> 10810 | L70: =K70 -> 10810 | M70: =일위대가!N523 -> 0 | N70: =M70 -> 0 | O70: =IF((H70+K70+M70)=0, "", (H70+K70+M70)) -> 19181 | P70: =SUM(I70,L70,N70) -> 19181
A71: ELE64111302 | B71: ELE641113002 | C71: 제 68호 | D71: 폴리에틸렌 난연케이블 | E71: F-CV 1C 150㎟ 4열동시1열당 | F71: m | H71: =일위대가!I531 -> 24467 | I71: =H71 -> 24467 | K71: =일위대가!L531 -> 24387 | L71: =K71 -> 24387 | M71: =일위대가!N531 -> 0 | N71: =M71 -> 0 | O71: =IF((H71+K71+M71)=0, "", (H71+K71+M71)) -> 48854 | P71: =SUM(I71,L71,N71) -> 48854
A72: E145A287524 | B72: EE1450287524 | C72: 제 69호 | D72: 폴리에틸렌 난연케이블 | E72: 0.6/1kv F-CV 2C×10㎟ | F72: M | H72: =일위대가!I539 -> 4079 | I72: =H72 -> 4079 | K72: =일위대가!L539 -> 7394 | L72: =K72 -> 7394 | M72: =일위대가!N539 -> 0 | N72: =M72 -> 0 | O72: =IF((H72+K72+M72)=0, "", (H72+K72+M72)) -> 11473 | P72: =SUM(I72,L72,N72) -> 11473
A73: E145A287526 | B73: EE1450287526 | C73: 제 70호 | D73: 폴리에틸렌 난연케이블 | E73: 0.6/1kv F-CV 2C×25㎟ | F73: M | H73: =일위대가!I547 -> 9619 | I73: =H73 -> 9619 | K73: =일위대가!L547 -> 12422 | L73: =K73 -> 12422 | M73: =일위대가!N547 -> 0 | N73: =M73 -> 0 | O73: =IF((H73+K73+M73)=0, "", (H73+K73+M73)) -> 22041 | P73: =SUM(I73,L73,N73) -> 22041
A74: E145A287528 | B74: EE1450287528 | C74: 제 71호 | D74: 폴리에틸렌 난연케이블 | E74: 0.6/1kv F-CV 2C×35㎟ | F74: M | H74: =일위대가!I555 -> 13020 | I74: =H74 -> 13020 | K74: =일위대가!L555 -> 14907 | L74: =K74 -> 14907 | M74: =일위대가!N555 -> 0 | N74: =M74 -> 0 | O74: =IF((H74+K74+M74)=0, "", (H74+K74+M74)) -> 27927 | P74: =SUM(I74,L74,N74) -> 27927
A75: E145A287541 | B75: EE1450287541 | C75: 제 72호 | D75: 폴리에틸렌 난연케이블 | E75: 0.6/1kv F-CV 3C×10㎟ | F75: M | H75: =일위대가!I563 -> 5942 | I75: =H75 -> 5942 | K75: =일위대가!L563 -> 10648 | L75: =K75 -> 10648 | M75: =일위대가!N563 -> 0 | N75: =M75 -> 0 | O75: =IF((H75+K75+M75)=0, "", (H75+K75+M75)) -> 16590 | P75: =SUM(I75,L75,N75) -> 16590
A76: E145A287546 | B76: EE1450287546 | C76: 제 73호 | D76: 폴리에틸렌 난연케이블 | E76: 0.6/1kv F-CV 3C×50㎟ | F76: M | H76: =일위대가!I571 -> 25733 | I76: =H76 -> 25733 | K76: =일위대가!L571 -> 25437 | L76: =K76 -> 25437 | M76: =일위대가!N571 -> 0 | N76: =M76 -> 0 | O76: =IF((H76+K76+M76)=0, "", (H76+K76+M76)) -> 51170 | P76: =SUM(I76,L76,N76) -> 51170
A77: E145A287562 | B77: EE1450287562 | C77: 제 74호 | D77: 폴리에틸렌 난연케이블 | E77: 0.6/1kv F-CV 4C×4㎟ | F77: M | H77: =일위대가!I579 -> 3436 | I77: =H77 -> 3436 | K77: =일위대가!L579 -> 8577 | L77: =K77 -> 8577 | M77: =일위대가!N579 -> 0 | N77: =M77 -> 0 | O77: =IF((H77+K77+M77)=0, "", (H77+K77+M77)) -> 12013 | P77: =SUM(I77,L77,N77) -> 12013
A78: E145A287563 | B78: EE1450287563 | C78: 제 75호 | D78: 폴리에틸렌 난연케이블 | E78: 0.6/1kv F-CV 4C×6㎟ | F78: M | H78: =일위대가!I587 -> 4905 | I78: =H78 -> 4905 | K78: =일위대가!L587 -> 10056 | L78: =K78 -> 10056 | M78: =일위대가!N587 -> 0 | N78: =M78 -> 0 | O78: =IF((H78+K78+M78)=0, "", (H78+K78+M78)) -> 14961 | P78: =SUM(I78,L78,N78) -> 14961
A79: E145A287566 | B79: EE1450287566 | C79: 제 76호 | D79: 폴리에틸렌 난연케이블 | E79: 0.6/1kv F-CV 4C×25㎟ | F79: M | H79: =일위대가!I595 -> 18902 | I79: =H79 -> 18902 | K79: =일위대가!L595 -> 23071 | L79: =K79 -> 23071 | M79: =일위대가!N595 -> 0 | N79: =M79 -> 0 | O79: =IF((H79+K79+M79)=0, "", (H79+K79+M79)) -> 41973 | P79: =SUM(I79,L79,N79) -> 41973
A80: E940A177028 | B80: EE9400177028 | C80: 제 77호 | D80: 러그단자 | E80: 동관단자 2 HOLE 150 ㎟ | F80: 개 | H80: =일위대가!I601 -> 6452 | I80: =H80 -> 6452 | K80: =일위대가!L601 -> 72407 | L80: =K80 -> 72407 | M80: =일위대가!N601 -> 0 | N80: =M80 -> 0 | O80: =IF((H80+K80+M80)=0, "", (H80+K80+M80)) -> 78859 | P80: =SUM(I80,L80,N80) -> 78859
A81: E940A267006 | B81: EE9400267006 | C81: 제 78호 | D81: 압착단자 | E81: R형동선 나압착 16 ㎟ | F81: 개 | H81: =일위대가!I607 -> 989 | I81: =H81 -> 989 | K81: =일위대가!L607 -> 28750 | L81: =K81 -> 28750 | M81: =일위대가!N607 -> 0 | N81: =M81 -> 0 | O81: =IF((H81+K81+M81)=0, "", (H81+K81+M81)) -> 29739 | P81: =SUM(I81,L81,N81) -> 29739
A82: E940A267007 | B82: EE9400267007 | C82: 제 79호 | D82: 압착단자 | E82: R형동선 나압착 25 ㎟ | F82: 개 | H82: =일위대가!I613 -> 1241 | I82: =H82 -> 1241 | K82: =일위대가!L613 -> 35139 | L82: =K82 -> 35139 | M82: =일위대가!N613 -> 0 | N82: =M82 -> 0 | O82: =IF((H82+K82+M82)=0, "", (H82+K82+M82)) -> 36380 | P82: =SUM(I82,L82,N82) -> 36380
A83: E940A267008 | B83: EE9400267008 | C83: 제 80호 | D83: 압착단자 | E83: R형동선 나압착 35 ㎟ | F83: 개 | H83: =일위대가!I619 -> 1391 | I83: =H83 -> 1391 | K83: =일위대가!L619 -> 38333 | L83: =K83 -> 38333 | M83: =일위대가!N619 -> 0 | N83: =M83 -> 0 | O83: =IF((H83+K83+M83)=0, "", (H83+K83+M83)) -> 39724 | P83: =SUM(I83,L83,N83) -> 39724
A84: E940A267009 | B84: EE9400267009 | C84: 제 81호 | D84: 압착단자 | E84: R형동선 나압착 50 ㎟ | F84: 개 | H84: =일위대가!I625 -> 1680 | I84: =H84 -> 1680 | K84: =일위대가!L625 -> 42592 | L84: =K84 -> 42592 | M84: =일위대가!N625 -> 0 | N84: =M84 -> 0 | O84: =IF((H84+K84+M84)=0, "", (H84+K84+M84)) -> 44272 | P84: =SUM(I84,L84,N84) -> 44272
A85: 56959000004 | B85: E56959000004 | C85: 제 82호 | D85: 러그단자(접지) | E85: 동관단자 2 HOLE 95 ㎟ | F85: 개 | H85: =일위대가!I631 -> 3139 | I85: =H85 -> 3139 | K85: =일위대가!L631 -> 4324 | L85: =K85 -> 4324 | M85: =일위대가!N631 -> 0 | N85: =M85 -> 0 | O85: =IF((H85+K85+M85)=0, "", (H85+K85+M85)) -> 7463 | P85: =SUM(I85,L85,N85) -> 7463
A86: 56959000005 | B86: E56959000005 | C86: 제 83호 | D86: 압착단자(접지) | E86: R형동선 나압착 16 ㎟ | F86: 개 | H86: =일위대가!I637 -> 256 | I86: =H86 -> 256 | K86: =일위대가!L637 -> 4324 | L86: =K86 -> 4324 | M86: =일위대가!N637 -> 0 | N86: =M86 -> 0 | O86: =IF((H86+K86+M86)=0, "", (H86+K86+M86)) -> 4580 | P86: =SUM(I86,L86,N86) -> 4580
A87: 56959000006 | B87: E56959000006 | C87: 제 84호 | D87: 압착단자(접지) | E87: R형동선 나압착 25 ㎟ | F87: 개 | H87: =일위대가!I643 -> 316 | I87: =H87 -> 316 | K87: =일위대가!L643 -> 4324 | L87: =K87 -> 4324 | M87: =일위대가!N643 -> 0 | N87: =M87 -> 0 | O87: =IF((H87+K87+M87)=0, "", (H87+K87+M87)) -> 4640 | P87: =SUM(I87,L87,N87) -> 4640
A88: 5930B517001 | B88: E59301517001 | C88: 제 85호 | D88: 매입스위치 | E88: 15A, 250V 1로1구 | F88: 개 | H88: =일위대가!I649 -> 2013 | I88: =H88 -> 2013 | K88: =일위대가!L649 -> 22971 | L88: =K88 -> 22971 | M88: =일위대가!N649 -> 0 | N88: =M88 -> 0 | O88: =IF((H88+K88+M88)=0, "", (H88+K88+M88)) -> 24984 | P88: =SUM(I88,L88,N88) -> 24984
A89: 5930B517002 | B89: E59301517002 | C89: 제 86호 | D89: 매입스위치 | E89: 15A, 250V 1로2구 | F89: 개 | H89: =일위대가!I655 -> 2542 | I89: =H89 -> 2542 | K89: =일위대가!L655 -> 22971 | L89: =K89 -> 22971 | M89: =일위대가!N655 -> 0 | N89: =M89 -> 0 | O89: =IF((H89+K89+M89)=0, "", (H89+K89+M89)) -> 25513 | P89: =SUM(I89,L89,N89) -> 25513
A90: 5930B517003 | B90: E59301517003 | C90: 제 87호 | D90: 매입스위치 | E90: 15A, 250V 1로3구 | F90: 개 | H90: =일위대가!I661 -> 3084 | I90: =H90 -> 3084 | K90: =일위대가!L661 -> 22971 | L90: =K90 -> 22971 | M90: =일위대가!N661 -> 0 | N90: =M90 -> 0 | O90: =IF((H90+K90+M90)=0, "", (H90+K90+M90)) -> 26055 | P90: =SUM(I90,L90,N90) -> 26055
A91: 5935A317206 | B91: E59350317206 | C91: 제 88호 | D91: 콘센트 | E91: 매입-접지형, 15A 250V 2구 | F91: 개 | H91: =일위대가!I667 -> 2033 | I91: =H91 -> 2033 | K91: =일위대가!L667 -> 21620 | L91: =K91 -> 21620 | M91: =일위대가!N667 -> 0 | N91: =M91 -> 0 | O91: =IF((H91+K91+M91)=0, "", (H91+K91+M91)) -> 23653 | P91: =SUM(I91,L91,N91) -> 23653
A92: 5935A317207 | B92: E59350317207 | C92: 제 89호 | D92: 방우콘센트 | E92: 매입-접지형, 15A 250V 1구 | F92: 개 | H92: =일위대가!I673 -> 2685 | I92: =H92 -> 2685 | K92: =일위대가!L673 -> 21620 | L92: =K92 -> 21620 | M92: =일위대가!N673 -> 0 | N92: =M92 -> 0 | O92: =IF((H92+K92+M92)=0, "", (H92+K92+M92)) -> 24305 | P92: =SUM(I92,L92,N92) -> 24305
A93: 5925A327102 | B93: E59250327102 | C93: 제 90호 | D93: 배선용 차단기 | E93: 표준형, 2P 600V 50AF | F93: 대 | H93: =일위대가!I679 -> 41575 | I93: =H93 -> 41575 | K93: =일위대가!L679 -> 49185 | L93: =K93 -> 49185 | M93: =일위대가!N679 -> 0 | N93: =M93 -> 0 | O93: =IF((H93+K93+M93)=0, "", (H93+K93+M93)) -> 90760 | P93: =SUM(I93,L93,N93) -> 90760
A94: 5925A327174 | B94: E59250327174 | C94: 제 91호 | D94: 배선용 차단기 | E94: 표준형, 4P 600V 225AF | F94: 대 | H94: =일위대가!I685 -> 292853 | I94: =H94 -> 292853 | K94: =일위대가!L685 -> 165123 | L94: =K94 -> 165123 | M94: =일위대가!N685 -> 0 | N94: =M94 -> 0 | O94: =IF((H94+K94+M94)=0, "", (H94+K94+M94)) -> 457976 | P94: =SUM(I94,L94,N94) -> 457976
A95: 56951001502 | B95: EA1000001502 | C95: 제 92호 | D95: 접지공사(전기) | E95: ø18x2400L(동봉3EA) | F95: 개소 | H95: =일위대가!I696 -> 73543 | I95: =H95 -> 73543 | K95: =일위대가!L696 -> 141177 | L95: =K95 -> 141177 | M95: =일위대가!N696 -> 2586 | N95: =M95 -> 2586 | O95: =IF((H95+K95+M95)=0, "", (H95+K95+M95)) -> 217306 | P95: =SUM(I95,L95,N95) -> 217306
A96: 56959000015 | B96: E56959000015 | C96: 제 93호 | D96: 조명기구(A) | E96: 체인펜던트 LED 80W | F96: EA | H96: =일위대가!I702 -> 3080 | I96: =H96 -> 3080 | K96: =일위대가!L702 -> 102695 | L96: =K96 -> 102695 | M96: =일위대가!N702 -> 0 | N96: =M96 -> 0 | O96: =IF((H96+K96+M96)=0, "", (H96+K96+M96)) -> 105775 | P96: =SUM(I96,L96,N96) -> 105775
A97: 56959000016 | B97: E56959000016 | C97: 제 94호 | D97: 조명기구(B) | E97: 매입등 LED 50W | F97: EA | H97: =일위대가!I708 -> 2480 | I97: =H97 -> 2480 | K97: =일위대가!L708 -> 82696 | L97: =K97 -> 82696 | M97: =일위대가!N708 -> 0 | N97: =M97 -> 0 | O97: =IF((H97+K97+M97)=0, "", (H97+K97+M97)) -> 85176 | P97: =SUM(I97,L97,N97) -> 85176
A98: 56959000017 | B98: E56959000017 | C98: 제 95호 | D98: 조명기구(C) | E98: P.P LED 40W | F98: EA | H98: =일위대가!I714 -> 2018 | I98: =H98 -> 2018 | K98: =일위대가!L714 -> 67292 | L98: =K98 -> 67292 | M98: =일위대가!N714 -> 0 | N98: =M98 -> 0 | O98: =IF((H98+K98+M98)=0, "", (H98+K98+M98)) -> 69310 | P98: =SUM(I98,L98,N98) -> 69310
A99: 56959000018 | B99: E56959000018 | C99: 제 96호 | D99: 조명기구(D) | E99: D/L LED 15W | F99: EA | H99: =일위대가!I720 -> 1256 | I99: =H99 -> 1256 | K99: =일위대가!L720 -> 41888 | L99: =K99 -> 41888 | M99: =일위대가!N720 -> 0 | N99: =M99 -> 0 | O99: =IF((H99+K99+M99)=0, "", (H99+K99+M99)) -> 43144 | P99: =SUM(I99,L99,N99) -> 43144
A100: 56959000019 | B100: E56959000019 | C100: 제 97호 | D100: 조명기구(E) | E100: 직부센서등 LED 12W | F100: EA | H100: =일위대가!I726 -> 948 | I100: =H100 -> 948 | K100: =일위대가!L726 -> 31619 | L100: =K100 -> 31619 | M100: =일위대가!N726 -> 0 | N100: =M100 -> 0 | O100: =IF((H100+K100+M100)=0, "", (H100+K100+M100)) -> 32567 | P100: =SUM(I100,L100,N100) -> 32567
...

Sheet 일위대가
B1: 835 | D1: [ CAV기반 미래모빌리티 자율주행 평가플랫폼 구축 증축공사 ] - 일위대가표 | W1: 노임 계산 정보 | AA1: 부속재 및 손료
A2: 번호 | B2: 목차코드 | C2: 코드 | D2: 명 칭 | E2: 규 격 | F2: 단위 | G2: 수량 | H2: 재료비 | J2: 노무비 | M2: 경비 | P2: 계 | Q2: 비고 | W2: 노임계 | X2: 전체(%) | Y2: 공종별(%) | Z2: 노임 소수 | AA2: CD배관재 | AB2: 일반배관재 | AC2: 소모재 | AD2: 자재계 | AE2: 노임계
H3: 단가 | I3: 금액 | J3: 수량 | K3: 단가 | L3: 금액 | M3: 단가 | N3: 금액 | O3: 단가 | AD3: 1 | AE3: 1
A4: 56951002800 | B4: 일목줄 | C4: EA1000002800 | D4: [제 1호] 인력터파기 보통토사0-1m [㎥_]
A5: 56900017041 | B5: 제 1호 | C5: L001010101000002 | D5: 노 무 비 | E5: 보통인부 | F5: 인 | G5: =일위노임!G6 -> 0.2 | H5: =합산자재!H169 -> 0 | I5: =IF(G5*H5<>0, TRUNC(G5*H5, 1), "") | J5: 0.2 | K5: =합산자재!I169 -> 165545 | L5: =IF(G5*K5<>0, TRUNC(G5*K5, 1), "") -> 33109 | M5: =합산자재!J169 -> 0 | N5: =IF(G5*M5<>0, TRUNC(G5*M5, 1), "") | O5: =IF((H5+K5+M5)=0, "", (H5+K5+M5)) -> 165545 | P5: =IF(SUM(I5,L5,N5)<>0,SUM(I5,L5,N5),"") -> 33109 | AE5: =L5 -> 33109
B6: 합계줄 | D6: ( 합 계 ) | I6: =TRUNC(SUM(I4:I5)) -> 0 | L6: =TRUNC(SUM(L4:L5)) -> 33109 | N6: =TRUNC(SUM(N4:N5)) -> 0 | O6: =IF((H6+K6+M6)=0, "", (H6+K6+M6)) | P6: =IF(SUM(I6,L6,N6)<>0,SUM(I6,L6,N6),"") -> 33109 | AE6: =TRUNC(SUM(AE4:AE5)) -> 33109
A8: 56951002811 | B8: 일목줄 | C8: EA1000002811 | D8: [제 2호] 인력되메우기 보통토사0-1m [㎥_]
A9: 56900017041 | B9: 제 2호 | C9: L001010101000002 | D9: 노 무 비 | E9: 보통인부 | F9: 인 | G9: =일위노임!G9 -> 0.11 | H9: =합산자재!H169 -> 0 | I9: =IF(G9*H9<>0, TRUNC(G9*H9, 1), "") | J9: 0.11 | K9: =합산자재!I169 -> 165545 | L9: =IF(G9*K9<>0, TRUNC(G9*K9, 1), "") -> 18209.9 | M9: =합산자재!J169 -> 0 | N9: =IF(G9*M9<>0, TRUNC(G9*M9, 1), "") | O9: =IF((H9+K9+M9)=0, "", (H9+K9+M9)) -> 165545 | P9: =IF(SUM(I9,L9,N9)<>0,SUM(I9,L9,N9),"") -> 18209.9 | AE9: =L9 -> 18209.9
B10: 합계줄 | D10: ( 합 계 ) | I10: =TRUNC(SUM(I8:I9)) -> 0 | L10: =TRUNC(SUM(L8:L9)) -> 18209 | N10: =TRUNC(SUM(N8:N9)) -> 0 | O10: =IF((H10+K10+M10)=0, "", (H10+K10+M10)) | P10: =IF(SUM(I10,L10,N10)<>0,SUM(I10,L10,N10),"") -> 18209 | AE10: =TRUNC(SUM(AE8:AE9)) -> 18209
A12: 56951002807 | B12: 일목줄 | C12: EA1000002807 | D12: [제 3호] 터파기(기계90%,인력10%) 보통토사 [㎥]
A13: 56951002800 | B13: 제 3호 | C13: EA1000002800 | D13: 인력터파기 | E13: 보통토사0-1m | F13: ㎥_ | G13: 0.1 | H13: =일대목차!H4 -> 0 | I13: =IF(G13*H13<>0, TRUNC(G13*H13, 1), "") | J13: 0.1 | K13: =일대목차!K4 -> 33109 | L13: =IF(G13*K13<>0, TRUNC(G13*K13, 1), "") -> 3310.9 | M13: =일대목차!M4 -> 0 | N13: =IF(G13*M13<>0, TRUNC(G13*M13, 1), "") | O13: =IF((H13+K13+M13)=0, "", (H13+K13+M13)) -> 33109 | P13: =IF(SUM(I13,L13,N13)<>0,SUM(I13,L13,N13),"") -> 3310.9 | Q13: 제 1호 | R13: ILD
A14: CA565826042 | B14: 제 3호 | C14: ECA565826042 | D14: 기계터파기 | E14: 보통토사(0.6㎥/43.6) | F14: ㎥ | G14: 0.9 | H14: =합산자재!H159 -> 517 | I14: =IF(G14*H14<>0, TRUNC(G14*H14, 1), "") -> 465.3 | J14: 0.9 | K14: =합산자재!I159 -> 1097 | L14: =IF(G14*K14<>0, TRUNC(G14*K14, 1), "") -> 987.3 | M14: =합산자재!J159 -> 479 | N14: =IF(G14*M14<>0, TRUNC(G14*M14, 1), "") -> 431.1 | O14: =IF((H14+K14+M14)=0, "", (H14+K14+M14)) -> 2093 | P14: =IF(SUM(I14,L14,N14)<>0,SUM(I14,L14,N14),"") -> 1883.7 | Q14: 166-하 | R14: ild
B15: 합계줄 | D15: ( 합 계 ) | I15: =TRUNC(SUM(I12:I14)) -> 465 | L15: =TRUNC(SUM(L12:L14)) -> 4298 | N15: =TRUNC(SUM(N12:N14)) -> 431 | O15: =IF((H15+K15+M15)=0, "", (H15+K15+M15)) | P15: =IF(SUM(I15,L15,N15)<>0,SUM(I15,L15,N15),"") -> 5194 | AE15: =TRUNC(SUM(AE12:AE14)) -> 0
A17: 56951002810 | B17: 일목줄 | C17: EA1000002810 | D17: [제 4호] 되메우기(기계90%,인력10%) 보통토사 [㎥]
A18: 56951002811 | B18: 제 4호 | C18: EA1000002811 | D18: 인력되메우기 | E18: 보통토사0-1m | F18: ㎥_ | G18: 0.1 | H18: =일대목차!H5 -> 0 | I18: =IF(G18*H18<>0, TRUNC(G18*H18, 1), "") | J18: 0.1 | K18: =일대목차!K5 -> 18209 | L18: =IF(G18*K18<>0, TRUNC(G18*K18, 1), "") -> 1820.9 | M18: =일대목차!M5 -> 0 | N18: =IF(G18*M18<>0, TRUNC(G18*M18, 1), "") | O18: =IF((H18+K18+M18)=0, "", (H18+K18+M18)) -> 18209 | P18: =IF(SUM(I18,L18,N18)<>0,SUM(I18,L18,N18),"") -> 1820.9 | Q18: 제 2호 | R18: ILD
A19: CA565826051 | B19: 제 4호 | C19: ECA565826051 | D19: 기계되메우기 | E19: 보통토사(0.6㎥/43.6) | F19: ㎥ | G19: 0.9 | H19: =합산자재!H160 -> 517 | I19: =IF(G19*H19<>0, TRUNC(G19*H19, 1), "") -> 465.3 | J19: 0.9 | K19: =합산자재!I160 -> 1097 | L19: =IF(G19*K19<>0, TRUNC(G19*K19, 1), "") -> 987.3 | M19: =합산자재!J160 -> 479 | N19: =IF(G19*M19<>0, TRUNC(G19*M19, 1), "") -> 431.1 | O19: =IF((H19+K19+M19)=0, "", (H19+K19+M19)) -> 2093 | P19: =IF(SUM(I19,L19,N19)<>0,SUM(I19,L19,N19),"") -> 1883.7 | Q19: 166-하 | R19: ild
B20: 합계줄 | D20: ( 합 계 ) | I20: =TRUNC(SUM(I17:I19)) -> 465 | L20: =TRUNC(SUM(L17:L19)) -> 2808 | N20: =TRUNC(SUM(N17:N19)) -> 431 | O20: =IF((H20+K20+M20)=0, "", (H20+K20+M20)) | P20: =IF(SUM(I20,L20,N20)<>0,SUM(I20,L20,N20),"") -> 3704 | AE20: =TRUNC(SUM(AE17:AE19)) -> 0
A22: 5975F057152 | B22: 일목줄 | C22: E59755057152 | D22: [제 5호] 지중선용 가선철물(저압) 케이블표지시트, 0.15x150 [m]
A23: 59755057152 | B23: 제 5호 | C23: 3912219520175619 | D23: 지중선용 가선철물(저압) | E23: 케이블표지시트, 0.15x150 | F23: M | G23: 1 | H23: =합산자재!H89 -> 88 | I23: =IF(G23*H23<>0, TRUNC(G23*H23, 1), "") -> 88 | J23: 1 | K23: =합산자재!I89 -> 0 | L23: =IF(G23*K23<>0, TRUNC(G23*K23, 1), "") | M23: =합산자재!J89 -> 0 | N23: =IF(G23*M23<>0, TRUNC(G23*M23, 1), "") | O23: =IF((H23+K23+M23)=0, "", (H23+K23+M23)) -> 88 | P23: =IF(SUM(I23,L23,N23)<>0,SUM(I23,L23,N23),"") -> 88
A24: 56900017076 | B24: 제 5호 | C24: L001010101000078 | D24: 노 무 비 | E24: 저압케이블전공 | F24: 인 | G24: =일위노임!G13 -> 0.0005 | H24: =합산자재!H166 -> 0 | I24: =IF(G24*H24<>0, TRUNC(G24*H24, 1), "") | J24: 0.0005 | K24: =합산자재!I166 -> 295784 | L24: =IF(G24*K24<>0, TRUNC(G24*K24, 1), "") -> 147.8 | M24: =합산자재!J166 -> 0 | N24: =IF(G24*M24<>0, TRUNC(G24*M24, 1), "") | O24: =IF((H24+K24+M24)=0, "", (H24+K24+M24)) -> 295784 | P24: =IF(SUM(I24,L24,N24)<>0,SUM(I24,L24,N24),"") -> 147.8 | AE24: =L24 -> 147.8
A25: 56900017041 | B25: 제 5호 | C25: L001010101000002 | D25: 노 무 비 | E25: 보통인부 | F25: 인 | G25: =일위노임!G14 -> 0.001 | H25: =합산자재!H169 -> 0 | I25: =IF(G25*H25<>0, TRUNC(G25*H25, 1), "") | J25: 0.001 | K25: =합산자재!I169 -> 165545 | L25: =IF(G25*K25<>0, TRUNC(G25*K25, 1), "") -> 165.5 | M25: =합산자재!J169 -> 0 | N25: =IF(G25*M25<>0, TRUNC(G25*M25, 1), "") | O25: =IF((H25+K25+M25)=0, "", (H25+K25+M25)) -> 165545 | P25: =IF(SUM(I25,L25,N25)<>0,SUM(I25,L25,N25),"") -> 165.5 | AE25: =L25 -> 165.5
A26: A0300000000 | B26: 제 5호 | C26: RENT000000000006 | D26: [ 공 구 손 료 ] | E26: 노무비의 3 % | F26: 식 | G26: 1 | H26: =IF(TRUNC((AD27+AC27)/$AE$3,1)*$AE$3-AD27 <0, AC27, TRUNC((AD27+AC27)/$AE$3,1)*$AE$3-AD27) -> 9.3 | I26: =H26 -> 9.3 | J26: 1 | L26: =IF(G26*K26<>0, TRUNC(G26*K26, 1), "") | N26: =IF(G26*M26<>0, TRUNC(G26*M26, 1), "") | O26: =IF((H26+K26+M26)=0, "", (H26+K26+M26)) -> 9.3 | P26: =IF(SUM(I26,L26,N26)<>0,SUM(I26,L26,N26),"") -> 9.3
B27: 합계줄 | D27: ( 합 계 ) | I27: =TRUNC(SUM(I22:I26)) -> 97 | L27: =TRUNC(SUM(L22:L26)) -> 313 | N27: =TRUNC(SUM(N22:N26)) -> 0 | O27: =IF((H27+K27+M27)=0, "", (H27+K27+M27)) | P27: =IF(SUM(I27,L27,N27)<>0,SUM(I27,L27,N27),"") -> 410 | AC27: =TRUNC(AE27*옵션!$B$36/100,1) -> 9.3 | AD27: =TRUNC(SUM(L22:L25)) -> 313 | AE27: =TRUNC(SUM(AE22:AE26)) -> 313
A29: 56951002815 | B29: 일목줄 | C29: EA1000002815 | D29: [제 6호] 현장내잔토처리 소운반.고르기 [㎥_]
A30: 56900017041 | B30: 제 6호 | C30: L001010101000002 | D30: 노 무 비 | E30: 보통인부 | F30: 인 | G30: =일위노임!G17 -> 0.2 | H30: =합산자재!H169 -> 0 | I30: =IF(G30*H30<>0, TRUNC(G30*H30, 1), "") | J30: 0.2 | K30: =합산자재!I169 -> 165545 | L30: =IF(G30*K30<>0, TRUNC(G30*K30, 1), "") -> 33109 | M30: =합산자재!J169 -> 0 | N30: =IF(G30*M30<>0, TRUNC(G30*M30, 1), "") | O30: =IF((H30+K30+M30)=0, "", (H30+K30+M30)) -> 165545 | P30: =IF(SUM(I30,L30,N30)<>0,SUM(I30,L30,N30),"") -> 33109 | AE30: =L30 -> 33109
B31: 합계줄 | D31: ( 합 계 ) | I31: =TRUNC(SUM(I29:I30)) -> 0 | L31: =TRUNC(SUM(L29:L30)) -> 33109 | N31: =TRUNC(SUM(N29:N30)) -> 0 | O31: =IF((H31+K31+M31)=0, "", (H31+K31+M31)) | P31: =IF(SUM(I31,L31,N31)<>0,SUM(I31,L31,N31),"") -> 33109 | AE31: =TRUNC(SUM(AE29:AE30)) -> 33109
A33: 56951002821 | B33: 일목줄 | C33: EA1000002821 | D33: [제 7호] 잡석깔기지정 떨공이다지기 [㎥]
A34: 56900017041 | B34: 제 7호 | C34: L001010101000002 | D34: 노 무 비 | E34: 보통인부 | F34: 인 | G34: =일위노임!G20 -> 0.018 | H34: =합산자재!H169 -> 0 | I34: =IF(G34*H34<>0, TRUNC(G34*H34, 1), "") | J34: 0.018 | K34: =합산자재!I169 -> 165545 | L34: =IF(G34*K34<>0, TRUNC(G34*K34, 1), "") -> 2979.8 | M34: =합산자재!J169 -> 0 | N34: =IF(G34*M34<>0, TRUNC(G34*M34, 1), "") | O34: =IF((H34+K34+M34)=0, "", (H34+K34+M34)) -> 165545 | P34: =IF(SUM(I34,L34,N34)<>0,SUM(I34,L34,N34),"") -> 2979.8 | AE34: =L34 -> 2979.8
A35: A0300000000 | B35: 제 7호 | C35: RENT000000000006 | D35: [ 공 구 손 료 ] | E35: 노무비의 3 % | F35: 식 | G35: 1 | H35: =IF(TRUNC((AD36+AC36)/$AE$3,1)*$AE$3-AD36 <0, AC36, TRUNC((AD36+AC36)/$AE$3,1)*$AE$3-AD36) -> 89.3 | I35: =H35 -> 89.3 | J35: 1 | L35: =IF(G35*K35<>0, TRUNC(G35*K35, 1), "") | N35: =IF(G35*M35<>0, TRUNC(G35*M35, 1), "") | O35: =IF((H35+K35+M35)=0, "", (H35+K35+M35)) -> 89.3 | P35: =IF(SUM(I35,L35,N35)<>0,SUM(I35,L35,N35),"") -> 89.3
B36: 합계줄 | D36: ( 합 계 ) | I36: =TRUNC(SUM(I33:I35)) -> 89 | L36: =TRUNC(SUM(L33:L35)) -> 2979 | N36: =TRUNC(SUM(N33:N35)) -> 0 | O36: =IF((H36+K36+M36)=0, "", (H36+K36+M36)) | P36: =IF(SUM(I36,L36,N36)<>0,SUM(I36,L36,N36),"") -> 3068 | AC36: =TRUNC(AE36*옵션!$B$36/100,1) -> 89.3 | AD36: =TRUNC(SUM(L33:L34)) -> 2979 | AE36: =TRUNC(SUM(AE33:AE35)) -> 2979
A38: 56951001408 | B38: 일목줄 | C38: EA1000001408 | D38: [제 8호] 맨 홀 1000x1000x1000 [개소]
A39: 56300217297 | B39: 제 8호 | C39: 3012169821869019 | D39: 맨홀 | E39: 1000x1000x1000 | F39: 조 | G39: 1 | H39: =합산자재!H90 -> 220000 | I39: =IF(G39*H39<>0, TRUNC(G39*H39, 1), "") -> 220000 | J39: 1 | K39: =합산자재!I90 -> 0 | L39: =IF(G39*K39<>0, TRUNC(G39*K39, 1), "") | M39: =합산자재!J90 -> 0 | N39: =IF(G39*M39<>0, TRUNC(G39*M39, 1), "") | O39: =IF((H39+K39+M39)=0, "", (H39+K39+M39)) -> 220000 | P39: =IF(SUM(I39,L39,N39)<>0,SUM(I39,L39,N39),"") -> 220000
A40: 56800447361 | B40: 제 8호 | C40: 3012169520160610 | D40: 맨홀뚜껑(철개) | F40: 조 | G40: 1 | H40: =합산자재!H92 -> 370000 | I40: =IF(G40*H40<>0, TRUNC(G40*H40, 1), "") -> 370000 | J40: 1 | K40: =합산자재!I92 -> 0 | L40: =IF(G40*K40<>0, TRUNC(G40*K40, 1), "") | M40: =합산자재!J92 -> 0 | N40: =IF(G40*M40<>0, TRUNC(G40*M40, 1), "") | O40: =IF((H40+K40+M40)=0, "", (H40+K40+M40)) -> 370000 | P40: =IF(SUM(I40,L40,N40)<>0,SUM(I40,L40,N40),"") -> 370000
A41: E1450927208 | B41: 제 8호 | C41: 2612152420683701 | D41: 접지용비닐절연전선(F-GV) | E41: 35㎟ | F41: M | G41: 5 | H41: =합산자재!H59 -> 4487 | I41: =IF(G41*H41<>0, TRUNC(G41*H41, 1), "") -> 22435 | J41: 5 | K41: =합산자재!I59 -> 0 | L41: =IF(G41*K41<>0, TRUNC(G41*K41, 1), "") | M41: =합산자재!J59 -> 0 | N41: =IF(G41*M41<>0, TRUNC(G41*M41, 1), "") | O41: =IF((H41+K41+M41)=0, "", (H41+K41+M41)) -> 4487 | P41: =IF(SUM(I41,L41,N41)<>0,SUM(I41,L41,N41),"") -> 22435 | AC41: =G41*H41 -> 22435
A42: 59750427102 | B42: 제 8호 | C42: 3912161310034844 | D42: 접지봉 | E42: 14Φ×1000 mm | F42: 개 | G42: 1 | H42: =합산자재!H80 -> 3318 | I42: =IF(G42*H42<>0, TRUNC(G42*H42, 1), "") -> 3318 | J42: 1 | K42: =합산자재!I80 -> 0 | L42: =IF(G42*K42<>0, TRUNC(G42*K42, 1), "") | M42: =합산자재!J80 -> 0 | N42: =IF(G42*M42<>0, TRUNC(G42*M42, 1), "") | O42: =IF((H42+K42+M42)=0, "", (H42+K42+M42)) -> 3318 | P42: =IF(SUM(I42,L42,N42)<>0,SUM(I42,L42,N42),"") -> 3318
A43: 56951002807 | B43: 제 8호 | C43: EA1000002807 | D43: 터파기(기계90%,인력10%) | E43: 보통토사 | F43: ㎥ | G43: 3.8679 | H43: =일대목차!H6 -> 465 | I43: =IF(G43*H43<>0, TRUNC(G43*H43, 1), "") -> 1798.5 | J43: 3.8679 | K43: =일대목차!K6 -> 4298 | L43: =IF(G43*K43<>0, TRUNC(G43*K43, 1), "") -> 16624.2 | M43: =일대목차!M6 -> 431 | N43: =IF(G43*M43<>0, TRUNC(G43*M43, 1), "") -> 1667 | O43: =IF((H43+K43+M43)=0, "", (H43+K43+M43)) -> 5194 | P43: =IF(SUM(I43,L43,N43)<>0,SUM(I43,L43,N43),"") -> 20089.7 | Q43: 제 3호 | R43: ILD
A44: 56951002810 | B44: 제 8호 | C44: EA1000002810 | D44: 되메우기(기계90%,인력10%) | E44: 보통토사 | F44: ㎥ | G44: 2.2809 | H44: =일대목차!H7 -> 465 | I44: =IF(G44*H44<>0, TRUNC(G44*H44, 1), "") -> 1060.6 | J44: 2.2809 | K44: =일대목차!K7 -> 2808 | L44: =IF(G44*K44<>0, TRUNC(G44*K44, 1), "") -> 6404.7 | M44: =일대목차!M7 -> 431 | N44: =IF(G44*M44<>0, TRUNC(G44*M44, 1), "") -> 983 | O44: =IF((H44+K44+M44)=0, "", (H44+K44+M44)) -> 3704 | P44: =IF(SUM(I44,L44,N44)<>0,SUM(I44,L44,N44),"") -> 8448.3 | Q44: 제 4호 | R44: ILD
A45: 56951002815 | B45: 제 8호 | C45: EA1000002815 | D45: 현장내잔토처리 | E45: 소운반.고르기 | F45: ㎥_ | G45: 1.587 | H45: =일대목차!H9 -> 0 | I45: =IF(G45*H45<>0, TRUNC(G45*H45, 1), "") | J45: 1.587 | K45: =일대목차!K9 -> 33109 | L45: =IF(G45*K45<>0, TRUNC(G45*K45, 1), "") -> 52543.9 | M45: =일대목차!M9 -> 0 | N45: =IF(G45*M45<>0, TRUNC(G45*M45, 1), "") | O45: =IF((H45+K45+M45)=0, "", (H45+K45+M45)) -> 33109 | P45: =IF(SUM(I45,L45,N45)<>0,SUM(I45,L45,N45),"") -> 52543.9 | Q45: 제 6호 | R45: ILD
A46: 56951002821 | B46: 제 8호 | C46: EA1000002821 | D46: 잡석깔기지정 | E46: 떨공이다지기 | F46: ㎥ | G46: 0.2645 | H46: =일대목차!H10 -> 89 | I46: =IF(G46*H46<>0, TRUNC(G46*H46, 1), "") -> 23.5 | J46: 0.2645 | K46: =일대목차!K10 -> 2979 | L46: =IF(G46*K46<>0, TRUNC(G46*K46, 1), "") -> 787.9 | M46: =일대목차!M10 -> 0 | N46: =IF(G46*M46<>0, TRUNC(G46*M46, 1), "") | O46: =IF((H46+K46+M46)=0, "", (H46+K46+M46)) -> 3068 | P46: =IF(SUM(I46,L46,N46)<>0,SUM(I46,L46,N46),"") -> 811.4 | Q46: 제 7호 | R46: ILD
A47: CA565826044 | B47: 제 8호 | C47: ECA565826044 | D47: 크레인 | E47: 트럭 탑재형 10 Ton | F47: 분 | G47: 136.8 | H47: =합산자재!H161 -> 373 | I47: =IF(G47*H47<>0, TRUNC(G47*H47, 1), "") -> 51026.4 | J47: 136.8 | K47: =합산자재!I161 -> 661 | L47: =IF(G47*K47<>0, TRUNC(G47*K47, 1), "") -> 90424.8 | M47: =합산자재!J161 -> 346 | N47: =IF(G47*M47<>0, TRUNC(G47*M47, 1), "") -> 47332.8 | O47: =IF((H47+K47+M47)=0, "", (H47+K47+M47)) -> 1380 | P47: =IF(SUM(I47,L47,N47)<>0,SUM(I47,L47,N47),"") -> 188784 | Q47: 168-하 | R47: ild
A48: A0100000000 | B48: 제 8호 | C48: RENT000000000003 | D48: [ 소모 잡자재 ] | E48: 전선, 전선관의 2 % | F48: 식 | G48: 1 | H48: =IF(TRUNC((AD48+AC48)/$AD$3,1)*$AD$3-AD48 <0, AC48, TRUNC((AD48+AC48)/$AD$3,1)*$AD$3-AD48) -> 448.7 | I48: =H48 -> 448.7 | J48: 1 | L48: =IF(G48*K48<>0, TRUNC(G48*K48, 1), "") | N48: =IF(G48*M48<>0, TRUNC(G48*M48, 1), "") | O48: =IF((H48+K48+M48)=0, "", (H48+K48+M48)) -> 448.7 | P48: =IF(SUM(I48,L48,N48)<>0,SUM(I48,L48,N48),"") -> 448.7 | AC48: =TRUNC(TRUNC(SUM(AC38:AC47))*옵션!$B$33/100,1) -> 448.7 | AD48: =TRUNC(SUM(I38:I47))+TRUNC(SUM(N38:N47)) -> 719644
A49: 56900017016 | B49: 제 8호 | C49: L001010101000075 | D49: 노 무 비 | E49: 내선전공 | F49: 인 | G49: =일위노임!G30 -> 0.1625 | H49: =합산자재!H165 -> 0 | I49: =IF(G49*H49<>0, TRUNC(G49*H49, 1), "") | J49: 0.1625 | K49: =합산자재!I165 -> 270251 | L49: =IF(G49*K49<>0, TRUNC(G49*K49, 1), "") -> 43915.7 | M49: =합산자재!J165 -> 0 | N49: =IF(G49*M49<>0, TRUNC(G49*M49, 1), "") | O49: =IF((H49+K49+M49)=0, "", (H49+K49+M49)) -> 270251 | P49: =IF(SUM(I49,L49,N49)<>0,SUM(I49,L49,N49),"") -> 43915.7 | AE49: =L49 -> 43915.7
A50: 56900017117 | B50: 제 8호 | C50: L001010101000076 | D50: 노 무 비 | E50: 특고압케이블전공 | F50: 인 | G50: =일위노임!G31 -> 0.36 | H50: =합산자재!H167 -> 0 | I50: =IF(G50*H50<>0, TRUNC(G50*H50, 1), "") | J50: 0.36 | K50: =합산자재!I167 -> 431830 | L50: =IF(G50*K50<>0, TRUNC(G50*K50, 1), "") -> 155458.8 | M50: =합산자재!J167 -> 0 | N50: =IF(G50*M50<>0, TRUNC(G50*M50, 1), "") | O50: =IF((H50+K50+M50)=0, "", (H50+K50+M50)) -> 431830 | P50: =IF(SUM(I50,L50,N50)<>0,SUM(I50,L50,N50),"") -> 155458.8 | AE50: =L50 -> 155458.8
A51: 56900017041 | B51: 제 8호 | C51: L001010101000002 | D51: 노 무 비 | E51: 보통인부 | F51: 인 | G51: =일위노임!G32 -> 0.44 | H51: =합산자재!H169 -> 0 | I51: =IF(G51*H51<>0, TRUNC(G51*H51, 1), "") | J51: 0.44 | K51: =합산자재!I169 -> 165545 | L51: =IF(G51*K51<>0, TRUNC(G51*K51, 1), "") -> 72839.8 | M51: =합산자재!J169 -> 0 | N51: =IF(G51*M51<>0, TRUNC(G51*M51, 1), "") | O51: =IF((H51+K51+M51)=0, "", (H51+K51+M51)) -> 165545 | P51: =IF(SUM(I51,L51,N51)<>0,SUM(I51,L51,N51),"") -> 72839.8 | AE51: =L51 -> 72839.8
A52: 56900017118 | B52: 제 8호 | C52: L001010101000003 | D52: 노 무 비 | E52: 특별인부 | F52: 인 | G52: =일위노임!G33 -> 1.63 | H52: =합산자재!H170 -> 0 | I52: =IF(G52*H52<>0, TRUNC(G52*H52, 1), "") | J52: 1.63 | K52: =합산자재!I170 -> 214222 | L52: =IF(G52*K52<>0, TRUNC(G52*K52, 1), "") -> 349181.8 | M52: =합산자재!J170 -> 0 | N52: =IF(G52*M52<>0, TRUNC(G52*M52, 1), "") | O52: =IF((H52+K52+M52)=0, "", (H52+K52+M52)) -> 214222 | P52: =IF(SUM(I52,L52,N52)<>0,SUM(I52,L52,N52),"") -> 349181.8 | AE52: =L52 -> 349181.8
A53: 56900017091 | B53: 제 8호 | C53: L001010101000034 | D53: 노 무 비 | E53: 줄눈공 | F53: 인 | G53: =일위노임!G34 -> 0.05 | H53: =합산자재!H172 -> 0 | I53: =IF(G53*H53<>0, TRUNC(G53*H53, 1), "") | J53: 0.05 | K53: =합산자재!I172 -> 195370 | L53: =IF(G53*K53<>0, TRUNC(G53*K53, 1), "") -> 9768.5 | M53: =합산자재!J172 -> 0 | N53: =IF(G53*M53<>0, TRUNC(G53*M53, 1), "") | O53: =IF((H53+K53+M53)=0, "", (H53+K53+M53)) -> 195370 | P53: =IF(SUM(I53,L53,N53)<>0,SUM(I53,L53,N53),"") -> 9768.5 | AE53: =L53 -> 9768.5
A54: 56900017074 | B54: 제 8호 | C54: L001010101000001 | D54: 노 무 비 | E54: 작업반장 | F54: 인 | G54: =일위노임!G35 -> 0.34 | H54: =합산자재!H174 -> 0 | I54: =IF(G54*H54<>0, TRUNC(G54*H54, 1), "") | J54: 0.34 | K54: =합산자재!I174 -> 208713 | L54: =IF(G54*K54<>0, TRUNC(G54*K54, 1), "") -> 70962.4 | M54: =합산자재!J174 -> 0 | N54: =IF(G54*M54<>0, TRUNC(G54*M54, 1), "") | O54: =IF((H54+K54+M54)=0, "", (H54+K54+M54)) -> 208713 | P54: =IF(SUM(I54,L54,N54)<>0,SUM(I54,L54,N54),"") -> 70962.4 | AE54: =L54 -> 70962.4
A55: A0300000000 | B55: 제 8호 | C55: RENT000000000006 | D55: [ 공 구 손 료 ] | E55: 노무비의 3 % | F55: 식 | G55: 1 | H55: =IF(TRUNC((AD56+AC56)/$AE$3,1)*$AE$3-AD56 <0, AC56, TRUNC((AD56+AC56)/$AE$3,1)*$AE$3-AD56) -> 21063.8 | I55: =H55 -> 21063.8 | J55: 1 | L55: =IF(G55*K55<>0, TRUNC(G55*K55, 1), "") | N55: =IF(G55*M55<>0, TRUNC(G55*M55, 1), "") | O55: =IF((H55+K55+M55)=0, "", (H55+K55+M55)) -> 21063.8 | P55: =IF(SUM(I55,L55,N55)<>0,SUM(I55,L55,N55),"") -> 21063.8
B56: 합계줄 | D56: ( 합 계 ) | I56: =TRUNC(SUM(I38:I55)) -> 691174 | L56: =TRUNC(SUM(L38:L55)) -> 868912 | N56: =TRUNC(SUM(N38:N55)) -> 49982 | O56: =IF((H56+K56+M56)=0, "", (H56+K56+M56)) | P56: =IF(SUM(I56,L56,N56)<>0,SUM(I56,L56,N56),"") -> 1610068 | AC56: =TRUNC(AE56*옵션!$B$36/100,1) -> 21063.8 | AD56: =TRUNC(SUM(L38:L54)) -> 868912 | AE56: =TRUNC(SUM(AE38:AE55)) -> 702127
A58: 56951001410 | B58: 일목줄 | C58: EA1000001410 | D58: [제 9호] 맨 홀 1500x1500x1500 [개소]
A59: 56300217299 | B59: 제 9호 | C59: 3012169821869320 | D59: 맨홀 | E59: 1500x1500x1500 | F59: 조 | G59: 1 | H59: =합산자재!H91 -> 440000 | I59: =IF(G59*H59<>0, TRUNC(G59*H59, 1), "") -> 440000 | J59: 1 | K59: =합산자재!I91 -> 0 | L59: =IF(G59*K59<>0, TRUNC(G59*K59, 1), "") | M59: =합산자재!J91 -> 0 | N59: =IF(G59*M59<>0, TRUNC(G59*M59, 1), "") | O59: =IF((H59+K59+M59)=0, "", (H59+K59+M59)) -> 440000 | P59: =IF(SUM(I59,L59,N59)<>0,SUM(I59,L59,N59),"") -> 440000
A60: 56800447361 | B60: 제 9호 | C60: 3012169520160610 | D60: 맨홀뚜껑(철개) | F60: 조 | G60: 1 | H60: =합산자재!H92 -> 370000 | I60: =IF(G60*H60<>0, TRUNC(G60*H60, 1), "") -> 370000 | J60: 1 | K60: =합산자재!I92 -> 0 | L60: =IF(G60*K60<>0, TRUNC(G60*K60, 1), "") | M60: =합산자재!J92 -> 0 | N60: =IF(G60*M60<>0, TRUNC(G60*M60, 1), "") | O60: =IF((H60+K60+M60)=0, "", (H60+K60+M60)) -> 370000 | P60: =IF(SUM(I60,L60,N60)<>0,SUM(I60,L60,N60),"") -> 370000
A61: E1450927208 | B61: 제 9호 | C61: 2612152420683701 | D61: 접지용비닐절연전선(F-GV) | E61: 35㎟ | F61: M | G61: 5 | H61: =합산자재!H59 -> 4487 | I61: =IF(G61*H61<>0, TRUNC(G61*H61, 1), "") -> 22435 | J61: 5 | K61: =합산자재!I59 -> 0 | L61: =IF(G61*K61<>0, TRUNC(G61*K61, 1), "") | M61: =합산자재!J59 -> 0 | N61: =IF(G61*M61<>0, TRUNC(G61*M61, 1), "") | O61: =IF((H61+K61+M61)=0, "", (H61+K61+M61)) -> 4487 | P61: =IF(SUM(I61,L61,N61)<>0,SUM(I61,L61,N61),"") -> 22435 | AC61: =G61*H61 -> 22435
A62: 59750427102 | B62: 제 9호 | C62: 3912161310034844 | D62: 접지봉 | E62: 14Φ×1000 mm | F62: 개 | G62: 1 | H62: =합산자재!H80 -> 3318 | I62: =IF(G62*H62<>0, TRUNC(G62*H62, 1), "") -> 3318 | J62: 1 | K62: =합산자재!I80 -> 0 | L62: =IF(G62*K62<>0, TRUNC(G62*K62, 1), "") | M62: =합산자재!J80 -> 0 | N62: =IF(G62*M62<>0, TRUNC(G62*M62, 1), "") | O62: =IF((H62+K62+M62)=0, "", (H62+K62+M62)) -> 3318 | P62: =IF(SUM(I62,L62,N62)<>0,SUM(I62,L62,N62),"") -> 3318
A63: 56951002807 | B63: 제 9호 | C63: EA1000002807 | D63: 터파기(기계90%,인력10%) | E63: 보통토사 | F63: ㎥ | G63: 9.776 | H63: =일대목차!H6 -> 465 | I63: =IF(G63*H63<>0, TRUNC(G63*H63, 1), "") -> 4545.8 | J63: 9.776 | K63: =일대목차!K6 -> 4298 | L63: =IF(G63*K63<>0, TRUNC(G63*K63, 1), "") -> 42017.2 | M63: =일대목차!M6 -> 431 | N63: =IF(G63*M63<>0, TRUNC(G63*M63, 1), "") -> 4213.4 | O63: =IF((H63+K63+M63)=0, "", (H63+K63+M63)) -> 5194 | P63: =IF(SUM(I63,L63,N63)<>0,SUM(I63,L63,N63),"") -> 50776.4 | Q63: 제 3호 | R63: ILD
A64: 56951002810 | B64: 제 9호 | C64: EA1000002810 | D64: 되메우기(기계90%,인력10%) | E64: 보통토사 | F64: ㎥ | G64: 5.1478 | H64: =일대목차!H7 -> 465 | I64: =IF(G64*H64<>0, TRUNC(G64*H64, 1), "") -> 2393.7 | J64: 5.1478 | K64: =일대목차!K7 -> 2808 | L64: =IF(G64*K64<>0, TRUNC(G64*K64, 1), "") -> 14455 | M64: =일대목차!M7 -> 431 | N64: =IF(G64*M64<>0, TRUNC(G64*M64, 1), "") -> 2218.7 | O64: =IF((H64+K64+M64)=0, "", (H64+K64+M64)) -> 3704 | P64: =IF(SUM(I64,L64,N64)<>0,SUM(I64,L64,N64),"") -> 19067.4 | Q64: 제 4호 | R64: ILD
A65: 56951002815 | B65: 제 9호 | C65: EA1000002815 | D65: 현장내잔토처리 | E65: 소운반.고르기 | F65: ㎥_ | G65: 4.6282 | H65: =일대목차!H9 -> 0 | I65: =IF(G65*H65<>0, TRUNC(G65*H65, 1), "") | J65: 4.6282 | K65: =일대목차!K9 -> 33109 | L65: =IF(G65*K65<>0, TRUNC(G65*K65, 1), "") -> 153235 | M65: =일대목차!M9 -> 0 | N65: =IF(G65*M65<>0, TRUNC(G65*M65, 1), "") | O65: =IF((H65+K65+M65)=0, "", (H65+K65+M65)) -> 33109 | P65: =IF(SUM(I65,L65,N65)<>0,SUM(I65,L65,N65),"") -> 153235 | Q65: 제 6호 | R65: ILD
A66: 56951002821 | B66: 제 9호 | C66: EA1000002821 | D66: 잡석깔기지정 | E66: 떨공이다지기 | F66: ㎥ | G66: 0.5445 | H66: =일대목차!H10 -> 89 | I66: =IF(G66*H66<>0, TRUNC(G66*H66, 1), "") -> 48.4 | J66: 0.5445 | K66: =일대목차!K10 -> 2979 | L66: =IF(G66*K66<>0, TRUNC(G66*K66, 1), "") -> 1622 | M66: =일대목차!M10 -> 0 | N66: =IF(G66*M66<>0, TRUNC(G66*M66, 1), "") | O66: =IF((H66+K66+M66)=0, "", (H66+K66+M66)) -> 3068 | P66: =IF(SUM(I66,L66,N66)<>0,SUM(I66,L66,N66),"") -> 1670.4 | Q66: 제 7호 | R66: ILD
A67: CA565826044 | B67: 제 9호 | C67: ECA565826044 | D67: 크레인 | E67: 트럭 탑재형 10 Ton | F67: 분 | G67: 168 | H67: =합산자재!H161 -> 373 | I67: =IF(G67*H67<>0, TRUNC(G67*H67, 1), "") -> 62664 | J67: 168 | K67: =합산자재!I161 -> 661 | L67: =IF(G67*K67<>0, TRUNC(G67*K67, 1), "") -> 111048 | M67: =합산자재!J161 -> 346 | N67: =IF(G67*M67<>0, TRUNC(G67*M67, 1), "") -> 58128 | O67: =IF((H67+K67+M67)=0, "", (H67+K67+M67)) -> 1380 | P67: =IF(SUM(I67,L67,N67)<>0,SUM(I67,L67,N67),"") -> 231840 | Q67: 168-하 | R67: ild
A68: A0100000000 | B68: 제 9호 | C68: RENT000000000003 | D68: [ 소모 잡자재 ] | E68: 전선, 전선관의 2 % | F68: 식 | G68: 1 | H68: =IF(TRUNC((AD68+AC68)/$AD$3,1)*$AD$3-AD68 <0, AC68, TRUNC((AD68+AC68)/$AD$3,1)*$AD$3-AD68) -> 448.7 | I68: =H68 -> 448.7 | J68: 1 | L68: =IF(G68*K68<>0, TRUNC(G68*K68, 1), "") | N68: =IF(G68*M68<>0, TRUNC(G68*M68, 1), "") | O68: =IF((H68+K68+M68)=0, "", (H68+K68+M68)) -> 448.7 | P68: =IF(SUM(I68,L68,N68)<>0,SUM(I68,L68,N68),"") -> 448.7 | AC68: =TRUNC(TRUNC(SUM(AC58:AC67))*옵션!$B$33/100,1) -> 448.7 | AD68: =TRUNC(SUM(I58:I67))+TRUNC(SUM(N58:N67)) -> 969964
A69: 56900017016 | B69: 제 9호 | C69: L001010101000075 | D69: 노 무 비 | E69: 내선전공 | F69: 인 | G69: =일위노임!G45 -> 0.1625 | H69: =합산자재!H165 -> 0 | I69: =IF(G69*H69<>0, TRUNC(G69*H69, 1), "") | J69: 0.1625 | K69: =합산자재!I165 -> 270251 | L69: =IF(G69*K69<>0, TRUNC(G69*K69, 1), "") -> 43915.7 | M69: =합산자재!J165 -> 0 | N69: =IF(G69*M69<>0, TRUNC(G69*M69, 1), "") | O69: =IF((H69+K69+M69)=0, "", (H69+K69+M69)) -> 270251 | P69: =IF(SUM(I69,L69,N69)<>0,SUM(I69,L69,N69),"") -> 43915.7 | AE69: =L69 -> 43915.7
A70: 56900017117 | B70: 제 9호 | C70: L001010101000076 | D70: 노 무 비 | E70: 특고압케이블전공 | F70: 인 | G70: =일위노임!G46 -> 0.36 | H70: =합산자재!H167 -> 0 | I70: =IF(G70*H70<>0, TRUNC(G70*H70, 1), "") | J70: 0.36 | K70: =합산자재!I167 -> 431830 | L70: =IF(G70*K70<>0, TRUNC(G70*K70, 1), "") -> 155458.8 | M70: =합산자재!J167 -> 0 | N70: =IF(G70*M70<>0, TRUNC(G70*M70, 1), "") | O70: =IF((H70+K70+M70)=0, "", (H70+K70+M70)) -> 431830 | P70: =IF(SUM(I70,L70,N70)<>0,SUM(I70,L70,N70),"") -> 155458.8 | AE70: =L70 -> 155458.8
A71: 56900017041 | B71: 제 9호 | C71: L001010101000002 | D71: 노 무 비 | E71: 보통인부 | F71: 인 | G71: =일위노임!G47 -> 0.44 | H71: =합산자재!H169 -> 0 | I71: =IF(G71*H71<>0, TRUNC(G71*H71, 1), "") | J71: 0.44 | K71: =합산자재!I169 -> 165545 | L71: =IF(G71*K71<>0, TRUNC(G71*K71, 1), "") -> 72839.8 | M71: =합산자재!J169 -> 0 | N71: =IF(G71*M71<>0, TRUNC(G71*M71, 1), "") | O71: =IF((H71+K71+M71)=0, "", (H71+K71+M71)) -> 165545 | P71: =IF(SUM(I71,L71,N71)<>0,SUM(I71,L71,N71),"") -> 72839.8 | AE71: =L71 -> 72839.8
A72: 56900017118 | B72: 제 9호 | C72: L001010101000003 | D72: 노 무 비 | E72: 특별인부 | F72: 인 | G72: =일위노임!G48 -> 1.63 | H72: =합산자재!H170 -> 0 | I72: =IF(G72*H72<>0, TRUNC(G72*H72, 1), "") | J72: 1.63 | K72: =합산자재!I170 -> 214222 | L72: =IF(G72*K72<>0, TRUNC(G72*K72, 1), "") -> 349181.8 | M72: =합산자재!J170 -> 0 | N72: =IF(G72*M72<>0, TRUNC(G72*M72, 1), "") | O72: =IF((H72+K72+M72)=0, "", (H72+K72+M72)) -> 214222 | P72: =IF(SUM(I72,L72,N72)<>0,SUM(I72,L72,N72),"") -> 349181.8 | AE72: =L72 -> 349181.8
A73: 56900017091 | B73: 제 9호 | C73: L001010101000034 | D73: 노 무 비 | E73: 줄눈공 | F73: 인 | G73: =일위노임!G49 -> 0.05 | H73: =합산자재!H172 -> 0 | I73: =IF(G73*H73<>0, TRUNC(G73*H73, 1), "") | J73: 0.05 | K73: =합산자재!I172 -> 195370 | L73: =IF(G73*K73<>0, TRUNC(G73*K73, 1), "") -> 9768.5 | M73: =합산자재!J172 -> 0 | N73: =IF(G73*M73<>0, TRUNC(G73*M73, 1), "") | O73: =IF((H73+K73+M73)=0, "", (H73+K73+M73)) -> 195370 | P73: =IF(SUM(I73,L73,N73)<>0,SUM(I73,L73,N73),"") -> 9768.5 | AE73: =L73 -> 9768.5
A74: 56900017074 | B74: 제 9호 | C74: L001010101000001 | D74: 노 무 비 | E74: 작업반장 | F74: 인 | G74: =일위노임!G50 -> 0.34 | H74: =합산자재!H174 -> 0 | I74: =IF(G74*H74<>0, TRUNC(G74*H74, 1), "") | J74: 0.34 | K74: =합산자재!I174 -> 208713 | L74: =IF(G74*K74<>0, TRUNC(G74*K74, 1), "") -> 70962.4 | M74: =합산자재!J174 -> 0 | N74: =IF(G74*M74<>0, TRUNC(G74*M74, 1), "") | O74: =IF((H74+K74+M74)=0, "", (H74+K74+M74)) -> 208713 | P74: =IF(SUM(I74,L74,N74)<>0,SUM(I74,L74,N74),"") -> 70962.4 | AE74: =L74 -> 70962.4
A75: A0300000000 | B75: 제 9호 | C75: RENT000000000006 | D75: [ 공 구 손 료 ] | E75: 노무비의 3 % | F75: 식 | G75: 1 | H75: =IF(TRUNC((AD76+AC76)/$AE$3,1)*$AE$3-AD76 <0, AC76, TRUNC((AD76+AC76)/$AE$3,1)*$AE$3-AD76) -> 21063.8 | I75: =H75 -> 21063.8 | J75: 1 | L75: =IF(G75*K75<>0, TRUNC(G75*K75, 1), "") | N75: =IF(G75*M75<>0, TRUNC(G75*M75, 1), "") | O75: =IF((H75+K75+M75)=0, "", (H75+K75+M75)) -> 21063.8 | P75: =IF(SUM(I75,L75,N75)<>0,SUM(I75,L75,N75),"") -> 21063.8
B76: 합계줄 | D76: ( 합 계 ) | I76: =TRUNC(SUM(I58:I75)) -> 926917 | L76: =TRUNC(SUM(L58:L75)) -> 1024504 | N76: =TRUNC(SUM(N58:N75)) -> 64560 | O76: =IF((H76+K76+M76)=0, "", (H76+K76+M76)) | P76: =IF(SUM(I76,L76,N76)<>0,SUM(I76,L76,N76),"") -> 2015981 | AC76: =TRUNC(AE76*옵션!$B$36/100,1) -> 21063.8 | AD76: =TRUNC(SUM(L58:L74)) -> 1024504 | AE76: =TRUNC(SUM(AE58:AE75)) -> 702127
A78: 56951002900 | B78: 일목줄 | C78: EA1000002900 | D78: [제 10호] 아스팔트 포장 컷팅 터파기 별도 계상 [m]
A79: 34050017001 | B79: 제 10호 | C79: 2317167020544845 | D79: 컷팅날 | E79: D320~400mm t =3.2mm | F79: 개 | G79: 0.0027 | H79: =합산자재!H96 -> 215000 | I79: =IF(G79*H79<>0, TRUNC(G79*H79, 1), "") -> 580.5 | J79: 0.0027 | K79: =합산자재!I96 -> 0 | L79: =IF(G79*K79<>0, TRUNC(G79*K79, 1), "") | M79: =합산자재!J96 -> 0 | N79: =IF(G79*M79<>0, TRUNC(G79*M79, 1), "") | O79: =IF((H79+K79+M79)=0, "", (H79+K79+M79)) -> 215000 | P79: =IF(SUM(I79,L79,N79)<>0,SUM(I79,L79,N79),"") -> 580.5
A80: 56900017041 | B80: 제 10호 | C80: L001010101000002 | D80: 노 무 비 | E80: 보통인부 | F80: 인 | G80: =일위노임!G53 -> 0.0076 | H80: =합산자재!H169 -> 0 | I80: =IF(G80*H80<>0, TRUNC(G80*H80, 1), "") | J80: 0.0076 | K80: =합산자재!I169 -> 165545 | L80: =IF(G80*K80<>0, TRUNC(G80*K80, 1), "") -> 1258.1 | M80: =합산자재!J169 -> 0 | N80: =IF(G80*M80<>0, TRUNC(G80*M80, 1), "") | O80: =IF((H80+K80+M80)=0, "", (H80+K80+M80)) -> 165545 | P80: =IF(SUM(I80,L80,N80)<>0,SUM(I80,L80,N80),"") -> 1258.1 | AE80: =L80 -> 1258.1
A81: A0300000000 | B81: 제 10호 | C81: RENT000000000006 | D81: [ 공 구 손 료 ] | E81: 노무비의 3 % | F81: 식 | G81: 1 | H81: =IF(TRUNC((AD82+AC82)/$AE$3,1)*$AE$3-AD82 <0, AC82, TRUNC((AD82+AC82)/$AE$3,1)*$AE$3-AD82) -> 37.7 | I81: =H81 -> 37.7 | J81: 1 | L81: =IF(G81*K81<>0, TRUNC(G81*K81, 1), "") | N81: =IF(G81*M81<>0, TRUNC(G81*M81, 1), "") | O81: =IF((H81+K81+M81)=0, "", (H81+K81+M81)) -> 37.7 | P81: =IF(SUM(I81,L81,N81)<>0,SUM(I81,L81,N81),"") -> 37.7
B82: 합계줄 | D82: ( 합 계 ) | I82: =TRUNC(SUM(I78:I81)) -> 618 | L82: =TRUNC(SUM(L78:L81)) -> 1258 | N82: =TRUNC(SUM(N78:N81)) -> 0 | O82: =IF((H82+K82+M82)=0, "", (H82+K82+M82)) | P82: =IF(SUM(I82,L82,N82)<>0,SUM(I82,L82,N82),"") -> 1876 | AC82: =TRUNC(AE82*옵션!$B$36/100,1) -> 37.7 | AD82: =TRUNC(SUM(L78:L80)) -> 1258 | AE82: =TRUNC(SUM(AE78:AE81)) -> 1258
A84: 56951002902 | B84: 일목줄 | C84: EA1000002902 | D84: [제 11호] 아스팔트 포장 파괴 터파기 별도 계상 [㎡]
A85: 56900017118 | B85: 제 11호 | C85: L001010101000003 | D85: 노 무 비 | E85: 특별인부 | F85: 인 | G85: =일위노임!G56 -> 1.52 | H85: =합산자재!H170 -> 0 | I85: =IF(G85*H85<>0, TRUNC(G85*H85, 1), "") | J85: 1.52 | K85: =합산자재!I170 -> 214222 | L85: =IF(G85*K85<>0, TRUNC(G85*K85, 1), "") -> 325617.4 | M85: =합산자재!J170 -> 0 | N85: =IF(G85*M85<>0, TRUNC(G85*M85, 1), "") | O85: =IF((H85+K85+M85)=0, "", (H85+K85+M85)) -> 214222 | P85: =IF(SUM(I85,L85,N85)<>0,SUM(I85,L85,N85),"") -> 325617.4 | AE85: =L85 -> 325617.4
A86: A0300000000 | B86: 제 11호 | C86: RENT000000000006 | D86: [ 공 구 손 료 ] | E86: 노무비의 3 % | F86: 식 | G86: 1 | H86: =IF(TRUNC((AD87+AC87)/$AE$3,1)*$AE$3-AD87 <0, AC87, TRUNC((AD87+AC87)/$AE$3,1)*$AE$3-AD87) -> 9768.5 | I86: =H86 -> 9768.5 | J86: 1 | L86: =IF(G86*K86<>0, TRUNC(G86*K86, 1), "") | N86: =IF(G86*M86<>0, TRUNC(G86*M86, 1), "") | O86: =IF((H86+K86+M86)=0, "", (H86+K86+M86)) -> 9768.5 | P86: =IF(SUM(I86,L86,N86)<>0,SUM(I86,L86,N86),"") -> 9768.5
B87: 합계줄 | D87: ( 합 계 ) | I87: =TRUNC(SUM(I84:I86)) -> 9768 | L87: =TRUNC(SUM(L84:L86)) -> 325617 | N87: =TRUNC(SUM(N84:N86)) -> 0 | O87: =IF((H87+K87+M87)=0, "", (H87+K87+M87)) | P87: =IF(SUM(I87,L87,N87)<>0,SUM(I87,L87,N87),"") -> 335385 | AC87: =TRUNC(AE87*옵션!$B$36/100,1) -> 9768.5 | AD87: =TRUNC(SUM(L84:L85)) -> 325617 | AE87: =TRUNC(SUM(AE84:AE86)) -> 325617
A89: 56951005200 | B89: 일목줄 | C89: EA1000005200 | D89: [제 12호] 아스콘 포장 소규모(표층) [㎡]
A90: MM872187896 | B90: 제 12호 | C90: 391115ZZ701Z0022 | D90: 플레이트콤팩터 | E90: 1.5톤 | F90: HR | G90: 0.0267 | H90: =합산자재!H158 -> 1975 | I90: =IF(G90*H90<>0, TRUNC(G90*H90, 1), "") -> 52.7 | J90: 0.0267 | K90: =합산자재!I158 -> 33571 | L90: =IF(G90*K90<>0, TRUNC(G90*K90, 1), "") -> 896.3 | M90: =합산자재!J158 -> 554 | N90: =IF(G90*M90<>0, TRUNC(G90*M90, 1), "") -> 14.7 | O90: =IF((H90+K90+M90)=0, "", (H90+K90+M90)) -> 36100 | P90: =IF(SUM(I90,L90,N90)<>0,SUM(I90,L90,N90),"") -> 963.7
A91: MM872187897 | B91: 제 12호 | C91: 391115ZZ701Z0010 | D91: 진동로울러 | E91: 핸드가이드식 0.7톤 | F91: HR | G91: 0.0267 | H91: =합산자재!H157 -> 3935 | I91: =IF(G91*H91<>0, TRUNC(G91*H91, 1), "") -> 105 | J91: 0.0267 | K91: =합산자재!I157 -> 33571 | L91: =IF(G91*K91<>0, TRUNC(G91*K91, 1), "") -> 896.3 | M91: =합산자재!J157 -> 1748 | N91: =IF(G91*M91<>0, TRUNC(G91*M91, 1), "") -> 46.6 | O91: =IF((H91+K91+M91)=0, "", (H91+K91+M91)) -> 39254 | P91: =IF(SUM(I91,L91,N91)<>0,SUM(I91,L91,N91),"") -> 1047.9
A92: MM872187898 | B92: 제 12호 | C92: 391115ZZ701Z0002 | D92: 로우더(타이어) | E92: 0.57㎥ | F92: HR | G92: 0.0267 | H92: =합산자재!H149 -> 7978 | I92: =IF(G92*H92<>0, TRUNC(G92*H92, 1), "") -> 213 | J92: 0.0267 | K92: =합산자재!I149 -> 55700 | L92: =IF(G92*K92<>0, TRUNC(G92*K92, 1), "") -> 1487.1 | M92: =합산자재!J149 -> 6573 | N92: =IF(G92*M92<>0, TRUNC(G92*M92, 1), "") -> 175.4 | O92: =IF((H92+K92+M92)=0, "", (H92+K92+M92)) -> 70251 | P92: =IF(SUM(I92,L92,N92)<>0,SUM(I92,L92,N92),"") -> 1875.5
A93: MM872187899 | B93: 제 12호 | C93: 391115ZZ701Z0003 | D93: 살수차 | E93: 5500L | F93: HR | G93: 0.0133 | H93: =합산자재!H150 -> 19138 | I93: =IF(G93*H93<>0, TRUNC(G93*H93, 1), "") -> 254.5 | J93: 0.0133 | K93: =합산자재!I150 -> 47231 | L93: =IF(G93*K93<>0, TRUNC(G93*K93, 1), "") -> 628.1 | M93: =합산자재!J150 -> 8878 | N93: =IF(G93*M93<>0, TRUNC(G93*M93, 1), "") -> 118 | O93: =IF((H93+K93+M93)=0, "", (H93+K93+M93)) -> 75247 | P93: =IF(SUM(I93,L93,N93)<>0,SUM(I93,L93,N93),"") -> 1000.6
A94: 56900017041 | B94: 제 12호 | C94: L001010101000002 | D94: 노 무 비 | E94: 보통인부 | F94: 인 | G94: =일위노임!G60 -> 0.0033 | H94: =합산자재!H169 -> 0 | I94: =IF(G94*H94<>0, TRUNC(G94*H94, 1), "") | J94: 0.0033 | K94: =합산자재!I169 -> 165545 | L94: =IF(G94*K94<>0, TRUNC(G94*K94, 1), "") -> 546.2 | M94: =합산자재!J169 -> 0 | N94: =IF(G94*M94<>0, TRUNC(G94*M94, 1), "") | O94: =IF((H94+K94+M94)=0, "", (H94+K94+M94)) -> 165545 | P94: =IF(SUM(I94,L94,N94)<>0,SUM(I94,L94,N94),"") -> 546.2 | AE94: =L94 -> 546.2
A95: 56900017123 | B95: 제 12호 | C95: L001010101000019 | D95: 노 무 비 | E95: 포장공 | F95: 인 | G95: =일위노임!G61 -> 0.0067 | H95: =합산자재!H173 -> 0 | I95: =IF(G95*H95<>0, TRUNC(G95*H95, 1), "") | J95: 0.0067 | K95: =합산자재!I173 -> 258360 | L95: =IF(G95*K95<>0, TRUNC(G95*K95, 1), "") -> 1731 | M95: =합산자재!J173 -> 0 | N95: =IF(G95*M95<>0, TRUNC(G95*M95, 1), "") | O95: =IF((H95+K95+M95)=0, "", (H95+K95+M95)) -> 258360 | P95: =IF(SUM(I95,L95,N95)<>0,SUM(I95,L95,N95),"") -> 1731 | AE95: =L95 -> 1731
A96: A0300000000 | B96: 제 12호 | C96: RENT000000000006 | D96: [ 공 구 손 료 ] | E96: 노무비의 3 % | F96: 식 | G96: 1 | H96: =IF(TRUNC((AD97+AC97)/$AE$3,1)*$AE$3-AD97 <0, AC97, TRUNC((AD97+AC97)/$AE$3,1)*$AE$3-AD97) -> 68.3 | I96: =H96 -> 68.3 | J96: 1 | L96: =IF(G96*K96<>0, TRUNC(G96*K96, 1), "") | N96: =IF(G96*M96<>0, TRUNC(G96*M96, 1), "") | O96: =IF((H96+K96+M96)=0, "", (H96+K96+M96)) -> 68.3 | P96: =IF(SUM(I96,L96,N96)<>0,SUM(I96,L96,N96),"") -> 68.3
B97: 합계줄 | D97: ( 합 계 ) | I97: =TRUNC(SUM(I89:I96)) -> 693 | L97: =TRUNC(SUM(L89:L96)) -> 6185 | N97: =TRUNC(SUM(N89:N96)) -> 354 | O97: =IF((H97+K97+M97)=0, "", (H97+K97+M97)) | P97: =IF(SUM(I97,L97,N97)<>0,SUM(I97,L97,N97),"") -> 7232 | AC97: =TRUNC(AE97*옵션!$B$36/100,1) -> 68.3 | AD97: =TRUNC(SUM(L89:L95)) -> 6185 | AE97: =TRUNC(SUM(AE89:AE96)) -> 2277
A99: 56951005201 | B99: 일목줄 | C99: EA1000005201 | D99: [제 13호] 아스콘 포장 소규모(기층) [㎡]
A100: MM872187896 | B100: 제 13호 | C100: 391115ZZ701Z0022 | D100: 플레이트콤팩터 | E100: 1.5톤 | F100: HR | G100: 0.025 | H100: =합산자재!H158 -> 1975 | I100: =IF(G100*H100<>0, TRUNC(G100*H100, 1), "") -> 49.3 | J100: 0.025 | K100: =합산자재!I158 -> 33571 | L100: =IF(G100*K100<>0, TRUNC(G100*K100, 1), "") -> 839.2 | M100: =합산자재!J158 -> 554 | N100: =IF(G100*M100<>0, TRUNC(G100*M100, 1), "") -> 13.8 | O100: =IF((H100+K100+M100)=0, "", (H100+K100+M100)) -> 36100 | P100: =IF(SUM(I100,L100,N100)<>0,SUM(I100,L100,N100),"") -> 902.3
A101: MM872187897 | B101: 제 13호 | C101: 391115ZZ701Z0010 | D101: 진동로울러 | E101: 핸드가이드식 0.7톤 | F101: HR | G101: 0.025 | H101: =합산자재!H157 -> 3935 | I101: =IF(G101*H101<>0, TRUNC(G101*H101, 1), "") -> 98.3 | J101: 0.025 | K101: =합산자재!I157 -> 33571 | L101: =IF(G101*K101<>0, TRUNC(G101*K101, 1), "") -> 839.2 | M101: =합산자재!J157 -> 1748 | N101: =IF(G101*M101<>0, TRUNC(G101*M101, 1), "") -> 43.7 | O101: =IF((H101+K101+M101)=0, "", (H101+K101+M101)) -> 39254 | P101: =IF(SUM(I101,L101,N101)<>0,SUM(I101,L101,N101),"") -> 981.2
A102: MM872187898 | B102: 제 13호 | C102: 391115ZZ701Z0002 | D102: 로우더(타이어) | E102: 0.57㎥ | F102: HR | G102: 0.025 | H102: =합산자재!H149 -> 7978 | I102: =IF(G102*H102<>0, TRUNC(G102*H102, 1), "") -> 199.4 | J102: 0.025 | K102: =합산자재!I149 -> 55700 | L102: =IF(G102*K102<>0, TRUNC(G102*K102, 1), "") -> 1392.5 | M102: =합산자재!J149 -> 6573 | N102: =IF(G102*M102<>0, TRUNC(G102*M102, 1), "") -> 164.3 | O102: =IF((H102+K102+M102)=0, "", (H102+K102+M102)) -> 70251 | P102: =IF(SUM(I102,L102,N102)<>0,SUM(I102,L102,N102),"") -> 1756.2
A103: MM872187899 | B103: 제 13호 | C103: 391115ZZ701Z0003 | D103: 살수차 | E103: 5500L | F103: HR | G103: 0.0125 | H103: =합산자재!H150 -> 19138 | I103: =IF(G103*H103<>0, TRUNC(G103*H103, 1), "") -> 239.2 | J103: 0.0125 | K103: =합산자재!I150 -> 47231 | L103: =IF(G103*K103<>0, TRUNC(G103*K103, 1), "") -> 590.3 | M103: =합산자재!J150 -> 8878 | N103: =IF(G103*M103<>0, TRUNC(G103*M103, 1), "") -> 110.9 | O103: =IF((H103+K103+M103)=0, "", (H103+K103+M103)) -> 75247 | P103: =IF(SUM(I103,L103,N103)<>0,SUM(I103,L103,N103),"") -> 940.4
A104: 56900017041 | B104: 제 13호 | C104: L001010101000002 | D104: 노 무 비 | E104: 보통인부 | F104: 인 | G104: =일위노임!G65 -> 0.0031 | H104: =합산자재!H169 -> 0 | I104: =IF(G104*H104<>0, TRUNC(G104*H104, 1), "") | J104: 0.0031 | K104: =합산자재!I169 -> 165545 | L104: =IF(G104*K104<>0, TRUNC(G104*K104, 1), "") -> 513.1 | M104: =합산자재!J169 -> 0 | N104: =IF(G104*M104<>0, TRUNC(G104*M104, 1), "") | O104: =IF((H104+K104+M104)=0, "", (H104+K104+M104)) -> 165545 | P104: =IF(SUM(I104,L104,N104)<>0,SUM(I104,L104,N104),"") -> 513.1 | AE104: =L104 -> 513.1
A105: 56900017123 | B105: 제 13호 | C105: L001010101000019 | D105: 노 무 비 | E105: 포장공 | F105: 인 | G105: =일위노임!G66 -> 0.0063 | H105: =합산자재!H173 -> 0 | I105: =IF(G105*H105<>0, TRUNC(G105*H105, 1), "") | J105: 0.0063 | K105: =합산자재!I173 -> 258360 | L105: =IF(G105*K105<>0, TRUNC(G105*K105, 1), "") -> 1627.6 | M105: =합산자재!J173 -> 0 | N105: =IF(G105*M105<>0, TRUNC(G105*M105, 1), "") | O105: =IF((H105+K105+M105)=0, "", (H105+K105+M105)) -> 258360 | P105: =IF(SUM(I105,L105,N105)<>0,SUM(I105,L105,N105),"") -> 1627.6 | AE105: =L105 -> 1627.6
A106: A0300000000 | B106: 제 13호 | C106: RENT000000000006 | D106: [ 공 구 손 료 ] | E106: 노무비의 3 % | F106: 식 | G106: 1 | H106: =IF(TRUNC((AD107+AC107)/$AE$3,1)*$AE$3-AD107 <0, AC107, TRUNC((AD107+AC107)/$AE$3,1)*$AE$3-AD107) -> 64.2 | I106: =H106 -> 64.2 | J106: 1 | L106: =IF(G106*K106<>0, TRUNC(G106*K106, 1), "") | N106: =IF(G106*M106<>0, TRUNC(G106*M106, 1), "") | O106: =IF((H106+K106+M106)=0, "", (H106+K106+M106)) -> 64.2 | P106: =IF(SUM(I106,L106,N106)<>0,SUM(I106,L106,N106),"") -> 64.2
B107: 합계줄 | D107: ( 합 계 ) | I107: =TRUNC(SUM(I99:I106)) -> 650 | L107: =TRUNC(SUM(L99:L106)) -> 5801 | N107: =TRUNC(SUM(N99:N106)) -> 332 | O107: =IF((H107+K107+M107)=0, "", (H107+K107+M107)) | P107: =IF(SUM(I107,L107,N107)<>0,SUM(I107,L107,N107),"") -> 6783 | AC107: =TRUNC(AE107*옵션!$B$36/100,1) -> 64.2 | AD107: =TRUNC(SUM(L99:L105)) -> 5801 | AE107: =TRUNC(SUM(AE99:AE106)) -> 2140
A109: 56951002905 | B109: 일목줄 | C109: EA1000002905 | D109: [제 14호] 폐기물처리(아스팔트) 30km이하 [ton]
A110: MMH50429100 | B110: 제 14호 | C110: 9999999456000000 | D110: 상차비 | E110: 폐기물처리(30km이하) | F110: ton | G110: 1 | H110: =합산자재!H99 -> 3520 | I110: =IF(G110*H110<>0, TRUNC(G110*H110, 1), "") -> 3520 | J110: 1 | K110: =합산자재!I99 -> 0 | L110: =IF(G110*K110<>0, TRUNC(G110*K110, 1), "") | M110: =합산자재!J99 -> 0 | N110: =IF(G110*M110<>0, TRUNC(G110*M110, 1), "") | O110: =IF((H110+K110+M110)=0, "", (H110+K110+M110)) -> 3520 | P110: =IF(SUM(I110,L110,N110)<>0,SUM(I110,L110,N110),"") -> 3520
A111: MMH50429101 | B111: 제 14호 | C111: 9999999456000001 | D111: 운반비 | E111: 폐기물처리(30km이하) | F111: ton | G111: 1 | H111: =합산자재!H100 -> 15990 | I111: =IF(G111*H111<>0, TRUNC(G111*H111, 1), "") -> 15990 | J111: 1 | K111: =합산자재!I100 -> 0 | L111: =IF(G111*K111<>0, TRUNC(G111*K111, 1), "") | M111: =합산자재!J100 -> 0 | N111: =IF(G111*M111<>0, TRUNC(G111*M111, 1), "") | O111: =IF((H111+K111+M111)=0, "", (H111+K111+M111)) -> 15990 | P111: =IF(SUM(I111,L111,N111)<>0,SUM(I111,L111,N111),"") -> 15990
A112: MMH50429103 | B112: 제 14호 | C112: 9999999456000003 | D112: 폐아스팔트콘크리트 | F112: ton | G112: 1 | H112: =합산자재!H101 -> 30488 | I112: =IF(G112*H112<>0, TRUNC(G112*H112, 1), "") -> 30488 | J112: 1 | K112: =합산자재!I101 -> 0 | L112: =IF(G112*K112<>0, TRUNC(G112*K112, 1), "") | M112: =합산자재!J101 -> 0 | N112: =IF(G112*M112<>0, TRUNC(G112*M112, 1), "") | O112: =IF((H112+K112+M112)=0, "", (H112+K112+M112)) -> 30488 | P112: =IF(SUM(I112,L112,N112)<>0,SUM(I112,L112,N112),"") -> 30488
B113: 합계줄 | D113: ( 합 계 ) | I113: =TRUNC(SUM(I109:I112)) -> 49998 | L113: =TRUNC(SUM(L109:L112)) -> 0 | N113: =TRUNC(SUM(N109:N112)) -> 0 | O113: =IF((H113+K113+M113)=0, "", (H113+K113+M113)) | P113: =IF(SUM(I113,L113,N113)<>0,SUM(I113,L113,N113),"") -> 49998 | AE113: =TRUNC(SUM(AE109:AE112)) -> 0
...

Sheet 일위노임
B1: 393 | D1: [ CAV기반 미래모빌리티 자율주행 평가플랫폼 구축 증축공사 ] - 일위노임 산출근거(202401-노임) | AA1: 내선전공 | AB1: 저압케이블전공 | AC1: 특고압케이블전공 | AD1: 배전전공 | AE1: 보통인부 | AF1: 특별인부 | AG1: 방수공 | AH1: 줄눈공 | AI1: 포장공 | AJ1: 작업반장
A2: 번호 | B2: 공종코드 | C2: 코드 | D2: 명 칭 | E2: 규 격 | F2: 단위 | G2: 수량 | K2: 코드 | L2: 공량산출 | P2: 단 위 단 가 산 출 | S2: 품셈근거 | T2: 비고
G3: 결정수량 | H3: 할증 | I3: 산출수량 | J3: 재할% | L3: 명칭 | M3: 품셈 | N3: 할증% | O3: 공량 | P3: 단가 | Q3: 단위단가 | R3: 단위계
B4: 공종줄 | D4: [ 제 1호 ] 인력터파기 보통토사0-1m [㎥_]
B5: 800 | C5: 391115ZZ701Z0019 | D5: 품셈 산출근거 | E5: 인력터파기 보통토사 0-1M | F5: 식 | G5: 1 | H5: =IF(I5<>0, G5-I5, "") -> 0 | I5: 1 | K5: 56900017041 | L5: 보통인부 | M5: 0.2 | N5: 100 | O5: =IF(I5*M5=0, "", I5*M5*(N5/100)) -> 0.2 | Q5: =TRUNC(P5*M5*N5/100) -> 0 | S5: 토목3-1-2 | AE5: =O5 -> 0.2
B6: 800 | C6: L001010101000002 | D6: 노 무 비 | E6: 보통인부 | F6: 인 | G6: =IF(H6*I6/100+0.000005 <1, TRUNC(H6*I6/100+0.000005, 옵션!$E$13), TRUNC(H6*I6/100+0.000005, 옵션!$E$13)) -> 0.2 | H6: =옵션!$B$13 -> 100 | I6: =SUM(AE5:AE5) -> 0.2 | O6: =IF(I6*M6=0, "", I6*M6*(N6/100)) | Q6: =TRUNC(P6*M6*N6/100) -> 0 | Z6: 노임계 | AE6: =SUM(AE5:AE5) -> 0.2
B7: 공종줄 | D7: [ 제 2호 ] 인력되메우기 보통토사0-1m [㎥_]
B8: 800 | C8: 391115ZZ701Z0018 | D8: 품셈 산출근거 | E8: 인력되메우기 보통토사 0-1M | F8: 식 | G8: 1 | H8: =IF(I8<>0, G8-I8, "") -> 0 | I8: 1 | K8: 56900017041 | L8: 보통인부 | M8: 0.11 | N8: 100 | O8: =IF(I8*M8=0, "", I8*M8*(N8/100)) -> 0.11 | Q8: =TRUNC(P8*M8*N8/100) -> 0 | S8: 토목3-2-1 | AE8: =O8 -> 0.11
B9: 800 | C9: L001010101000002 | D9: 노 무 비 | E9: 보통인부 | F9: 인 | G9: =IF(H9*I9/100+0.000005 <1, TRUNC(H9*I9/100+0.000005, 옵션!$E$13), TRUNC(H9*I9/100+0.000005, 옵션!$E$13)) -> 0.11 | H9: =옵션!$B$13 -> 100 | I9: =SUM(AE8:AE8) -> 0.11 | O9: =IF(I9*M9=0, "", I9*M9*(N9/100)) | Q9: =TRUNC(P9*M9*N9/100) -> 0 | Z9: 노임계 | AE9: =SUM(AE8:AE8) -> 0.11
B10: 공종줄 | D10: [ 제 5호 ] 지중선용 가선철물(저압) 케이블표지시트, 0.15x150 [m]
B11: 800 | C11: 3912219520175619 | D11: 지중선용 가선철물(저압) | E11: 케이블표지시트, 0.15x150 | F11: M | G11: 1 | H11: =IF(I11<>0, G11-I11, "") -> 0 | I11: 1 | K11: 56900017076 | L11: 저압케이블전공 | M11: 0.0005 | N11: 100 | O11: =IF(I11*M11=0, "", I11*M11*(N11/100)) -> 0.0005 | Q11: =TRUNC(P11*M11*N11/100) -> 0 | S11: 전기4-45 | AB11: =O11 -> 0.0005
B12: 800 | C12: 3912219520175619 | G12: 1 | H12: =IF(I12<>0, G12-I12, "") -> 0 | I12: 1 | K12: 56900017041 | L12: 보통인부 | M12: 0.001 | N12: 100 | O12: =IF(I12*M12=0, "", I12*M12*(N12/100)) -> 0.001 | Q12: =TRUNC(P12*M12*N12/100) -> 0 | S12: 전기4-45 | AE12: =O12 -> 0.001
B13: 800 | C13: L001010101000078 | D13: 노 무 비 | E13: 저압케이블전공 | F13: 인 | G13: =IF(H13*I13/100+0.000005 <1, TRUNC(H13*I13/100+0.000005, 옵션!$E$13), TRUNC(H13*I13/100+0.000005, 옵션!$E$13)) -> 0.0005 | H13: =옵션!$B$13 -> 100 | I13: =SUM(AB11:AB12) -> 0.0005 | O13: =IF(I13*M13=0, "", I13*M13*(N13/100)) | Q13: =TRUNC(P13*M13*N13/100) -> 0 | Z13: 노임계 | AB13: =SUM(AB11:AB12) -> 0.0005 | AE13: =SUM(AE11:AE12) -> 0.001
B14: 800 | C14: L001010101000002 | D14: 노 무 비 | E14: 보통인부 | F14: 인 | G14: =IF(H14*I14/100+0.000005 <1, TRUNC(H14*I14/100+0.000005, 옵션!$E$13), TRUNC(H14*I14/100+0.000005, 옵션!$E$13)) -> 0.001 | H14: =옵션!$B$13 -> 100 | I14: =SUM(AE11:AE12) -> 0.001 | O14: =IF(I14*M14=0, "", I14*M14*(N14/100)) | Q14: =TRUNC(P14*M14*N14/100) -> 0
B15: 공종줄 | D15: [ 제 6호 ] 현장내잔토처리 소운반.고르기 [㎥_]
B16: 800 | C16: 391115ZZ701Z0021 | D16: 품셈 산출근거 | E16: 현장내잔토처리 소운반.고르기 | F16: 식 | G16: 1 | H16: =IF(I16<>0, G16-I16, "") -> 0 | I16: 1 | K16: 56900017041 | L16: 보통인부 | M16: 0.2 | N16: 100 | O16: =IF(I16*M16=0, "", I16*M16*(N16/100)) -> 0.2 | Q16: =TRUNC(P16*M16*N16/100) -> 0 | S16: 토목3-1-2 | AE16: =O16 -> 0.2
B17: 800 | C17: L001010101000002 | D17: 노 무 비 | E17: 보통인부 | F17: 인 | G17: =IF(H17*I17/100+0.000005 <1, TRUNC(H17*I17/100+0.000005, 옵션!$E$13), TRUNC(H17*I17/100+0.000005, 옵션!$E$13)) -> 0.2 | H17: =옵션!$B$13 -> 100 | I17: =SUM(AE16:AE16) -> 0.2 | O17: =IF(I17*M17=0, "", I17*M17*(N17/100)) | Q17: =TRUNC(P17*M17*N17/100) -> 0 | Z17: 노임계 | AE17: =SUM(AE16:AE16) -> 0.2
B18: 공종줄 | D18: [ 제 7호 ] 잡석깔기지정 떨공이다지기 [㎥]
B19: 800 | C19: 391115ZZ701Z0020 | D19: 품셈 산출근거 | E19: 잡석깔기지정 떨공이다지기 | F19: 식 | G19: 1 | H19: =IF(I19<>0, G19-I19, "") -> 0 | I19: 1 | K19: 56900017041 | L19: 보통인부 | M19: 0.018 | N19: 100 | O19: =IF(I19*M19=0, "", I19*M19*(N19/100)) -> 0.018 | Q19: =TRUNC(P19*M19*N19/100) -> 0 | S19: 토목3-2-4 | AE19: =O19 -> 0.018
B20: 800 | C20: L001010101000002 | D20: 노 무 비 | E20: 보통인부 | F20: 인 | G20: =IF(H20*I20/100+0.000005 <1, TRUNC(H20*I20/100+0.000005, 옵션!$E$13), TRUNC(H20*I20/100+0.000005, 옵션!$E$13)) -> 0.018 | H20: =옵션!$B$13 -> 100 | I20: =SUM(AE19:AE19) -> 0.018 | O20: =IF(I20*M20=0, "", I20*M20*(N20/100)) | Q20: =TRUNC(P20*M20*N20/100) -> 0 | Z20: 노임계 | AE20: =SUM(AE19:AE19) -> 0.018
B21: 공종줄 | D21: [ 제 8호 ] 맨 홀 1000x1000x1000 [개소]
B22: 800 | C22: 3012169821869019 | D22: 맨홀 | E22: 1000x1000x1000 | F22: 조 | G22: 1 | H22: =IF(I22<>0, G22-I22, "") -> 0 | I22: 1 | K22: 56900017118 | L22: 특별인부 | M22: 1.63 | N22: 100 | O22: =IF(I22*M22=0, "", I22*M22*(N22/100)) -> 1.63 | Q22: =TRUNC(P22*M22*N22/100) -> 0 | S22: 전기4-43-3 | AF22: =O22 -> 1.63
B23: 800 | C23: 3012169821869019 | G23: 1 | H23: =IF(I23<>0, G23-I23, "") -> 0 | I23: 1 | K23: 56900017074 | L23: 작업반장 | M23: 0.34 | N23: 100 | O23: =IF(I23*M23=0, "", I23*M23*(N23/100)) -> 0.34 | Q23: =TRUNC(P23*M23*N23/100) -> 0 | S23: 전기4-43-3 | AJ23: =O23 -> 0.34
B24: 800 | C24: 3012169821869019 | G24: 1 | H24: =IF(I24<>0, G24-I24, "") -> 0 | I24: 1 | K24: 56900017091 | L24: 줄눈공 | M24: 0.05 | N24: 100 | O24: =IF(I24*M24=0, "", I24*M24*(N24/100)) -> 0.05 | Q24: =TRUNC(P24*M24*N24/100) -> 0 | S24: 전기4-43-3 | AH24: =O24 -> 0.05
B25: 800 | C25: 3012169520160610 | D25: 맨홀뚜껑(철개) | F25: 조 | G25: 1 | H25: =IF(I25<>0, G25-I25, "") -> 0 | I25: 1 | K25: 56900017117 | L25: 특고압케이블전공 | M25: 0.36 | N25: 100 | O25: =IF(I25*M25=0, "", I25*M25*(N25/100)) -> 0.36 | Q25: =TRUNC(P25*M25*N25/100) -> 0 | S25: 전기2-18 | AC25: =O25 -> 0.36
B26: 800 | C26: 3012169520160610 | G26: 1 | H26: =IF(I26<>0, G26-I26, "") -> 0 | I26: 1 | K26: 56900017041 | L26: 보통인부 | M26: 0.36 | N26: 100 | O26: =IF(I26*M26=0, "", I26*M26*(N26/100)) -> 0.36 | Q26: =TRUNC(P26*M26*N26/100) -> 0 | S26: 전기2-18 | AE26: =O26 -> 0.36
B27: 800 | C27: 2612152420683701 | D27: 접지용비닐절연전선(F-GV) | E27: 35㎟ | F27: M | G27: 5 | H27: =IF(I27<>0, G27-I27, "") -> 0 | I27: 5 | J27: 10 | K27: 56900017016 | L27: 내선전공 | M27: 0.007 | N27: 150 | O27: =IF(I27*M27=0, "", I27*M27*(N27/100)) -> 0.0525 | Q27: =TRUNC(P27*M27*N27/100) -> 0 | S27: 전기3-38 | AA27: =O27 -> 0.0525
B28: 800 | C28: 3912161310034844 | D28: 접지봉 | E28: 14Φ×1000 mm | F28: 개 | G28: 1 | H28: =IF(I28<>0, G28-I28, "") -> 0 | I28: 1 | K28: 56900017016 | L28: 내선전공 | M28: 0.11 | N28: 100 | O28: =IF(I28*M28=0, "", I28*M28*(N28/100)) -> 0.11 | Q28: =TRUNC(P28*M28*N28/100) -> 0 | S28: 전기3-38 | AA28: =O28 -> 0.11
B29: 800 | C29: 3912161310034844 | G29: 1 | H29: =IF(I29<>0, G29-I29, "") -> 0 | I29: 1 | K29: 56900017041 | L29: 보통인부 | M29: 0.08 | N29: 100 | O29: =IF(I29*M29=0, "", I29*M29*(N29/100)) -> 0.08 | Q29: =TRUNC(P29*M29*N29/100) -> 0 | S29: 전기3-38 | AE29: =O29 -> 0.08
B30: 800 | C30: L001010101000075 | D30: 노 무 비 | E30: 내선전공 | F30: 인 | G30: =IF(H30*I30/100+0.000005 <1, TRUNC(H30*I30/100+0.000005, 옵션!$E$13), TRUNC(H30*I30/100+0.000005, 옵션!$E$13)) -> 0.1625 | H30: =옵션!$B$13 -> 100 | I30: =SUM(AA22:AA29) -> 0.1625 | O30: =IF(I30*M30=0, "", I30*M30*(N30/100)) | Q30: =TRUNC(P30*M30*N30/100) -> 0 | Z30: 노임계 | AA30: =SUM(AA22:AA29) -> 0.1625 | AC30: =SUM(AC22:AC29) -> 0.36 | AE30: =SUM(AE22:AE29) -> 0.44 | AF30: =SUM(AF22:AF29) -> 1.63 | AH30: =SUM(AH22:AH29) -> 0.05 | AJ30: =SUM(AJ22:AJ29) -> 0.34
B31: 800 | C31: L001010101000076 | D31: 노 무 비 | E31: 특고압케이블전공 | F31: 인 | G31: =IF(H31*I31/100+0.000005 <1, TRUNC(H31*I31/100+0.000005, 옵션!$E$13), TRUNC(H31*I31/100+0.000005, 옵션!$E$13)) -> 0.36 | H31: =옵션!$B$13 -> 100 | I31: =SUM(AC22:AC29) -> 0.36 | O31: =IF(I31*M31=0, "", I31*M31*(N31/100)) | Q31: =TRUNC(P31*M31*N31/100) -> 0
B32: 800 | C32: L001010101000002 | D32: 노 무 비 | E32: 보통인부 | F32: 인 | G32: =IF(H32*I32/100+0.000005 <1, TRUNC(H32*I32/100+0.000005, 옵션!$E$13), TRUNC(H32*I32/100+0.000005, 옵션!$E$13)) -> 0.44 | H32: =옵션!$B$13 -> 100 | I32: =SUM(AE22:AE29) -> 0.44 | O32: =IF(I32*M32=0, "", I32*M32*(N32/100)) | Q32: =TRUNC(P32*M32*N32/100) -> 0
B33: 800 | C33: L001010101000003 | D33: 노 무 비 | E33: 특별인부 | F33: 인 | G33: =IF(H33*I33/100+0.000005 <1, TRUNC(H33*I33/100+0.000005, 옵션!$E$13), TRUNC(H33*I33/100+0.000005, 옵션!$E$13)) -> 1.63 | H33: =옵션!$B$13 -> 100 | I33: =SUM(AF22:AF29) -> 1.63 | O33: =IF(I33*M33=0, "", I33*M33*(N33/100)) | Q33: =TRUNC(P33*M33*N33/100) -> 0
B34: 800 | C34: L001010101000034 | D34: 노 무 비 | E34: 줄눈공 | F34: 인 | G34: =IF(H34*I34/100+0.000005 <1, TRUNC(H34*I34/100+0.000005, 옵션!$E$13), TRUNC(H34*I34/100+0.000005, 옵션!$E$13)) -> 0.05 | H34: =옵션!$B$13 -> 100 | I34: =SUM(AH22:AH29) -> 0.05 | O34: =IF(I34*M34=0, "", I34*M34*(N34/100)) | Q34: =TRUNC(P34*M34*N34/100) -> 0
B35: 800 | C35: L001010101000001 | D35: 노 무 비 | E35: 작업반장 | F35: 인 | G35: =IF(H35*I35/100+0.000005 <1, TRUNC(H35*I35/100+0.000005, 옵션!$E$13), TRUNC(H35*I35/100+0.000005, 옵션!$E$13)) -> 0.34 | H35: =옵션!$B$13 -> 100 | I35: =SUM(AJ22:AJ29) -> 0.34 | O35: =IF(I35*M35=0, "", I35*M35*(N35/100)) | Q35: =TRUNC(P35*M35*N35/100) -> 0
B36: 공종줄 | D36: [ 제 9호 ] 맨 홀 1500x1500x1500 [개소]
B37: 800 | C37: 3012169821869320 | D37: 맨홀 | E37: 1500x1500x1500 | F37: 조 | G37: 1 | H37: =IF(I37<>0, G37-I37, "") -> 0 | I37: 1 | K37: 56900017118 | L37: 특별인부 | M37: 1.63 | N37: 100 | O37: =IF(I37*M37=0, "", I37*M37*(N37/100)) -> 1.63 | Q37: =TRUNC(P37*M37*N37/100) -> 0 | S37: 전기4-43-3 | AF37: =O37 -> 1.63
B38: 800 | C38: 3012169821869320 | G38: 1 | H38: =IF(I38<>0, G38-I38, "") -> 0 | I38: 1 | K38: 56900017074 | L38: 작업반장 | M38: 0.34 | N38: 100 | O38: =IF(I38*M38=0, "", I38*M38*(N38/100)) -> 0.34 | Q38: =TRUNC(P38*M38*N38/100) -> 0 | S38: 전기4-43-3 | AJ38: =O38 -> 0.34
B39: 800 | C39: 3012169821869320 | G39: 1 | H39: =IF(I39<>0, G39-I39, "") -> 0 | I39: 1 | K39: 56900017091 | L39: 줄눈공 | M39: 0.05 | N39: 100 | O39: =IF(I39*M39=0, "", I39*M39*(N39/100)) -> 0.05 | Q39: =TRUNC(P39*M39*N39/100) -> 0 | S39: 전기4-43-3 | AH39: =O39 -> 0.05
B40: 800 | C40: 3012169520160610 | D40: 맨홀뚜껑(철개) | F40: 조 | G40: 1 | H40: =IF(I40<>0, G40-I40, "") -> 0 | I40: 1 | K40: 56900017117 | L40: 특고압케이블전공 | M40: 0.36 | N40: 100 | O40: =IF(I40*M40=0, "", I40*M40*(N40/100)) -> 0.36 | Q40: =TRUNC(P40*M40*N40/100) -> 0 | S40: 전기2-18 | AC40: =O40 -> 0.36
B41: 800 | C41: 3012169520160610 | G41: 1 | H41: =IF(I41<>0, G41-I41, "") -> 0 | I41: 1 | K41: 56900017041 | L41: 보통인부 | M41: 0.36 | N41: 100 | O41: =IF(I41*M41=0, "", I41*M41*(N41/100)) -> 0.36 | Q41: =TRUNC(P41*M41*N41/100) -> 0 | S41: 전기2-18 | AE41: =O41 -> 0.36
B42: 800 | C42: 2612152420683701 | D42: 접지용비닐절연전선(F-GV) | E42: 35㎟ | F42: M | G42: 5 | H42: =IF(I42<>0, G42-I42, "") -> 0 | I42: 5 | J42: 10 | K42: 56900017016 | L42: 내선전공 | M42: 0.007 | N42: 150 | O42: =IF(I42*M42=0, "", I42*M42*(N42/100)) -> 0.0525 | Q42: =TRUNC(P42*M42*N42/100) -> 0 | S42: 전기3-38 | AA42: =O42 -> 0.0525
B43: 800 | C43: 3912161310034844 | D43: 접지봉 | E43: 14Φ×1000 mm | F43: 개 | G43: 1 | H43: =IF(I43<>0, G43-I43, "") -> 0 | I43: 1 | K43: 56900017016 | L43: 내선전공 | M43: 0.11 | N43: 100 | O43: =IF(I43*M43=0, "", I43*M43*(N43/100)) -> 0.11 | Q43: =TRUNC(P43*M43*N43/100) -> 0 | S43: 전기3-38 | AA43: =O43 -> 0.11
B44: 800 | C44: 3912161310034844 | G44: 1 | H44: =IF(I44<>0, G44-I44, "") -> 0 | I44: 1 | K44: 56900017041 | L44: 보통인부 | M44: 0.08 | N44: 100 | O44: =IF(I44*M44=0, "", I44*M44*(N44/100)) -> 0.08 | Q44: =TRUNC(P44*M44*N44/100) -> 0 | S44: 전기3-38 | AE44: =O44 -> 0.08
B45: 800 | C45: L001010101000075 | D45: 노 무 비 | E45: 내선전공 | F45: 인 | G45: =IF(H45*I45/100+0.000005 <1, TRUNC(H45*I45/100+0.000005, 옵션!$E$13), TRUNC(H45*I45/100+0.000005, 옵션!$E$13)) -> 0.1625 | H45: =옵션!$B$13 -> 100 | I45: =SUM(AA37:AA44) -> 0.1625 | O45: =IF(I45*M45=0, "", I45*M45*(N45/100)) | Q45: =TRUNC(P45*M45*N45/100) -> 0 | Z45: 노임계 | AA45: =SUM(AA37:AA44) -> 0.1625 | AC45: =SUM(AC37:AC44) -> 0.36 | AE45: =SUM(AE37:AE44) -> 0.44 | AF45: =SUM(AF37:AF44) -> 1.63 | AH45: =SUM(AH37:AH44) -> 0.05 | AJ45: =SUM(AJ37:AJ44) -> 0.34
B46: 800 | C46: L001010101000076 | D46: 노 무 비 | E46: 특고압케이블전공 | F46: 인 | G46: =IF(H46*I46/100+0.000005 <1, TRUNC(H46*I46/100+0.000005, 옵션!$E$13), TRUNC(H46*I46/100+0.000005, 옵션!$E$13)) -> 0.36 | H46: =옵션!$B$13 -> 100 | I46: =SUM(AC37:AC44) -> 0.36 | O46: =IF(I46*M46=0, "", I46*M46*(N46/100)) | Q46: =TRUNC(P46*M46*N46/100) -> 0
B47: 800 | C47: L001010101000002 | D47: 노 무 비 | E47: 보통인부 | F47: 인 | G47: =IF(H47*I47/100+0.000005 <1, TRUNC(H47*I47/100+0.000005, 옵션!$E$13), TRUNC(H47*I47/100+0.000005, 옵션!$E$13)) -> 0.44 | H47: =옵션!$B$13 -> 100 | I47: =SUM(AE37:AE44) -> 0.44 | O47: =IF(I47*M47=0, "", I47*M47*(N47/100)) | Q47: =TRUNC(P47*M47*N47/100) -> 0
B48: 800 | C48: L001010101000003 | D48: 노 무 비 | E48: 특별인부 | F48: 인 | G48: =IF(H48*I48/100+0.000005 <1, TRUNC(H48*I48/100+0.000005, 옵션!$E$13), TRUNC(H48*I48/100+0.000005, 옵션!$E$13)) -> 1.63 | H48: =옵션!$B$13 -> 100 | I48: =SUM(AF37:AF44) -> 1.63 | O48: =IF(I48*M48=0, "", I48*M48*(N48/100)) | Q48: =TRUNC(P48*M48*N48/100) -> 0
B49: 800 | C49: L001010101000034 | D49: 노 무 비 | E49: 줄눈공 | F49: 인 | G49: =IF(H49*I49/100+0.000005 <1, TRUNC(H49*I49/100+0.000005, 옵션!$E$13), TRUNC(H49*I49/100+0.000005, 옵션!$E$13)) -> 0.05 | H49: =옵션!$B$13 -> 100 | I49: =SUM(AH37:AH44) -> 0.05 | O49: =IF(I49*M49=0, "", I49*M49*(N49/100)) | Q49: =TRUNC(P49*M49*N49/100) -> 0
B50: 800 | C50: L001010101000001 | D50: 노 무 비 | E50: 작업반장 | F50: 인 | G50: =IF(H50*I50/100+0.000005 <1, TRUNC(H50*I50/100+0.000005, 옵션!$E$13), TRUNC(H50*I50/100+0.000005, 옵션!$E$13)) -> 0.34 | H50: =옵션!$B$13 -> 100 | I50: =SUM(AJ37:AJ44) -> 0.34 | O50: =IF(I50*M50=0, "", I50*M50*(N50/100)) | Q50: =TRUNC(P50*M50*N50/100) -> 0
B51: 공종줄 | D51: [ 제 10호 ] 아스팔트 포장 컷팅 터파기 별도 계상 [m]
B52: 800 | C52: 391115ZZ701Z0016 | D52: 품셈 산출근거 | E52: 아스팔트 포장 컷팅 | F52: 식 | G52: 1 | H52: =IF(I52<>0, G52-I52, "") -> 0 | I52: 1 | K52: 56900017041 | L52: 보통인부 | M52: 0.0076 | N52: 100 | O52: =IF(I52*M52=0, "", I52*M52*(N52/100)) -> 0.0076 | Q52: =TRUNC(P52*M52*N52/100) -> 0 | S52: 대건사627호표 | AE52: =O52 -> 0.0076
B53: 800 | C53: L001010101000002 | D53: 노 무 비 | E53: 보통인부 | F53: 인 | G53: =IF(H53*I53/100+0.000005 <1, TRUNC(H53*I53/100+0.000005, 옵션!$E$13), TRUNC(H53*I53/100+0.000005, 옵션!$E$13)) -> 0.0076 | H53: =옵션!$B$13 -> 100 | I53: =SUM(AE52:AE52) -> 0.0076 | O53: =IF(I53*M53=0, "", I53*M53*(N53/100)) | Q53: =TRUNC(P53*M53*N53/100) -> 0 | Z53: 노임계 | AE53: =SUM(AE52:AE52) -> 0.0076
B54: 공종줄 | D54: [ 제 11호 ] 아스팔트 포장 파괴 터파기 별도 계상 [㎡]
B55: 800 | C55: 391115ZZ701Z0017 | D55: 품셈 산출근거 | E55: 아스팔트 포장 파괴 | F55: 식 | G55: 1 | H55: =IF(I55<>0, G55-I55, "") -> 0 | I55: 1 | K55: 56900017118 | L55: 특별인부 | M55: 1.52 | N55: 100 | O55: =IF(I55*M55=0, "", I55*M55*(N55/100)) -> 1.52 | Q55: =TRUNC(P55*M55*N55/100) -> 0 | S55: 대건사635호표 | AF55: =O55 -> 1.52
B56: 800 | C56: L001010101000003 | D56: 노 무 비 | E56: 특별인부 | F56: 인 | G56: =IF(H56*I56/100+0.000005 <1, TRUNC(H56*I56/100+0.000005, 옵션!$E$13), TRUNC(H56*I56/100+0.000005, 옵션!$E$13)) -> 1.52 | H56: =옵션!$B$13 -> 100 | I56: =SUM(AF55:AF55) -> 1.52 | O56: =IF(I56*M56=0, "", I56*M56*(N56/100)) | Q56: =TRUNC(P56*M56*N56/100) -> 0 | Z56: 노임계 | AF56: =SUM(AF55:AF55) -> 1.52
B57: 공종줄 | D57: [ 제 12호 ] 아스콘 포장 소규모(표층) [㎡]
B58: 800 | C58: 391115ZZ701Z0015 | D58: 품셈 산출근거 | E58: 소규모(표층) | F58: 식 | G58: 1 | H58: =IF(I58<>0, G58-I58, "") -> 0 | I58: 1 | K58: 56900017041 | L58: 보통인부 | M58: 0.0033 | N58: 100 | O58: =IF(I58*M58=0, "", I58*M58*(N58/100)) -> 0.0033 | Q58: =TRUNC(P58*M58*N58/100) -> 0 | AE58: =O58 -> 0.0033
B59: 800 | C59: 391115ZZ701Z0015 | G59: 1 | H59: =IF(I59<>0, G59-I59, "") -> 0 | I59: 1 | K59: 56900017123 | L59: 포장공 | M59: 0.0067 | N59: 100 | O59: =IF(I59*M59=0, "", I59*M59*(N59/100)) -> 0.0067 | Q59: =TRUNC(P59*M59*N59/100) -> 0 | AI59: =O59 -> 0.0067
B60: 800 | C60: L001010101000002 | D60: 노 무 비 | E60: 보통인부 | F60: 인 | G60: =IF(H60*I60/100+0.000005 <1, TRUNC(H60*I60/100+0.000005, 옵션!$E$13), TRUNC(H60*I60/100+0.000005, 옵션!$E$13)) -> 0.0033 | H60: =옵션!$B$13 -> 100 | I60: =SUM(AE58:AE59) -> 0.0033 | O60: =IF(I60*M60=0, "", I60*M60*(N60/100)) | Q60: =TRUNC(P60*M60*N60/100) -> 0 | Z60: 노임계 | AE60: =SUM(AE58:AE59) -> 0.0033 | AI60: =SUM(AI58:AI59) -> 0.0067
B61: 800 | C61: L001010101000019 | D61: 노 무 비 | E61: 포장공 | F61: 인 | G61: =IF(H61*I61/100+0.000005 <1, TRUNC(H61*I61/100+0.000005, 옵션!$E$13), TRUNC(H61*I61/100+0.000005, 옵션!$E$13)) -> 0.0067 | H61: =옵션!$B$13 -> 100 | I61: =SUM(AI58:AI59) -> 0.0067 | O61: =IF(I61*M61=0, "", I61*M61*(N61/100)) | Q61: =TRUNC(P61*M61*N61/100) -> 0
B62: 공종줄 | D62: [ 제 13호 ] 아스콘 포장 소규모(기층) [㎡]
B63: 800 | C63: 391115ZZ701Z0014 | D63: 품셈 산출근거 | E63: 소규모(기층) | F63: 식 | G63: 1 | H63: =IF(I63<>0, G63-I63, "") -> 0 | I63: 1 | K63: 56900017041 | L63: 보통인부 | M63: 0.0031 | N63: 100 | O63: =IF(I63*M63=0, "", I63*M63*(N63/100)) -> 0.0031 | Q63: =TRUNC(P63*M63*N63/100) -> 0 | AE63: =O63 -> 0.0031
B64: 800 | C64: 391115ZZ701Z0014 | G64: 1 | H64: =IF(I64<>0, G64-I64, "") -> 0 | I64: 1 | K64: 56900017123 | L64: 포장공 | M64: 0.0063 | N64: 100 | O64: =IF(I64*M64=0, "", I64*M64*(N64/100)) -> 0.0063 | Q64: =TRUNC(P64*M64*N64/100) -> 0 | AI64: =O64 -> 0.0063
B65: 800 | C65: L001010101000002 | D65: 노 무 비 | E65: 보통인부 | F65: 인 | G65: =IF(H65*I65/100+0.000005 <1, TRUNC(H65*I65/100+0.000005, 옵션!$E$13), TRUNC(H65*I65/100+0.000005, 옵션!$E$13)) -> 0.0031 | H65: =옵션!$B$13 -> 100 | I65: =SUM(AE63:AE64) -> 0.0031 | O65: =IF(I65*M65=0, "", I65*M65*(N65/100)) | Q65: =TRUNC(P65*M65*N65/100) -> 0 | Z65: 노임계 | AE65: =SUM(AE63:AE64) -> 0.0031 | AI65: =SUM(AI63:AI64) -> 0.0063
B66: 800 | C66: L001010101000019 | D66: 노 무 비 | E66: 포장공 | F66: 인 | G66: =IF(H66*I66/100+0.000005 <1, TRUNC(H66*I66/100+0.000005, 옵션!$E$13), TRUNC(H66*I66/100+0.000005, 옵션!$E$13)) -> 0.0063 | H66: =옵션!$B$13 -> 100 | I66: =SUM(AI63:AI64) -> 0.0063 | O66: =IF(I66*M66=0, "", I66*M66*(N66/100)) | Q66: =TRUNC(P66*M66*N66/100) -> 0
B67: 공종줄 | D67: [ 제 15호 ] 폴리에틸렌 전선관(지중) PE 16㎜ [M.]
B68: 800 | C68: 3913170620174622 | D68: 폴리에틸렌 전선관 | E68: PE 16㎜ | F68: M | G68: 1 | H68: =IF(I68<>0, G68-I68, "") -> 0 | I68: 1 | K68: 56900017031 | L68: 배전전공 | M68: 0.005 | N68: 100 | O68: =IF(I68*M68=0, "", I68*M68*(N68/100)) -> 0.005 | Q68: =TRUNC(P68*M68*N68/100) -> 0 | S68: 전기4-31 | AD68: =O68 -> 0.005
B69: 800 | C69: 3913170620174622 | G69: 1 | H69: =IF(I69<>0, G69-I69, "") -> 0 | I69: 1 | K69: 56900017041 | L69: 보통인부 | M69: 0.012 | N69: 100 | O69: =IF(I69*M69=0, "", I69*M69*(N69/100)) -> 0.012 | Q69: =TRUNC(P69*M69*N69/100) -> 0 | S69: 전기4-31 | AE69: =O69 -> 0.012
B70: 800 | C70: L001010101000081 | D70: 노 무 비 | E70: 배전전공 | F70: 인 | G70: =IF(H70*I70/100+0.000005 <1, TRUNC(H70*I70/100+0.000005, 옵션!$E$13), TRUNC(H70*I70/100+0.000005, 옵션!$E$13)) -> 0.005 | H70: =옵션!$B$13 -> 100 | I70: =SUM(AD68:AD69) -> 0.005 | O70: =IF(I70*M70=0, "", I70*M70*(N70/100)) | Q70: =TRUNC(P70*M70*N70/100) -> 0 | Z70: 노임계 | AD70: =SUM(AD68:AD69) -> 0.005 | AE70: =SUM(AE68:AE69) -> 0.012
B71: 800 | C71: L001010101000002 | D71: 노 무 비 | E71: 보통인부 | F71: 인 | G71: =IF(H71*I71/100+0.000005 <1, TRUNC(H71*I71/100+0.000005, 옵션!$E$13), TRUNC(H71*I71/100+0.000005, 옵션!$E$13)) -> 0.012 | H71: =옵션!$B$13 -> 100 | I71: =SUM(AE68:AE69) -> 0.012 | O71: =IF(I71*M71=0, "", I71*M71*(N71/100)) | Q71: =TRUNC(P71*M71*N71/100) -> 0
B72: 공종줄 | D72: [ 제 16호 ] 폴리에틸렌 전선관(지중) PE 42㎜(가로등, 구내) [M.]
B73: 800 | C73: 3913170620174626 | D73: 폴리에틸렌 전선관 | E73: PE 42㎜ | F73: M | G73: 1 | H73: =IF(I73<>0, G73-I73, "") -> 0 | I73: 1 | K73: 56900017031 | L73: 배전전공 | M73: 0.007 | N73: 150 | O73: =IF(I73*M73=0, "", I73*M73*(N73/100)) -> 0.0105 | Q73: =TRUNC(P73*M73*N73/100) -> 0 | S73: 전기4-31 | AD73: =O73 -> 0.0105
B74: 800 | C74: 3913170620174626 | G74: 1 | H74: =IF(I74<>0, G74-I74, "") -> 0 | I74: 1 | K74: 56900017041 | L74: 보통인부 | M74: 0.018 | N74: 150 | O74: =IF(I74*M74=0, "", I74*M74*(N74/100)) -> 0.027 | Q74: =TRUNC(P74*M74*N74/100) -> 0 | S74: 전기4-31 | AE74: =O74 -> 0.027
B75: 800 | C75: L001010101000081 | D75: 노 무 비 | E75: 배전전공 | F75: 인 | G75: =IF(H75*I75/100+0.000005 <1, TRUNC(H75*I75/100+0.000005, 옵션!$E$13), TRUNC(H75*I75/100+0.000005, 옵션!$E$13)) -> 0.0105 | H75: =옵션!$B$13 -> 100 | I75: =SUM(AD73:AD74) -> 0.0105 | O75: =IF(I75*M75=0, "", I75*M75*(N75/100)) | Q75: =TRUNC(P75*M75*N75/100) -> 0 | Z75: 노임계 | AD75: =SUM(AD73:AD74) -> 0.0105 | AE75: =SUM(AE73:AE74) -> 0.027
B76: 800 | C76: L001010101000002 | D76: 노 무 비 | E76: 보통인부 | F76: 인 | G76: =IF(H76*I76/100+0.000005 <1, TRUNC(H76*I76/100+0.000005, 옵션!$E$13), TRUNC(H76*I76/100+0.000005, 옵션!$E$13)) -> 0.027 | H76: =옵션!$B$13 -> 100 | I76: =SUM(AE73:AE74) -> 0.027 | O76: =IF(I76*M76=0, "", I76*M76*(N76/100)) | Q76: =TRUNC(P76*M76*N76/100) -> 0
B77: 공종줄 | D77: [ 제 17호 ] 폴리에틸렌 전선관(지중) PE 54㎜(가로등, 구내) [M.]
B78: 800 | C78: 3913170620174627 | D78: 폴리에틸렌 전선관 | E78: PE 54㎜ | F78: M | G78: 1 | H78: =IF(I78<>0, G78-I78, "") -> 0 | I78: 1 | K78: 56900017031 | L78: 배전전공 | M78: 0.007 | N78: 150 | O78: =IF(I78*M78=0, "", I78*M78*(N78/100)) -> 0.0105 | Q78: =TRUNC(P78*M78*N78/100) -> 0 | S78: 전기4-31 | AD78: =O78 -> 0.0105
B79: 800 | C79: 3913170620174627 | G79: 1 | H79: =IF(I79<>0, G79-I79, "") -> 0 | I79: 1 | K79: 56900017041 | L79: 보통인부 | M79: 0.018 | N79: 150 | O79: =IF(I79*M79=0, "", I79*M79*(N79/100)) -> 0.027 | Q79: =TRUNC(P79*M79*N79/100) -> 0 | S79: 전기4-31 | AE79: =O79 -> 0.027
B80: 800 | C80: L001010101000081 | D80: 노 무 비 | E80: 배전전공 | F80: 인 | G80: =IF(H80*I80/100+0.000005 <1, TRUNC(H80*I80/100+0.000005, 옵션!$E$13), TRUNC(H80*I80/100+0.000005, 옵션!$E$13)) -> 0.0105 | H80: =옵션!$B$13 -> 100 | I80: =SUM(AD78:AD79) -> 0.0105 | O80: =IF(I80*M80=0, "", I80*M80*(N80/100)) | Q80: =TRUNC(P80*M80*N80/100) -> 0 | Z80: 노임계 | AD80: =SUM(AD78:AD79) -> 0.0105 | AE80: =SUM(AE78:AE79) -> 0.027
B81: 800 | C81: L001010101000002 | D81: 노 무 비 | E81: 보통인부 | F81: 인 | G81: =IF(H81*I81/100+0.000005 <1, TRUNC(H81*I81/100+0.000005, 옵션!$E$13), TRUNC(H81*I81/100+0.000005, 옵션!$E$13)) -> 0.027 | H81: =옵션!$B$13 -> 100 | I81: =SUM(AE78:AE79) -> 0.027 | O81: =IF(I81*M81=0, "", I81*M81*(N81/100)) | Q81: =TRUNC(P81*M81*N81/100) -> 0
B82: 공종줄 | D82: [ 제 18호 ] 파상형 폴리에틸렌 전선관 30㎜(가로등,신호,구내) [M.]
B83: 800 | C83: 3913170610035631 | D83: 파상형 폴리에틸렌 전선관 | E83: 30㎜ | F83: M | G83: 1 | H83: =IF(I83<>0, G83-I83, "") -> 0 | I83: 1 | K83: 56900017031 | L83: 배전전공 | M83: 0.006 | N83: 150 | O83: =IF(I83*M83=0, "", I83*M83*(N83/100)) -> 0.009 | Q83: =TRUNC(P83*M83*N83/100) -> 0 | S83: 전기4-31 | AD83: =O83 -> 0.009
B84: 800 | C84: 3913170610035631 | G84: 1 | H84: =IF(I84<>0, G84-I84, "") -> 0 | I84: 1 | K84: 56900017041 | L84: 보통인부 | M84: 0.014 | N84: 150 | O84: =IF(I84*M84=0, "", I84*M84*(N84/100)) -> 0.021 | Q84: =TRUNC(P84*M84*N84/100) -> 0 | S84: 전기4-31 | AE84: =O84 -> 0.021
B85: 800 | C85: L001010101000081 | D85: 노 무 비 | E85: 배전전공 | F85: 인 | G85: =IF(H85*I85/100+0.000005 <1, TRUNC(H85*I85/100+0.000005, 옵션!$E$13), TRUNC(H85*I85/100+0.000005, 옵션!$E$13)) -> 0.009 | H85: =옵션!$B$13 -> 100 | I85: =SUM(AD83:AD84) -> 0.009 | O85: =IF(I85*M85=0, "", I85*M85*(N85/100)) | Q85: =TRUNC(P85*M85*N85/100) -> 0 | Z85: 노임계 | AD85: =SUM(AD83:AD84) -> 0.009 | AE85: =SUM(AE83:AE84) -> 0.021
B86: 800 | C86: L001010101000002 | D86: 노 무 비 | E86: 보통인부 | F86: 인 | G86: =IF(H86*I86/100+0.000005 <1, TRUNC(H86*I86/100+0.000005, 옵션!$E$13), TRUNC(H86*I86/100+0.000005, 옵션!$E$13)) -> 0.021 | H86: =옵션!$B$13 -> 100 | I86: =SUM(AE83:AE84) -> 0.021 | O86: =IF(I86*M86=0, "", I86*M86*(N86/100)) | Q86: =TRUNC(P86*M86*N86/100) -> 0
B87: 공종줄 | D87: [ 제 19호 ] 파상형 폴리에틸렌 전선관 40㎜(가로등,신호,구내) [M.]
B88: 800 | C88: 3913170610035632 | D88: 파상형 폴리에틸렌 전선관 | E88: 40㎜ | F88: M | G88: 1 | H88: =IF(I88<>0, G88-I88, "") -> 0 | I88: 1 | K88: 56900017031 | L88: 배전전공 | M88: 0.007 | N88: 150 | O88: =IF(I88*M88=0, "", I88*M88*(N88/100)) -> 0.0105 | Q88: =TRUNC(P88*M88*N88/100) -> 0 | S88: 전기4-31 | AD88: =O88 -> 0.0105
B89: 800 | C89: 3913170610035632 | G89: 1 | H89: =IF(I89<>0, G89-I89, "") -> 0 | I89: 1 | K89: 56900017041 | L89: 보통인부 | M89: 0.018 | N89: 150 | O89: =IF(I89*M89=0, "", I89*M89*(N89/100)) -> 0.027 | Q89: =TRUNC(P89*M89*N89/100) -> 0 | S89: 전기4-31 | AE89: =O89 -> 0.027
B90: 800 | C90: L001010101000081 | D90: 노 무 비 | E90: 배전전공 | F90: 인 | G90: =IF(H90*I90/100+0.000005 <1, TRUNC(H90*I90/100+0.000005, 옵션!$E$13), TRUNC(H90*I90/100+0.000005, 옵션!$E$13)) -> 0.0105 | H90: =옵션!$B$13 -> 100 | I90: =SUM(AD88:AD89) -> 0.0105 | O90: =IF(I90*M90=0, "", I90*M90*(N90/100)) | Q90: =TRUNC(P90*M90*N90/100) -> 0 | Z90: 노임계 | AD90: =SUM(AD88:AD89) -> 0.0105 | AE90: =SUM(AE88:AE89) -> 0.027
B91: 800 | C91: L001010101000002 | D91: 노 무 비 | E91: 보통인부 | F91: 인 | G91: =IF(H91*I91/100+0.000005 <1, TRUNC(H91*I91/100+0.000005, 옵션!$E$13), TRUNC(H91*I91/100+0.000005, 옵션!$E$13)) -> 0.027 | H91: =옵션!$B$13 -> 100 | I91: =SUM(AE88:AE89) -> 0.027 | O91: =IF(I91*M91=0, "", I91*M91*(N91/100)) | Q91: =TRUNC(P91*M91*N91/100) -> 0
B92: 공종줄 | D92: [ 제 20호 ] 파상형 폴리에틸렌 전선관 30㎜ [M.]
B93: 800 | C93: 3913170610035631 | D93: 파상형 폴리에틸렌 전선관 | E93: 30㎜ | F93: M | G93: 1 | H93: =IF(I93<>0, G93-I93, "") -> 0 | I93: 1 | K93: 56900017031 | L93: 배전전공 | M93: 0.006 | N93: 100 | O93: =IF(I93*M93=0, "", I93*M93*(N93/100)) -> 0.006 | Q93: =TRUNC(P93*M93*N93/100) -> 0 | S93: 전기4-31 | AD93: =O93 -> 0.006
B94: 800 | C94: 3913170610035631 | G94: 1 | H94: =IF(I94<>0, G94-I94, "") -> 0 | I94: 1 | K94: 56900017041 | L94: 보통인부 | M94: 0.014 | N94: 100 | O94: =IF(I94*M94=0, "", I94*M94*(N94/100)) -> 0.014 | Q94: =TRUNC(P94*M94*N94/100) -> 0 | S94: 전기4-31 | AE94: =O94 -> 0.014
B95: 800 | C95: L001010101000081 | D95: 노 무 비 | E95: 배전전공 | F95: 인 | G95: =IF(H95*I95/100+0.000005 <1, TRUNC(H95*I95/100+0.000005, 옵션!$E$13), TRUNC(H95*I95/100+0.000005, 옵션!$E$13)) -> 0.006 | H95: =옵션!$B$13 -> 100 | I95: =SUM(AD93:AD94) -> 0.006 | O95: =IF(I95*M95=0, "", I95*M95*(N95/100)) | Q95: =TRUNC(P95*M95*N95/100) -> 0 | Z95: 노임계 | AD95: =SUM(AD93:AD94) -> 0.006 | AE95: =SUM(AE93:AE94) -> 0.014
B96: 800 | C96: L001010101000002 | D96: 노 무 비 | E96: 보통인부 | F96: 인 | G96: =IF(H96*I96/100+0.000005 <1, TRUNC(H96*I96/100+0.000005, 옵션!$E$13), TRUNC(H96*I96/100+0.000005, 옵션!$E$13)) -> 0.014 | H96: =옵션!$B$13 -> 100 | I96: =SUM(AE93:AE94) -> 0.014 | O96: =IF(I96*M96=0, "", I96*M96*(N96/100)) | Q96: =TRUNC(P96*M96*N96/100) -> 0
B97: 공종줄 | D97: [ 제 21호 ] 파상형 폴리에틸렌 전선관 50㎜ [M.]
B98: 800 | C98: 3913170610035633 | D98: 파상형 폴리에틸렌 전선관 | E98: 50㎜ | F98: M | G98: 1 | H98: =IF(I98<>0, G98-I98, "") -> 0 | I98: 1 | K98: 56900017031 | L98: 배전전공 | M98: 0.007 | N98: 100 | O98: =IF(I98*M98=0, "", I98*M98*(N98/100)) -> 0.007 | Q98: =TRUNC(P98*M98*N98/100) -> 0 | S98: 전기4-31 | AD98: =O98 -> 0.007
B99: 800 | C99: 3913170610035633 | G99: 1 | H99: =IF(I99<>0, G99-I99, "") -> 0 | I99: 1 | K99: 56900017041 | L99: 보통인부 | M99: 0.018 | N99: 100 | O99: =IF(I99*M99=0, "", I99*M99*(N99/100)) -> 0.018 | Q99: =TRUNC(P99*M99*N99/100) -> 0 | S99: 전기4-31 | AE99: =O99 -> 0.018
B100: 800 | C100: L001010101000081 | D100: 노 무 비 | E100: 배전전공 | F100: 인 | G100: =IF(H100*I100/100+0.000005 <1, TRUNC(H100*I100/100+0.000005, 옵션!$E$13), TRUNC(H100*I100/100+0.000005, 옵션!$E$13)) -> 0.007 | H100: =옵션!$B$13 -> 100 | I100: =SUM(AD98:AD99) -> 0.007 | O100: =IF(I100*M100=0, "", I100*M100*(N100/100)) | Q100: =TRUNC(P100*M100*N100/100) -> 0 | Z100: 노임계 | AD100: =SUM(AD98:AD99) -> 0.007 | AE100: =SUM(AE98:AE99) -> 0.018
...

Sheet 합산자재
B1: 185 | C1: [ CAV기반 미래모빌리티 자율주행 평가플랫폼 구축 증축공사 ] - 합산자재목록
A2: 번호 | B2: … | C2: 코드 | D2: 명 칭 | E2: 규 격 | F2: 단위 | G2: 수량 | H2: 재료비 | I2: 노무비 | J2: 경비 | K2: 지급비 | L2: 계 | M2: 비고
B4: 59753067012 | C4: 3913170620174622 | D4: 폴리에틸렌 전선관 | E4: PE 16㎜ | F4: M | G4: 33.99 | H4: =ROUNDDOWN(단가조사!G4*옵션!$D$11, 0) -> 262 | L4: =SUM(H4,I4,J4) -> 262
B5: 59753068016 | C5: 3913170620174626 | D5: 폴리에틸렌 전선관 | E5: PE 42㎜ | F5: M | G5: 123.6 | H5: =ROUNDDOWN(단가조사!G5*옵션!$D$11, 0) -> 903 | L5: =SUM(H5,I5,J5) -> 903
B6: 59753068017 | C6: 3913170620174627 | D6: 폴리에틸렌 전선관 | E6: PE 54㎜ | F6: M | G6: 497.49 | H6: =ROUNDDOWN(단가조사!G6*옵션!$D$11, 0) -> 1470 | L6: =SUM(H6,I6,J6) -> 1470
B7: 59753077001 | C7: 3913170610035631 | D7: 파상형 폴리에틸렌 전선관 | E7: 30㎜ | F7: M | G7: 88.58 | H7: =ROUNDDOWN(단가조사!G7*옵션!$D$11, 0) -> 343 | L7: =SUM(H7,I7,J7) -> 343
B8: 59753077002 | C8: 3913170610035632 | D8: 파상형 폴리에틸렌 전선관 | E8: 40㎜ | F8: M | G8: 633.45 | H8: =ROUNDDOWN(단가조사!G8*옵션!$D$11, 0) -> 523 | L8: =SUM(H8,I8,J8) -> 523
B9: 59753077007 | C9: 3913170610035637 | D9: 파상형 폴리에틸렌 전선관 | E9: 125㎜ | F9: M | G9: 266.77 | H9: =ROUNDDOWN(단가조사!G9*옵션!$D$11, 0) -> 2796 | L9: =SUM(H9,I9,J9) -> 2796
B10: 59753178001 | C10: 3913170610035631 | D10: 파상형 폴리에틸렌 전선관 | E10: 30㎜ | F10: M | G10: 22.66 | H10: =ROUNDDOWN(단가조사!G10*옵션!$D$11, 0) -> 343 | L10: =SUM(H10,I10,J10) -> 343
B11: 59753178003 | C11: 3913170610035633 | D11: 파상형 폴리에틸렌 전선관 | E11: 50㎜ | F11: M | G11: 492.34 | H11: =ROUNDDOWN(단가조사!G11*옵션!$D$11, 0) -> 680 | L11: =SUM(H11,I11,J11) -> 680
B12: 59753017043 | C12: 3913170620174434 | D12: 1종금속제가요전선관 | E12: 커넥터, 16 mm 일반-비방수 | F12: 개 | G12: 72 | H12: =ROUNDDOWN(단가조사!G12*옵션!$D$11, 0) -> 354 | L12: =SUM(H12,I12,J12) -> 354
B13: MM496797011 | C13: 3913170620174478 | D13: 1종금속제가요전선관 | E13: 16 mm 고장력-비방수 | F13: M | G13: 67.1 | H13: =ROUNDDOWN(단가조사!G13*옵션!$D$11, 0) -> 544 | L13: =SUM(H13,I13,J13) -> 544
B14: MM496797031 | C14: 3913170620174472 | D14: 1종금속제가요전선관 | E14: 28 mm 고장력-방수 | F14: M | G14: 88 | H14: =ROUNDDOWN(단가조사!G14*옵션!$D$11, 0) -> 2282 | L14: =SUM(H14,I14,J14) -> 2282
B15: MM618792344 | C15: 3912120220176448 | D15: 1종금속제가요전선관 | E15: KS방수 콘넥타 28mm | F15: 개 | G15: 14 | H15: =ROUNDDOWN(단가조사!G15*옵션!$D$11, 0) -> 1485 | L15: =SUM(H15,I15,J15) -> 1485
... B91: 56300217299 | C91: 3012169821869320 | D91: 맨홀 | E91: 1500x1500x1500 | F91: 조 | G91: 6 | H91: =ROUNDDOWN(단가조사!G91*옵션!$D$11, 0) -> 440000 | L91: =SUM(H91,I91,J91) -> 440000
B92: 56800447361 | C92: 3012169520160610 | D92: 맨홀뚜껑(철개) | F92: 조 | G92: 4 | H92: =ROUNDDOWN(단가조사!G92*옵션!$D$11, 0) -> 370000 | L92: =SUM(H92,I92,J92) -> 370000
B93: 53100027003 | C93: 3116172710024976 | D93: 6각너트 | E93: M10 | F93: 개 | G93: 12 | H93: =ROUNDDOWN(단가조사!G93*옵션!$D$11, 0) -> 25 | L93: =SUM(H93,I93,J93) -> 25
B94: 53100028501 | C94: 3116172710023970 | D94: 6각너트 | E94: 3/8,M10 | F94: EA | G94: 824 | H94: =ROUNDDOWN(단가조사!G94*옵션!$D$11, 0) -> 25 | L94: =SUM(H94,I94,J94) -> 25
B95: 52100327001 | C95: 3116181120136195 | D95: 스프링와샤 | E95: D10 | F95: EA | G95: 836 | H95: =ROUNDDOWN(단가조사!G95*옵션!$D$11, 0) -> 9 | L95: =SUM(H95,I95,J95) -> 9
B96: 34050017001 | C96: 2317167020544845 | D96: 컷팅날 | E96: D320~400mm t =3.2mm | F96: 개 | G96: 0.2268 | H96: =ROUNDDOWN(단가조사!G96*옵션!$D$11, 0) -> 215000 | L96: =SUM(H96,I96,J96) -> 215000
B97: MM450736297 | C97: 9998887770000065 | D97: 접지봉연결 | E97: 3본 18x2400mm | F97: 개소 | G97: 2 | H97: =ROUNDDOWN(단가조사!G97*옵션!$D$11, 0) -> 25650 | L97: =SUM(H97,I97,J97) -> 25650
B98: MM450736308 | C98: 3912161320937672 | D98: 볼트형콘넥터 | E98: U 볼트형, Φ19 | F98: 개 | G98: 6 | H98: =ROUNDDOWN(단가조사!G98*옵션!$D$11, 0) -> 3801 | L98: =SUM(H98,I98,J98) -> 3801
B99: MMH50429100 | C99: 9999999456000000 | D99: 상차비 | E99: 폐기물처리(30km이하) | F99: ton | G99: 12.88 | H99: =ROUNDDOWN(단가조사!G99*옵션!$D$11, 0) -> 3520 | L99: =SUM(H99,I99,J99) -> 3520
B100: MMH50429101 | C100: 9999999456000001 | D100: 운반비 | E100: 폐기물처리(30km이하) | F100: ton | G100: 12.88 | H100: =ROUNDDOWN(단가조사!G100*옵션!$D$11, 0) -> 15990 | L100: =SUM(H100,I100,J100) -> 15990
B101: MMH50429103 | C101: 9999999456000003 | D101: 폐아스팔트콘크리트 | F101: ton | G101: 12.88 | H101: =ROUNDDOWN(단가조사!G101*옵션!$D$11, 0) -> 30488 | L101: =SUM(H101,I101,J101) -> 30488
B102: MMU66611106 | C102: 9888811111000006 | D102: 러그단자(접지) | E102: 동관단자 2 HOLE 95 ㎟ | F102: 개 | G102: 2 | H102: =ROUNDDOWN(단가조사!G102*옵션!$D$11, 0) -> 3010 | L102: =SUM(H102,I102,J102) -> 3010
B103: MMU66611205 | C103: 9888811111000105 | D103: 압착단자(접지) | E103: R형동선 나압착 16 ㎟ | F103: 개 | G103: 10 | H103: =ROUNDDOWN(단가조사!G103*옵션!$D$11, 0) -> 127 | L103: =SUM(H103,I103,J103) -> 127
B104: MMU66611206 | C104: 9888811111000106 | D104: 압착단자(접지) | E104: R형동선 나압착 25 ㎟ | F104: 개 | G104: 2 | H104: =ROUNDDOWN(단가조사!G104*옵션!$D$11, 0) -> 187 | L104: =SUM(H104,I104,J104) -> 187
B105: MMH99991000 | C105: 9999999991020000 | D105: 나사없는전선관 | E105: E19 | F105: M | G105: 684.2 | H105: =ROUNDDOWN(단가조사!G105*옵션!$D$11, 0) -> 2107 | L105: =SUM(H105,I105,J105) -> 2107
B106: MMH99991001 | C106: 9999999991020001 | D106: 나사없는전선관 | E106: E25 | F106: M | G106: 36.3 | H106: =ROUNDDOWN(단가조사!G106*옵션!$D$11, 0) -> 2849 | L106: =SUM(H106,I106,J106) -> 2849
B107: MMH99991002 | C107: 9999999991020002 | D107: 나사없는전선관 | E107: E31 | F107: M | G107: 195.8 | H107: =ROUNDDOWN(단가조사!G107*옵션!$D$11, 0) -> 3890 | L107: =SUM(H107,I107,J107) -> 3890
B108: MMH99991004 | C108: 9999999991020004 | D108: 나사없는전선관 | E108: E51 | F108: M | G108: 33 | H108: =ROUNDDOWN(단가조사!G108*옵션!$D$11, 0) -> 6381 | L108: =SUM(H108,I108,J108) -> 6381
B109: MMH99991006 | C109: 9999999991020006 | D109: 나사없는전선관 | E109: E75 | F109: M | G109: 9.9 | H109: =ROUNDDOWN(단가조사!G109*옵션!$D$11, 0) -> 11526 | L109: =SUM(H109,I109,J109) -> 11526
B110: MMH99991007 | C110: 9999999991020007 | D110: 볼트고정식 이음쇠 | E110: 커플링 E19 | F110: EA | G110: 171 | H110: =ROUNDDOWN(단가조사!G110*옵션!$D$11, 0) -> 830 | L110: =SUM(H110,I110,J110) -> 830
B111: MMH99991008 | C111: 9999999991020008 | D111: 볼트고정식 이음쇠 | E111: 커플링 E25 | F111: EA | G111: 8 | H111: =ROUNDDOWN(단가조사!G111*옵션!$D$11, 0) -> 1014 | L111: =SUM(H111,I111,J111) -> 1014
B112: MMH99991009 | C112: 9999999991020009 | D112: 볼트고정식 이음쇠 | E112: 커플링 E31 | F112: EA | G112: 48 | H112: =ROUNDDOWN(단가조사!G112*옵션!$D$11, 0) -> 1246 | L112: =SUM(H112,I112,J112) -> 1246
B113: MMH99991011 | C113: 9999999991020011 | D113: 볼트고정식 이음쇠 | E113: 커플링 E51 | F113: EA | G113: 8 | H113: =ROUNDDOWN(단가조사!G113*옵션!$D$11, 0) -> 2436 | L113: =SUM(H113,I113,J113) -> 2436
... B124: MMX99810201 | C124: 8974653100010177 | D124: 아스콘 포장재 | E124: 기층 | F124: TON | G124: 9.5472 | H124: =ROUNDDOWN(단가조사!G124*옵션!$D$11, 0) -> 85000 | L124: =SUM(H124,I124,J124) -> 85000
B125: MMA24070001 | C125: InMastDBNonCode | D125: 배선용 차단기(철거) | E125: 4P 600V 225AF | F125: 대 | G125: 1 | H125: =ROUNDDOWN(단가조사!G149*옵션!$D$11, 0) -> 0 | L125: =SUM(H125,I125,J125) -> 0
B126: MMA24070100 | C126: InMastDBNonCode | D126: 가로등제어반(이설) | F126: 면 | G126: 2 | H126: =ROUNDDOWN(단가조사!G150*옵션!$D$11, 0) -> 0 | L126: =SUM(H126,I126,J126) -> 0
B127: MMA24070500 | C127: InMastDBNonCode | D127: 조명기구 | E127: 가로등 LED 120W | F127: EA | G127: 26 | H127: =ROUNDDOWN(단가조사!G125*옵션!$D$11, 0) -> 385000 | L127: =SUM(H127,I127,J127) -> 385000
B128: MMA24070501 | C128: InMastDBNonCode | D128: 스테인리스가로등주 | E128: 8M 1등용 | F128: 본 | G128: 4 | H128: =ROUNDDOWN(단가조사!G126*옵션!$D$11, 0) -> 1550000 | L128: =SUM(H128,I128,J128) -> 1550000
B129: MMA24070502 | C129: InMastDBNonCode | D129: 스테인리스가로등주 | E129: 8M 2등용 | F129: 본 | G129: 11 | H129: =ROUNDDOWN(단가조사!G127*옵션!$D$11, 0) -> 1700000 | L129: =SUM(H129,I129,J129) -> 1700000
B130: MMA24070503 | C130: InMastDBNonCode | D130: 베이스커버 | E130: 가로등용 | F130: EA | G130: 15 | H130: =ROUNDDOWN(단가조사!G128*옵션!$D$11, 0) -> 45000 | L130: =SUM(H130,I130,J130) -> 45000
B131: MMA24070504 | C131: InMastDBNonCode | D131: 배너걸이 | F131: 조 | G131: 15 | H131: =ROUNDDOWN(단가조사!G129*옵션!$D$11, 0) -> 50000 | L131: =SUM(H131,I131,J131) -> 50000
B132: MMA24070505 | C132: InMastDBNonCode | D132: 국기꽂이 | F132: EA | G132: 15 | H132: =ROUNDDOWN(단가조사!G130*옵션!$D$11, 0) -> 20000 | L132: =SUM(H132,I132,J132) -> 20000
B133: MMP24070000 | C133: InMastDBNonCode | D133: 조명기구(A) | E133: 체인펜던트 LED 80W | F133: EA | G133: 12 | H133: =ROUNDDOWN(단가조사!G131*옵션!$D$11, 0) -> 110000 | L133: =SUM(H133,I133,J133) -> 110000
B134: MMP24070001 | C134: InMastDBNonCode | D134: 조명기구(B) | E134: 매입등 LED 50W | F134: EA | G134: 12 | H134: =ROUNDDOWN(단가조사!G132*옵션!$D$11, 0) -> 92000 | L134: =SUM(H134,I134,J134) -> 92000
B135: MMP24070002 | C135: InMastDBNonCode | D135: 조명기구(C) | E135: P.P LED 40W | F135: EA | G135: 13 | H135: =ROUNDDOWN(단가조사!G133*옵션!$D$11, 0) -> 58000 | L135: =SUM(H135,I135,J135) -> 58000
B136: MMP24070003 | C136: InMastDBNonCode | D136: 조명기구(D) | E136: D/L LED 15W | F136: EA | G136: 9 | H136: =ROUNDDOWN(단가조사!G134*옵션!$D$11, 0) -> 27000 | L136: =SUM(H136,I136,J136) -> 27000
B137: MMP24070004 | C137: InMastDBNonCode | D137: 조명기구(E) | E137: 직부센서등 LED 12W | F137: EA | G137: 3 | H137: =ROUNDDOWN(단가조사!G135*옵션!$D$11, 0) -> 50000 | L137: =SUM(H137,I137,J137) -> 50000
B138: MMP24070005 | C138: InMastDBNonCode | D138: 조명기구(F) | E138: 원형직부등 LED 12W | F138: EA | G138: 9 | H138: =ROUNDDOWN(단가조사!G136*옵션!$D$11, 0) -> 44000 | L138: =SUM(H138,I138,J138) -> 44000
B139: MMA24070700 | C139: InMastDBNonCode | D139: 분전반 | E139: LW-1 | F139: 면 | G139: 1 | H139: =ROUNDDOWN(단가조사!G137*옵션!$D$11, 0) -> 8611000 | L139: =SUM(H139,I139,J139) -> 8611000
B140: MMA24070701 | C140: InMastDBNonCode | D140: 분전반 | E140: LW-1A | F140: 면 | G140: 1 | H140: =ROUNDDOWN(단가조사!G138*옵션!$D$11, 0) -> 5806000 | L140: =SUM(H140,I140,J140) -> 5806000
B141: MMA24070702 | C141: InMastDBNonCode | D141: 분전반 | E141: LW-2 | F141: 면 | G141: 1 | H141: =ROUNDDOWN(단가조사!G139*옵션!$D$11, 0) -> 3260000 | L141: =SUM(H141,I141,J141) -> 3260000
B142: MMA24070703 | C142: InMastDBNonCode | D142: 분전반 | E142: LP-P | F142: 면 | G142: 1 | H142: =ROUNDDOWN(단가조사!G140*옵션!$D$11, 0) -> 798000 | L142: =SUM(H142,I142,J142) -> 798000
B143: MMA24070800 | C143: InMastDBNonCode | D143: 가로등방수형접속함 | F143: EA | G143: 15 | H143: =ROUNDDOWN(단가조사!G141*옵션!$D$11, 0) -> 53000 | L143: =SUM(H143,I143,J143) -> 53000
B144: MMA24070801 | C144: InMastDBNonCode | D144: 직선접속재 | F144: EA | G144: 15 | H144: =ROUNDDOWN(단가조사!G142*옵션!$D$11, 0) -> 12900 | L144: =SUM(H144,I144,J144) -> 12900
B145: MMA24070802 | C145: InMastDBNonCode | D145: 콘크리트기초(가로등) | E145: 500*800*1000 | F145: 개 | G145: 15 | H145: =ROUNDDOWN(단가조사!G143*옵션!$D$11, 0) -> 256000 | L145: =SUM(H145,I145,J145) -> 256000
B146: MMA24070804 | C146: InMastDBNonCode | D146: 가로등제어반기초 | E146: 400*610*800 | F146: 개 | G146: 2 | H146: =ROUNDDOWN(단가조사!G144*옵션!$D$11, 0) -> 175000 | L146: =SUM(H146,I146,J146) -> 175000
B147: MMA24071100 | C147: InMastDBNonCode | D147: 교통통제및안전처리 | F147: 일 | G147: 50 | H147: =ROUNDDOWN(단가조사!G152*옵션!$D$11, 0) -> 0 | L147: =SUM(H147,I147,J147) -> 0
B148: MM999807812 | C148: 391115ZZ701Z0001 | D148: 가로등중공기초(철거) | E148: 500x800x1000 | F148: 개 | G148: 11 | H148: =ROUNDDOWN(단가조사!G151*옵션!$D$11, 0) -> 0 | L148: =SUM(H148,I148,J148) -> 0
B149: MM872187898 | C149: 391115ZZ701Z0002 | D149: 로우더(타이어) | E149: 0.57㎥ | F149: HR | G149: 1.4476 | H149: =ROUNDDOWN(단가조사!G145*옵션!$D$11, 0) -> 7978 | I149: 55700 | J149: 6573 | L149: =SUM(H149,I149,J149) -> 70251
B150: MM872187899 | C150: 391115ZZ701Z0003 | D150: 살수차 | E150: 5500L | F150: HR | G150: 0.7224 | H150: =ROUNDDOWN(단가조사!G146*옵션!$D$11, 0) -> 19138 | I150: 47231 | J150: 8878 | L150: =SUM(H150,I150,J150) -> 75247
B151: MM999969882 | C151: 391115ZZ701Z0004 | D151: 조달 수수료(16) | E151: 0.54% | F151: 식 | G151: 1 | H151: =ROUNDDOWN(단가조사!G153*옵션!$D$11, 0) -> 95456 | L151: =SUM(H151,I151,J151) -> 95456
B152: MM999969884 | C152: 391115ZZ701Z0005 | D152: 조달 수수료(17) | E152: 0.54% | F152: 식 | G152: 1 | H152: =ROUNDDOWN(단가조사!G154*옵션!$D$11, 0) -> 45738 | L152: =SUM(H152,I152,J152) -> 45738
B153: MM999969886 | C153: 391115ZZ701Z0006 | D153: 조달 수수료(18) | E153: 0.54% | F153: 식 | G153: 1 | H153: =ROUNDDOWN(단가조사!G155*옵션!$D$11, 0) -> 143775 | L153: =SUM(H153,I153,J153) -> 143775
B154: MM999969888 | C154: 391115ZZ701Z0007 | D154: 조달 수수료(19) | E154: 0.54% | F154: 식 | G154: 1 | H154: =ROUNDDOWN(단가조사!G156*옵션!$D$11, 0) -> 5338 | L154: =SUM(H154,I154,J154) -> 5338
B155: MM999969890 | C155: 391115ZZ701Z0008 | D155: 조달 수수료(20) | E155: 0.54% | F155: 식 | G155: 1 | H155: =ROUNDDOWN(단가조사!G157*옵션!$D$11, 0) -> 1890 | L155: =SUM(H155,I155,J155) -> 1890
B156: MM999969892 | C156: 391115ZZ701Z0009 | D156: 조달 수수료(21) | E156: 0.54% | F156: 식 | G156: 1 | H156: =ROUNDDOWN(단가조사!G158*옵션!$D$11, 0) -> 21422 | L156: =SUM(H156,I156,J156) -> 21422
B157: MM872187897 | C157: 391115ZZ701Z0010 | D157: 진동로울러 | E157: 핸드가이드식 0.7톤 | F157: HR | G157: 1.4476 | H157: =ROUNDDOWN(단가조사!G147*옵션!$D$11, 0) -> 3935 | I157: 33571 | J157: 1748 | L157: =SUM(H157,I157,J157) -> 39254
B158: MM872187896 | C158: 391115ZZ701Z0022 | D158: 플레이트콤팩터 | E158: 1.5톤 | F158: HR | G158: 1.4476 | H158: =ROUNDDOWN(단가조사!G148*옵션!$D$11, 0) -> 1975 | I158: 33571 | J158: 554 | L158: =SUM(H158,I158,J158) -> 36100
B159: CA565826042 | C159: ECA565826042 | D159: 기계터파기 | E159: 보통토사(0.6㎥/43.6) | F159: ㎥ | G159: 583.86 | H159: =단가조사!H159 -> 517 | I159: =단가조사!J159 -> 1097 | J159: =단가조사!L159 -> 479 | L159: =SUM(H159,I159,J159) -> 2093 | M159: 166-하
B160: CA565826051 | C160: ECA565826051 | D160: 기계되메우기 | E160: 보통토사(0.6㎥/43.6) | F160: ㎥ | G160: 569.9355 | H160: =단가조사!H160 -> 517 | I160: =단가조사!J160 -> 1097 | J160: =단가조사!L160 -> 479 | L160: =SUM(H160,I160,J160) -> 2093 | M160: 166-하
B161: CA565826044 | C161: ECA565826044 | D161: 크레인 | E161: 트럭 탑재형 10 Ton | F161: 분 | G161: 792 | H161: =단가조사!H161 -> 373 | I161: =단가조사!J161 -> 661 | J161: =단가조사!L161 -> 346 | L161: =SUM(H161,I161,J161) -> 1380 | M161: 168-하
B162: CA565826045 | C162: ECA565826045 | D162: 크레인 | E162: 타이어 30 Ton | F162: 분 | G162: 936 | H162: =단가조사!H162 -> 256 | I162: =단가조사!J162 -> 797 | J162: =단가조사!L162 -> 914 | L162: =SUM(H162,I162,J162) -> 1967 | M162: 167-하
B163: CA565826048 | C163: ECA565826048 | D163: 굴삭기 | E163: 0.2㎥ | F163: 분 | G163: 283.8 | H163: =단가조사!H163 -> 183 | I163: =단가조사!J163 -> 797 | J163: =단가조사!L163 -> 211 | L163: =SUM(H163,I163,J163) -> 1191 | M163: 166-하
B164: CA565885400 | C164: ECA565855049 | D164: 래머 | E164: 80kg | F164: 분 | G164: 68.112 | H164: =단가조사!H164 -> 17 | I164: =단가조사!J164 -> 475 | J164: =단가조사!L164 -> 8 | L164: =SUM(H164,I164,J164) -> 500 | M164: 167-하
B165: 56900017016 | C165: L001010101000075 | D165: 노 무 비 | E165: 내선전공 | F165: 인 | G165: 210.9277 | I165: =ROUNDDOWN(단가조사!G165, 0) -> 270251 | L165: =SUM(H165,I165,J165) -> 270251
B166: 56900017076 | C166: L001010101000078 | D166: 노 무 비 | E166: 저압케이블전공 | F166: 인 | G166: 230.2304 | I166: =ROUNDDOWN(단가조사!G166, 0) -> 295784 | L166: =SUM(H166,I166,J166) -> 295784
B167: 56900017117 | C167: L001010101000076 | D167: 노 무 비 | E167: 특고압케이블전공 | F167: 인 | G167: 1.544 | I167: =ROUNDDOWN(단가조사!G167, 0) -> 431830 | L167: =SUM(H167,I167,J167) -> 431830
B168: 56900017031 | C168: L001010101000081 | D168: 노 무 비 | E168: 배전전공 | F168: 인 | G168: 22.8004 | I168: =ROUNDDOWN(단가조사!G168, 0) -> 402085 | L168: =SUM(H168,I168,J168) -> 402085
B169: 56900017041 | C169: L001010101000002 | D169: 노 무 비 | E169: 보통인부 | F169: 인 | G169: 141.5504 | I169: =ROUNDDOWN(단가조사!G169, 0) -> 165545 | L169: =SUM(H169,I169,J169) -> 165545
B170: 56900017118 | C170: L001010101000003 | D170: 노 무 비 | E170: 특별인부 | F170: 인 | G170: 50.547 | I170: =ROUNDDOWN(단가조사!G170, 0) -> 214222 | L170: =SUM(H170,I170,J170) -> 214222
B171: 56900017029 | C171: L001010101000026 | D171: 노 무 비 | E171: 방수공 | F171: 인 | G171: 0.276 | I171: =ROUNDDOWN(단가조사!G171, 0) -> 212562 | L171: =SUM(H171,I171,J171) -> 212562
B172: 56900017091 | C172: L001010101000034 | D172: 노 무 비 | E172: 줄눈공 | F172: 인 | G172: 0.245 | I172: =ROUNDDOWN(단가조사!G172, 0) -> 195370 | L172: =SUM(H172,I172,J172) -> 195370
B173: 56900017123 | C173: L001010101000019 | D173: 노 무 비 | E173: 포장공 | F173: 인 | G173: 0.364 | I173: =ROUNDDOWN(단가조사!G173, 0) -> 258360 | L173: =SUM(H173,I173,J173) -> 258360
B174: 56900017074 | C174: L001010101000001 | D174: 노 무 비 | E174: 작업반장 | F174: 인 | G174: 1.666 | I174: =ROUNDDOWN(단가조사!G174, 0) -> 208713 | L174: =SUM(H174,I174,J174) -> 208713

Sheet 단가조사
B1: 183 | D1: [ CAV기반 미래모빌리티 자율주행 평가플랫폼 구축 증축공사 ] - 단가조사서
A2: 번호 | B2: 공종코드 | C2: 코드 | D2: 명 칭 | E2: 규 격 | F2: 단위 | G2: 적용단가 | H2: 시설단가 | J2: 거래가격 | L2: 물가정보 | N2: 물가자료 | P2: 조사단가1 | R2: 조사단가2 | T2: 비고
H3: 단가 | I3: 코드 | J3: 단가 | K3: PAGE | L3: 단가 | M3: PAGE | N3: 단가 | O3: PAGE | P3: 단가 | Q3: PAGE | R3: 단가 | S3: PAGE
C4: 3913170620174622 | D4: 폴리에틸렌 전선관 | E4: PE 16㎜ | F4: M | G4: 262 | H4: 262 | J4: 340 | K4: 1026 | L4: 317 | M4: 1237 | N4: 300 | O4: 1102
C5: 3913170620174626 | D5: 폴리에틸렌 전선관 | E5: PE 42㎜ | F5: M | G5: 903 | H5: 903 | J5: 1226 | K5: 1026 | L5: 1104 | M5: 1237 | N5: 980 | O5: 1102
C6: 3913170620174627 | D6: 폴리에틸렌 전선관 | E6: PE 54㎜ | F6: M | G6: 1470 | H6: 1470 | J6: 1779 | K6: 1026 | L6: 1656 | M6: 1237 | N6: 1470 | O6: 1102
C7: 3913170610035631 | D7: 파상형 폴리에틸렌 전선관 | E7: 30㎜ | F7: M | G7: 343 | H7: 343 | J7: 391 | K7: 1025 | L7: 480 | M7: 1234 | N7: 360 | O7: 1106
C8: 3913170610035632 | D8: 파상형 폴리에틸렌 전선관 | E8: 40㎜ | F8: M | G8: 523 | H8: 523 | J8: 563 | K8: 1025 | L8: 607 | M8: 1234 | N8: 550 | O8: 1106
C9: 3913170610035637 | D9: 파상형 폴리에틸렌 전선관 | E9: 125㎜ | F9: M | G9: 2796 | H9: 2796 | J9: 3204 | K9: 1025 | L9: 3440 | M9: 1234 | N9: 3040 | O9: 1106
C10: 3913170610035631 | D10: 파상형 폴리에틸렌 전선관 | E10: 30㎜ | F10: M | G10: 343 | H10: 343 | J10: 391 | K10: 1025 | L10: 480 | M10: 1234 | N10: 360 | O10: 1106
C11: 3913170610035633 | D11: 파상형 폴리에틸렌 전선관 | E11: 50㎜ | F11: M | G11: 680 | H11: 680 | J11: 750 | K11: 1025 | L11: 860 | M11: 1234 | N11: 730 | O11: 1106
C12: 3913170620174434 | D12: 1종금속제가요전선관 | E12: 커넥터, 16 mm 일반-비방수 | F12: 개 | G12: 354 | H12: 354 | L12: 869 | M12: 1237 | N12: 1100 | O12: 1103
C13: 3913170620174478 | D13: 1종금속제가요전선관 | E13: 16 mm 고장력-비방수 | F13: M | G13: 544 | H13: 600 | L13: 544 | M13: 1237 | N13: 1380 | O13: 1103
C14: 3913170620174472 | D14: 1종금속제가요전선관 | E14: 28 mm 고장력-방수 | F14: M | G14: 2282 | H14: 2282 | L14: 2431 | M14: 1237 | N14: 4680 | O14: 1103
C15: 3912120220176448 | D15: 1종금속제가요전선관 | E15: KS방수 콘넥타 28mm | F15: 개 | G15: 1485 | L15: 1485 | M15: 1237 | N15: 7150 | O15: 1103
C16: 3912171220935649 | D16: 관로구방수장치 | E16: D30 | F16: 조 | G16: 12750 | N16: 12750 | O16: 1229
C17: 3912171220935650 | D17: 관로구방수장치 | E17: D50 | F17: 조 | G17: 14850 | N17: 14850 | O17: 1229
C18: 3913170820935665 | D18: 관로구방수장치 | E18: D125 | F18: 조 | G18: 33750 | N18: 33750 | O18: 1229
C19: 3912130810035750 | D19: 아우트렛박스 | E19: 8각 54㎜ | F19: 개 | G19: 617 | H19: 617 | J19: 800 | K19: 1028 | L19: 845 | M19: 1239 | N19: 790 | O19: 1105
C20: 3912130810035753 | D20: 아우트렛박스 | E20: 중형4각 54㎜ | F20: 개 | G20: 920 | J20: 1000 | K20: 1028 | L20: 973 | M20: 1239 | N20: 920 | O20: 1105
C21: 3912130610035778 | D21: 스위치박스 | E21: 1 개용 54 mm | F21: 개 | G21: 583 | H21: 583 | J21: 650 | K21: 1028 | L21: 700 | M21: 1239 | N21: 650 | O21: 1105
C22: 3912130610035781 | D22: 스위치박스 | E22: 2 개용 54 mm | F22: 개 | G22: 811 | H22: 811 | J22: 1000 | K22: 1028 | L22: 973 | M22: 1239 | N22: 920 | O22: 1105
C23: 3912130820174712 | D23: 아우트렛박스 커버 | E23: 커버, 8각, 둥근구멍(평) | F23: 개 | G23: 343 | J23: 400 | K23: 1028 | L23: 343 | M23: 1239 | N23: 400 | O23: 1105
C24: 3912130820174715 | D24: 아우트렛박스 커버 | E24: 커버, 4각, 둥근구멍(평) | F24: 개 | G24: 343 | J24: 400 | K24: 1028 | L24: 343 | M24: 1239 | N24: 400 | O24: 1105
C25: 3912130820174718 | D25: 아우트렛박스 커버 | E25: 커버, 4각,2개용S/W (오목) | F25: 개 | G25: 343 | J25: 400 | K25: 1028 | L25: 343 | M25: 1239 | N25: 400 | O25: 1105
C26: 3912130320175917 | D26: 정션 박스 | E26: 100*100*50 | F26: 개 | G26: 2284 | H26: 2284 | J26: 4200 | K26: 1028 | L26: 2690 | M26: 1239
C27: 3912130310035795 | D27: 풀박스 | E27: 100×100×75 | F27: 개 | G27: 2734 | H27: 2734 | J27: 5100 | K27: 1028 | L27: 3220 | M27: 1239
C28: 3912130310035797 | D28: 풀박스 | E28: 150×150×100 | F28: 개 | G28: 2854 | H28: 2854 | J28: 7510 | K28: 1028 | L28: 3360 | M28: 1239 | N28: 3870 | O28: 1105
C29: 3913170420174048 | D29: 케이블트레이 | E29: STRAIGHT,St W300x100Hx2.3t | F29: M | G29: 11112 | H29: 11112 | J29: 42290 | K29: 1038 | L29: 25550 | M29: 1247 | N29: 24580 | O29: 1112
C30: 3913170420171161 | D30: 케이블트레이 | E30: COVER,St W300 | F30: M | G30: 25940 | L30: 25940 | M30: 1247 | N30: 34060 | O30: 1112
C31: 3913170520175050 | D31: 케이블트레이부속품 | E31: H. ELBOW, St,W300x100Hx2.3t | F31: 개 | G31: 15669 | H31: 15669 | J31: 63320 | K31: 1038 | L31: 38120 | M31: 1247 | N31: 36020 | O31: 1112
C32: 3913170520175064 | D32: 케이블트레이부속품 | E32: V. ELBOW, St,W300x100Hx2.3t | F32: 개 | G32: 11068 | H32: 11068 | J32: 63320 | K32: 1038 | L32: 41010 | M32: 1247 | N32: 36020 | O32: 1112
C33: 3913170520175118 | D33: 케이블트레이부속품 | E33: JOINT CONNEC.아연도100Hx2.3 | F33: 개 | G33: 1106 | H33: 1106 | N33: 1680 | O33: 1114
C34: 3913170520175120 | D34: 케이블트레이부속품 | E34: SHANK BOLT & NUT, 아연도 | F34: 개 | G34: 67 | H34: 67 | N34: 210 | O34: 1114
C35: 3913170520175124 | D35: 케이블트레이부속품 | E35: BONDING JUMPER, 38㎟ | F35: 개 | G35: 2152 | H35: 2152 | L35: 4740 | M35: 1247
C36: 3913170520935624 | D36: 케이블트레이부속품 | E36: RAIL CLAMP | F36: 개 | G36: 547 | P36: 547
C37: 3913170520175125 | D37: 케이블트레이부속품 | E37: HOLD DOWN CLAMP, 아연도 | F37: 개 | G37: 268 | H37: 268
C38: 3913170520175126 | D38: 케이블트레이부속품 | E38: 찬넬스프링 너트, 아연도 | F38: 개 | G38: 406 | H38: 406
C39: 3913170520175128 | D39: 케이블트레이부속품 | E39: U CHANNEL, 41x41x2.6t | F39: M | G39: 3960 | H39: 3960 | L39: 11030 | M39: 1247 | N39: 9100 | O39: 1114
C40: 3913170810036357 | D40: 강재전선관용 부품 | E40: 파이프행거, 16 C | F40: 개 | G40: 324 | H40: 324 | J40: 340 | K40: 1029 | L40: 727 | M40: 1235 | N40: 620 | O40: 1101
C41: 3913170810036358 | D41: 강재전선관용 부품 | E41: 파이프행거, 22 C | F41: 개 | G41: 330 | H41: 330 | J41: 350 | K41: 1029 | L41: 745 | M41: 1235 | N41: 650 | O41: 1101
C42: 3913170810036359 | D42: 강재전선관용 부품 | E42: 파이프행거, 28 C | F42: 개 | G42: 353 | H42: 353 | J42: 391 | K42: 1029 | L42: 782 | M42: 1235 | N42: 680 | O42: 1101
C43: 3913170810036361 | D43: 강재전선관용 부품 | E43: 파이프행거, 42 C | F43: 개 | G43: 405 | H43: 405 | J43: 422 | K43: 1029 | L43: 904 | M43: 1235 | N43: 760 | O43: 1101
C44: 3913170810037051 | D44: 강재전선관용 부품 | E44: 새들 (KS) 16c | F44: EA | G44: 88 | J44: 88 | K44: 1029 | L44: 98 | M44: 1235 | N44: 104 | O44: 1101
C45: 3913170810037052 | D45: 강재전선관용 부품 | E45: 새들 (KS) 22c | F45: EA | G45: 93 | J45: 93 | K45: 1029 | L45: 104 | M45: 1235 | N45: 123 | O45: 1101
C46: 3913170810037053 | D46: 강재전선관용 부품 | E46: 새들 (KS) 28c | F46: EA | G46: 124 | J46: 124 | K46: 1029 | L46: 139 | M46: 1235 | N46: 198 | O46: 1101
C47: 3913170810037055 | D47: 강재전선관용 부품 | E47: 새들 (KS) 42c | F47: EA | G47: 175 | J47: 175 | K47: 1029 | L47: 190 | M47: 1235 | N47: 263 | O47: 1101
C48: 3913170810037057 | D48: 강재전선관용 부품 | E48: 새들 (KS) 70c | F48: EA | G48: 587 | J48: 649 | K48: 1029 | L48: 587 | M48: 1235 | N48: 874 | O48: 1101
C49: 3116210220135769 | D49: 스트롱앵커 | E49: 3/8 | F49: 개 | G49: 100 | N49: 100 | O49: 53
C50: 3116280220163395 | D50: 인서트 | E50: 주물, Φ9mm | F50: 개 | G50: 710 | N50: 710 | O50: 47
C51: 3116169820135160 | D51: 행거볼트 | E51: ∮9×1000㎜ | F51: 개 | G51: 1017 | L51: 1226 | M51: 43 | N51: 1017 | O51: 46
C52: 2612162922076727 | D52: 450/750V 내열비닐절연전선 | E52: HFIX 1.78mm(2.5㎟) | F52: M | G52: 402 | H52: 402 | J52: 480 | K52: 993 | L52: 601 | M52: 1197 | N52: 418 | O52: 1074
C53: 2612162922076728 | D53: 450/750V 내열비닐절연전선 | E53: HFIX 2.25mm(4㎟) | F53: M | G53: 616 | H53: 616 | J53: 735 | K53: 993 | L53: 937 | M53: 1197 | N53: 637 | O53: 1074
C54: 2612152420683696 | D54: 접지용비닐절연전선(F-GV) | E54: 4㎟ | F54: M | G54: 787 | H54: 787 | J54: 959 | K54: 994 | L54: 955 | M54: 1197 | N54: 950 | O54: 1075
C55: 2612152420683697 | D55: 접지용비닐절연전선(F-GV) | E55: 6㎟ | F55: M | G55: 896 | H55: 896 | J55: 1104 | K55: 994 | L55: 1087 | M55: 1197 | N55: 1110 | O55: 1075
C56: 2612152420683698 | D56: 접지용비닐절연전선(F-GV) | E56: 10㎟ | F56: M | G56: 1523 | H56: 1523 | J56: 1746 | K56: 994 | L56: 1833 | M56: 1197 | N56: 1870 | O56: 1075
C57: 2612152420683699 | D57: 접지용비닐절연전선(F-GV) | E57: 16㎟ | F57: M | G57: 2061 | H57: 2061 | J57: 2669 | K57: 994 | L57: 2502 | M57: 1197 | N57: 2550 | O57: 1075
C58: 2612152420683700 | D58: 접지용비닐절연전선(F-GV) | E58: 25㎟ | F58: M | G58: 3192 | H58: 3192 | J58: 3854 | K58: 994 | L58: 3843 | M58: 1197 | N58: 3780 | O58: 1075
C59: 2612152420683701 | D59: 접지용비닐절연전선(F-GV) | E59: 35㎟ | F59: M | G59: 4487 | H59: 4487 | J59: 5298 | K59: 994 | L59: 5428 | M59: 1197 | N59: 5340 | O59: 1075
C60: 2612152420683704 | D60: 접지용비닐절연전선(F-GV) | E60: 95㎟ | F60: M | G60: 11581 | H60: 11581 | J60: 14048 | K60: 994 | L60: 13989 | M60: 1197 | N60: 14240 | O60: 1075
C61: 2612162920683885 | D61: 폴리에틸렌 난연케이블 | E61: 0.6/1kv F-CV 1C×10㎟ | F61: M | G61: 1752 | H61: 1752 | J61: 2112 | K61: 993 | L61: 1820 | M61: 1201 | N61: 1927 | O61: 1075
C62: 2612162920683886 | D62: 폴리에틸렌 난연케이블 | E62: 0.6/1kv F-CV 1C×16㎟ | F62: M | G62: 2697 | H62: 2697 | J62: 3220 | K62: 993 | L62: 2897 | M62: 1201 | N62: 2800 | O62: 1075
C63: 2612162920683889 | D63: 폴리에틸렌 난연케이블 | E63: 0.6/1kv F-CV 1C×50㎟ | F63: M | G63: 7521 | H63: 7521 | J63: 8872 | K63: 993 | L63: 7980 | M63: 1201 | N63: 7900 | O63: 1075
... C77: 3912140621030227 | D77: 방우콘센트 | E77: 매입-접지형, 15A 250V 1구 | F77: 개 | G77: 2037 | H77: 2037 | J77: 3567 | K77: 1099 | L77: 3355 | M77: 1314 | N77: 3600 | O77: 1204
C78: 3911152120935580 | D78: 등기구보강대 | E78: 스프링형M바표준(1.0m) | F78: 개 | G78: 8400 | J78: 8400 | K78: 1104 | L78: 9000 | M78: 1322
C79: 4619160120097367 | D79: 내화충전(0.00032kg/cm3) | E79: 실리콘 RTV 폼 | F79: KG | G79: 45230 | N79: 45230 | O79: 963
C80: 3912161310034844 | D80: 접지봉 | E80: 14Φ×1000 mm | F80: 개 | G80: 3318 | H80: 3318 | L80: 8000 | M80: 1308 | N80: 5780 | O80: 1198
C81: 3912169720173983 | D81: 접지첨가제 | E81: 접지저항저감제,아스판엠,10Kg | F81: 개 | G81: 10035 | H81: 10035 | L81: 25000 | M81: 1308 | N81: 10500 | O81: 1198
C82: 3912161620169687 | D82: 배선용 차단기 | E82: 표준형, 2P 600V 50AF | F82: 대 | G82: 40100 | J82: 40100 | K82: 1069 | L82: 40100 | M82: 1269
C83: 3912161620169707 | D83: 배선용 차단기 | E83: 표준형, 4P 600V 225AF | F83: 대 | G83: 287900 | J83: 287900 | K83: 1069 | L83: 287900 | M83: 1269
C84: 3912143210033801 | D84: 러그단자 | E84: 동관단자 2 HOLE 150 ㎟ | F84: 개 | G84: 4280 | J84: 5473 | K84: 1019 | L84: 6200 | M84: 1231 | N84: 4280 | O84: 1095
C85: 3912143221650911 | D85: 압착단자 | E85: R형동선 나압착 16 ㎟ | F85: 개 | G85: 127 | H85: 127 | J85: 200 | K85: 1019 | L85: 253 | M85: 1231 | N85: 231 | O85: 1095
C86: 3912143221650912 | D86: 압착단자 | E86: R형동선 나압착 25 ㎟ | F86: 개 | G86: 187 | H86: 187 | J86: 260 | K86: 1019 | L86: 399 | M86: 1231 | N86: 294 | O86: 1095
C87: 3912143221650913 | D87: 압착단자 | E87: R형동선 나압착 35 ㎟ | F87: 개 | G87: 242 | H87: 242 | J87: 316 | K87: 1019 | L87: 822 | M87: 1231 | N87: 326 | O87: 1095
C88: 3912143221650914 | D88: 압착단자 | E88: R형동선 나압착 50 ㎟ | F88: 개 | G88: 403 | H88: 403 | J88: 551 | K88: 1019 | L88: 1064 | M88: 1231 | N88: 718 | O88: 1095
C89: 3912219520175619 | D89: 지중선용 가선철물(저압) | E89: 케이블표지시트, 0.15x150 | F89: M | G89: 88 | P89: 88 | Q89: 대한안전
C90: 3012169821869019 | D90: 맨홀 | E90: 1000x1000x1000 | F90: 조 | G90: 220000 | J90: 530000 | K90: 223 | L90: 220000 | M90: 206
C91: 3012169821869320 | D91: 맨홀 | E91: 1500x1500x1500 | F91: 조 | G91: 440000 | J91: 1120000 | K91: 223 | L91: 440000 | M91: 206
C92: 3012169520160610 | D92: 맨홀뚜껑(철개) | F92: 조 | G92: 370000 | L92: 370000 | M92: 206
C93: 3116172710024976 | D93: 6각너트 | E93: M10 | F93: 개 | G93: 25 | L93: 29 | M93: 41 | N93: 25 | O93: 50
C94: 3116172710023970 | D94: 6각너트 | E94: 3/8,M10 | F94: EA | G94: 25 | L94: 29 | M94: 41 | N94: 25 | O94: 50
C95: 3116181120136195 | D95: 스프링와샤 | E95: D10 | F95: EA | G95: 9 | L95: 10 | M95: 43 | N95: 9 | O95: 49
C96: 2317167020544845 | D96: 컷팅날 | E96: D320~400mm t =3.2mm | F96: 개 | G96: 215000 | N96: 215000 | O96: 1414
C97: 9998887770000065 | D97: 접지봉연결 | E97: 3본 18x2400mm | F97: 개소 | G97: 25650 | H97: 25650 | L97: 54000 | M97: 1308 | N97: 73080 | O97: 1198
C98: 3912161320937672 | D98: 볼트형콘넥터 | E98: U 볼트형, Φ19 | F98: 개 | G98: 3801 | H98: 3801 | N98: 6800 | O98: 1198
C99: 9999999456000000 | D99: 상차비 | E99: 폐기물처리(30km이하) | F99: ton | G99: 3520 | N99: 3520 | O99: 부록150
C100: 9999999456000001 | D100: 운반비 | E100: 폐기물처리(30km이하) | F100: ton | G100: 15990 | N100: 15990 | O100: 부록150
C101: 9999999456000003 | D101: 폐아스팔트콘크리트 | F101: ton | G101: 30488 | N101: 30488 | O101: 부록151
C102: 9888811111000006 | D102: 러그단자(접지) | E102: 동관단자 2 HOLE 95 ㎟ | F102: 개 | G102: 3010 | J102: 3367 | K102: 1019 | L102: 4395 | M102: 1231 | N102: 3010 | O102: 1095
C103: 9888811111000105 | D103: 압착단자(접지) | E103: R형동선 나압착 16 ㎟ | F103: 개 | G103: 127 | H103: 127 | J103: 200 | K103: 1019 | L103: 253 | M103: 1231 | N103: 231 | O103: 1095
C104: 9888811111000106 | D104: 압착단자(접지) | E104: R형동선 나압착 25 ㎟ | F104: 개 | G104: 187 | H104: 187 | J104: 260 | K104: 1019 | L104: 399 | M104: 1231 | N104: 294 | O104: 1095
C105: 9999999991020000 | D105: 나사없는전선관 | E105: E19 | F105: M | G105: 2107 | H105: 2107 | L105: 2547 | M105: 1234 | N105: 2547 | O105: 1102
C106: 9999999991020001 | D106: 나사없는전선관 | E106: E25 | F106: M | G106: 2849 | H106: 2849 | L106: 3354 | M106: 1234 | N106: 3354 | O106: 1102
C107: 9999999991020002 | D107: 나사없는전선관 | E107: E31 | F107: M | G107: 3890 | H107: 3890 | L107: 4696 | M107: 1234 | N107: 4696 | O107: 1102
C108: 9999999991020004 | D108: 나사없는전선관 | E108: E51 | F108: M | G108: 6381 | H108: 6381 | L108: 7784 | M108: 1234 | N108: 7784 | O108: 1102
C109: 9999999991020006 | D109: 나사없는전선관 | E109: E75 | F109: M | G109: 11526 | H109: 11526 | L109: 14049 | M109: 1234 | N109: 14049 | O109: 1102
C110: 9999999991020007 | D110: 볼트고정식 이음쇠 | E110: 커플링 E19 | F110: EA | G110: 830 | H110: 830 | L110: 4950 | M110: 1234 | N110: 4950 | O110: 1102
C111: 9999999991020008 | D111: 볼트고정식 이음쇠 | E111: 커플링 E25 | F111: EA | G111: 1014 | H111: 1014 | L111: 5295 | M111: 1234 | N111: 5295 | O111: 1102
C112: 9999999991020009 | D112: 볼트고정식 이음쇠 | E112: 커플링 E31 | F112: EA | G112: 1246 | H112: 1246 | L112: 6307 | M112: 1234 | N112: 6307 | O112: 1102
C113: 9999999991020011 | D113: 볼트고정식 이음쇠 | E113: 커플링 E51 | F113: EA | G113: 2436 | H113: 2436 | L113: 12435 | M113: 1234 | N113: 12435 | O113: 1102
...

Sheet 옵션
B1: 재료비 | C1: 노무비 | D1: 경비 | F1: 계
A2: 총 급 액 | B2: =총괄표!I29 -> 0 | C2: =총괄표!L29 -> 0 | D2: =총괄표!N29 -> 0 | F2: =SUM(B2,C2,D2) -> 0
A3: 도급자관급 | B3: =총괄표!I156 -> 0 | C3: =총괄표!L156 -> 0 | D3: =총괄표!N156 -> 0 | F3: =SUM(B3,C3,D3) -> 0 | H3: 금액조정이 안되나요?
F4: =SUM(B4,C4,D4) -> 0
F5: =SUM(B5,C5,D5) -> 0
F6: =SUM(B6,C6,D6) -> 0 | H6: 이지테크에서 변환할 때 2번 옵션을 지정하여 다시 해보세요
F7: =SUM(B7,C7,D7) -> 0
F8: =SUM(B8,C8,D8) -> 0
H9: 시트를 삭제할 때 에러가 뜨면 1번 옵션으로 하면 됩니다.
B10: 적용율(%) | C10: 끝자리 | D10: 적용율(%)/100 | E10: 일위대가소수
A11: 전체자재 적용율(%)(공종/일위대가) | B11: 100 | C11: 1 | D11: =$B$11/100 -> 1
A12: 전체노임 적용율(%)(공종) | B12: 100 | C12: 1 | D12: =$B$12/100 -> 1 | E12: 2 | H12: 2번 옵션으로 변환했을 때에는 결과값이 다를 수 있습니다.
A13: 전체노임 적용율(%)(일위대가) | B13: 100 | C13: 1 | D13: =$B$13/100 -> 1 | E13: 5
A20: *(그룹별 자재 단가 추가 할증)* | B20: 적용율(%) | D20: 적용율(%)/100
A21: Cable(CAB) 할증(%) | B21: =B11 -> 100 | D21: =$B$21/100 -> 1
A22: Wire (WIR) 할증(%) | B22: =B11 -> 100 | D22: =$B$22/100 -> 1
A23: Pipe (PIP) 할증(%) | B23: =B11 -> 100 | D23: =$B$23/100 -> 1
A24: 제 4그룹 할증(%) | B24: =B11 -> 100 | D24: =$B$24/100 -> 1
A25: 제 5그룹 할증(%) | B25: =B11 -> 100 | D25: =$B$25/100 -> 1
A30: *(그룹별 노임 추가 할증)* | B30: 적용율(%) | C30: 자동부속재(전기) | D30: 자동부속재(통신)
A31: 배관부속재(%) | B31: 15 | C31: 15 | D31: 20
A32: CD관부속재(%) | B32: 40 | C32: 40 | D32: 40
A33: 소모잡자재(%) | B33: 2 | H33: 본 파일은 이지테크에서 2번 옵션으로 만들었습니다.
A34: 방폭할증(%)
A35: 고소할증(%) | B35: 2
A36: 공구손료(%) | B36: 3
A40: *(공종별 노임 적용율(%))* | B40: 적용율(%) | C40: 소수자릿수
A41: 1-1-1.전력간선설비공사 | B41: 100 | C41: 0
A42: 1-1-2.전등설비공사 | B42: 100 | C42: 0
A43: 1-1-3.전열설비공사 | B43: 100 | C43: 0
A44: 1-1-4.냉난방설비공사 | B44: 100 | C44: 0
A45: 1-1-5.CABLE TRAY설치공사 | B45: 100 | C45: 0
A46: 1-2-1.전력간선설비공사 | B46: 100 | C46: 0
A47: 1-3-1.옥외가로등설비공사 | B47: 100 | C47: 0
A48: 1-3-2.통신탑및CCTV주설비공사 | B48: 100 | C48: 0
A49: 1-4-1.옥외가로등설비 | B49: 100 | C49: 0
A50: 2-1.분전반 | C50: 0
A51: 2-2.가로등조명기구 | C51: 0
A52: 2-3.가로등주및부속 | C52: 0
A53: 2-4.가로등접속함 | C53: 0
A54: 2-5.가로등기초 | C54: 0
A55: 2-6.조명기구 | C55: 0
