Workbook
Name __JJ132: [1]중기일위대가!$J$136
Name __JK132: [1]중기일위대가!$K$136
Name __JN132: [1]중기일위대가!$I$136
Name __p1: #REF!
Name _95년_포상금_지급내역: #REF!
Name _JJ132: [1]중기일위대가!$J$136
Name _JK132: [1]중기일위대가!$K$136
Name _JN132: [1]중기일위대가!$I$136
Name _p1: #REF!
Name a: #REF!
Name alf: [2]개발계획수립!$B$13:$I$131
Name b: #REF!
Name BOX형수로집계: #REF!
Name CV_1C: #REF!
Name d: #REF!
Name N: #REF!
Name P: #REF!
Name Print_Area_MI: #REF!
Name Q: #REF!
Name SIZE: #REF!
Name 강감찬: #REF!
Name 경계점말뚝: '[3]2.재료비'!#REF!
Name 계약단가: #REF!
Name 고급: [4]상세!$G$24
Name 공공시설: [5]내역서!#REF!
Name 공사비: #REF!
Name 공업용뇌관2: '[3]2.재료비'!#REF!
Name 교육: [5]내역서!#REF!
Name 교통: [5]내역서!#REF!
Name 기간: #REF!
Name 김유신: #REF!
Name 노임: #REF!
Name 다이너마이트2: '[3]2.재료비'!#REF!
Name 단가: #REF!
Name 단순공종: #REF!
Name 대기질: [5]내역서!#REF!
Name 대기질측정: [5]내역서!#REF!
Name 대안설정: [5]내역서!#REF!
Name 동식물상: [5]내역서!#REF!
Name ㅁ1: [6]예산총괄표!#REF!
Name 명수: #REF!
Name 문화재: [5]내역서!#REF!
Name 백색페인트: [7]예측단가간지!$D$21
Name 보정계수1: #REF!
Name 보정계수2: #REF!
Name 보정계수3: #REF!
Name 보조: [4]상세!$G$27
Name 보통공종: #REF!
Name 보통인부: '[3]1.인건비'!$H$12
Name 복잡공종: #REF!
Name 비닐전화선: '[3]2.재료비'!#REF!
Name 뿌로마이드: '[3]2.재료비'!#REF!
Name 사정: [5]내역서!#REF!
Name 사후환경조사: [5]내역서!#REF!
Name 산업: [5]내역서!#REF!
Name 선택: #REF!
Name 설계규모: #REF!
Name 섹션오일페이퍼: '[3]2.재료비'!#REF!
Name 소음진동: [5]내역서!#REF!
Name 수리수문: [5]내역서!#REF!

Sheet 원가계산
A1: [공사명] | C1: [ CAV기반 미래모빌리티 자율주행 평가플랫폼 구축 증축공사(전기)] | I1: ="금 액 : "&NUMBERSTRING(E35,1)&" 원정 ("&DOLLAR(E35,0)&")" -> 금 액 : 영 원정 (₩0)
A2: 비 목 | D2: 금 액 | G2: 구 성 비 | Q2: 비 고 | R2: 추정가격 = 순공사원가
B3: 재 료 비 | C3: 직 접 재 료 비 | E3: =총괄표!I29 -> 0 | R3: 추정금액 = 공급가액 + 부가세 + 도급자관급
C4: 간 접 재 료 비
C5: 작 업 설 , 부 산 물 등 (△) | E5: 0 | S5: =E3+E7+E10 -> 0 | T5: 직접노무비,경비 요율근거금액
A6: 순 | C6: [ 소 계 ] | E6: =E3+E4+E5 -> 0 | S6: =E3+E7+E31 -> 0 | T6: 안전관리비 요율근거금액
B7: 노 무 비 | C7: 직 접 노 무 비 | E7: =총괄표!L29 -> 0 | S7: =E24 -> 0 | T7: 일반관리비,이윤
C8: 간 접 노 무 비 | E8: =TRUNC(E7*I8) -> 0 | G8: 직접노무비 | H8: × | I8: 0.126 | S8: =E29+E31 -> 0 | T8: 퇴직공제근거금액
A9: 공 | C9: [ 소 계 ] | E9: =SUM(E7:E8) -> 0
C10: 기 계 경 비 | E10: =총괄표!N29 -> 0
C11: 산 재 보 험 료 | E11: =TRUNC(E9*I11) -> 0 | G11: 노무비 | H11: × | I11: 0.0356
A12: 사 | C12: 고 용 보 험 료 | E12: =TRUNC(E9*I12) -> 0 | G12: 노무비 | H12: × | I12: 0.0101
B13: 경 | C13: 건 강 보 험 료 | E13: =TRUNC(E7*I13) -> 0 | G13: 직접노무비 | H13: × | I13: 0.03545 | R13: 공사기간 1개월(30일) 이상인 모든 건설공사
C14: 노 인 장 기 요 양 보 험 료 | E14: =TRUNC(E13*I14) -> 0 | G14: 건강보험료 | H14: × | I14: 0.1295 | R14: 공사기간 1개월(30일) 이상인 모든 건설공사
C15: 연 금 보 험 료 | E15: =TRUNC(E7*I15) -> 0 | G15: 직접노무비 | H15: × | I15: 0.045 | R15: 공사기간 1개월(30일) 이상인 모든 건설공사
A16: 원 | C16: 퇴 직 공 제 부 금 비 | E16: =TRUNC(E7*I16) -> 0 | G16: 직접노무비 | H16: × | I16: 0.023 | R16: 추정금액이 1억 이상인 건설공사
C17: 산 업 안 전 보 건 관 리 비 | E17: =MIN(E18,E19) -> 0 | Q17: ①과②비교후 적은 금액 적용 | R17: 총 공사금액(도급금액+도급자관급금액) 2천만원 이상 건설공사
C18: ① | E18: =(TRUNC((E6+E7)*I18+K18)*M18) -> 0 | G18: ((재료비+직노) | H18: × | I18: 0.0293 | J18: + | K18: 0 | L18: ) × | M18: 1.2
A19: 가 | C19: ② | E19: =TRUNC((E6+E7+E31/1.1)*I19)+K19 -> 0 | G19: (재료비+직노+관급자재비(도급자/1.1)) | H19: × | I19: 0.0293 | J19: + | K19: 0
B20: 비 | C20: 기 타 경 비 | E20: =TRUNC((E6+E9)*I20) -> 0 | G20: (재료비+노무비) | H20: × | I20: 0.052
C21: 환 경 보 존 비 | E21: =TRUNC((E6+E7+E10)*I21) -> 0
C22: 건설하도급대금지급보증서발급수수료 | E22: =TRUNC((E6+E7+E10)*I22) -> 0
C23: [ 소 계 ] | E23: =SUM(E10:E17,E20:E22) -> 0
B24: 계 | E24: =E6+E9+E23 -> 0
A25: 일 반 관 리 비 | E25: =TRUNC(E24*I25) -> 0 | G25: 계 | H25: × | I25: 0.06
A26: 이 윤 | E26: =TRUNC((E9+E23+E25)*I26)+Q26 -> 0 | G26: (노무비+경비+일반관리비) | H26: × | I26: 0.15 | Q26: =Q23-MOD(SUM(E24:E25)+INT((SUM(E24:E25)-E6)*I26+Q24/100),10000) -> 0
A27: 공 급 가 액 | E27: =SUM(E24:E26) -> 0
A28: 부 가 가 치 세 | E28: =TRUNC(E27*I28) -> 0 | G28: 공급가액 | H28: × | I28: 0.1
A29: [도 급 액] | E29: =SUM(E27:E28) -> 0
A30: 관 급 자 재 (관급자설치) | G30: VAT포함
A31: 관 급 자 재 (도급자설치) | E31: =총괄표!P31 -> 0 | G31: VAT포함
A32: 관 급 공 사 비 (합 계) | E32: =ROUNDUP((E30+E31),-3) -> 0 | Q32: 천단위이하절상
A33: 한 전 불 입 금 | G33: VAT포함
A35: [총 공 사 비] | E35: =E29+E32+E33+E34 -> 0
O37: 제비율 | Q37: =E29/SUM(E3,E7,E10) -> #DIV/0!
D40: 1차 | E40: 86968000
D41: 2차 | E41: 405327000
D42: 계 | E42: =SUM(E40:E41) -> 492295000
E43: =E35-E42 -> -492295000

Sheet 총괄표
A1: 총줄수-> | B1: 211 | D1: [ CAV기반 미래모빌리티 자율주행 평가플랫폼 구축 증축공사 ] | AA1: 연속견적가로형식
A2: 번호 | B2: 공종코드 | C2: … | D2: 공 종 명 | E2: 규격 | F2: 단위 | G2: 수량 | H2: 재료비 | J2: 노무비 | M2: 경비 | P2: 계 | Q2: 비고
H3: 단가 | I3: 금액 | J3: 수량 | K3: 단가 | L3: 금액 | M3: 단가 | N3: 금액 | O3: 단가
B4: 공종줄 | D4: CAV기반 미래모빌리티 자율주행 평가플랫폼 구축 증축공사
B5: 01 | D5: 1.전기공사 | F5: 식 | G5: 1 | H5: =총괄표!I79 -> 0 | I5: =G5*H5 -> 0 | K5: =총괄표!L79 -> 0 | L5: =G5*K5 -> 0 | M5: =총괄표!N79 -> 0 | N5: =G5*M5 -> 0 | O5: =IF((H5+K5+M5)=0, "", (H5+K5+M5)) | P5: =SUM(I5,L5,N5) -> 0
C29: Total | D29: ( 합 계 ) | I29: =TRUNC(SUM(I4:I28)) -> 0 | L29: =TRUNC(SUM(L4:L28)) -> 0 | N29: =TRUNC(SUM(N4:N28)) -> 0 | O29: =IF((H29+K29+M29)=0, "", (H29+K29+M29)) | P29: =TRUNC(SUM(P4:P28)) -> 0
B30: 공종줄 | D30: CAV기반 미래모빌리티 자율주행 평가플랫폼 구축 증축공사
B31: 02 | D31: 2.도급자관급 | F31: 식 | G31: 1 | H31: =총괄표!I156 -> 0 | I31: =G31*H31 -> 0 | K31: =총괄표!L156 -> 0 | L31: =G31*K31 -> 0 | M31: =총괄표!N156 -> 0 | N31: =G31*M31 -> 0 | O31: =IF((H31+K31+M31)=0, "", (H31+K31+M31)) | P31: =SUM(I31,L31,N31) -> 0
C55: Total | D55: ( 합 계 ) | I55: =TRUNC(SUM(I30:I54)) -> 0 | L55: =TRUNC(SUM(L30:L54)) -> 0 | N55: =TRUNC(SUM(N30:N54)) -> 0 | O55: =IF((H55+K55+M55)=0, "", (H55+K55+M55)) | P55: =TRUNC(SUM(P30:P54)) -> 0
B56: 공종줄 | D56: 1.전기공사
B57: 0101 | D57: 1-1.워크샵 | F57: 식 | G57: 1 | H57: =총괄표!I105 -> 0 | I57: =G57*H57 -> 0 | K57: =총괄표!L105 -> 0 | L57: =G57*K57 -> 0 | M57: =총괄표!N105 -> 0 | N57: =G57*M57 -> 0 | O57: =IF((H57+K57+M57)=0, "", (H57+K57+M57)) | P57: =SUM(I57,L57,N57) -> 0
B58: 0103 | D58: 1-3.자동차전용도로 | F58: 식 | G58: 1 | H58: =총괄표!I131 -> 0 | I58: =G58*H58 -> 0 | K58: =총괄표!L131 -> 0 | L58: =G58*K58 -> 0 | M58: =총괄표!N131 -> 0 | N58: =G58*M58 -> 0 | O58: =IF((H58+K58+M58)=0, "", (H58+K58+M58)) | P58: =SUM(I58,L58,N58) -> 0
B79: 01 | C79: Total | D79: ( 합 계 ) | I79: =TRUNC(SUM(I56:I78)) -> 0 | L79: =TRUNC(SUM(L56:L78)) -> 0 | N79: =TRUNC(SUM(N56:N78)) -> 0 | O79: =IF((H79+K79+M79)=0, "", (H79+K79+M79)) | P79: =TRUNC(SUM(P56:P78)) -> 0
B80: 공종줄 | D80: 1.전기공사::1-1.워크샵
B81: 010101 | D81: 1-1-1.전력간선설비공사 | F81: 식 | G81: 1 | H81: =내역서!I37 -> 0 | I81: =G81*H81 -> 0 | K81: =내역서!L37 -> 0 | L81: =G81*K81 -> 0 | M81: =내역서!N37 -> 0 | N81: =G81*M81 -> 0 | O81: =IF((H81+K81+M81)=0, "", (H81+K81+M81)) | P81: =SUM(I81,L81,N81) -> 0
B82: 010102 | D82: 1-1-2.전등설비공사 | F82: 식 | G82: 1 | H82: =내역서!I71 -> 0 | I82: =G82*H82 -> 0 | K82: =내역서!L71 -> 0 | L82: =G82*K82 -> 0 | M82: =내역서!N71 -> 0 | N82: =G82*M82 -> 0 | O82: =IF((H82+K82+M82)=0, "", (H82+K82+M82)) | P82: =SUM(I82,L82,N82) -> 0
B83: 010103 | D83: 1-1-3.전열설비공사 | F83: 식 | G83: 1 | H83: =내역서!I97 -> 0 | I83: =G83*H83 -> 0 | K83: =내역서!L97 -> 0 | L83: =G83*K83 -> 0 | M83: =내역서!N97 -> 0 | N83: =G83*M83 -> 0 | O83: =IF((H83+K83+M83)=0, "", (H83+K83+M83)) | P83: =SUM(I83,L83,N83) -> 0
B84: 010104 | D84: 1-1-4.냉난방설비공사 | F84: 식 | G84: 1 | H84: =내역서!I129 -> 0 | I84: =G84*H84 -> 0 | K84: =내역서!L129 -> 0 | L84: =G84*K84 -> 0 | M84: =내역서!N129 -> 0 | N84: =G84*M84 -> 0 | O84: =IF((H84+K84+M84)=0, "", (H84+K84+M84)) | P84: =SUM(I84,L84,N84) -> 0
B85: 010105 | D85: 1-1-5.CABLE TRAY설치공사 | F85: 식 | G85: 1 | H85: =내역서!I144 -> 0 | I85: =G85*H85 -> 0 | K85: =내역서!L144 -> 0 | L85: =G85*K85 -> 0 | M85: =내역서!N144 -> 0 | N85: =G85*M85 -> 0 | O85: =IF((H85+K85+M85)=0, "", (H85+K85+M85)) | P85: =SUM(I85,L85,N85) -> 0
B105: 0101 | C105: Total | D105: ( 합 계 ) | I105: =TRUNC(SUM(I80:I104)) -> 0 | L105: =TRUNC(SUM(L80:L104)) -> 0 | N105: =TRUNC(SUM(N80:N104)) -> 0 | O105: =IF((H105+K105+M105)=0, "", (H105+K105+M105)) | P105: =TRUNC(SUM(P80:P104)) -> 0
B106: 공종줄 | D106: 1.전기공사::1-3.자동차전용도로
B107: 010301 | D107: 1-3-1.옥외가로등설비공사 | F107: 식 | G107: 1 | H107: =내역서!I151 -> 0 | I107: =G107*H107 -> 0 | K107: =내역서!L151 -> 0 | L107: =G107*K107 -> 0 | M107: =내역서!N151 -> 0 | N107: =G107*M107 -> 0 | O107: =IF((H107+K107+M107)=0, "", (H107+K107+M107)) | P107: =SUM(I107,L107,N107) -> 0
B108: 010302 | D108: 1-3-2.통신탑및CCTV주설비공사 | F108: 식 | G108: 1 | H108: =내역서!I169 -> 0 | I108: =G108*H108 -> 0 | K108: =내역서!L169 -> 0 | L108: =G108*K108 -> 0 | M108: =내역서!N169 -> 0 | N108: =G108*M108 -> 0 | O108: =IF((H108+K108+M108)=0, "", (H108+K108+M108)) | P108: =SUM(I108,L108,N108) -> 0
B131: 0103 | C131: Total | D131: ( 합 계 ) | I131: =TRUNC(SUM(I106:I130)) -> 0 | L131: =TRUNC(SUM(L106:L130)) -> 0 | N131: =TRUNC(SUM(N106:N130)) -> 0 | O131: =IF((H131+K131+M131)=0, "", (H131+K131+M131)) | P131: =TRUNC(SUM(P106:P130)) -> 0
B132: 공종줄 | D132: 2.도급자관급
B133: 0201 | D133: 2-1.분전반 | F133: 식 | G133: 1 | H133: =내역서!I177 -> 0 | I133: =G133*H133 -> 0 | K133: =내역서!L177 -> 0 | L133: =G133*K133 -> 0 | M133: =내역서!N177 -> 0 | N133: =G133*M133 -> 0 | O133: =IF((H133+K133+M133)=0, "", (H133+K133+M133)) | P133: =SUM(I133,L133,N133) -> 0
B134: 0202 | D134: 2-2.가로등조명기구 | F134: 식 | G134: 1 | H134: =내역서!I183 -> 0 | I134: =G134*H134 -> 0 | K134: =내역서!L183 -> 0 | L134: =G134*K134 -> 0 | M134: =내역서!N183 -> 0 | N134: =G134*M134 -> 0 | O134: =IF((H134+K134+M134)=0, "", (H134+K134+M134)) | P134: =SUM(I134,L134,N134) -> 0
B135: 0204 | D135: 2-3.가로등접속함 | F135: 식 | G135: 1 | H135: =내역서!I190 -> 0 | I135: =G135*H135 -> 0 | K135: =내역서!L190 -> 0 | L135: =G135*K135 -> 0 | M135: =내역서!N190 -> 0 | N135: =G135*M135 -> 0 | O135: =IF((H135+K135+M135)=0, "", (H135+K135+M135)) | P135: =SUM(I135,L135,N135) -> 0
B136: 0205 | D136: 2-4.가로등기초 | F136: 식 | G136: 1 | H136: =내역서!I196 -> 0 | I136: =G136*H136 -> 0 | K136: =내역서!L196 -> 0 | L136: =G136*K136 -> 0 | M136: =내역서!N196 -> 0 | N136: =G136*M136 -> 0 | O136: =IF((H136+K136+M136)=0, "", (H136+K136+M136)) | P136: =SUM(I136,L136,N136) -> 0
B137: 0206 | D137: 2-5.조명기구 | F137: 식 | G137: 1 | H137: =내역서!I207 -> 0 | I137: =G137*H137 -> 0 | K137: =내역서!L207 -> 0 | L137: =G137*K137 -> 0 | M137: =내역서!N207 -> 0 | N137: =G137*M137 -> 0 | O137: =IF((H137+K137+M137)=0, "", (H137+K137+M137)) | P137: =SUM(I137,L137,N137) -> 0
B156: 02 | C156: Total | D156: ( 합 계 ) | I156: =TRUNC(SUM(I133:I155)) -> 0 | L156: =TRUNC(SUM(L132:L155)) -> 0 | N156: =TRUNC(SUM(N132:N155)) -> 0 | O156: =IF((H156+K156+M156)=0, "", (H156+K156+M156)) | P156: =TRUNC(SUM(P133:P155)) -> 0

Sheet 내역서
A1: 총줄수-> | B1: 497 | D1: [ CAV기반 미래모빌리티 자율주행 평가플랫폼 구축 증축공사 ] | W1: 노임 계산 정보 | AA1: 부속재 및 손료
A2: 번호 | B2: 공종코드 | C2: 코드 | D2: 명 칭 | E2: 규 격 | F2: 단위 | G2: 수량 | H2: 재료비 | J2: 노무비 | M2: 경비 | P2: 계 | Q2: 비고 | W2: 노임계 | X2: 전체(%) | Y2: 공종별(%) | Z2: 노임 소수 | AA2: CD배관재 | AB2: 일반배관재 | AC2: 소모재 | AD2: 자재계 | AE2: 노임계
H3: 단가 | I3: 금액 | J3: 수량 | K3: 단가 | L3: 금액 | M3: 단가 | N3: 금액 | O3: 단가 | AD3: =IF(옵션!$C$11 =0, "1", 옵션!$C$11) -> 1 | AE3: =IF(옵션!$C$12 =0, "1", 옵션!$C$12) -> 1
B4: 공종줄 | D4: 1.전기공사::1-1.워크샵::1-1-1.전력간선설비공사
A5: 56959000010 | B5: 010101 | C5: E56959000010 | D5: 나사없는전선관 | E5: E51 | F5: M | G5: 30 | Q5: 제 28호 | AC5: =G5*H5 -> 0
A6: 56959000011 | B6: 010101 | C6: E56959000011 | D6: 나사없는전선관 | E6: E75 | F6: M | G6: 9 | Q6: 제 29호 | AC6: =G6*H6 -> 0
A7: MMH99991018 | B7: 010101 | C7: 9999999991020018 | D7: 나사없는전선관 | E7: 노말밴드, E51 | F7: EA | G7: 1
A8: MMH99991020 | B8: 010101 | C8: 9999999991020020 | D8: 나사없는전선관 | E8: 노말밴드, E75 | F8: EA | G8: 1
A9: MMH99991011 | B9: 010101 | C9: 9999999991020011 | D9: 볼트고정식 이음쇠 | E9: 커플링 E51 | F9: EA | G9: 8
A10: MMH99991013 | B10: 010101 | C10: 9999999991020013 | D10: 볼트고정식 이음쇠 | E10: 커플링 E75 | F10: EA | G10: 2
A11: MMX99810004 | B11: 010101 | C11: 8974653100010164 | D11: 볼트고정식 이음쇠 | E11: 커넥터 E51 | F11: EA | G11: 6
A12: MMX99810006 | B12: 010101 | C12: 8974653100010166 | D12: 볼트고정식 이음쇠 | E12: 커넥터 E75 | F12: EA | G12: 6
A13: 5975E877205 | B13: 010101 | C13: E59754877205 | D13: 관로구방수장치 | E13: D125 | F13: 조 | G13: 4 | Q13: 제 32호
A14: 56951000004 | B14: 010101 | C14: EAU000000004 | D14: 새들(벽체) | E14: 42C | F14: 개소 | G14: 5 | Q14: 제 36호
A15: 56951000006 | B15: 010101 | C15: EAU000000006 | D15: 새들(벽체) | E15: 70C | F15: 개소 | G15: 5 | Q15: 제 37호
A16: 56951000204 | B16: 010101 | C16: EA1000000204 | D16: 파이프행가 | E16: 42 C | F16: 개소 | G16: 14 | Q16: 제 41호
A17: 5975D857031 | B17: 010101 | C17: E59753857031 | D17: 풀박스 | E17: 150×150×100 | F17: 개 | G17: 4 | Q17: 제 48호
A18: E145A927205 | B18: 010101 | C18: EE1450927205 | D18: 접지용비닐절연전선(F-GV) | E18: 16㎟ | F18: M | G18: 32 | Q18: 제 62호 | AC18: =G18*H18 -> 0
A19: E145A927206 | B19: 010101 | C19: EE1450927206 | D19: 접지용비닐절연전선(F-GV) | E19: 25㎟ | F19: M | G19: 11 | Q19: 제 63호 | AC19: =G19*H19 -> 0
A20: E145A927212 | B20: 010101 | C20: EE1450927212 | D20: 접지용비닐절연전선(F-GV) | E20: 95㎟ | F20: M | G20: 179 | Q20: 제 64호 | AC20: =G20*H20 -> 0
A21: ELD69111302 | B21: 010101 | C21: ELD691113002 | D21: 폴리에틸렌 난연케이블 | E21: F-CV 1C 50㎟ 4열동시1열당 | F21: M | G21: 42 | Q21: 제 67호
A22: ELE64111302 | B22: 010101 | C22: ELE641113002 | D22: 폴리에틸렌 난연케이블 | E22: F-CV 1C 150㎟ 4열동시1열당 | F22: M | G22: 714 | Q22: 제 68호
A23: E145A287566 | B23: 010101 | C23: EE1450287566 | D23: 폴리에틸렌 난연케이블 | E23: 0.6/1kv F-CV 4C×25㎟ | F23: M | G23: 32 | Q23: 제 76호 | AC23: =G23*H23 -> 0
A24: E940A177028 | B24: 010101 | C24: EE9400177028 | D24: 러그단자 | E24: 동관단자 2 HOLE 150 ㎟ | F24: 개 | G24: 8 | Q24: 제 77호
A25: E940A267007 | B25: 010101 | C25: EE9400267007 | D25: 압착단자 | E25: R형동선 나압착 25 ㎟ | F25: 개 | G25: 8 | Q25: 제 79호
A26: E940A267009 | B26: 010101 | C26: EE9400267009 | D26: 압착단자 | E26: R형동선 나압착 50 ㎟ | F26: 개 | G26: 8 | Q26: 제 81호
A27: 56959000004 | B27: 010101 | C27: E56959000004 | D27: 러그단자(접지) | E27: 동관단자 2 HOLE 95 ㎟ | F27: 개 | G27: 2 | Q27: 제 82호
A28: 56959000005 | B28: 010101 | C28: E56959000005 | D28: 압착단자(접지) | E28: R형동선 나압착 16 ㎟ | F28: 개 | G28: 2 | Q28: 제 83호
A29: 56959000006 | B29: 010101 | C29: E56959000006 | D29: 압착단자(접지) | E29: R형동선 나압착 25 ㎟ | F29: 개 | G29: 2 | Q29: 제 84호
A30: 5925A327174 | B30: 010101 | C30: E59250327174 | D30: 배선용 차단기 | E30: 표준형, 4P 600V 225AF | F30: 대 | G30: 1 | Q30: 제 91호
A31: 56959000021 | B31: 010101 | C31: E56959000021 | D31: 분전반 | E31: LW-1 | F31: 면 | G31: 1 | Q31: 제 103호
A32: 56959000022 | B32: 010101 | C32: E56959000022 | D32: 분전반 | E32: LW-1A | F32: 면 | G32: 1 | Q32: 제 104호
A33: 56959000023 | B33: 010101 | C33: E56959000023 | D33: 분전반 | E33: LW-2 | F33: 면 | G33: 1 | Q33: 제 105호
A34: 56959000012 | B34: 010101 | C34: E56959000012 | D34: 배선용 차단기(철거) | E34: 4P 600V 225AF | F34: 대 | G34: 1 | Q34: 제 108호
B37: 합계줄 | D37: ( 합 계 )
B38: 공종줄 | D38: 1.전기공사::1-1.워크샵::1-1-2.전등설비공사
A39: 56959000001 | B39: 010102 | C39: E56959000001 | D39: 1종금속제가요전선관 | E39: 16 mm 고장력-비방수 | F39: M | G39: 57 | Q39: 제 23호 | AC39: =G39*H39 -> 0
A40: 59753017043 | B40: 010102 | C40: 3913170620174434 | D40: 1종금속제가요전선관 | E40: 커넥터, 16 mm 일반-비방수 | F40: 개 | G40: 68
A41: 56959000007 | B41: 010102 | C41: E56959000007 | D41: 나사없는전선관 | E41: E19 | F41: M | G41: 233 | Q41: 제 25호 | AC41: =G41*H41 -> 0
A42: 56959000008 | B42: 010102 | C42: E56959000008 | D42: 나사없는전선관 | E42: E25 | F42: M | G42: 21 | Q42: 제 26호 | AC42: =G42*H42 -> 0
...

Sheet 일대목차
B1: 133 | C1: [ CAV기반 미래모빌리티 자율주행 평가플랫폼 구축 증축공사 ] - 일위대가목차
A2: 번호 | B2: … | C2: 코드 | D2: 명 칭 | E2: 규 격 | F2: 단위 | G2: 수량 | H2: 재료비 | J2: 노무비 | M2: 경비 | O2: 계 | P2: 계 | Q2: 비고
H3: 단가 | I3: 금액 | J3: 수량 | K3: 단가 | L3: 금액 | M3: 단가 | N3: 금액 | O3: 단가
A4: 56951002800 | B4: EA1000002800 | C4: 제 1호 | D4: 인력터파기 | E4: 보통토사0-1m | F4: ㎥_ | H4: =일위대가!I6 -> 0 | I4: =H4 -> 0 | K4: =일위대가!L6 -> 33109 | L4: =K4 -> 33109 | M4: =일위대가!N6 -> 0 | N4: =M4 -> 0 | O4: =IF((H4+K4+M4)=0, "", (H4+K4+M4)) -> 33109 | P4: =SUM(I4,L4,N4) -> 33109
A5: 56951002811 | B5: EA1000002811 | C5: 제 2호 | D5: 인력되메우기 | E5: 보통토사0-1m | F5: ㎥_ | H5: =일위대가!I10 -> 0 | I5: =H5 -> 0 | K5: =일위대가!L10 -> 18209 | L5: =K5 -> 18209 | M5: =일위대가!N10 -> 0 | N5: =M5 -> 0 | O5: =IF((H5+K5+M5)=0, "", (H5+K5+M5)) -> 18209 | P5: =SUM(I5,L5,N5) -> 18209
A6: 56951002807 | B6: EA1000002807 | C6: 제 3호 | D6: 터파기(기계90%,인력10%) | E6: 보통토사 | F6: ㎥ | H6: =일위대가!I15 -> 465 | I6: =H6 -> 465 | K6: =일위대가!L15 -> 4298 | L6: =K6 -> 4298 | M6: =일위대가!N15 -> 431 | N6: =M6 -> 431 | O6: =IF((H6+K6+M6)=0, "", (H6+K6+M6)) -> 5194 | P6: =SUM(I6,L6,N6) -> 5194
A7: 56951002810 | B7: EA1000002810 | C7: 제 4호 | D7: 되메우기(기계90%,인력10%) | E7: 보통토사 | F7: ㎥ | H7: =일위대가!I20 -> 465 | I7: =H7 -> 465 | K7: =일위대가!L20 -> 2808 | L7: =K7 -> 2808 | M7: =일위대가!N20 -> 431 | N7: =M7 -> 431 | O7: =IF((H7+K7+M7)=0, "", (H7+K7+M7)) -> 3704 | P7: =SUM(I7,L7,N7) -> 3704
A8: 5975F057152 | B8: E59755057152 | C8: 제 5호 | D8: 지중선용 가선철물(저압) | E8: 케이블표지시트, 0.15x150 | F8: m | H8: =일위대가!I27 -> 97 | I8: =H8 -> 97 | K8: =일위대가!L27 -> 313 | L8: =K8 -> 313 | M8: =일위대가!N27 -> 0 | N8: =M8 -> 0 | O8: =IF((H8+K8+M8)=0, "", (H8+K8+M8)) -> 410 | P8: =SUM(I8,L8,N8) -> 410
A9: 56951002815 | B9: EA1000002815 | C9: 제 6호 | D9: 현장내잔토처리 | E9: 소운반.고르기 | F9: ㎥_ | H9: =일위대가!I31 -> 0 | I9: =H9 -> 0 | K9: =일위대가!L31 -> 33109 | L9: =K9 -> 33109 | M9: =일위대가!N31 -> 0 | N9: =M9 -> 0 | O9: =IF((H9+K9+M9)=0, "", (H9+K9+M9)) -> 33109 | P9: =SUM(I9,L9,N9) -> 33109
A10: 56951002821 | B10: EA1000002821 | C10: 제 7호 | D10: 잡석깔기지정 | E10: 떨공이다지기 | F10: ㎥ | H10: =일위대가!I36 -> 89 | I10: =H10 -> 89 | K10: =일위대가!L36 -> 2979 | L10: =K10 -> 2979 | M10: =일위대가!N36 -> 0 | N10: =M10 -> 0 | O10: =IF((H10+K10+M10)=0, "", (H10+K10+M10)) -> 3068 | P10: =SUM(I10,L10,N10) -> 3068
A11: 56951001408 | B11: EA1000001408 | C11: 제 8호 | D11: 맨 홀 | E11: 1000x1000x1000 | F11: 개소 | H11: =일위대가!I56 -> 691174 | I11: =H11 -> 691174 | K11: =일위대가!L56 -> 868912 | L11: =K11 -> 868912 | M11: =일위대가!N56 -> 49982 | N11: =M11 -> 49982 | O11: =IF((H11+K11+M11)=0, "", (H11+K11+M11)) -> 1610068 | P11: =SUM(I11,L11,N11) -> 1610068
A12: 56951001410 | B12: EA1000001410 | C12: 제 9호 | D12: 맨 홀 | E12: 1500x1500x1500 | F12: 개소 | H12: =일위대가!I76 -> 926917 | I12: =H12 -> 926917 | K12: =일위대가!L76 -> 1024504 | L12: =K12 -> 1024504 | M12: =일위대가!N76 -> 64560 | N12: =M12 -> 64560 | O12: =IF((H12+K12+M12)=0, "", (H12+K12+M12)) -> 2015981 | P12: =SUM(I12,L12,N12) -> 2015981
A13: 56951002900 | B13: EA1000002900 | C13: 제 10호 | D13: 아스팔트 포장 컷팅 | E13: 터파기 별도 계상 | F13: m | H13: =일위대가!I82 -> 618 | I13: =H13 -> 618 | K13: =일위대가!L82 -> 1258 | L13: =K13 -> 1258 | M13: =일위대가!N82 -> 0 | N13: =M13 -> 0 | O13: =IF((H13+K13+M13)=0, "", (H13+K13+M13)) -> 1876 | P13: =SUM(I13,L13,N13) -> 1876
A14: 56951002902 | B14: EA1000002902 | C14: 제 11호 | D14: 아스팔트 포장 파괴 | E14: 터파기 별도 계상 | F14: ㎡ | H14: =일위대가!I87 -> 9768 | I14: =H14 -> 9768 | K14: =일위대가!L87 -> 325617 | L14: =K14 -> 325617 | M14: =일위대가!N87 -> 0 | N14: =M14 -> 0 | O14: =IF((H14+K14+M14)=0, "", (H14+K14+M14)) -> 335385 | P14: =SUM(I14,L14,N14) -> 335385
A15: 56951005200 | B15: EA1000005200 | C15: 제 12호 | D15: 아스콘 포장 | E15: 소규모(표층) | F15: ㎡ | H15: =일위대가!I97 -> 693 | I15: =H15 -> 693 | K15: =일위대가!L97 -> 6185 | L15: =K15 -> 6185 | M15: =일위대가!N97 -> 354 | N15: =M15 -> 354 | O15: =IF((H15+K15+M15)=0, "", (H15+K15+M15)) -> 7232 | P15: =SUM(I15,L15,N15) -> 7232
A16: 56951005201 | B16: EA1000005201 | C16: 제 13호 | D16: 아스콘 포장 | E16: 소규모(기층) | F16: ㎡ | H16: =일위대가!I107 -> 650 | I16: =H16 -> 650 | K16: =일위대가!L107 -> 5801 | L16: =K16 -> 5801 | M16: =일위대가!N107 -> 332 | N16: =M16 -> 332 | O16: =IF((H16+K16+M16)=0, "", (H16+K16+M16)) -> 6783 | P16: =SUM(I16,L16,N16) -> 6783
A17: 56951002905 | B17: EA1000002905 | C17: 제 14호 | D17: 폐기물처리(아스팔트) | E17: 30km이하 | F17: ton | H17: =일위대가!I113 -> 49998 | I17: =H17 -> 49998 | K17: =일위대가!L113 -> 0 | L17: =K17 -> 0 | M17: =일위대가!N113 -> 0 | N17: =M17 -> 0 | O17: =IF((H17+K17+M17)=0, "", (H17+K17+M17)) -> 49998 | P17: =SUM(I17,L17,N17) -> 49998
A18: 5975D067012 | B18: E59753067012 | C18: 제 15호 | D18: 폴리에틸렌 전선관(지중) | E18: PE 16㎜ | F18: M | H18: =일위대가!I123 -> 434 | I18: =H18 -> 434 | K18: =일위대가!L123 -> 3996 | L18: =K18 -> 3996 | M18: =일위대가!N123 -> 0 | N18: =M18 -> 0 | O18: =IF((H18+K18+M18)=0, "", (H18+K18+M18)) -> 4430 | P18: =SUM(I18,L18,N18) -> 4430
A19: 5975D068016 | B19: E59753068016 | C19: 제 16호 | D19: 폴리에틸렌 전선관(지중) | E19: PE 42㎜(가로등, 구내) | F19: M | H19: =일위대가!I133 -> 1344 | I19: =H19 -> 1344 | K19: =일위대가!L133 -> 8691 | L19: =K19 -> 8691 | M19: =일위대가!N133 -> 0 | N19: =M19 -> 0 | O19: =IF((H19+K19+M19)=0, "", (H19+K19+M19)) -> 10035 | P19: =SUM(I19,L19,N19) -> 10035
A20: 5975D068017 | B20: E59753068017 | C20: 제 17호 | D20: 폴리에틸렌 전선관(지중) | E20: PE 54㎜(가로등, 구내) | F20: M | H20: =일위대가!I143 -> 2024 | I20: =H20 -> 2024 | K20: =일위대가!L143 -> 8691 | L20: =K20 -> 8691 | M20: =일위대가!N143 -> 0 | N20: =M20 -> 0 | O20: =IF((H20+K20+M20)=0, "", (H20+K20+M20)) -> 10715 | P20: =SUM(I20,L20,N20) -> 10715
A21: 5975D077001 | B21: E59753077001 | C21: 제 18호 | D21: 파상형 폴리에틸렌 전선관 | E21: 30㎜(가로등,신호,구내) | F21: M | H21: =일위대가!I153 -> 624 | I21: =H21 -> 624 | K21: =일위대가!L153 -> 7095 | L21: =K21 -> 7095 | M21: =일위대가!N153 -> 0 | N21: =M21 -> 0 | O21: =IF((H21+K21+M21)=0, "", (H21+K21+M21)) -> 7719 | P21: =SUM(I21,L21,N21) -> 7719
A22: 5975D077002 | B22: E59753077002 | C22: 제 19호 | D22: 파상형 폴리에틸렌 전선관 | E22: 40㎜(가로등,신호,구내) | F22: M | H22: =일위대가!I163 -> 888 | I22: =H22 -> 888 | K22: =일위대가!L163 -> 8691 | L22: =K22 -> 8691 | M22: =일위대가!N163 -> 0 | N22: =M22 -> 0 | O22: =IF((H22+K22+M22)=0, "", (H22+K22+M22)) -> 9579 | P22: =SUM(I22,L22,N22) -> 9579
A23: 5975D178001 | B23: E59753178001 | C23: 제 20호 | D23: 파상형 폴리에틸렌 전선관 | E23: 30㎜ | F23: M | H23: =일위대가!I173 -> 553 | I23: =H23 -> 553 | K23: =일위대가!L173 -> 4730 | L23: =K23 -> 4730 | M23: =일위대가!N173 -> 0 | N23: =M23 -> 0 | O23: =IF((H23+K23+M23)=0, "", (H23+K23+M23)) -> 5283 | P23: =SUM(I23,L23,N23) -> 5283
A24: 5975D178003 | B24: E59753178003 | C24: 제 21호 | D24: 파상형 폴리에틸렌 전선관 | E24: 50㎜ | F24: M | H24: =일위대가!I183 -> 989 | I24: =H24 -> 989 | K24: =일위대가!L183 -> 5794 | L24: =K24 -> 5794 | M24: =일위대가!N183 -> 0 | N24: =M24 -> 0 | O24: =IF((H24+K24+M24)=0, "", (H24+K24+M24)) -> 6783 | P24: =SUM(I24,L24,N24) -> 6783
A25: EKB54521002 | B25: EKB545210002 | C25: 제 22호 | D25: 파상형 폴리에틸렌 전선관 | E25: 125mm, 2열동시1열당(가로등) | F25: m | H25: =일위대가!I193 -> 3937 | I25: =H25 -> 3937 | K25: =일위대가!L193 -> 19412 | L25: =K25 -> 19412 | M25: =일위대가!N193 -> 0 | N25: =M25 -> 0 | O25: =IF((H25+K25+M25)=0, "", (H25+K25+M25)) -> 23349 | P25: =SUM(I25,L25,N25) -> 23349
A26: 56959000001 | B26: E56959000001 | C26: 제 23호 | D26: 1종금속제가요전선관 | E26: 16 mm 고장력-비방수 | F26: M | H26: =일위대가!I201 -> 1037 | I26: =H26 -> 1037 | K26: =일위대가!L201 -> 14269 | L26: =K26 -> 14269 | M26: =일위대가!N201 -> 0 | N26: =M26 -> 0 | O26: =IF((H26+K26+M26)=0, "", (H26+K26+M26)) -> 15306 | P26: =SUM(I26,L26,N26) -> 15306
A27: 56959000002 | B27: E56959000002 | C27: 제 24호 | D27: 1종금속제가요전선관 | E27: 28 mm 고장력-방수 | F27: M | H27: =일위대가!I209 -> 3256 | I27: =H27 -> 3256 | K27: =일위대가!L209 -> 23349 | L27: =K27 -> 23349 | M27: =일위대가!N209 -> 0 | N27: =M27 -> 0 | O27: =IF((H27+K27+M27)=0, "", (H27+K27+M27)) -> 26605 | P27: =SUM(I27,L27,N27) -> 26605
A28: 56959000007 | B28: E56959000007 | C28: 제 25호 | D28: 나사없는전선관 | E28: E19 | F28: M | H28: =일위대가!I217 -> 2765 | I28: =H28 -> 2765 | K28: =일위대가!L217 -> 13512 | L28: =K28 -> 13512 | M28: =일위대가!N217 -> 0 | N28: =M28 -> 0 | O28: =IF((H28+K28+M28)=0, "", (H28+K28+M28)) -> 16277 | P28: =SUM(I28,L28,N28) -> 16277
A29: 56959000008 | B29: E56959000008 | C29: 제 26호 | D29: 나사없는전선관 | E29: E25 | F29: M | H29: =일위대가!I225 -> 3677 | I29: =H29 -> 3677 | K29: =일위대가!L225 -> 16215 | L29: =K29 -> 16215 | M29: =일위대가!N225 -> 0 | N29: =M29 -> 0 | O29: =IF((H29+K29+M29)=0, "", (H29+K29+M29)) -> 19892 | P29: =SUM(I29,L29,N29) -> 19892
A30: 56959000009 | B30: E56959000009 | C30: 제 27호 | D30: 나사없는전선관 | E30: E31 | F30: M | H30: =일위대가!I233 -> 5005 | I30: =H30 -> 5005 | K30: =일위대가!L233 -> 21620 | L30: =K30 -> 21620 | M30: =일위대가!N233 -> 0 | N30: =M30 -> 0 | O30: =IF((H30+K30+M30)=0, "", (H30+K30+M30)) -> 26625 | P30: =SUM(I30,L30,N30) -> 26625
A31: 56959000010 | B31: E56959000010 | C31: 제 28호 | D31: 나사없는전선관 | E31: E51 | F31: M | H31: =일위대가!I241 -> 8200 | I31: =H31 -> 8200 | K31: =일위대가!L241 -> 35132 | L31: =K31 -> 35132 | M31: =일위대가!N241 -> 0 | N31: =M31 -> 0 | O31: =IF((H31+K31+M31)=0, "", (H31+K31+M31)) -> 43332 | P31: =SUM(I31,L31,N31) -> 43332
A32: 56959000011 | B32: E56959000011 | C32: 제 29호 | D32: 나사없는전선관 | E32: E75 | F32: M | H32: =일위대가!I249 -> 15179 | I32: =H32 -> 15179 | K32: =일위대가!L249 -> 75670 | L32: =K32 -> 75670 | M32: =일위대가!N249 -> 0 | N32: =M32 -> 0 | O32: =IF((H32+K32+M32)=0, "", (H32+K32+M32)) -> 90849 | P32: =SUM(I32,L32,N32) -> 90849
A33: 5975E877200 | B33: E59754877200 | C33: 제 30호 | D33: 관로구방수장치 | E33: D30 | F33: 조 | H33: =일위대가!I256 -> 13558 | I33: =H33 -> 13558 | K33: =일위대가!L256 -> 26964 | L33: =K33 -> 26964 | M33: =일위대가!N256 -> 0 | N33: =M33 -> 0 | O33: =IF((H33+K33+M33)=0, "", (H33+K33+M33)) -> 40522 | P33: =SUM(I33,L33,N33) -> 40522
A34: 5975E877201 | B34: E59754877201 | C34: 제 31호 | D34: 관로구방수장치 | E34: D50 | F34: 조 | H34: =일위대가!I263 -> 15658 | I34: =H34 -> 15658 | K34: =일위대가!L263 -> 26964 | L34: =K34 -> 26964 | M34: =일위대가!N263 -> 0 | N34: =M34 -> 0 | O34: =IF((H34+K34+M34)=0, "", (H34+K34+M34)) -> 42622 | P34: =SUM(I34,L34,N34) -> 42622
A35: 5975E877205 | B35: E59754877205 | C35: 제 32호 | D35: 관로구방수장치 | E35: D125 | F35: 조 | H35: =일위대가!I270 -> 34682 | I35: =H35 -> 34682 | K35: =일위대가!L270 -> 31092 | L35: =K35 -> 31092 | M35: =일위대가!N270 -> 0 | N35: =M35 -> 0 | O35: =IF((H35+K35+M35)=0, "", (H35+K35+M35)) -> 65774 | P35: =SUM(I35,L35,N35) -> 65774
A36: 56951000000 | B36: EAU000000000 | C36: 제 33호 | D36: 새들(벽체) | E36: 16C | F36: 개소 | H36: =일위대가!I276 -> 233 | I36: =H36 -> 233 | K36: =일위대가!L276 -> 4864 | L36: =K36 -> 4864 | M36: =일위대가!N276 -> 0 | N36: =M36 -> 0 | O36: =IF((H36+K36+M36)=0, "", (H36+K36+M36)) -> 5097 | P36: =SUM(I36,L36,N36) -> 5097
A37: 56951000001 | B37: EAU000000001 | C37: 제 34호 | D37: 새들(벽체) | E37: 22C | F37: 개소 | H37: =일위대가!I282 -> 238 | I37: =H37 -> 238 | K37: =일위대가!L282 -> 4864 | L37: =K37 -> 4864 | M37: =일위대가!N282 -> 0 | N37: =M37 -> 0 | O37: =IF((H37+K37+M37)=0, "", (H37+K37+M37)) -> 5102 | P37: =SUM(I37,L37,N37) -> 5102
A38: 56951000002 | B38: EAU000000002 | C38: 제 35호 | D38: 새들(벽체) | E38: 28C | F38: 개소 | H38: =일위대가!I288 -> 269 | I38: =H38 -> 269 | K38: =일위대가!L288 -> 4864 | L38: =K38 -> 4864 | M38: =일위대가!N288 -> 0 | N38: =M38 -> 0 | O38: =IF((H38+K38+M38)=0, "", (H38+K38+M38)) -> 5133 | P38: =SUM(I38,L38,N38) -> 5133
A39: 56951000004 | B39: EAU000000004 | C39: 제 36호 | D39: 새들(벽체) | E39: 42C | F39: 개소 | H39: =일위대가!I294 -> 320 | I39: =H39 -> 320 | K39: =일위대가!L294 -> 4864 | L39: =K39 -> 4864 | M39: =일위대가!N294 -> 0 | N39: =M39 -> 0 | O39: =IF((H39+K39+M39)=0, "", (H39+K39+M39)) -> 5184 | P39: =SUM(I39,L39,N39) -> 5184
A40: 56951000006 | B40: EAU000000006 | C40: 제 37호 | D40: 새들(벽체) | E40: 70C | F40: 개소 | H40: =일위대가!I300 -> 732 | I40: =H40 -> 732 | K40: =일위대가!L300 -> 4864 | L40: =K40 -> 4864 | M40: =일위대가!N300 -> 0 | N40: =M40 -> 0 | O40: =IF((H40+K40+M40)=0, "", (H40+K40+M40)) -> 5596 | P40: =SUM(I40,L40,N40) -> 5596
...

Sheet 일위대가
B1: 835 | D1: [ CAV기반 미래모빌리티 자율주행 평가플랫폼 구축 증축공사 ] - 일위대가표 | W1: 노임 계산 정보 | AA1: 부속재 및 손료
A2: 번호 | B2: 목차코드 | C2: 코드 | D2: 명 칭 | E2: 규 격 | F2: 단위 | G2: 수량 | H2: 재료비 | J2: 노무비 | M2: 경비 | P2: 계 | Q2: 비고 | W2: 노임계 | X2: 전체(%) | Y2: 공종별(%) | Z2: 노임 소수 | AA2: CD배관재 | AB2: 일반배관재 | AC2: 소모재 | AD2: 자재계 | AE2: 노임계
H3: 단가 | I3: 금액 | J3: 수량 | K3: 단가 | L3: 금액 | M3: 단가 | N3: 금액 | O3: 단가 | AD3: 1 | AE3: 1
A4: 56951002800 | B4: 일목줄 | C4: EA1000002800 | D4: [제 1호] 인력터파기 보통토사0-1m [㎥_]
A5: 56900017041 | B5: 제 1호 | C5: L001010101000002 | D5: 노 무 비 | E5: 보통인부 | F5: 인 | G5: =일위노임!G6 -> 0.2 | H5: =합산자재!H169 -> 0 | I5: =IF(G5*H5<>0, TRUNC(G5*H5, 1), "") | J5: 0.2 | K5: =합산자재!I169 -> 165545 | L5: =IF(G5*K5<>0, TRUNC(G5*K5, 1), "") -> 33109 | M5: =합산자재!J169 -> 0 | N5: =IF(G5*M5<>0, TRUNC(G5*M5, 1), "") | O5: =IF((H5+K5+M5)=0, "", (H5+K5+M5)) -> 165545 | P5: =IF(SUM(I5,L5,N5)<>0,SUM(I5,L5,N5),"") -> 33109 | AE5: =L5 -> 33109
B6: 합계줄 | D6: ( 합 계 ) | I6: =TRUNC(SUM(I4:I5)) -> 0 | L6: =TRUNC(SUM(L4:L5)) -> 33109 | N6: =TRUNC(SUM(N4:N5)) -> 0 | O6: =IF((H6+K6+M6)=0, "", (H6+K6+M6)) | P6: =IF(SUM(I6,L6,N6)<>0,SUM(I6,L6,N6),"") -> 33109 | AE6: =TRUNC(SUM(AE4:AE5)) -> 33109
A8: 56951002811 | B8: 일목줄 | C8: EA1000002811 | D8: [제 2호] 인력되메우기 보통토사0-1m [㎥_]
A9: 56900017041 | B9: 제 2호 | C9: L001010101000002 | D9: 노 무 비 | E9: 보통인부 | F9: 인 | G9: =일위노임!G9 -> 0.11 | H9: =합산자재!H169 -> 0 | I9: =IF(G9*H9<>0, TRUNC(G9*H9, 1), "") | J9: 0.11 | K9: =합산자재!I169 -> 165545 | L9: =IF(G9*K9<>0, TRUNC(G9*K9, 1), "") -> 18209.9 | M9: =합산자재!J169 -> 0 | N9: =IF(G9*M9<>0, TRUNC(G9*M9, 1), "") | O9: =IF((H9+K9+M9)=0, "", (H9+K9+M9)) -> 165545 | P9: =IF(SUM(I9,L9,N9)<>0,SUM(I9,L9,N9),"") -> 18209.9 | AE9: =L9 -> 18209.9
B10: 합계줄 | D10: ( 합 계 ) | I10: =TRUNC(SUM(I8:I9)) -> 0 | L10: =TRUNC(SUM(L8:L9)) -> 18209 | N10: =TRUNC(SUM(N8:N9)) -> 0 | O10: =IF((H10+K10+M10)=0, "", (H10+K10+M10)) | P10: =IF(SUM(I10,L10,N10)<>0,SUM(I10,L10,N10),"") -> 18209 | AE10: =TRUNC(SUM(AE8:AE9)) -> 18209
A12: 56951002807 | B12: 일목줄 | C12: EA1000002807 | D12: [제 3호] 터파기(기계90%,인력10%) 보통토사 [㎥]
A13: 56951002800 | B13: 제 3호 | C13: EA1000002800 | D13: 인력터파기 | E13: 보통토사0-1m | F13: ㎥_ | G13: 0.1 | H13: =일대목차!H4 -> 0 | I13: =IF(G13*H13<>0, TRUNC(G13*H13, 1), "") | J13: 0.1 | K13: =일대목차!K4 -> 33109 | L13: =IF(G13*K13<>0, TRUNC(G13*K13, 1), "") -> 3310.9 | M13: =일대목차!M4 -> 0 | N13: =IF(G13*M13<>0, TRUNC(G13*M13, 1), "") | O13: =IF((H13+K13+M13)=0, "", (H13+K13+M13)) -> 33109 | P13: =IF(SUM(I13,L13,N13)<>0,SUM(I13,L13,N13),"") -> 3310.9 | Q13: 제 1호 | R13: ILD
A14: CA565826042 | B14: 제 3호 | C14: ECA565826042 | D14: 기계터파기 | E14: 보통토사(0.6㎥/43.6) | F14: ㎥ | G14: 0.9 | H14: =합산자재!H159 -> 517 | I14: =IF(G14*H14<>0, TRUNC(G14*H14, 1), "") -> 465.3 | J14: 0.9 | K14: =합산자재!I159 -> 1097 | L14: =IF(G14*K14<>0, TRUNC(G14*K14, 1), "") -> 987.3 | M14: =합산자재!J159 -> 479 | N14: =IF(G14*M14<>0, TRUNC(G14*M14, 1), "") -> 431.1 | O14: =IF((H14+K14+M14)=0, "", (H14+K14+M14)) -> 2093 | P14: =IF(SUM(I14,L14,N14)<>0,SUM(I14,L14,N14),"") -> 1883.7 | Q14: 166-하 | R14: ild
B15: 합계줄 | D15: ( 합 계 ) | I15: =TRUNC(SUM(I12:I14)) -> 465 | L15: =TRUNC(SUM(L12:L14)) -> 4298 | N15: =TRUNC(SUM(N12:N14)) -> 431 | O15: =IF((H15+K15+M15)=0, "", (H15+K15+M15)) | P15: =IF(SUM(I15,L15,N15)<>0,SUM(I15,L15,N15),"") -> 5194 | AE15: =TRUNC(SUM(AE12:AE14)) -> 0
A17: 56951002810 | B17: 일목줄 | C17: EA1000002810 | D17: [제 4호] 되메우기(기계90%,인력10%) 보통토사 [㎥]
A18: 56951002811 | B18: 제 4호 | C18: EA1000002811 | D18: 인력되메우기 | E18: 보통토사0-1m | F18: ㎥_ | G18: 0.1 | H18: =일대목차!H5 -> 0 | I18: =IF(G18*H18<>0, TRUNC(G18*H18, 1), "") | J18: 0.1 | K18: =일대목차!K5 -> 18209 | L18: =IF(G18*K18<>0, TRUNC(G18*K18, 1), "") -> 1820.9 | M18: =일대목차!M5 -> 0 | N18: =IF(G18*M18<>0, TRUNC(G18*M18, 1), "") | O18: =IF((H18+K18+M18)=0, "", (H18+K18+M18)) -> 18209 | P18: =IF(SUM(I18,L18,N18)<>0,SUM(I18,L18,N18),"") -> 1820.9 | Q18: 제 2호 | R18: ILD
A19: CA565826051 | B19: 제 4호 | C19: ECA565826051 | D19: 기계되메우기 | E19: 보통토사(0.6㎥/43.6) | F19: ㎥ | G19: 0.9 | H19: =합산자재!H160 -> 517 | I19: =IF(G19*H19<>0, TRUNC(G19*H19, 1), "") -> 465.3 | J19: 0.9 | K19: =합산자재!I160 -> 1097 | L19: =IF(G19*K19<>0, TRUNC(G19*K19, 1), "") -> 987.3 | M19: =합산자재!J160 -> 479 | N19: =IF(G19*M19<>0, TRUNC(G19*M19, 1), "") -> 431.1 | O19: =IF((H19+K19+M19)=0, "", (H19+K19+M19)) -> 2093 | P19: =IF(SUM(I19,L19,N19)<>0,SUM(I19,L19,N19),"") -> 1883.7 | Q19: 166-하 | R19: ild
B20: 합계줄 | D20: ( 합 계 ) | I20: =TRUNC(SUM(I17:I19)) -> 465 | L20: =TRUNC(SUM(L17:L19)) -> 2808 | N20: =TRUNC(SUM(N17:N19)) -> 431 | O20: =IF((H20+K20+M20)=0, "", (H20+K20+M20)) | P20: =IF(SUM(I20,L20,N20)<>0,SUM(I20,L20,N20),"") -> 3704 | AE20: =TRUNC(SUM(AE17:AE19)) -> 0
A22: 5975F057152 | B22: 일목줄 | C22: E59755057152 | D22: [제 5호] 지중선용 가선철물(저압) 케이블표지시트, 0.15x150 [m]
A23: 59755057152 | B23: 제 5호 | C23: 3912219520175619 | D23: 지중선용 가선철물(저압) | E23: 케이블표지시트, 0.15x150 | F23: M | G23: 1 | H23: =합산자재!H89 -> 88 | I23: =IF(G23*H23<>0, TRUNC(G23*H23, 1), "") -> 88 | J23: 1 | K23: =합산자재!I89 -> 0 | L23: =IF(G23*K23<>0, TRUNC(G23*K23, 1), "") | M23: =합산자재!J89 -> 0 | N23: =IF(G23*M23<>0, TRUNC(G23*M23, 1), "") | O23: =IF((H23+K23+M23)=0, "", (H23+K23+M23)) -> 88 | P23: =IF(SUM(I23,L23,N23)<>0,SUM(I23,L23,N23),"") -> 88
A24: 56900017076 | B24: 제 5호 | C24: L001010101000078 | D24: 노 무 비 | E24: 저압케이블전공 | F24: 인 | G24: =일위노임!G13 -> 0.0005 | H24: =합산자재!H166 -> 0 | I24: =IF(G24*H24<>0, TRUNC(G24*H24, 1), "") | J24: 0.0005 | K24: =합산자재!I166 -> 295784 | L24: =IF(G24*K24<>0, TRUNC(G24*K24, 1), "") -> 147.8 | M24: =합산자재!J166 -> 0 | N24: =IF(G24*M24<>0, TRUNC(G24*M24, 1), "") | O24: =IF((H24+K24+M24)=0, "", (H24+K24+M24)) -> 295784 | P24: =IF(SUM(I24,L24,N24)<>0,SUM(I24,L24,N24),"") -> 147.8 | AE24: =L24 -> 147.8
A25: 56900017041 | B25: 제 5호 | C25: L001010101000002 | D25: 노 무 비 | E25: 보통인부 | F25: 인 | G25: =일위노임!G14 -> 0.001 | H25: =합산자재!H169 -> 0 | I25: =IF(G25*H25<>0, TRUNC(G25*H25, 1), "") | J25: 0.001 | K25: =합산자재!I169 -> 165545 | L25: =IF(G25*K25<>0, TRUNC(G25*K25, 1), "") -> 165.5 | M25: =합산자재!J169 -> 0 | N25: =IF(G25*M25<>0, TRUNC(G25*M25, 1), "") | O25: =IF((H25+K25+M25)=0, "", (H25+K25+M25)) -> 165545 | P25: =IF(SUM(I25,L25,N25)<>0,SUM(I25,L25,N25),"") -> 165.5 | AE25: =L25 -> 165.5
A26: A0300000000 | B26: 제 5호 | C26: RENT000000000006 | D26: [ 공 구 손 료 ] | E26: 노무비의 3 % | F26: 식 | G26: 1 | H26: =IF(TRUNC((AD27+AC27)/$AE$3,1)*$AE$3-AD27 <0, AC27, TRUNC((AD27+AC27)/$AE$3,1)*$AE$3-AD27) -> 9.3 | I26: =H26 -> 9.3 | J26: 1 | L26: =IF(G26*K26<>0, TRUNC(G26*K26, 1), "") | N26: =IF(G26*M26<>0, TRUNC(G26*M26, 1), "") | O26: =IF((H26+K26+M26)=0, "", (H26+K26+M26)) -> 9.3 | P26: =IF(SUM(I26,L26,N26)<>0,SUM(I26,L26,N26),"") -> 9.3
B27: 합계줄 | D27: ( 합 계 ) | I27: =TRUNC(SUM(I22:I26)) -> 97 | L27: =TRUNC(SUM(L22:L26)) -> 313 | N27: =TRUNC(SUM(N22:N26)) -> 0 | O27: =IF((H27+K27+M27)=0, "", (H27+K27+M27)) | P27: =IF(SUM(I27,L27,N27)<>0,SUM(I27,L27,N27),"") -> 410 | AC27: =TRUNC(AE27*옵션!$B$36/100,1) -> 9.3 | AD27: =TRUNC(SUM(L22:L25)) -> 313 | AE27: =TRUNC(SUM(AE22:AE26)) -> 313
A29: 56951002815 | B29: 일목줄 | C29: EA1000002815 | D29: [제 6호] 현장내잔토처리 소운반.고르기 [㎥_]
A30: 56900017041 | B30: 제 6호 | C30: L001010101000002 | D30: 노 무 비 | E30: 보통인부 | F30: 인 | G30: =일위노임!G17 -> 0.2 | H30: =합산자재!H169 -> 0 | I30: =IF(G30*H30<>0, TRUNC(G30*H30, 1), "") | J30: 0.2 | K30: =합산자재!I169 -> 165545 | L30: =IF(G30*K30<>0, TRUNC(G30*K30, 1), "") -> 33109 | M30: =합산자재!J169 -> 0 | N30: =IF(G30*M30<>0, TRUNC(G30*M30, 1), "") | O30: =IF((H30+K30+M30)=0, "", (H30+K30+M30)) -> 165545 | P30: =IF(SUM(I30,L30,N30)<>0,SUM(I30,L30,N30),"") -> 33109 | AE30: =L30 -> 33109
B31: 합계줄 | D31: ( 합 계 ) | I31: =TRUNC(SUM(I29:I30)) -> 0 | L31: =TRUNC(SUM(L29:L30)) -> 33109 | N31: =TRUNC(SUM(N29:N30)) -> 0 | O31: =IF((H31+K31+M31)=0, "", (H31+K31+M31)) | P31: =IF(SUM(I31,L31,N31)<>0,SUM(I31,L31,N31),"") -> 33109 | AE31: =TRUNC(SUM(AE29:AE30)) -> 33109
A33: 56951002821 | B33: 일목줄 | C33: EA1000002821 | D33: [제 7호] 잡석깔기지정 떨공이다지기 [㎥]
A34: 56900017041 | B34: 제 7호 | C34: L001010101000002 | D34: 노 무 비 | E34: 보통인부 | F34: 인 | G34: =일위노임!G20 -> 0.018 | H34: =합산자재!H169 -> 0 | I34: =IF(G34*H34<>0, TRUNC(G34*H34, 1), "") | J34: 0.018 | K34: =합산자재!I169 -> 165545 | L34: =IF(G34*K34<>0, TRUNC(G34*K34, 1), "") -> 2979.8 | M34: =합산자재!J169 -> 0 | N34: =IF(G34*M34<>0, TRUNC(G34*M34, 1), "") | O34: =IF((H34+K34+M34)=0, "", (H34+K34+M34)) -> 165545 | P34: =IF(SUM(I34,L34,N34)<>0,SUM(I34,L34,N34),"") -> 2979.8 | AE34: =L34 -> 2979.8
A35: A0300000000 | B35: 제 7호 | C35: RENT000000000006 | D35: [ 공 구 손 료 ] | E35: 노무비의 3 % | F35: 식 | G35: 1 | H35: =IF(TRUNC((AD36+AC36)/$AE$3,1)*$AE$3-AD36 <0, AC36, TRUNC((AD36+AC36)/$AE$3,1)*$AE$3-AD36) -> 89.3 | I35: =H35 -> 89.3 | J35: 1 | L35: =IF(G35*K35<>0, TRUNC(G35*K35, 1), "") | N35: =IF(G35*M35<>0, TRUNC(G35*M35, 1), "") | O35: =IF((H35+K35+M35)=0, "", (H35+K35+M35)) -> 89.3 | P35: =IF(SUM(I35,L35,N35)<>0,SUM(I35,L35,N35),"") -> 89.3
B36: 합계줄 | D36: ( 합 계 ) | I36: =TRUNC(SUM(I33:I35)) -> 89 | L36: =TRUNC(SUM(L33:L35)) -> 2979 | N36: =TRUNC(SUM(N33:N35)) -> 0 | O36: =IF((H36+K36+M36)=0, "", (H36+K36+M36)) | P36: =IF(SUM(I36,L36,N36)<>0,SUM(I36,L36,N36),"") -> 3068 | AC36: =TRUNC(AE36*옵션!$B$36/100,1) -> 89.3 | AD36: =TRUNC(SUM(L33:L34)) -> 2979 | AE36: =TRUNC(SUM(AE33:AE35)) -> 2979
A38: 56951001408 | B38: 일목줄 | C38: EA1000001408 | D38: [제 8호] 맨 홀 1000x1000x1000 [개소]
A39: 56300217297 | B39: 제 8호 | C39: 3012169821869019 | D39: 맨홀 | E39: 1000x1000x1000 | F39: 조 | G39: 1 | H39: =합산자재!H90 -> 220000 | I39: =IF(G39*H39<>0, TRUNC(G39*H39, 1), "") -> 220000 | J39: 1 | K39: =합산자재!I90 -> 0 | L39: =IF(G39*K39<>0, TRUNC(G39*K39, 1), "") | M39: =합산자재!J90 -> 0 | N39: =IF(G39*M39<>0, TRUNC(G39*M39, 1), "") | O39: =IF((H39+K39+M39)=0, "", (H39+K39+M39)) -> 220000 | P39: =IF(SUM(I39,L39,N39)<>0,SUM(I39,L39,N39),"") -> 220000
A40: 56800447361 | B40: 제 8호 | C40: 3012169520160610 | D40: 맨홀뚜껑(철개) | F40: 조 | G40: 1 | H40: =합산자재!H92 -> 370000 | I40: =IF(G40*H40<>0, TRUNC(G40*H40, 1), "") -> 370000 | J40: 1 | K40: =합산자재!I92 -> 0 | L40: =IF(G40*K40<>0, TRUNC(G40*K40, 1), "") | M40: =합산자재!J92 -> 0 | N40: =IF(G40*M40<>0, TRUNC(G40*M40, 1), "") | O40: =IF((H40+K40+M40)=0, "", (H40+K40+M40)) -> 370000 | P40: =IF(SUM(I40,L40,N40)<>0,SUM(I40,L40,N40),"") -> 370000
A41: E1450927208 | B41: 제 8호 | C41: 2612152420683701 | D41: 접지용비닐절연전선(F-GV) | E41: 35㎟ | F41: M | G41: 5 | H41: =합산자재!H59 -> 4487 | I41: =IF(G41*H41<>0, TRUNC(G41*H41, 1), "") -> 22435 | J41: 5 | K41: =합산자재!I59 -> 0 | L41: =IF(G41*K41<>0, TRUNC(G41*K41, 1), "") | M41: =합산자재!J59 -> 0 | N41: =IF(G41*M41<>0, TRUNC(G41*M41, 1), "") | O41: =IF((H41+K41+M41)=0, "", (H41+K41+M41)) -> 4487 | P41: =IF(SUM(I41,L41,N41)<>0,SUM(I41,L41,N41),"") -> 22435 | AC41: =G41*H41 -> 22435
A42: 59750427102 | B42: 제 8호 | C42: 3912161310034844 | D42: 접지봉 | E42: 14Φ×1000 mm | F42: 개 | G42: 1 | H42: =합산자재!H80 -> 3318 | I42: =IF(G42*H42<>0, TRUNC(G42*H42, 1), "") -> 3318 | J42: 1 | K42: =합산자재!I80 -> 0 | L42: =IF(G42*K42<>0, TRUNC(G42*K42, 1), "") | M42: =합산자재!J80 -> 0 | N42: =IF(G42*M42<>0, TRUNC(G42*M42, 1), "") | O42: =IF((H42+K42+M42)=0, "", (H42+K42+M42)) -> 3318 | P42: =IF(SUM(I42,L42,N42)<>0,SUM(I42,L42,N42),"") -> 3318
A43: 56951002807 | B43: 제 8호 | C43: EA1000002807 | D43: 터파기(기계90%,인력10%) | E43: 보통토사 | F43: ㎥ | G43: 3.8679 | H43: =일대목차!H6 -> 465 | I43: =IF(G43*H43<>0, TRUNC(G43*H43, 1), "") -> 1798.5 | J43: 3.8679 | K43: =일대목차!K6 -> 4298 | L43: =IF(G43*K43<>0, TRUNC(G43*K43, 1), "") -> 16624.2 | M43: =일대목차!M6 -> 431 | N43: =IF(G43*M43<>0, TRUNC(G43*M43, 1), "") -> 1667 | O43: =IF((H43+K43+M43)=0, "", (H43+K43+M43)) -> 5194 | P43: =IF(SUM(I43,L43,N43)<>0,SUM(I43,L43,N43),"") -> 20089.7 | Q43: 제 3호 | R43: ILD
A44: 56951002810 | B44: 제 8호 | C44: EA1000002810 | D44: 되메우기(기계90%,인력10%) | E44: 보통토사 | F44: ㎥ | G44: 2.2809 | H44: =일대목차!H7 -> 465 | I44: =IF(G44*H44<>0, TRUNC(G44*H44, 1), "") -> 1060.6 | J44: 2.2809 | K44: =일대목차!K7 -> 2808 | L44: =IF(G44*K44<>0, TRUNC(G44*K44, 1), "") -> 6404.7 | M44: =일대목차!M7 -> 431 | N44: =IF(G44*M44<>0, TRUNC(G44*M44, 1), "") -> 983 | O44: =IF((H44+K44+M44)=0, "", (H44+K44+M44)) -> 3704 | P44: =IF(SUM(I44,L44,N44)<>0,SUM(I44,L44,N44),"") -> 8448.3 | Q44: 제 4호 | R44: ILD
A45: 56951002815 | B45: 제 8호 | C45: EA1000002815 | D45: 현장내잔토처리 | E45: 소운반.고르기 | F45: ㎥_ | G45: 1.587 | H45: =일대목차!H9 -> 0 | I45: =IF(G45*H45<>0, TRUNC(G45*H45, 1), "") | J45: 1.587 | K45: =일대목차!K9 -> 33109 | L45: =IF(G45*K45<>0, TRUNC(G45*K45, 1), "") -> 52543.9 | M45: =일대목차!M9 -> 0 | N45: =IF(G45*M45<>0, TRUNC(G45*M45, 1), "") | O45: =IF((H45+K45+M45)=0, "", (H45+K45+M45)) -> 33109 | P45: =IF(SUM(I45,L45,N45)<>0,SUM(I45,L45,N45),"") -> 52543.9 | Q45: 제 6호 | R45: ILD
A46: 56951002821 | B46: 제 8호 | C46: EA1000002821 | D46: 잡석깔기지정 | E46: 떨공이다지기 | F46: ㎥ | G46: 0.2645 | H46: =일대목차!H10 -> 89 | I46: =IF(G46*H46<>0, TRUNC(G46*H46, 1), "") -> 23.5 | J46: 0.2645 | K46: =일대목차!K10 -> 2979 | L46: =IF(G46*K46<>0, TRUNC(G46*K46, 1), "") -> 787.9 | M46: =일대목차!M10 -> 0 | N46: =IF(G46*M46<>0, TRUNC(G46*M46, 1), "") | O46: =IF((H46+K46+M46)=0, "", (H46+K46+M46)) -> 3068 | P46: =IF(SUM(I46,L46,N46)<>0,SUM(I46,L46,N46),"") -> 811.4 | Q46: 제 7호 | R46: ILD
A47: CA565826044 | B47: 제 8호 | C47: ECA565826044 | D47: 크레인 | E47: 트럭 탑재형 10 Ton | F47: 분 | G47: 136.8 | H47: =합산자재!H161 -> 373 | I47: =IF(G47*H47<>0, TRUNC(G47*H47, 1), "") -> 51026.4 | J47: 136.8 | K47: =합산자재!I161 -> 661 | L47: =IF(G47*K47<>0, TRUNC(G47*K47, 1), "") -> 90424.8 | M47: =합산자재!J161 -> 346 | N47: =IF(G47*M47<>0, TRUNC(G47*M47, 1), "") -> 47332.8 | O47: =IF((H47+K47+M47)=0, "", (H47+K47+M47)) -> 1380 | P47: =IF(SUM(I47,L47,N47)<>0,SUM(I47,L47,N47),"") -> 188784 | Q47: 168-하 | R47: ild
...

Sheet 일위노임
B1: 393 | D1: [ CAV기반 미래모빌리티 자율주행 평가플랫폼 구축 증축공사 ] - 일위노임 산출근거(202401-노임) | AA1: 내선전공 | AB1: 저압케이블전공 | AC1: 특고압케이블전공 | AD1: 배전전공 | AE1: 보통인부 | AF1: 특별인부 | AG1: 방수공 | AH1: 줄눈공 | AI1: 포장공 | AJ1: 작업반장
A2: 번호 | B2: 공종코드 | C2: 코드 | D2: 명 칭 | E2: 규 격 | F2: 단위 | G2: 수량 | K2: 코드 | L2: 공량산출 | P2: 단 위 단 가 산 출 | S2: 품셈근거 | T2: 비고
G3: 결정수량 | H3: 할증 | I3: 산출수량 | J3: 재할% | L3: 명칭 | M3: 품셈 | N3: 할증% | O3: 공량 | P3: 단가 | Q3: 단위단가 | R3: 단위계
B4: 공종줄 | D4: [ 제 1호 ] 인력터파기 보통토사0-1m [㎥_]
B5: 800 | C5: 391115ZZ701Z0019 | D5: 품셈 산출근거 | E5: 인력터파기 보통토사 0-1M | F5: 식 | G5: 1 | H5: =IF(I5<>0, G5-I5, "") -> 0 | I5: 1 | K5: 56900017041 | L5: 보통인부 | M5: 0.2 | N5: 100 | O5: =IF(I5*M5=0, "", I5*M5*(N5/100)) -> 0.2 | Q5: =TRUNC(P5*M5*N5/100) -> 0 | S5: 토목3-1-2 | AE5: =O5 -> 0.2
B6: 800 | C6: L001010101000002 | D6: 노 무 비 | E6: 보통인부 | F6: 인 | G6: =IF(H6*I6/100+0.000005 <1, TRUNC(H6*I6/100+0.000005, 옵션!$E$13), TRUNC(H6*I6/100+0.000005, 옵션!$E$13)) -> 0.2 | H6: =옵션!$B$13 -> 100 | I6: =SUM(AE5:AE5) -> 0.2 | O6: =IF(I6*M6=0, "", I6*M6*(N6/100)) | Q6: =TRUNC(P6*M6*N6/100) -> 0 | Z6: 노임계 | AE6: =SUM(AE5:AE5) -> 0.2
B7: 공종줄 | D7: [ 제 2호 ] 인력되메우기 보통토사0-1m [㎥_]
B8: 800 | C8: 391115ZZ701Z0018 | D8: 품셈 산출근거 | E8: 인력되메우기 보통토사 0-1M | F8: 식 | G8: 1 | H8: =IF(I8<>0, G8-I8, "") -> 0 | I8: 1 | K8: 56900017041 | L8: 보통인부 | M8: 0.11 | N8: 100 | O8: =IF(I8*M8=0, "", I8*M8*(N8/100)) -> 0.11 | Q8: =TRUNC(P8*M8*N8/100) -> 0 | S8: 토목3-2-1 | AE8: =O8 -> 0.11
B9: 800 | C9: L001010101000002 | D9: 노 무 비 | E9: 보통인부 | F9: 인 | G9: =IF(H9*I9/100+0.000005 <1, TRUNC(H9*I9/100+0.000005, 옵션!$E$13), TRUNC(H9*I9/100+0.000005, 옵션!$E$13)) -> 0.11 | H9: =옵션!$B$13 -> 100 | I9: =SUM(AE8:AE8) -> 0.11 | O9: =IF(I9*M9=0, "", I9*M9*(N9/100)) | Q9: =TRUNC(P9*M9*N9/100) -> 0 | Z9: 노임계 | AE9: =SUM(AE8:AE8) -> 0.11
B10: 공종줄 | D10: [ 제 5호 ] 지중선용 가선철물(저압) 케이블표지시트, 0.15x150 [m]
B11: 800 | C11: 3912219520175619 | D11: 지중선용 가선철물(저압) | E11: 케이블표지시트, 0.15x150 | F11: M | G11: 1 | H11: =IF(I11<>0, G11-I11, "") -> 0 | I11: 1 | K11: 56900017076 | L11: 저압케이블전공 | M11: 0.0005 | N11: 100 | O11: =IF(I11*M11=0, "", I11*M11*(N11/100)) -> 0.0005 | Q11: =TRUNC(P11*M11*N11/100) -> 0 | S11: 전기4-45 | AB11: =O11 -> 0.0005
B12: 800 | C12: 3912219520175619 | G12: 1 | H12: =IF(I12<>0, G12-I12, "") -> 0 | I12: 1 | K12: 56900017041 | L12: 보통인부 | M12: 0.001 | N12: 100 | O12: =IF(I12*M12=0, "", I12*M12*(N12/100)) -> 0.001 | Q12: =TRUNC(P12*M12*N12/100) -> 0 | S12: 전기4-45 | AE12: =O12 -> 0.001
B13: 800 | C13: L001010101000078 | D13: 노 무 비 | E13: 저압케이블전공 | F13: 인 | G13: =IF(H13*I13/100+0.000005 <1, TRUNC(H13*I13/100+0.000005, 옵션!$E$13), TRUNC(H13*I13/100+0.000005, 옵션!$E$13)) -> 0.0005 | H13: =옵션!$B$13 -> 100 | I13: =SUM(AB11:AB12) -> 0.0005 | O13: =IF(I13*M13=0, "", I13*M13*(N13/100)) | Q13: =TRUNC(P13*M13*N13/100) -> 0 | Z13: 노임계 | AB13: =SUM(AB11:AB12) -> 0.0005 | AE13: =SUM(AE11:AE12) -> 0.001
B14: 800 | C14: L001010101000002 | D14: 노 무 비 | E14: 보통인부 | F14: 인 | G14: =IF(H14*I14/100+0.000005 <1, TRUNC(H14*I14/100+0.000005, 옵션!$E$13), TRUNC(H14*I14/100+0.000005, 옵션!$E$13)) -> 0.001 | H14: =옵션!$B$13 -> 100 | I14: =SUM(AE11:AE12) -> 0.001 | O14: =IF(I14*M14=0, "", I14*M14*(N14/100)) | Q14: =TRUNC(P14*M14*N14/100) -> 0
B15: 공종줄 | D15: [ 제 6호 ] 현장내잔토처리 소운반.고르기 [㎥_]
B16: 800 | C16: 391115ZZ701Z0021 | D16: 품셈 산출근거 | E16: 현장내잔토처리 소운반.고르기 | F16: 식 | G16: 1 | H16: =IF(I16<>0, G16-I16, "") -> 0 | I16: 1 | K16: 56900017041 | L16: 보통인부 | M16: 0.2 | N16: 100 | O16: =IF(I16*M16=0, "", I16*M16*(N16/100)) -> 0.2 | Q16: =TRUNC(P16*M16*N16/100) -> 0 | S16: 토목3-1-2 | AE16: =O16 -> 0.2
B17: 800 | C17: L001010101000002 | D17: 노 무 비 | E17: 보통인부 | F17: 인 | G17: =IF(H17*I17/100+0.000005 <1, TRUNC(H17*I17/100+0.000005, 옵션!$E$13), TRUNC(H17*I17/100+0.000005, 옵션!$E$13)) -> 0.2 | H17: =옵션!$B$13 -> 100 | I17: =SUM(AE16:AE16) -> 0.2 | O17: =IF(I17*M17=0, "", I17*M17*(N17/100)) | Q17: =TRUNC(P17*M17*N17/100) -> 0 | Z17: 노임계 | AE17: =SUM(AE16:AE16) -> 0.2
B18: 공종줄 | D18: [ 제 7호 ] 잡석깔기지정 떨공이다지기 [㎥]
B19: 800 | C19: 391115ZZ701Z0020 | D19: 품셈 산출근거 | E19: 잡석깔기지정 떨공이다지기 | F19: 식 | G19: 1 | H19: =IF(I19<>0, G19-I19, "") -> 0 | I19: 1 | K19: 56900017041 | L19: 보통인부 | M19: 0.018 | N19: 100 | O19: =IF(I19*M19=0, "", I19*M19*(N19/100)) -> 0.018 | Q19: =TRUNC(P19*M19*N19/100) -> 0 | S19: 토목3-2-4 | AE19: =O19 -> 0.018
B20: 800 | C20: L001010101000002 | D20: 노 무 비 | E20: 보통인부 | F20: 인 | G20: =IF(H20*I20/100+0.000005 <1, TRUNC(H20*I20/100+0.000005, 옵션!$E$13), TRUNC(H20*I20/100+0.000005, 옵션!$E$13)) -> 0.018 | H20: =옵션!$B$13 -> 100 | I20: =SUM(AE19:AE19) -> 0.018 | O20: =IF(I20*M20=0, "", I20*M20*(N20/100)) | Q20: =TRUNC(P20*M20*N20/100) -> 0 | Z20: 노임계 | AE20: =SUM(AE19:AE19) -> 0.018
B21: 공종줄 | D21: [ 제 8호 ] 맨 홀 1000x1000x1000 [개소]
B22: 800 | C22: 3012169821869019 | D22: 맨홀 | E22: 1000x1000x1000 | F22: 조 | G22: 1 | H22: =IF(I22<>0, G22-I22, "") -> 0 | I22: 1 | K22: 56900017118 | L22: 특별인부 | M22: 1.63 | N22: 100 | O22: =IF(I22*M22=0, "", I22*M22*(N22/100)) -> 1.63 | Q22: =TRUNC(P22*M22*N22/100) -> 0 | S22: 전기4-43-3 | AF22: =O22 -> 1.63
B23: 800 | C23: 3012169821869019 | G23: 1 | H23: =IF(I23<>0, G23-I23, "") -> 0 | I23: 1 | K23: 56900017074 | L23: 작업반장 | M23: 0.34 | N23: 100 | O23: =IF(I23*M23=0, "", I23*M23*(N23/100)) -> 0.34 | Q23: =TRUNC(P23*M23*N23/100) -> 0 | S23: 전기4-43-3 | AJ23: =O23 -> 0.34
B24: 800 | C24: 3012169821869019 | G24: 1 | H24: =IF(I24<>0, G24-I24, "") -> 0 | I24: 1 | K24: 56900017091 | L24: 줄눈공 | M24: 0.05 | N24: 100 | O24: =IF(I24*M24=0, "", I24*M24*(N24/100)) -> 0.05 | Q24: =TRUNC(P24*M24*N24/100) -> 0 | S24: 전기4-43-3 | AH24: =O24 -> 0.05
B25: 800 | C25: 3012169520160610 | D25: 맨홀뚜껑(철개) | F25: 조 | G25: 1 | H25: =IF(I25<>0, G25-I25, "") -> 0 | I25: 1 | K25: 56900017117 | L25: 특고압케이블전공 | M25: 0.36 | N25: 100 | O25: =IF(I25*M25=0, "", I25*M25*(N25/100)) -> 0.36 | Q25: =TRUNC(P25*M25*N25/100) -> 0 | S25: 전기2-18 | AC25: =O25 -> 0.36
B26: 800 | C26: 3012169520160610 | G26: 1 | H26: =IF(I26<>0, G26-I26, "") -> 0 | I26: 1 | K26: 56900017041 | L26: 보통인부 | M26: 0.36 | N26: 100 | O26: =IF(I26*M26=0, "", I26*M26*(N26/100)) -> 0.36 | Q26: =TRUNC(P26*M26*N26/100) -> 0 | S26: 전기2-18 | AE26: =O26 -> 0.36
B27: 800 | C27: 2612152420683701 | D27: 접지용비닐절연전선(F-GV) | E27: 35㎟ | F27: M | G27: 5 | H27: =IF(I27<>0, G27-I27, "") -> 0 | I27: 5 | J27: 10 | K27: 56900017016 | L27: 내선전공 | M27: 0.007 | N27: 150 | O27: =IF(I27*M27=0, "", I27*M27*(N27/100)) -> 0.0525 | Q27: =TRUNC(P27*M27*N27/100) -> 0 | S27: 전기3-38 | AA27: =O27 -> 0.0525
B28: 800 | C28: 3912161310034844 | D28: 접지봉 | E28: 14Φ×1000 mm | F28: 개 | G28: 1 | H28: =IF(I28<>0, G28-I28, "") -> 0 | I28: 1 | K28: 56900017016 | L28: 내선전공 | M28: 0.11 | N28: 100 | O28: =IF(I28*M28=0, "", I28*M28*(N28/100)) -> 0.11 | Q28: =TRUNC(P28*M28*N28/100) -> 0 | S28: 전기3-38 | AA28: =O28 -> 0.11
B29: 800 | C29: 3912161310034844 | G29: 1 | H29: =IF(I29<>0, G29-I29, "") -> 0 | I29: 1 | K29: 56900017041 | L29: 보통인부 | M29: 0.08 | N29: 100 | O29: =IF(I29*M29=0, "", I29*M29*(N29/100)) -> 0.08 | Q29: =TRUNC(P29*M29*N29/100) -> 0 | S29: 전기3-38 | AE29: =O29 -> 0.08
B30: 800 | C30: L001010101000075 | D30: 노 무 비 | E30: 내선전공 | F30: 인 | G30: =IF(H30*I30/100+0.000005 <1, TRUNC(H30*I30/100+0.000005, 옵션!$E$13), TRUNC(H30*I30/100+0.000005, 옵션!$E$13)) -> 0.1625 | H30: =옵션!$B$13 -> 100 | I30: =SUM(AA22:AA29) -> 0.1625 | O30: =IF(I30*M30=0, "", I30*M30*(N30/100)) | Q30: =TRUNC(P30*M30*N30/100) -> 0 | Z30: 노임계 | AA30: =SUM(AA22:AA29) -> 0.1625 | AC30: =SUM(AC22:AC29) -> 0.36 | AE30: =SUM(AE22:AE29) -> 0.44 | AF30: =SUM(AF22:AF29) -> 1.63 | AH30: =SUM(AH22:AH29) -> 0.05 | AJ30: =SUM(AJ22:AJ29) -> 0.34
B31: 800 | C31: L001010101000076 | D31: 노 무 비 | E31: 특고압케이블전공 | F31: 인 | G31: =IF(H31*I31/100+0.000005 <1, TRUNC(H31*I31/100+0.000005, 옵션!$E$13), TRUNC(H31*I31/100+0.000005, 옵션!$E$13)) -> 0.36 | H31: =옵션!$B$13 -> 100 | I31: =SUM(AC22:AC29) -> 0.36 | O31: =IF(I31*M31=0, "", I31*M31*(N31/100)) | Q31: =TRUNC(P31*M31*N31/100) -> 0
B32: 800 | C32: L001010101000002 | D32: 노 무 비 | E32: 보통인부 | F32: 인 | G32: =IF(H32*I32/100+0.000005 <1, TRUNC(H32*I32/100+0.000005, 옵션!$E$13), TRUNC(H32*I32/100+0.000005, 옵션!$E$13)) -> 0.44 | H32: =옵션!$B$13 -> 100 | I32: =SUM(AE22:AE29) -> 0.44 | O32: =IF(I32*M32=0, "", I32*M32*(N32/100)) | Q32: =TRUNC(P32*M32*N32/100) -> 0
B33: 800 | C33: L001010101000003 | D33: 노 무 비 | E33: 특별인부 | F33: 인 | G33: =IF(H33*I33/100+0.000005 <1, TRUNC(H33*I33/100+0.000005, 옵션!$E$13), TRUNC(H33*I33/100+0.000005, 옵션!$E$13)) -> 1.63 | H33: =옵션!$B$13 -> 100 | I33: =SUM(AF22:AF29) -> 1.63 | O33: =IF(I33*M33=0, "", I33*M33*(N33/100)) | Q33: =TRUNC(P33*M33*N33/100) -> 0
B34: 800 | C34: L001010101000034 | D34: 노 무 비 | E34: 줄눈공 | F34: 인 | G34: =IF(H34*I34/100+0.000005 <1, TRUNC(H34*I34/100+0.000005, 옵션!$E$13), TRUNC(H34*I34/100+0.000005, 옵션!$E$13)) -> 0.05 | H34: =옵션!$B$13 -> 100 | I34: =SUM(AH22:AH29) -> 0.05 | O34: =IF(I34*M34=0, "", I34*M34*(N34/100)) | Q34: =TRUNC(P34*M34*N34/100) -> 0
B35: 800 | C35: L001010101000001 | D35: 노 무 비 | E35: 작업반장 | F35: 인 | G35: =IF(H35*I35/100+0.000005 <1, TRUNC(H35*I35/100+0.000005, 옵션!$E$13), TRUNC(H35*I35/100+0.000005, 옵션!$E$13)) -> 0.34 | H35: =옵션!$B$13 -> 100 | I35: =SUM(AJ22:AJ29) -> 0.34 | O35: =IF(I35*M35=0, "", I35*M35*(N35/100)) | Q35: =TRUNC(P35*M35*N35/100) -> 0
B36: 공종줄 | D36: [ 제 9호 ] 맨 홀 1500x1500x1500 [개소]
B37: 800 | C37: 3012169821869320 | D37: 맨홀 | E37: 1500x1500x1500 | F37: 조 | G37: 1 | H37: =IF(I37<>0, G37-I37, "") -> 0 | I37: 1 | K37: 56900017118 | L37: 특별인부 | M37: 1.63 | N37: 100 | O37: =IF(I37*M37=0, "", I37*M37*(N37/100)) -> 1.63 | Q37: =TRUNC(P37*M37*N37/100) -> 0 | S37: 전기4-43-3 | AF37: =O37 -> 1.63
B38: 800 | C38: 3012169821869320 | G38: 1 | H38: =IF(I38<>0, G38-I38, "") -> 0 | I38: 1 | K38: 56900017074 | L38: 작업반장 | M38: 0.34 | N38: 100 | O38: =IF(I38*M38=0, "", I38*M38*(N38/100)) -> 0.34 | Q38: =TRUNC(P38*M38*N38/100) -> 0 | S38: 전기4-43-3 | AJ38: =O38 -> 0.34
B39: 800 | C39: 3012169821869320 | G39: 1 | H39: =IF(I39<>0, G39-I39, "") -> 0 | I39: 1 | K39: 56900017091 | L39: 줄눈공 | M39: 0.05 | N39: 100 | O39: =IF(I39*M39=0, "", I39*M39*(N39/100)) -> 0.05 | Q39: =TRUNC(P39*M39*N39/100) -> 0 | S39: 전기4-43-3 | AH39: =O39 -> 0.05
B40: 800 | C40: 3012169520160610 | D40: 맨홀뚜껑(철개) | F40: 조 | G40: 1 | H40: =IF(I40<>0, G40-I40, "") -> 0 | I40: 1 | K40: 56900017117 | L40: 특고압케이블전공 | M40: 0.36 | N40: 100 | O40: =IF(I40*M40=0, "", I40*M40*(N40/100)) -> 0.36 | Q40: =TRUNC(P40*M40*N40/100) -> 0 | S40: 전기2-18 | AC40: =O40 -> 0.36
...

Sheet 합산자재
B1: 185 | C1: [ CAV기반 미래모빌리티 자율주행 평가플랫폼 구축 증축공사 ] - 합산자재목록
A2: 번호 | B2: … | C2: 코드 | D2: 명 칭 | E2: 규 격 | F2: 단위 | G2: 수량 | H2: 재료비 | I2: 노무비 | J2: 경비 | K2: 지급비 | L2: 계 | M2: 비고
B4: 59753067012 | C4: 3913170620174622 | D4: 폴리에틸렌 전선관 | E4: PE 16㎜ | F4: M | G4: 33.99 | H4: =ROUNDDOWN(단가조사!G4*옵션!$D$11, 0) -> 262 | L4: =SUM(H4,I4,J4) -> 262
B5: 59753068016 | C5: 3913170620174626 | D5: 폴리에틸렌 전선관 | E5: PE 42㎜ | F5: M | G5: 123.6 | H5: =ROUNDDOWN(단가조사!G5*옵션!$D$11, 0) -> 903 | L5: =SUM(H5,I5,J5) -> 903
B6: 59753068017 | C6: 3913170620174627 | D6: 폴리에틸렌 전선관 | E6: PE 54㎜ | F6: M | G6: 497.49 | H6: =ROUNDDOWN(단가조사!G6*옵션!$D$11, 0) -> 1470 | L6: =SUM(H6,I6,J6) -> 1470
B7: 59753077001 | C7: 3913170610035631 | D7: 파상형 폴리에틸렌 전선관 | E7: 30㎜ | F7: M | G7: 88.58 | H7: =ROUNDDOWN(단가조사!G7*옵션!$D$11, 0) -> 343 | L7: =SUM(H7,I7,J7) -> 343
B8: 59753077002 | C8: 3913170610035632 | D8: 파상형 폴리에틸렌 전선관 | E8: 40㎜ | F8: M | G8: 633.45 | H8: =ROUNDDOWN(단가조사!G8*옵션!$D$11, 0) -> 523 | L8: =SUM(H8,I8,J8) -> 523
B9: 59753077007 | C9: 3913170610035637 | D9: 파상형 폴리에틸렌 전선관 | E9: 125㎜ | F9: M | G9: 266.77 | H9: =ROUNDDOWN(단가조사!G9*옵션!$D$11, 0) -> 2796 | L9: =SUM(H9,I9,J9) -> 2796
B10: 59753178001 | C10: 3913170610035631 | D10: 파상형 폴리에틸렌 전선관 | E10: 30㎜ | F10: M | G10: 22.66 | H10: =ROUNDDOWN(단가조사!G10*옵션!$D$11, 0) -> 343 | L10: =SUM(H10,I10,J10) -> 343
B11: 59753178003 | C11: 3913170610035633 | D11: 파상형 폴리에틸렌 전선관 | E11: 50㎜ | F11: M | G11: 492.34 | H11: =ROUNDDOWN(단가조사!G11*옵션!$D$11, 0) -> 680 | L11: =SUM(H11,I11,J11) -> 680
B12: 59753017043 | C12: 3913170620174434 | D12: 1종금속제가요전선관 | E12: 커넥터, 16 mm 일반-비방수 | F12: 개 | G12: 72 | H12: =ROUNDDOWN(단가조사!G12*옵션!$D$11, 0) -> 354 | L12: =SUM(H12,I12,J12) -> 354
B13: MM496797011 | C13: 3913170620174478 | D13: 1종금속제가요전선관 | E13: 16 mm 고장력-비방수 | F13: M | G13: 67.1 | H13: =ROUNDDOWN(단가조사!G13*옵션!$D$11, 0) -> 544 | L13: =SUM(H13,I13,J13) -> 544
B14: MM496797031 | C14: 3913170620174472 | D14: 1종금속제가요전선관 | E14: 28 mm 고장력-방수 | F14: M | G14: 88 | H14: =ROUNDDOWN(단가조사!G14*옵션!$D$11, 0) -> 2282 | L14: =SUM(H14,I14,J14) -> 2282
B15: MM618792344 | C15: 3912120220176448 | D15: 1종금속제가요전선관 | E15: KS방수 콘넥타 28mm | F15: 개 | G15: 14 | H15: =ROUNDDOWN(단가조사!G15*옵션!$D$11, 0) -> 1485 | L15: =SUM(H15,I15,J15) -> 1485
... B91: 56300217299 | C91: 3012169821869320 | D91: 맨홀 | E91: 1500x1500x1500 | F91: 조 | G91: 6 | H91: =ROUNDDOWN(단가조사!G91*옵션!$D$11, 0) -> 440000 | L91: =SUM(H91,I91,J91) -> 440000
B92: 56800447361 | C92: 3012169520160610 | D92: 맨홀뚜껑(철개) | F92: 조 | G92: 4 | H92: =ROUNDDOWN(단가조사!G92*옵션!$D$11, 0) -> 370000 | L92: =SUM(H92,I92,J92) -> 370000
B93: 53100027003 | C93: 3116172710024976 | D93: 6각너트 | E93: M10 | F93: 개 | G93: 12 | H93: =ROUNDDOWN(단가조사!G93*옵션!$D$11, 0) -> 25 | L93: =SUM(H93,I93,J93) -> 25
B94: 53100028501 | C94: 3116172710023970 | D94: 6각너트 | E94: 3/8,M10 | F94: EA | G94: 824 | H94: =ROUNDDOWN(단가조사!G94*옵션!$D$11, 0) -> 25 | L94: =SUM(H94,I94,J94) -> 25
B95: 52100327001 | C95: 3116181120136195 | D95: 스프링와샤 | E95: D10 | F95: EA | G95: 836 | H95: =ROUNDDOWN(단가조사!G95*옵션!$D$11, 0) -> 9 | L95: =SUM(H95,I95,J95) -> 9
B96: 34050017001 | C96: 2317167020544845 | D96: 컷팅날 | E96: D320~400mm t =3.2mm | F96: 개 | G96: 0.2268 | H96: =ROUNDDOWN(단가조사!G96*옵션!$D$11, 0) -> 215000 | L96: =SUM(H96,I96,J96) -> 215000
B97: MM450736297 | C97: 9998887770000065 | D97: 접지봉연결 | E97: 3본 18x2400mm | F97: 개소 | G97: 2 | H97: =ROUNDDOWN(단가조사!G97*옵션!$D$11, 0) -> 25650 | L97: =SUM(H97,I97,J97) -> 25650
B98: MM450736308 | C98: 3912161320937672 | D98: 볼트형콘넥터 | E98: U 볼트형, Φ19 | F98: 개 | G98: 6 | H98: =ROUNDDOWN(단가조사!G98*옵션!$D$11, 0) -> 3801 | L98: =SUM(H98,I98,J98) -> 3801
B99: MMH50429100 | C99: 9999999456000000 | D99: 상차비 | E99: 폐기물처리(30km이하) | F99: ton | G99: 12.88 | H99: =ROUNDDOWN(단가조사!G99*옵션!$D$11, 0) -> 3520 | L99: =SUM(H99,I99,J99) -> 3520
B100: MMH50429101 | C100: 9999999456000001 | D100: 운반비 | E100: 폐기물처리(30km이하) | F100: ton | G100: 12.88 | H100: =ROUNDDOWN(단가조사!G100*옵션!$D$11, 0) -> 15990 | L100: =SUM(H100,I100,J100) -> 15990
B101: MMH50429103 | C101: 9999999456000003 | D101: 폐아스팔트콘크리트 | F101: ton | G101: 12.88 | H101: =ROUNDDOWN(단가조사!G101*옵션!$D$11, 0) -> 30488 | L101: =SUM(H101,I101,J101) -> 30488
B102: MMU66611106 | C102: 9888811111000006 | D102: 러그단자(접지) | E102: 동관단자 2 HOLE 95 ㎟ | F102: 개 | G102: 2 | H102: =ROUNDDOWN(단가조사!G102*옵션!$D$11, 0) -> 3010 | L102: =SUM(H102,I102,J102) -> 3010
B103: MMU66611205 | C103: 9888811111000105 | D103: 압착단자(접지) | E103: R형동선 나압착 16 ㎟ | F103: 개 | G103: 10 | H103: =ROUNDDOWN(단가조사!G103*옵션!$D$11, 0) -> 127 | L103: =SUM(H103,I103,J103) -> 127
B104: MMU66611206 | C104: 9888811111000106 | D104: 압착단자(접지) | E104: R형동선 나압착 25 ㎟ | F104: 개 | G104: 2 | H104: =ROUNDDOWN(단가조사!G104*옵션!$D$11, 0) -> 187 | L104: =SUM(H104,I104,J104) -> 187
B105: MMH99991000 | C105: 9999999991020000 | D105: 나사없는전선관 | E105: E19 | F105: M | G105: 684.2 | H105: =ROUNDDOWN(단가조사!G105*옵션!$D$11, 0) -> 2107 | L105: =SUM(H105,I105,J105) -> 2107
B106: MMH99991001 | C106: 9999999991020001 | D106: 나사없는전선관 | E106: E25 | F106: M | G106: 36.3 | H106: =ROUNDDOWN(단가조사!G106*옵션!$D$11, 0) -> 2849 | L106: =SUM(H106,I106,J106) -> 2849
B107: MMH99991002 | C107: 9999999991020002 | D107: 나사없는전선관 | E107: E31 | F107: M | G107: 195.8 | H107: =ROUNDDOWN(단가조사!G107*옵션!$D$11, 0) -> 3890 | L107: =SUM(H107,I107,J107) -> 3890
B108: MMH99991004 | C108: 9999999991020004 | D108: 나사없는전선관 | E108: E51 | F108: M | G108: 33 | H108: =ROUNDDOWN(단가조사!G108*옵션!$D$11, 0) -> 6381 | L108: =SUM(H108,I108,J108) -> 6381
B109: MMH99991006 | C109: 9999999991020006 | D109: 나사없는전선관 | E109: E75 | F109: M | G109: 9.9 | H109: =ROUNDDOWN(단가조사!G109*옵션!$D$11, 0) -> 11526 | L109: =SUM(H109,I109,J109) -> 11526
B110: MMH99991007 | C110: 9999999991020007 | D110: 볼트고정식 이음쇠 | E110: 커플링 E19 | F110: EA | G110: 171 | H110: =ROUNDDOWN(단가조사!G110*옵션!$D$11, 0) -> 830 | L110: =SUM(H110,I110,J110) -> 830
B111: MMH99991008 | C111: 9999999991020008 | D111: 볼트고정식 이음쇠 | E111: 커플링 E25 | F111: EA | G111: 8 | H111: =ROUNDDOWN(단가조사!G111*옵션!$D$11, 0) -> 1014 | L111: =SUM(H111,I111,J111) -> 1014
B112: MMH99991009 | C112: 9999999991020009 | D112: 볼트고정식 이음쇠 | E112: 커플링 E31 | F112: EA | G112: 48 | H112: =ROUNDDOWN(단가조사!G112*옵션!$D$11, 0) -> 1246 | L112: =SUM(H112,I112,J112) -> 1246
B113: MMH99991011 | C113: 9999999991020011 | D113: 볼트고정식 이음쇠 | E113: 커플링 E51 | F113: EA | G113: 8 | H113: =ROUNDDOWN(단가조사!G113*옵션!$D$11, 0) -> 2436 | L113: =SUM(H113,I113,J113) -> 2436
... B124: MMX99810201 | C124: 8974653100010177 | D124: 아스콘 포장재 | E124: 기층 | F124: TON | G124: 9.5472 | H124: =ROUNDDOWN(단가조사!G124*옵션!$D$11, 0) -> 85000 | L124: =SUM(H124,I124,J124) -> 85000
B125: MMA24070001 | C125: InMastDBNonCode | D125: 배선용 차단기(철거) | E125: 4P 600V 225AF | F125: 대 | G125: 1 | H125: =ROUNDDOWN(단가조사!G149*옵션!$D$11, 0) -> 0 | L125: =SUM(H125,I125,J125) -> 0
B126: MMA24070100 | C126: InMastDBNonCode | D126: 가로등제어반(이설) | F126: 면 | G126: 2 | H126: =ROUNDDOWN(단가조사!G150*옵션!$D$11, 0) -> 0 | L126: =SUM(H126,I126,J126) -> 0
...

Sheet 단가조사
B1: 183 | D1: [ CAV기반 미래모빌리티 자율주행 평가플랫폼 구축 증축공사 ] - 단가조사서
A2: 번호 | B2: 공종코드 | C2: 코드 | D2: 명 칭 | E2: 규 격 | F2: 단위 | G2: 적용단가 | H2: 시설단가 | J2: 거래가격 | L2: 물가정보 | N2: 물가자료 | P2: 조사단가1 | R2: 조사단가2 | T2: 비고
H3: 단가 | I3: 코드 | J3: 단가 | K3: PAGE | L3: 단가 | M3: PAGE | N3: 단가 | O3: PAGE | P3: 단가 | Q3: PAGE | R3: 단가 | S3: PAGE
C4: 3913170620174622 | D4: 폴리에틸렌 전선관 | E4: PE 16㎜ | F4: M | G4: 262 | H4: 262 | J4: 340 | K4: 1026 | L4: 317 | M4: 1237 | N4: 300 | O4: 1102
C5: 3913170620174626 | D5: 폴리에틸렌 전선관 | E5: PE 42㎜ | F5: M | G5: 903 | H5: 903 | J5: 1226 | K5: 1026 | L5: 1104 | M5: 1237 | N5: 980 | O5: 1102
C6: 3913170620174627 | D6: 폴리에틸렌 전선관 | E6: PE 54㎜ | F6: M | G6: 1470 | H6: 1470 | J6: 1779 | K6: 1026 | L6: 1656 | M6: 1237 | N6: 1470 | O6: 1102
C7: 3913170610035631 | D7: 파상형 폴리에틸렌 전선관 | E7: 30㎜ | F7: M | G7: 343 | H7: 343 | J7: 391 | K7: 1025 | L7: 480 | M7: 1234 | N7: 360 | O7: 1106
C8: 3913170610035632 | D8: 파상형 폴리에틸렌 전선관 | E8: 40㎜ | F8: M | G8: 523 | H8: 523 | J8: 563 | K8: 1025 | L8: 607 | M8: 1234 | N8: 550 | O8: 1106
C9: 3913170610035637 | D9: 파상형 폴리에틸렌 전선관 | E9: 125㎜ | F9: M | G9: 2796 | H9: 2796 | J9: 3204 | K9: 1025 | L9: 3440 | M9: 1234 | N9: 3040 | O9: 1106
C10: 3913170610035631 | D10: 파상형 폴리에틸렌 전선관 | E10: 30㎜ | F10: M | G10: 343 | H10: 343 | J10: 391 | K10: 1025 | L10: 480 | M10: 1234 | N10: 360 | O10: 1106
C11: 3913170610035633 | D11: 파상형 폴리에틸렌 전선관 | E11: 50㎜ | F11: M | G11: 680 | H11: 680 | J11: 750 | K11: 1025 | L11: 860 | M11: 1234 | N11: 730 | O11: 1106
C12: 3913170620174434 | D12: 1종금속제가요전선관 | E12: 커넥터, 16 mm 일반-비방수 | F12: 개 | G12: 354 | H12: 354 | L12: 869 | M12: 1237 | N12: 1100 | O12: 1103
C13: 3913170620174478 | D13: 1종금속제가요전선관 | E13: 16 mm 고장력-비방수 | F13: M | G13: 544 | H13: 600 | L13: 544 | M13: 1237 | N13: 1380 | O13: 1103
C14: 3913170620174472 | D14: 1종금속제가요전선관 | E14: 28 mm 고장력-방수 | F14: M | G14: 2282 | H14: 2282 | L14: 2431 | M14: 1237 | N14: 4680 | O14: 1103
C15: 3912120220176448 | D15: 1종금속제가요전선관 | E15: KS방수 콘넥타 28mm | F15: 개 | G15: 1485 | L15: 1485 | M15: 1237 | N15: 7150 | O15: 1103
C16: 3912171220935649 | D16: 관로구방수장치 | E16: D30 | F16: 조 | G16: 12750 | N16: 12750 | O16: 1229
C17: 3912171220935650 | D17: 관로구방수장치 | E17: D50 | F17: 조 | G17: 14850 | N17: 14850 | O17: 1229
C18: 3913170820935665 | D18: 관로구방수장치 | E18: D125 | F18: 조 | G18: 33750 | N18: 33750 | O18: 1229
C19: 3912130810035750 | D19: 아우트렛박스 | E19: 8각 54㎜ | F19: 개 | G19: 617 | H19: 617 | J19: 800 | K19: 1028 | L19: 845 | M19: 1239 | N19: 790 | O19: 1105
C20: 3912130810035753 | D20: 아우트렛박스 | E20: 중형4각 54㎜ | F20: 개 | G20: 920 | J20: 1000 | K20: 1028 | L20: 973 | M20: 1239 | N20: 920 | O20: 1105
C21: 3912130610035778 | D21: 스위치박스 | E21: 1 개용 54 mm | F21: 개 | G21: 583 | H21: 583 | J21: 650 | K21: 1028 | L21: 700 | M21: 1239 | N21: 650 | O21: 1105
