Workbook

Sheet 원가계산서
B1: 공 사 원 가 계 산 서
B2: 공사명 : 모빌리티전자파안전성평가지원센터전기공사-총차 | F2: ="금액 : "&TEXT(E32,"[DBNUM4]")&"원(\" & TEXT(E32,"#,###")&")" -> 금액 : 영원(\)
B3: 비 목 | E3: 금 액 | F3: 구 성 비 | G3: 비 고
A4: A1 | B4: 순 공 사 원 가 | C4: 재 료 비 | D4: 직 접 재 료 비 | E4: =TRUNC(공종별집계표!F5, 0) -> 0
A5: A2 | D5: 간 접 재 료 비 | E5: 0
A6: A3 | D6: 작업설, 부산물(△) | E6: 0
A7: AS | D7: [ 소 계 ] | E7: =TRUNC(E4+E5-E6, 0) -> 0
A8: B1 | C8: 노 무 비 | D8: 직 접 노 무 비 | E8: =TRUNC(공종별집계표!H5, 0) -> 0
A9: B2 | D9: 간 접 노 무 비 | E9: =TRUNC(E8*0.152, 0) -> 0 | F9: 직접노무비 * 15.2%
A10: BS | D10: [ 소 계 ] | E10: =TRUNC(E8+E9, 0) -> 0
A11: C2 | C11: 경 비 | D11: 경 비 | E11: =TRUNC(공종별집계표!J5, 0) -> 0
A12: C4 | D12: 산 재 보 험 료 | E12: =TRUNC(E10*0.0356, 0) -> 0 | F12: 노무비 * 3.56%
A13: C5 | D13: 고 용 보 험 료 | E13: =TRUNC(E10*0.0101, 0) -> 0 | F13: 노무비 * 1.01%
A14: C6 | D14: 국민 건강 보험료 | E14: =TRUNC(E8*0.03545, 0) -> 0 | F14: 직접노무비 * 3.545%
A15: C7 | D15: 국민 연금 보험료 | E15: =TRUNC(E8*0.045, 0) -> 0 | F15: 직접노무비 * 4.5%
A16: C8 | D16: 퇴직 공제 부금비 | E16: =TRUNC(E8*0.023, 0) -> 0 | F16: 직접노무비 * 2.3%
A17: CA | D17: 산업안전보건관리비 | E17: =TRUNC((E7+E8+(E28/1.1))*0.0311, 0) -> 0 | F17: (재료비+직노+도급자관급자재비) * 3.11%
A18: CB | D18: 노인장기요양보험료 | E18: =TRUNC(E14*0.1295, 0) -> 0 | F18: 건강보험료 * 12.95%
A19: CG | D19: 기 타 경 비 | E19: =TRUNC((E7+E10)*0.047, 0) -> 0 | F19: (재료비+노무비) * 4.7%
A20: CS | D20: [ 소 계 ] | E20: =TRUNC(E11+E12+E13+E14+E15+E16+E17+E18+E19, 0) -> 0
A21: S1 | B21: 계 | E21: =TRUNC(E7+E10+E20, 0) -> 0
A22: D1 | B22: 일 반 관 리 비 | E22: =TRUNC(E21*0.04, 0) -> 0 | F22: 계 * 4%
A23: D2 | B23: 이 윤 | E23: =TRUNC((E10+E20+E22)*0.1, 0) -> 0 | F23: (노무비+경비+일반관리비) * 10%
A24: D9 | B24: 공 급 가 액 | E24: =TRUNC(E21+E22+E23, 0) -> 0
A25: DB | B25: 부 가 가 치 세 | E25: =TRUNC(E24*0.1, 0) -> 0 | F25: 공급가액 * 10%
A26: DH | B26: 도 급 액 | E26: =TRUNC(E24+E25, 0) -> 0
A27: DJ | B27: 관급자 관급자재 | E27: =TRUNC(공종별집계표!T19, 0) -> 0
A28: DK | B28: 도급자 관급자재 | E28: =TRUNC(공종별집계표!T22, 0) -> 0
A29: S2 | B29: 총 공 사 비 | E29: =TRUNC(E26+E27+E28, 0) -> 0
A30: E1 | B30: 한전불입금 | E30: =TRUNC(공종별집계표!T26, 0) -> 0
A31: E2 | B31: 재해예방기술지도비 | E31: =TRUNC(공종별집계표!T29, 0) -> 0
A32: S3 | B32: 총 계 | E32: =TRUNC(E29+E30+E31, -3) -> 0 | G32: 천단위미만절사

Sheet 공종별집계표
A1: 공 종 별 집 계 표
A2: [ 모빌리티전자파안전성평가지원센터전기공사 ]
A3: 품 명 | B3: 규 격 | C3: 단위 | D3: 수량 | E3: 재 료 비 | G3: 노 무 비 | I3: 경 비 | K3: 합 계 | M3: 비 고 | N3: 공종코드 | O3: 변수 | P3: 상위공종 | Q3: 공종구분 | R3: 공종레벨 | S3: 공종소계 | T3: 원가계산서 연결금액
E4: 단 가 | F4: 금 액 | G4: 단 가 | H4: 금 액 | I4: 단 가 | J4: 금 액 | K4: 단 가 | L4: 금 액
A5: 모빌리티전자파안전성평가지원센터전기공사 | D5: 1 | E5: =F6 -> 0 | F5: =E5*D5 -> 0 | G5: =H6 -> 0 | H5: =G5*D5 -> 0 | I5: =J6 -> 0 | J5: =I5*D5 -> 0 | K5: =E5+G5+I5 -> 0 | L5: =F5+H5+J5 -> 0 | N5: 01 | R5: 1
A6: 전기공사 | D6: 1 | E6: =F7+F8+F9+F10+F11+F13+F16+F17+F18 -> 0 | F6: =E6*D6 -> 0 | G6: =H7+H8+H9+H10+H11+H13+H16+H17+H18 -> 0 | H6: =G6*D6 -> 0 | I6: =J7+J8+J9+J10+J11+J13+J16+J17+J18 -> 0 | J6: =I6*D6 -> 0 | K6: =E6+G6+I6 -> 0 | L6: =F6+H6+J6 -> 0 | N6: 0101 | P6: 01 | R6: 2
A7: 옥외인입 및 수변전설비공사 | D7: 1 | E7: =공종별내역서!F51 -> 0 | F7: =E7*D7 -> 0 | G7: =공종별내역서!H51 -> 0 | H7: =G7*D7 -> 0 | I7: =공종별내역서!J51 -> 0 | J7: =I7*D7 -> 0 | K7: =E7+G7+I7 -> 0 | L7: =F7+H7+J7 -> 0 | N7: 010101 | P7: 0101 | R7: 3
A8: 옥외인입공사 | D8: 1 | E8: =공종별내역서!F75 -> 0 | F8: =E8*D8 -> 0 | G8: =공종별내역서!H75 -> 0 | H8: =G8*D8 -> 0 | I8: =공종별내역서!J75 -> 0 | J8: =I8*D8 -> 0 | K8: =E8+G8+I8 -> 0 | L8: =F8+H8+J8 -> 0 | N8: 010102 | P8: 0101 | R8: 3
A9: 전력간선 설비공사 | D9: 1 | E9: =공종별내역서!F123 -> 0 | F9: =E9*D9 -> 0 | G9: =공종별내역서!H123 -> 0 | H9: =G9*D9 -> 0 | I9: =공종별내역서!J123 -> 0 | J9: =I9*D9 -> 0 | K9: =E9+G9+I9 -> 0 | L9: =F9+H9+J9 -> 0 | N9: 010103 | P9: 0101 | R9: 3
A10: 배관공사 | D10: 1 | E10: =공종별내역서!F147 -> 0 | F10: =E10*D10 -> 0 | G10: =공종별내역서!H147 -> 0 | H10: =G10*D10 -> 0 | I10: =공종별내역서!J147 -> 0 | J10: =I10*D10 -> 0 | K10: =E10+G10+I10 -> 0 | L10: =F10+H10+J10 -> 0 | N10: 010104 | P10: 0101 | R10: 3
A11: 전열 설비공사 | D11: 1 | E11: =F12 -> 0 | F11: =E11*D11 -> 0 | G11: =H12 -> 0 | H11: =G11*D11 -> 0 | I11: =J12 -> 0 | J11: =I11*D11 -> 0 | K11: =E11+G11+I11 -> 0 | L11: =F11+H11+J11 -> 0 | N11: 010105 | P11: 0101 | R11: 3
A12: 지상1층 전열설비공사 | D12: 1 | E12: =공종별내역서!F171 -> 0 | F12: =E12*D12 -> 0 | G12: =공종별내역서!H171 -> 0 | H12: =G12*D12 -> 0 | I12: =공종별내역서!J171 -> 0 | J12: =I12*D12 -> 0 | K12: =E12+G12+I12 -> 0 | L12: =F12+H12+J12 -> 0 | N12: 01010501 | P12: 010105 | R12: 4
A13: 전등설비공사 | D13: 1 | E13: =F14+F15 -> 0 | F13: =E13*D13 -> 0 | G13: =H14+H15 -> 0 | H13: =G13*D13 -> 0 | I13: =J14+J15 -> 0 | J13: =I13*D13 -> 0 | K13: =E13+G13+I13 -> 0 | L13: =F13+H13+J13 -> 0 | N13: 010106 | P13: 0101 | R13: 3
A14: 지상1층 전등설비공사 | D14: 1 | E14: =공종별내역서!F219 -> 0 | F14: =E14*D14 -> 0 | G14: =공종별내역서!H219 -> 0 | H14: =G14*D14 -> 0 | I14: =공종별내역서!J219 -> 0 | J14: =I14*D14 -> 0 | K14: =E14+G14+I14 -> 0 | L14: =F14+H14+J14 -> 0 | N14: 01010601 | P14: 010106 | R14: 4
A15: 옥외보안등설비공사 | D15: 1 | E15: =공종별내역서!F243 -> 0 | F15: =E15*D15 -> 0 | G15: =공종별내역서!H243 -> 0 | H15: =G15*D15 -> 0 | I15: =공종별내역서!J243 -> 0 | J15: =I15*D15 -> 0 | K15: =E15+G15+I15 -> 0 | L15: =F15+H15+J15 -> 0 | N15: 01010602 | P15: 010106 | R15: 4
A16: 냉난방 설비공사 | D16: 1 | E16: =공종별내역서!F267 -> 0 | F16: =E16*D16 -> 0 | G16: =공종별내역서!H267 -> 0 | H16: =G16*D16 -> 0 | I16: =공종별내역서!J267 -> 0 | J16: =I16*D16 -> 0 | K16: =E16+G16+I16 -> 0 | L16: =F16+H16+J16 -> 0 | N16: 010107 | P16: 0101 | R16: 3
A17: CABLE TRAY 설비공사 | D17: 1 | E17: =공종별내역서!F291 -> 0 | F17: =E17*D17 -> 0 | G17: =공종별내역서!H291 -> 0 | H17: =G17*D17 -> 0 | I17: =공종별내역서!J291 -> 0 | J17: =I17*D17 -> 0 | K17: =E17+G17+I17 -> 0 | L17: =F17+H17+J17 -> 0 | N17: 010108 | P17: 0101 | R17: 3
A18: 접지 설비공사 | D18: 1 | E18: =공종별내역서!F315 -> 0 | F18: =E18*D18 -> 0 | G18: =공종별내역서!H315 -> 0 | H18: =G18*D18 -> 0 | I18: =공종별내역서!J315 -> 0 | J18: =I18*D18 -> 0 | K18: =E18+G18+I18 -> 0 | L18: =F18+H18+J18 -> 0 | N18: 010109 | P18: 0101 | R18: 3
A19: 관급자설치관급자재 | D19: 1 | E19: =F20+F21 -> 0 | F19: =E19*D19 -> 0 | G19: =H20+H21 -> 0 | H19: =G19*D19 -> 0 | I19: =J20+J21 -> 0 | J19: =I19*D19 -> 0 | K19: =E19+G19+I19 -> 0 | L19: =F19+H19+J19 -> 0 | N19: 0102 | Q19: 3 | R19: 2 | T19: =L19*1 -> 0
A20: 수배전반 | D20: 1 | E20: =공종별내역서!F339 -> 0 | F20: =E20*D20 -> 0 | G20: =공종별내역서!H339 -> 0 | H20: =G20*D20 -> 0 | I20: =공종별내역서!J339 -> 0 | J20: =I20*D20 -> 0 | K20: =E20+G20+I20 -> 0 | L20: =F20+H20+J20 -> 0 | N20: 010201 | P20: 0102 | R20: 3
A21: 메시형울타리 | D21: 1 | E21: =공종별내역서!F363 -> 0 | F21: =E21*D21 -> 0 | G21: =공종별내역서!H363 -> 0 | H21: =G21*D21 -> 0 | I21: =공종별내역서!J363 -> 0 | J21: =I21*D21 -> 0 | K21: =E21+G21+I21 -> 0 | L21: =F21+H21+J21 -> 0 | N21: 010202 | P21: 0102 | R21: 3
A22: 도급자설치관급자재 | D22: 1 | E22: =F23+F24+F25 -> 0 | F22: =E22*D22 -> 0 | G22: =H23+H24+H25 -> 0 | H22: =G22*D22 -> 0 | I22: =J23+J24+J25 -> 0 | J22: =I22*D22 -> 0 | K22: =E22+G22+I22 -> 0 | L22: =F22+H22+J22 -> 0 | N22: 0103 | Q22: 4 | R22: 2 | T22: =L22*1 -> 0
A23: 분전반 | D23: 1 | E23: =공종별내역서!F387 -> 0 | F23: =E23*D23 -> 0 | G23: =공종별내역서!H387 -> 0 | H23: =G23*D23 -> 0 | I23: =공종별내역서!J387 -> 0 | J23: =I23*D23 -> 0 | K23: =E23+G23+I23 -> 0 | L23: =F23+H23+J23 -> 0 | N23: 010301 | P23: 0103 | R23: 3
A24: LED등기구 | D24: 1 | E24: =공종별내역서!F411 -> 0 | F24: =E24*D24 -> 0 | G24: =공종별내역서!H411 -> 0 | H24: =G24*D24 -> 0 | I24: =공종별내역서!J411 -> 0 | J24: =I24*D24 -> 0 | K24: =E24+G24+I24 -> 0 | L24: =F24+H24+J24 -> 0 | N24: 010302 | P24: 0103 | R24: 3
A25: LED보안등 | D25: 1 | E25: =공종별내역서!F435 -> 0 | F25: =E25*D25 -> 0 | G25: =공종별내역서!H435 -> 0 | H25: =G25*D25 -> 0 | I25: =공종별내역서!J435 -> 0 | J25: =I25*D25 -> 0 | K25: =E25+G25+I25 -> 0 | L25: =F25+H25+J25 -> 0 | N25: 010303 | P25: 0103 | R25: 3
A26: 별도공사(한전불입금, 사용전검사료) | D26: 1 | E26: =F27+F28 -> 0 | F26: =E26*D26 -> 0 | G26: =H27+H28 -> 0 | H26: =G26*D26 -> 0 | I26: =J27+J28 -> 0 | J26: =I26*D26 -> 0 | K26: =E26+G26+I26 -> 0 | L26: =F26+H26+J26 -> 0 | N26: 0104 | Q26: 5 | R26: 2 | T26: =L26*1 -> 0
A27: 한전불입금 | D27: 1 | E27: =공종별내역서!F459 -> 0 | F27: =E27*D27 -> 0 | G27: =공종별내역서!H459 -> 0 | H27: =G27*D27 -> 0 | I27: =공종별내역서!J459 -> 0 | J27: =I27*D27 -> 0 | K27: =E27+G27+I27 -> 0 | L27: =F27+H27+J27 -> 0 | N27: 010401 | P27: 0104 | R27: 3
A28: 사용전검사료 | D28: 1 | E28: =공종별내역서!F483 -> 0 | F28: =E28*D28 -> 0 | G28: =공종별내역서!H483 -> 0 | H28: =G28*D28 -> 0 | I28: =공종별내역서!J483 -> 0 | J28: =I28*D28 -> 0 | K28: =E28+G28+I28 -> 0 | L28: =F28+H28+J28 -> 0 | N28: 010402 | P28: 0104 | R28: 3
A29: 재해예방기술지도비 | D29: 1 | E29: =공종별내역서!F507 -> 0 | F29: =E29*D29 -> 0 | G29: =공종별내역서!H507 -> 0 | H29: =G29*D29 -> 0 | I29: =공종별내역서!J507 -> 0 | J29: =I29*D29 -> 0 | K29: =E29+G29+I29 -> 0 | L29: =F29+H29+J29 -> 0 | N29: 0105 | Q29: 6 | R29: 2 | T29: =L29*1 -> 0
A48: [ 합 계 ] | F48: =F5 -> 0 | H48: =H5 -> 0 | J48: =J5 -> 0 | L48: =L5 -> 0

Sheet 공종별내역서
A1: [ 모빌리티전자파안전성평가지원센터전기공사 ]
A2: 품 명 | B2: 규 격 | C2: 단위 | D2: 수량 | E2: 재 료 비 | G2: 노 무 비 | I2: 경 비 | K2: 합 계 | M2: 비 고 | N2: 품목코드 | O2: 변수 | P2: 설정 | Q2: 공종코드 | R2: 일위 | S2: 단산 | T2: 자재 | U2: 손료적용 | V2: 손료저장 | W2: 적용율 | X2: JUK1 | Y2: JUK2 | Z2: JUK3 | AA2: JUK4 | AB2: JUK5 | AC2: JUK6 | AD2: JUK7 | AE2: JUK8 | AF2: JUK9 | AG2: JUK10 | AH2: JUK11 | AI2: JUK12 | AJ2: JUK13 | AK2: JUK14 | AL2: JUK15 | AM2: JUK16 | AN2: JUK17 | AO2: JUK18 | AP2: JUK19 | AQ2: JUK20 | AR2: 자재구분 | AS2: 공종구분 | AT2: 공종레벨 | AU2: 공종+자재 | AV2: 고유번호
E3: 단 가 | F3: 금 액 | G3: 단 가 | H3: 금 액 | I3: 단 가 | J3: 금 액 | K3: 단 가 | L3: 금 액
A4: 옥외인입 및 수변전설비공사 | Q4: 010101
A5: 피뢰장치및액세서리 | B5: 피뢰기, 18kV, 2.5kA | C5: 개 | D5: 3 | L5: =TRUNC(F5+H5+J5, 0) -> 0 | N5: 5E5165B6F7446D8AB5C01C6D9D028BD5B9A580 | Q5: 010101 | R5: F | S5: F | T5: T | AU5: 0101015E5165B6F7446D8AB5C01C6D9D028BD5B9A580 | AV5: 4
A6: 애자 | B6: 내오손 결합애자, 157mm x 213mm | C6: 개 | D6: 3 | L6: =TRUNC(F6+H6+J6, 0) -> 0 | N6: 5E5165B6F74453841DFE3E6B430982D648D784 | Q6: 010101 | R6: F | S6: F | T6: T | AU6: 0101015E5165B6F74453841DFE3E6B430982D648D784 | AV6: 5
A7: 전기용밴드 | B7: 전기용밴드, 완금, 1방3호-200 | C7: 개 | D7: 3 | L7: =TRUNC(F7+H7+J7, 0) -> 0 | N7: 5E5165B6F74453841DF5C2698D9C81EBB6B52E | Q7: 010101 | R7: F | S7: F | T7: T | AU7: 0101015E5165B6F74453841DF5C2698D9C81EBB6B52E | AV7: 6
A8: 지중선용가선철물 | B8: 지중선용가선철물, Cable헤드지지금구, 상하부용 | C8: 개 | D8: 1 | L8: =TRUNC(F8+H8+J8, 0) -> 0 | N8: 5E5165B6F74453841CD0E1648C9D8CD0AB982E | Q8: 010101 | R8: F | S8: F | T8: T | AU8: 0101015E5165B6F74453841CD0E1648C9D8CD0AB982E | AV8: 7
A9: 지중선용가선철물 | B9: 브라켓트, 경완금취부용COS및LA용 | C9: 개 | D9: 6 | L9: =TRUNC(F9+H9+J9, 0) -> 0 | N9: 5E5165B6F74453841CD0E1648C9D8CD0AB99CC | Q9: 010101 | R9: F | S9: F | T9: T | AU9: 0101015E5165B6F74453841CD0E1648C9D8CD0AB99CC | AV9: 8
A10: 파상형 경질폴리에틸렌 전선관 | B10: 125mm | C10: m | D10: 36 | L10: =TRUNC(F10+H10+J10, 0) -> 0 | M10: 호표 1 | N10: 5930E5465440248359C8436CB76F89 | Q10: 010101 | R10: T | S10: F | T10: F | AU10: 0101015930E5465440248359C8436CB76F89 | AV10: 9
A11: 경질비닐전선관 | B11: 22mm, 노출 | C11: m | D11: 59 | L11: =TRUNC(F11+H11+J11, 0) -> 0 | M11: 호표 2 | N11: 5930E545484906831CBA9E66A9F18D | Q11: 010101 | R11: T | S11: F | T11: F | AU11: 0101015930E545484906831CBA9E66A9F18D | AV11: 10
A12: 경질비닐전선관 | B12: 28mm, 노출 | C12: m | D12: 4 | L12: =TRUNC(F12+H12+J12, 0) -> 0 | M12: 호표 3 | N12: 5930E545484979803DA7F36D122487 | Q12: 010101 | R12: T | S12: F | T12: F | AU12: 0101015930E545484979803DA7F36D122487 | AV12: 11
A13: 경질비닐전선관 | B13: 42mm, 노출 | C13: m | D13: 20 | L13: =TRUNC(F13+H13+J13, 0) -> 0 | M13: 호표 4 | N13: 5930E54548495E824147276490B281 | Q13: 010101 | R13: T | S13: F | T13: F | AU13: 0101015930E54548495E824147276490B281 | AV13: 12
A14: 전력케이블 | B14: FR-CN/CO-W, 22.9KV, 1C 60㎟, 3열포설 1열당 | C14: m | D14: 54 | L14: =TRUNC(F14+H14+J14, 0) -> 0 | M14: 호표 5 | N14: 593095C7EE4C2E869081FC6523F082 | Q14: 010101 | R14: T | S14: F | T14: F | AU14: 010101593095C7EE4C2E869081FC6523F082 | AV14: 13
A15: 절연전선 | B15: F-GV, 16㎟, 관내포설 | C15: m | D15: 10 | L15: =TRUNC(F15+H15+J15, 0) -> 0 | M15: 호표 6 | N15: 5930A52A28403581CCACCB64EDEB85 | Q15: 010101 | R15: T | S15: F | T15: F | AU15: 0101015930A52A28403581CCACCB64EDEB85 | AV15: 14
A16: 절연전선 | B16: F-GV, 25㎟, 관내포설 | C16: m | D16: 53 | L16: =TRUNC(F16+H16+J16, 0) -> 0 | M16: 호표 7 | N16: 5930A52A2840098AB1808563D0338B | Q16: 010101 | R16: T | S16: F | T16: F | AU16: 0101015930A52A2840098AB1808563D0338B | AV16: 15
A17: 절연전선 | B17: F-GV, 35㎟, 관내포설 | C17: m | D17: 4 | L17: =TRUNC(F17+H17+J17, 0) -> 0 | M17: 호표 8 | N17: 5930A52A28401A83502C076EB0A388 | Q17: 010101 | R17: T | S17: F | T17: F | AU17: 0101015930A52A28401A83502C076EB0A388 | AV17: 16
A18: 절연전선 | B18: F-GV, 120㎟, 관내포설 | C18: m | D18: 20 | L18: =TRUNC(F18+H18+J18, 0) -> 0 | M18: 호표 9 | N18: 5930A52A2847408B8E5AF36CE05082 | Q18: 010101 | R18: T | S18: F | T18: F | AU18: 0101015930A52A2847408B8E5AF36CE05082 | AV18: 17
A19: 케이블단말접속자재 | B19: 자기수축, 23KV, 1C, 60-70㎟, 구내 | C19: Kit | D19: 3 | L19: =TRUNC(F19+H19+J19, 0) -> 0 | M19: 호표 10 | N19: 593095CD714E2F8E2C58E46C30F389 | Q19: 010101 | R19: T | S19: F | T19: F | AU19: 010101593095CD714E2F8E2C58E46C30F389 | AV19: 18
A20: 압착단자 | B20: 압착터미널, 35㎟, 1C 구내 | C20: 개소 | D20: 6 | L20: =TRUNC(F20+H20+J20, 0) -> 0 | M20: 호표 11 | N20: 593095D0C94447883EA4D4601D7A81 | Q20: 010101 | R20: T | S20: F | T20: F | AU20: 010101593095D0C94447883EA4D4601D7A81 | AV20: 19
A21: 압착단자 | B21: 압착터미널, 120㎟, 1C 구내 | C21: 개소 | D21: 4 | L21: =TRUNC(F21+H21+J21, 0) -> 0 | M21: 호표 12 | N21: 593095D0C9447C89683705649BD58D | Q21: 010101 | R21: T | S21: F | T21: F | AU21: 010101593095D0C9447C89683705649BD58D | AV21: 20
... A30: 관로구방수 | B30: ø125 | C30: 개 | D30: 2 | L30: =TRUNC(F30+H30+J30, 0) -> 0 | M30: 호표 18 | N30: 5930E54ACF42808A35365166153E83 | Q30: 010101 | R30: T | S30: F | T30: F | AU30: 0101015930E54ACF42808A35365166153E83 | AV30: 29
A51: [ 합 계 ] | L51: =SUM(L5:L50) -> 0 | N51: TOTAL
A52: 옥외인입공사 | Q52: 010102
A53: 경질비닐전선관 | B53: 54mm, 매입 | C53: m | D53: 96 | L53: =TRUNC(F53+H53+J53, 0) -> 0 | M53: 호표 19 | N53: 5930E54548494D89A23A176C9D9B81 | Q53: 010102 | R53: T | S53: F | T53: F | AU53: 0101025930E54548494D89A23A176C9D9B81 | AV53: 31
A54: 풀박스 | B54: 200X200X150mm, 노출, 벽면 | C54: 개 | D54: 1 | L54: =TRUNC(F54+H54+J54, 0) -> 0 | M54: 호표 20 | N54: 5930E5481E43C88B37063667436280 | Q54: 010102 | R54: T | S54: F | T54: F | AU54: 0101025930E5481E43C88B37063667436280 | AV54: 32
A55: 핸드홀(수공1호) | B55: 950*450*700 | C55: 조 | D55: 1 | L55: =TRUNC(F55+H55+J55, 0) -> 0 | M55: 호표 21 | N55: 5931657C114C9C8B803D9B69B3BF86 | Q55: 010102 | R55: T | S55: F | T55: F | AU55: 0101025931657C114C9C8B803D9B69B3BF86 | AV55: 33
A56: 관로구방수 | B56: ø125 | C56: 개 | D56: 3 | L56: =TRUNC(F56+H56+J56, 0) -> 0 | M56: 호표 18 | N56: 5930E54ACF42808A35365166153E83 | Q56: 010102 | R56: T | S56: F | T56: F | AU56: 0101025930E54ACF42808A35365166153E83 | AV56: 34
A75: [ 합 계 ] | L75: =SUM(L53:L74) -> 0 | N75: TOTAL
A76: 전력간선 설비공사 | Q76: 010103
A77: 분전함 L-1-M | C77: 면 | D77: 1 | L77: =TRUNC(F77+H77+J77, 0) -> 0 | M77: 호표 22 | N77: 593005242B40018A8EAD3E6D063B89 | Q77: 010103 | R77: T | S77: F | T77: F | AU77: 010103593005242B40018A8EAD3E6D063B89 | AV77: 36
A78: 분전함 L-1-A | C78: 면 | D78: 1 | L78: =TRUNC(F78+H78+J78, 0) -> 0 | M78: 호표 23 | N78: 593005242B403D81C8CBB16F3E728E | Q78: 010103 | R78: T | S78: F | T78: F | AU78: 010103593005242B403D81C8CBB16F3E728E | AV78: 37
A79: 강제전선관 | B79: 아연도, 28mm, 노출(앵커볼트 설치하는 경우 제외) | C79: m | D79: 5 | L79: =TRUNC(F79+H79+J79, 0) -> 0 | M79: 호표 24 | N79: 5930E5454A444687216D5B69932289 | Q79: 010103 | R79: T | S79: F | T79: F | AU79: 0101035930E5454A444687216D5B69932289 | AV79: 38
A80: 강제전선관 | B80: 아연도, 28mm, 매입(또는 앵커볼트 설치에 따른 노출공사) | C80: m | D80: 4.5 | L80: =TRUNC(F80+H80+J80, 0) -> 0 | M80: 호표 25 | N80: 5930E5454A444682BFCA056A357583 | Q80: 010103 | R80: T | S80: F | T80: F | AU80: 0101035930E5454A444682BFCA056A357583 | AV80: 39
A81: 강제전선관 | B81: 아연도, 42mm, 노출(앵커볼트 설치하는 경우 제외) | C81: m | D81: 6 | L81: =TRUNC(F81+H81+J81, 0) -> 0 | M81: 호표 26 | N81: 5930E5454A446182C90EA06E00D581 | Q81: 010103 | R81: T | S81: F | T81: F | AU81: 0101035930E5454A446182C90EA06E00D581 | AV81: 40
A82: 강제전선관 | B82: 아연도, 42mm, 매입(또는 앵커볼트 설치에 따른 노출공사) | C82: m | D82: 20 | L82: =TRUNC(F82+H82+J82, 0) -> 0 | M82: 호표 27 | N82: 5930E5454A4461874B48016631CC8A | Q82: 010103 | R82: T | S82: F | T82: F | AU82: 0101035930E5454A4461874B48016631CC8A | AV82: 41
A83: 강제전선관 | B83: 아연도, 54mm, 노출(앵커볼트 설치하는 경우 제외) | C83: m | D83: 3 | L83: =TRUNC(F83+H83+J83, 0) -> 0 | M83: 호표 28 | N83: 5930E5454A44738B80ACC6665EF18D | Q83: 010103 | R83: T | S83: F | T83: F | AU83: 0101035930E5454A44738B80ACC6665EF18D | AV83: 42
A84: 강제전선관 | B84: 아연도, 54mm, 매입(또는 앵커볼트 설치에 따른 노출공사) | C84: m | D84: 7 | L84: =TRUNC(F84+H84+J84, 0) -> 0 | M84: 호표 29 | N84: 5930E5454A44738E540B4762D35787 | Q84: 010103 | R84: T | S84: F | T84: F | AU84: 0101035930E5454A44738E540B4762D35787 | AV84: 43
A85: 1종금속제가요전선관 | B85: 28mm 방수, 노출 | C85: m | D85: 2 | L85: =TRUNC(F85+H85+J85, 0) -> 0 | M85: 호표 30 | N85: 5930E545494BEB8ABC5311604AA389 | Q85: 010103 | R85: T | S85: F | T85: F | AU85: 0101035930E545494BEB8ABC5311604AA389 | AV85: 44
A86: 전력케이블 | B86: F-CV, 0.6/1kV, 4C 2.5㎟ | C86: m | D86: 11.5 | L86: =TRUNC(F86+H86+J86, 0) -> 0 | M86: 호표 31 | N86: 593095C6C24BA1886FBA826E0ABA83 | Q86: 010103 | R86: T | S86: F | T86: F | AU86: 010103593095C6C24BA1886FBA826E0ABA83 | AV86: 45
...

Sheet 공량설정_일위대가
A1: 일위대가 | B1: 적용율(%) | C1: 소수점이하자릿수 | D1: 일위대가 코드
A2: 파상형 경질폴리에틸렌 전선관 125mm (호표 1) | B2: 100 | D2: 5930E5465440248359C8436CB76F89
A3: 보통인부 | C3: 3 | D3: 5930E5465440248359C8436CB76F8959AA5540E048C48F14B9336B086782CEA69C67
A4: 배전전공 | C4: 3 | D4: 5930E5465440248359C8436CB76F8959AA5540E048C48F14B9336B086782CEA69411
A5: 경질비닐전선관 22mm, 노출 (호표 2) | B5: 100 | D5: 5930E545484906831CBA9E66A9F18D
A6: 내선전공 | C6: 4 | D6: 5930E545484906831CBA9E66A9F18D59AA5540E048C48F14B9336B086782CEA69B5A
A7: 경질비닐전선관 28mm, 노출 (호표 3) | B7: 100 | D7: 5930E545484979803DA7F36D122487
A8: 내선전공 | C8: 4 | D8: 5930E545484979803DA7F36D12248759AA5540E048C48F14B9336B086782CEA69B5A
A9: 경질비닐전선관 42mm, 노출 (호표 4) | B9: 100 | D9: 5930E54548495E824147276490B281
A10: 내선전공 | C10: 4 | D10: 5930E54548495E824147276490B28159AA5540E048C48F14B9336B086782CEA69B5A
A11: 전력케이블 FR-CN/CO-W, 22.9KV, 1C 60㎟, 3열포설 1열당 (호표 5) | B11: 100 | D11: 593095C7EE4C2E869081FC6523F082
A12: 특고압케이블전공 | C12: 4 | D12: 593095C7EE4C2E869081FC6523F08259AA5540E048C48F14B9336B086782CEA69B59
A13: 보통인부 | C13: 4 | D13: 593095C7EE4C2E869081FC6523F08259AA5540E048C48F14B9336B086782CEA69C67
A14: 절연전선 F-GV, 16㎟, 관내포설 (호표 6) | B14: 100 | D14: 5930A52A28403581CCACCB64EDEB85
A15: 내선전공 | C15: 4 | D15: 5930A52A28403581CCACCB64EDEB8559AA5540E048C48F14B9336B086782CEA69B5A
A16: 절연전선 F-GV, 25㎟, 관내포설 (호표 7) | B16: 100 | D16: 5930A52A2840098AB1808563D0338B
A17: 내선전공 | C17: 4 | D17: 5930A52A2840098AB1808563D0338B59AA5540E048C48F14B9336B086782CEA69B5A
A18: 절연전선 F-GV, 35㎟, 관내포설 (호표 8) | B18: 100 | D18: 5930A52A28401A83502C076EB0A388
A19: 내선전공 | C19: 4 | D19: 5930A52A28401A83502C076EB0A38859AA5540E048C48F14B9336B086782CEA69B5A
A20: 절연전선 F-GV, 120㎟, 관내포설 (호표 9) | B20: 100 | D20: 5930A52A2847408B8E5AF36CE05082
A21: 내선전공 | C21: 4 | D21: 5930A52A2847408B8E5AF36CE0508259AA5540E048C48F14B9336B086782CEA69B5A
A22: 케이블단말접속자재 자기수축, 23KV, 1C, 60-70㎟, 구내 (호표 10) | B22: 100 | D22: 593095CD714E2F8E2C58E46C30F389
A23: 특고압케이블전공 | C23: 2 | D23: 593095CD714E2F8E2C58E46C30F38959AA5540E048C48F14B9336B086782CEA69B59
A24: 압착단자 압착터미널, 35㎟, 1C 구내 (호표 11) | B24: 100 | D24: 593095D0C94447883EA4D4601D7A81
A25: 저압케이블전공 | C25: 3 | D25: 593095D0C94447883EA4D4601D7A8159AA5540E048C48F14B9336B086782CEA69B57
A26: 압착단자 압착터미널, 120㎟, 1C 구내 (호표 12) | B26: 100 | D26: 593095D0C9447C89683705649BD58D
A27: 저압케이블전공 | C27: 4 | D27: 593095D0C9447C89683705649BD58D59AA5540E048C48F14B9336B086782CEA69B57
A28: 풀박스 400X400X300mm, 노출, 천정 (호표 13) | B28: 100 | D28: 5930E5481E439389E2CD9662571E89
A29: 내선전공 | C29: 3 | D29: 5930E5481E439389E2CD9662571E8959AA5540E048C48F14B9336B086782CEA69B5A
A30: 접지봉 14Φ×1000mm (호표 14) | B30: 100 | D30: 5930A5287C4598830BC17C6E25B686
A31: 내선전공 | C31: 2 | D31: 5930A5287C4598830BC17C6E25B68659AA5540E048C48F14B9336B086782CEA69B5A
A32: 보통인부 | C32: 2 | D32: 5930A5287C4598830BC17C6E25B68659AA5540E048C48F14B9336B086782CEA69C67
A33: 크램프 접지크램프, 28C (호표 15) | B33: 100 | D33: 5930A52A2F4B5180F4AE706FD88A8D
A34: 내선전공 | C34: 2 | D34: 5930A52A2F4B5180F4AE706FD88A8D59AA5540E048C48F14B9336B086782CEA69B5A
A35: 모래깔기지정 인력 (호표 16) | B35: 100 | D35: 597A351ACE47CA84055B536D6ABC8C
A36: 보통인부 | C36: 1 | D36: 597A351ACE47CA84055B536D6ABC8C59AA5540E048C48F14B9336B086782CEA69C67
A37: 전주입상관 특고압용 (호표 17) | B37: 100 | D37: 5930F5ADC34BA183DE8459699F5A8B
A38: 배전전공 | C38: 2 | D38: 5930F5ADC34BA183DE8459699F5A8B59AA5540E048C48F14B9336B086782CEA69411
A39: 보통인부 | C39: 2 | D39: 5930F5ADC34BA183DE8459699F5A8B59AA5540E048C48F14B9336B086782CEA69C67
A40: 관로구방수 ø125 (호표 18) | B40: 100 | D40: 5930E54ACF42808A35365166153E83
...

Sheet  공사설정 
A1: 이 Sheet는 수정하지 마십시요
A2: 공사구분 | B2: D | C2: 타이틀
A3: 확정내역 | B3: 원내역
A4: 자재단가적용 | B4: 5
A5: 경비단가적용 | B5: 5
A6: 품목코드형식 | B6: XXXX-XXXXXXXXXXXXX
A7: 내역금액소수점처리 | B7: C | C7: 1
A8: 일위대가내역소수점처리 | B8: C | C8: 3
A9: 단가명 | B9: 가격정보 | C9: 물가자료 | D9: 물가정보 | E9: 유통물가 | F9: 조사가격 | G9: TTTFT
A10: 환율 | B10: 1153.3 | C10: 0 | D10: 0
A11: 시간당작업량 | B11: R | C11: 4
A12: 1회 사이클시간 | B12: R | C12: 4
A13: 시간당 작업사이클 | B13: R | C13: 3
A14: 일반변수 | B14: C | C14: 5
A15: 시간당 노임산출 계수 | B15: A | C15: 1/8*16/12*25/20 | D15: 1/8*16/12*25/20 | E15: 1/8*16/12*25/20 | F15: 1
A16: 재료비 할증 계수 | B16: 0 | C16: 0
A17: 노무비 할증 계수 | B17: 0 | C17: 0 | D17: 0 | E17: 0 | F17: 0 | G17: 0 | H17: 0 | I17: 0 | J17: 0 | K17: 0 | L17: 0 | M17: 0
A18: 경비 할증 계수 | B18: 0 | C18: 0
A19: 내역,일위대가 품명,규격,단위 따로적용
A20: 내역단가 소수점처리 | C20: 1
A21: 코드 | B21: 공종구분명 | C21: 원가비목코드
A22: 1 | B22: 작 업 부 산 물 | C22: A3
A23: 2 | B23: 운 반 비 | C23: C1
A24: 3 | B24: 관급자 관급자재 | C24: DJ
A25: 4 | B25: 도급자 관급자재 | C25: DK
A26: 5 | B26: 한전불입금 | C26: E1
A27: 6 | B27: 재해예방기술지도비 | C27: E2
A28: 7 | B28: ...
A29: 8 | B29: ...
A30: 9 | B30: ...

Sheet Sheet1
A1: ㅗ
