Workbook

Sheet 원가계산서
B1: 공 사 원 가 계 산 서
B2: 공사명 : 모빌리티전자파안전성평가지원센터전기공사-총차 | F2: ="금액 : "&TEXT(E32,"[DBNUM4]")&"원(\" & TEXT(E32,"#,###")&")" -> 금액 : 영원(\)
B3: 비 목 | E3: 금 액 | F3: 구 성 비 | G3: 비 고
A4: A1 | B4: 순 공 사 원 가 | C4: 재 료 비 | D4: 직 접 재 료 비 | E4: =TRUNC(공종별집계표!F5, 0) -> 0
A5: A2 | D5: 간 접 재 료 비 | E5: 0
A6: A3 | D6: 작업설, 부산물(△) | E6: 0
A7: AS | D7: [ 소 계 ] | E7: =TRUNC(E4+E5-E6, 0) -> 0
A8: B1 | C8: 노 무 비 | D8: 직 접 노 무 비 | E8: =TRUNC(공종별집계표!H5, 0) -> 0
A9: B2 | D9: 간 접 노 무 비 | E9: =TRUNC(E8*0.152, 0) -> 0 | F9: 직접노무비 * 15.2%
A10: BS | D10: [ 소 계 ] | E10: =TRUNC(E8+E9, 0) -> 0
A11: C2 | C11: 경 비 | D11: 경 비 | E11: =TRUNC(공종별집계표!J5, 0) -> 0
A12: C4 | D12: 산 재 보 험 료 | E12: =TRUNC(E10*0.0356, 0) -> 0 | F12: 노무비 * 3.56%
A13: C5 | D13: 고 용 보 험 료 | E13: =TRUNC(E10*0.0101, 0) -> 0 | F13: 노무비 * 1.01%
A14: C6 | D14: 국민 건강 보험료 | E14: =TRUNC(E8*0.03545, 0) -> 0 | F14: 직접노무비 * 3.545%
A15: C7 | D15: 국민 연금 보험료 | E15: =TRUNC(E8*0.045, 0) -> 0 | F15: 직접노무비 * 4.5%
A16: C8 | D16: 퇴직 공제 부금비 | E16: =TRUNC(E8*0.023, 0) -> 0 | F16: 직접노무비 * 2.3%
A17: CA | D17: 산업안전보건관리비 | E17: =TRUNC((E7+E8+(E28/1.1))*0.0311, 0) -> 0 | F17: (재료비+직노+도급자관급자재비) * 3.11%
A18: CB | D18: 노인장기요양보험료 | E18: =TRUNC(E14*0.1295, 0) -> 0 | F18: 건강보험료 * 12.95%
A19: CG | D19: 기 타 경 비 | E19: =TRUNC((E7+E10)*0.047, 0) -> 0 | F19: (재료비+노무비) * 4.7%
A20: CS | D20: [ 소 계 ] | E20: =TRUNC(E11+E12+E13+E14+E15+E16+E17+E18+E19, 0) -> 0
A21: S1 | B21: 계 | E21: =TRUNC(E7+E10+E20, 0) -> 0
A22: D1 | B22: 일 반 관 리 비 | E22: =TRUNC(E21*0.04, 0) -> 0 | F22: 계 * 4%
A23: D2 | B23: 이 윤 | E23: =TRUNC((E10+E20+E22)*0.1, 0) -> 0 | F23: (노무비+경비+일반관리비) * 10%
A24: D9 | B24: 공 급 가 액 | E24: =TRUNC(E21+E22+E23, 0) -> 0
A25: DB | B25: 부 가 가 치 세 | E25: =TRUNC(E24*0.1, 0) -> 0 | F25: 공급가액 * 10%
A26: DH | B26: 도 급 액 | E26: =TRUNC(E24+E25, 0) -> 0
A27: DJ | B27: 관급자 관급자재 | E27: =TRUNC(공종별집계표!T19, 0) -> 0
A28: DK | B28: 도급자 관급자재 | E28: =TRUNC(공종별집계표!T22, 0) -> 0
A29: S2 | B29: 총 공 사 비 | E29: =TRUNC(E26+E27+E28, 0) -> 0
A30: E1 | B30: 한전불입금 | E30: =TRUNC(공종별집계표!T26, 0) -> 0
A31: E2 | B31: 재해예방기술지도비 | E31: =TRUNC(공종별집계표!T29, 0) -> 0
A32: S3 | B32: 총 계 | E32: =TRUNC(E29+E30+E31, -3) -> 0 | G32: 천단위미만절사

Sheet 공종별집계표
A1: 공 종 별 집 계 표
A2: [ 모빌리티전자파안전성평가지원센터전기공사 ]
A3: 품 명 | B3: 규 격 | C3: 단위 | D3: 수량 | E3: 재 료 비 | G3: 노 무 비 | I3: 경 비 | K3: 합 계 | M3: 비 고 | N3: 공종코드 | O3: 변수 | P3: 상위공종 | Q3: 공종구분 | R3: 공종레벨 | S3: 공종소계 | T3: 원가계산서 연결금액
E4: 단 가 | F4: 금 액 | G4: 단 가 | H4: 금 액 | I4: 단 가 | J4: 금 액 | K4: 단 가 | L4: 금 액
A5: 모빌리티전자파안전성평가지원센터전기공사 | D5: 1 | E5: =F6 -> 0 | F5: =E5*D5 -> 0 | G5: =H6 -> 0 | H5: =G5*D5 -> 0 | I5: =J6 -> 0 | J5: =I5*D5 -> 0 | K5: =E5+G5+I5 -> 0 | L5: =F5+H5+J5 -> 0 | N5: 01 | R5: 1
A6: 전기공사 | D6: 1 | E6: =F7+F8+F9+F10+F11+F13+F16+F17+F18 -> 0 | F6: =E6*D6 -> 0 | G6: =H7+H8+H9+H10+H11+H13+H16+H17+H18 -> 0 | H6: =G6*D6 -> 0 | I6: =J7+J8+J9+J10+J11+J13+J16+J17+J18 -> 0 | J6: =I6*D6 -> 0 | K6: =E6+G6+I6 -> 0 | L6: =F6+H6+J6 -> 0 | N6: 0101 | P6: 01 | R6: 2
A7: 옥외인입 및 수변전설비공사 | D7: 1 | E7: =공종별내역서!F51 -> 0 | F7: =E7*D7 -> 0 | G7: =공종별내역서!H51 -> 0 | H7: =G7*D7 -> 0 | I7: =공종별내역서!J51 -> 0 | J7: =I7*D7 -> 0 | K7: =E7+G7+I7 -> 0 | L7: =F7+H7+J7 -> 0 | N7: 010101 | P7: 0101 | R7: 3
A8: 옥외인입공사 | D8: 1 | E8: =공종별내역서!F75 -> 0 | F8: =E8*D8 -> 0 | G8: =공종별내역서!H75 -> 0 | H8: =G8*D8 -> 0 | I8: =공종별내역서!J75 -> 0 | J8: =I8*D8 -> 0 | K8: =E8+G8+I8 -> 0 | L8: =F8+H8+J8 -> 0 | N8: 010102 | P8: 0101 | R8: 3
A9: 전력간선 설비공사 | D9: 1 | E9: =공종별내역서!F123 -> 0 | F9: =E9*D9 -> 0 | G9: =공종별내역서!H123 -> 0 | H9: =G9*D9 -> 0 | I9: =공종별내역서!J123 -> 0 | J9: =I9*D9 -> 0 | K9: =E9+G9+I9 -> 0 | L9: =F9+H9+J9 -> 0 | N9: 010103 | P9: 0101 | R9: 3
A10: 배관공사 | D10: 1 | E10: =공종별내역서!F147 -> 0 | F10: =E10*D10 -> 0 | G10: =공종별내역서!H147 -> 0 | H10: =G10*D10 -> 0 | I10: =공종별내역서!J147 -> 0 | J10: =I10*D10 -> 0 | K10: =E10+G10+I10 -> 0 | L10: =F10+H10+J10 -> 0 | N10: 010104 | P10: 0101 | R10: 3
A11: 전열 설비공사 | D11: 1 | E11: =F12 -> 0 | F11: =E11*D11 -> 0 | G11: =H12 -> 0 | H11: =G11*D11 -> 0 | I11: =J12 -> 0 | J11: =I11*D11 -> 0 | K11: =E11+G11+I11 -> 0 | L11: =F11+H11+J11 -> 0 | N11: 010105 | P11: 0101 | R11: 3
A12: 지상1층 전열설비공사 | D12: 1 | E12: =공종별내역서!F171 -> 0 | F12: =E12*D12 -> 0 | G12: =공종별내역서!H171 -> 0 | H12: =G12*D12 -> 0 | I12: =공종별내역서!J171 -> 0 | J12: =I12*D12 -> 0 | K12: =E12+G12+I12 -> 0 | L12: =F12+H12+J12 -> 0 | N12: 01010501 | P12: 010105 | R12: 4
A13: 전등설비공사 | D13: 1 | E13: =F14+F15 -> 0 | F13: =E13*D13 -> 0 | G13: =H14+H15 -> 0 | H13: =G13*D13 -> 0 | I13: =J14+J15 -> 0 | J13: =I13*D13 -> 0 | K13: =E13+G13+I13 -> 0 | L13: =F13+H13+J13 -> 0 | N13: 010106 | P13: 0101 | R13: 3
A14: 지상1층 전등설비공사 | D14: 1 | E14: =공종별내역서!F219 -> 0 | F14: =E14*D14 -> 0 | G14: =공종별내역서!H219 -> 0 | H14: =G14*D14 -> 0 | I14: =공종별내역서!J219 -> 0 | J14: =I14*D14 -> 0 | K14: =E14+G14+I14 -> 0 | L14: =F14+H14+J14 -> 0 | N14: 01010601 | P14: 010106 | R14: 4
A15: 옥외보안등설비공사 | D15: 1 | E15: =공종별내역서!F243 -> 0 | F15: =E15*D15 -> 0 | G15: =공종별내역서!H243 -> 0 | H15: =G15*D15 -> 0 | I15: =공종별내역서!J243 -> 0 | J15: =I15*D15 -> 0 | K15: =E15+G15+I15 -> 0 | L15: =F15+H15+J15 -> 0 | N15: 01010602 | P15: 010106 | R15: 4
A16: 냉난방 설비공사 | D16: 1 | E16: =공종별내역서!F267 -> 0 | F16: =E16*D16 -> 0 | G16: =공종별내역서!H267 -> 0 | H16: =G16*D16 -> 0 | I16: =공종별내역서!J267 -> 0 | J16: =I16*D16 -> 0 | K16: =E16+G16+I16 -> 0 | L16: =F16+H16+J16 -> 0 | N16: 010107 | P16: 0101 | R16: 3
A17: CABLE TRAY 설비공사 | D17: 1 | E17: =공종별내역서!F291 -> 0 | F17: =E17*D17 -> 0 | G17: =공종별내역서!H291 -> 0 | H17: =G17*D17 -> 0 | I17: =공종별내역서!J291 -> 0 | J17: =I17*D17 -> 0 | K17: =E17+G17+I17 -> 0 | L17: =F17+H17+J17 -> 0 | N17: 010108 | P17: 0101 | R17: 3
A18: 접지 설비공사 | D18: 1 | E18: =공종별내역서!F315 -> 0 | F18: =E18*D18 -> 0 | G18: =공종별내역서!H315 -> 0 | H18: =G18*D18 -> 0 | I18: =공종별내역서!J315 -> 0 | J18: =I18*D18 -> 0 | K18: =E18+G18+I18 -> 0 | L18: =F18+H18+J18 -> 0 | N18: 010109 | P18: 0101 | R18: 3
A19: 관급자설치관급자재 | D19: 1 | E19: =F20+F21 -> 0 | F19: =E19*D19 -> 0 | G19: =H20+H21 -> 0 | H19: =G19*D19 -> 0 | I19: =J20+J21 -> 0 | J19: =I19*D19 -> 0 | K19: =E19+G19+I19 -> 0 | L19: =F19+H19+J19 -> 0 | N19: 0102 | Q19: 3 | R19: 2 | T19: =L19*1 -> 0
A20: 수배전반 | D20: 1 | E20: =공종별내역서!F339 -> 0 | F20: =E20*D20 -> 0 | G20: =공종별내역서!H339 -> 0 | H20: =G20*D20 -> 0 | I20: =공종별내역서!J339 -> 0 | J20: =I20*D20 -> 0 | K20: =E20+G20+I20 -> 0 | L20: =F20+H20+J20 -> 0 | N20: 010201 | P20: 0102 | R20: 3
A21: 메시형울타리 | D21: 1 | E21: =공종별내역서!F363 -> 0 | F21: =E21*D21 -> 0 | G21: =공종별내역서!H363 -> 0 | H21: =G21*D21 -> 0 | I21: =공종별내역서!J363 -> 0 | J21: =I21*D21 -> 0 | K21: =E21+G21+I21 -> 0 | L21: =F21+H21+J21 -> 0 | N21: 010202 | P21: 0102 | R21: 3
A22: 도급자설치관급자재 | D22: 1 | E22: =F23+F24+F25 -> 0 | F22: =E22*D22 -> 0 | G22: =H23+H24+H25 -> 0 | H22: =G22*D22 -> 0 | I22: =J23+J24+J25 -> 0 | J22: =I22*D22 -> 0 | K22: =E22+G22+I22 -> 0 | L22: =F22+H22+J22 -> 0 | N22: 0103 | Q22: 4 | R22: 2 | T22: =L22*1 -> 0
A23: 분전반 | D23: 1 | E23: =공종별내역서!F387 -> 0 | F23: =E23*D23 -> 0 | G23: =공종별내역서!H387 -> 0 | H23: =G23*D23 -> 0 | I23: =공종별내역서!J387 -> 0 | J23: =I23*D23 -> 0 | K23: =E23+G23+I23 -> 0 | L23: =F23+H23+J23 -> 0 | N23: 010301 | P23: 0103 | R23: 3
A24: LED등기구 | D24: 1 | E24: =공종별내역서!F411 -> 0 | F24: =E24*D24 -> 0 | G24: =공종별내역서!H411 -> 0 | H24: =G24*D24 -> 0 | I24: =공종별내역서!J411 -> 0 | J24: =I24*D24 -> 0 | K24: =E24+G24+I24 -> 0 | L24: =F24+H24+J24 -> 0 | N24: 010302 | P24: 0103 | R24: 3
A25: LED보안등 | D25: 1 | E25: =공종별내역서!F435 -> 0 | F25: =E25*D25 -> 0 | G25: =공종별내역서!H435 -> 0 | H25: =G25*D25 -> 0 | I25: =공종별내역서!J435 -> 0 | J25: =I25*D25 -> 0 | K25: =E25+G25+I25 -> 0 | L25: =F25+H25+J25 -> 0 | N25: 010303 | P25: 0103 | R25: 3
A26: 별도공사(한전불입금, 사용전검사료) | D26: 1 | E26: =F27+F28 -> 0 | F26: =E26*D26 -> 0 | G26: =H27+H28 -> 0 | H26: =G26*D26 -> 0 | I26: =J27+J28 -> 0 | J26: =I26*D26 -> 0 | K26: =E26+G26+I26 -> 0 | L26: =F26+H26+J26 -> 0 | N26: 0104 | Q26: 5 | R26: 2 | T26: =L26*1 -> 0
A27: 한전불입금 | D27: 1 | E27: =공종별내역서!F459 -> 0 | F27: =E27*D27 -> 0 | G27: =공종별내역서!H459 -> 0 | H27: =G27*D27 -> 0 | I27: =공종별내역서!J459 -> 0 | J27: =I27*D27 -> 0 | K27: =E27+G27+I27 -> 0 | L27: =F27+H27+J27 -> 0 | N27: 010401 | P27: 0104 | R27: 3
A28: 사용전검사료 | D28: 1 | E28: =공종별내역서!F483 -> 0 | F28: =E28*D28 -> 0 | G28: =공종별내역서!H483 -> 0 | H28: =G28*D28 -> 0 | I28: =공종별내역서!J483 -> 0 | J28: =I28*D28 -> 0 | K28: =E28+G28+I28 -> 0 | L28: =F28+H28+J28 -> 0 | N28: 010402 | P28: 0104 | R28: 3
A29: 재해예방기술지도비 | D29: 1 | E29: =공종별내역서!F507 -> 0 | F29: =E29*D29 -> 0 | G29: =공종별내역서!H507 -> 0 | H29: =G29*D29 -> 0 | I29: =공종별내역서!J507 -> 0 | J29: =I29*D29 -> 0 | K29: =E29+G29+I29 -> 0 | L29: =F29+H29+J29 -> 0 | N29: 0105 | Q29: 6 | R29: 2 | T29: =L29*1 -> 0
A48: [ 합 계 ] | F48: =F5 -> 0 | H48: =H5 -> 0 | J48: =J5 -> 0 | L48: =L5 -> 0

Sheet 공종별내역서
A1: [ 모빌리티전자파안전성평가지원센터전기공사 ]
A2: 품 명 | B2: 규 격 | C2: 단위 | D2: 수량 | E2: 재 료 비 | G2: 노 무 비 | I2: 경 비 | K2: 합 계 | M2: 비 고 | N2: 품목코드 | O2: 변수 | P2: 설정 | Q2: 공종코드 | R2: 일위 | S2: 단산 | T2: 자재 | U2: 손료적용 | V2: 손료저장 | W2: 적용율 | X2: JUK1 | Y2: JUK2 | Z2: JUK3 | AA2: JUK4 | AB2: JUK5 | AC2: JUK6 | AD2: JUK7 | AE2: JUK8 | AF2: JUK9 | AG2: JUK10 | AH2: JUK11 | AI2: JUK12 | AJ2: JUK13 | AK2: JUK14 | AL2: JUK15 | AM2: JUK16 | AN2: JUK17 | AO2: JUK18 | AP2: JUK19 | AQ2: JUK20 | AR2: 자재구분 | AS2: 공종구분 | AT2: 공종레벨 | AU2: 공종+자재 | AV2: 고유번호
E3: 단 가 | F3: 금 액 | G3: 단 가 | H3: 금 액 | I3: 단 가 | J3: 금 액 | K3: 단 가 | L3: 금 액
A4: 옥외인입 및 수변전설비공사 | Q4: 010101
A5: 피뢰장치및액세서리 | B5: 피뢰기, 18kV, 2.5kA | C5: 개 | D5: 3 | L5: =TRUNC(F5+H5+J5, 0) -> 0 | N5: 5E5165B6F7446D8AB5C01C6D9D028BD5B9A580 | Q5: 010101 | R5: F | S5: F | T5: T | AU5: 0101015E5165B6F7446D8AB5C01C6D9D028BD5B9A580 | AV5: 4
A6: 애자 | B6: 내오손 결합애자, 157mm x 213mm | C6: 개 | D6: 3 | L6: =TRUNC(F6+H6+J6, 0) -> 0 | N6: 5E5165B6F74453841DFE3E6B430982D648D784 | Q6: 010101 | R6: F | S6: F | T6: T | AU6: 0101015E5165B6F74453841DFE3E6B430982D648D784 | AV6: 5
A7: 전기용밴드 | B7: 전기용밴드, 완금, 1방3호-200 | C7: 개 | D7: 3 | L7: =TRUNC(F7+H7+J7, 0) -> 0 | N7: 5E5165B6F74453841DF5C2698D9C81EBB6B52E | Q7: 010101 | R7: F | S7: F | T7: T | AU7: 0101015E5165B6F74453841DF5C2698D9C81EBB6B52E | AV7: 6
A8: 지중선용가선철물 | B8: 지중선용가선철물, Cable헤드지지금구, 상하부용 | C8: 개 | D8: 1 | L8: =TRUNC(F8+H8+J8, 0) -> 0 | N8: 5E5165B6F74453841CD0E1648C9D8CD0AB982E | Q8: 010101 | R8: F | S8: F | T8: T | AU8: 0101015E5165B6F74453841CD0E1648C9D8CD0AB982E | AV8: 7
A9: 지중선용가선철물 | B9: 브라켓트, 경완금취부용COS및LA용 | C9: 개 | D9: 6 | L9: =TRUNC(F9+H9+J9, 0) -> 0 | N9: 5E5165B6F74453841CD0E1648C9D8CD0AB99CC | Q9: 010101 | R9: F | S9: F | T9: T | AU9: 0101015E5165B6F74453841CD0E1648C9D8CD0AB99CC | AV9: 8
A10: 파상형 경질폴리에틸렌 전선관 | B10: 125mm | C10: m | D10: 36 | L10: =TRUNC(F10+H10+J10, 0) -> 0 | M10: 호표 1 | N10: 5930E5465440248359C8436CB76F89 | Q10: 010101 | R10: T | S10: F | T10: F | AU10: 0101015930E5465440248359C8436CB76F89 | AV10: 9
A11: 경질비닐전선관 | B11: 22mm, 노출 | C11: m | D11: 59 | L11: =TRUNC(F11+H11+J11, 0) -> 0 | M11: 호표 2 | N11: 5930E545484906831CBA9E66A9F18D | Q11: 010101 | R11: T | S11: F | T11: F | AU11: 0101015930E545484906831CBA9E66A9F18D | AV11: 10
A12: 경질비닐전선관 | B12: 28mm, 노출 | C12: m | D12: 4 | L12: =TRUNC(F12+H12+J12, 0) -> 0 | M12: 호표 3 | N12: 5930E545484979803DA7F36D122487 | Q12: 010101 | R12: T | S12: F | T12: F | AU12: 0101015930E545484979803DA7F36D122487 | AV12: 11
A13: 경질비닐전선관 | B13: 42mm, 노출 | C13: m | D13: 20 | L13: =TRUNC(F13+H13+J13, 0) -> 0 | M13: 호표 4 | N13: 5930E54548495E824147276490B281 | Q13: 010101 | R13: T | S13: F | T13: F | AU13: 0101015930E54548495E824147276490B281 | AV13: 12
A14: 전력케이블 | B14: FR-CN/CO-W, 22.9KV, 1C 60㎟, 3열포설 1열당 | C14: m | D14: 54 | L14: =TRUNC(F14+H14+J14, 0) -> 0 | M14: 호표 5 | N14: 593095C7EE4C2E869081FC6523F082 | Q14: 010101 | R14: T | S14: F | T14: F | AU14: 010101593095C7EE4C2E869081FC6523F082 | AV14: 13
A15: 절연전선 | B15: F-GV, 16㎟, 관내포설 | C15: m | D15: 10 | L15: =TRUNC(F15+H15+J15, 0) -> 0 | M15: 호표 6 | N15: 5930A52A28403581CCACCB64EDEB85 | Q15: 010101 | R15: T | S15: F | T15: F | AU15: 0101015930A52A28403581CCACCB64EDEB85 | AV15: 14
A16: 절연전선 | B16: F-GV, 25㎟, 관내포설 | C16: m | D16: 53 | L16: =TRUNC(F16+H16+J16, 0) -> 0 | M16: 호표 7 | N16: 5930A52A2840098AB1808563D0338B | Q16: 010101 | R16: T | S16: F | T16: F | AU16: 0101015930A52A2840098AB1808563D0338B | AV16: 15
A17: 절연전선 | B17: F-GV, 35㎟, 관내포설 | C17: m | D17: 4 | L17: =TRUNC(F17+H17+J17, 0) -> 0 | M17: 호표 8 | N17: 5930A52A28401A83502C076EB0A388 | Q17: 010101 | R17: T | S17: F | T17: F | AU17: 0101015930A52A28401A83502C076EB0A388 | AV17: 16
A18: 절연전선 | B18: F-GV, 120㎟, 관내포설 | C18: m | D18: 20 | L18: =TRUNC(F18+H18+J18, 0) -> 0 | M18: 호표 9 | N18: 5930A52A2847408B8E5AF36CE05082 | Q18: 010101 | R18: T | S18: F | T18: F | AU18: 0101015930A52A2847408B8E5AF36CE05082 | AV18: 17
A19: 케이블단말접속자재 | B19: 자기수축, 23KV, 1C, 60-70㎟, 구내 | C19: Kit | D19: 3 | L19: =TRUNC(F19+H19+J19, 0) -> 0 | M19: 호표 10 | N19: 593095CD714E2F8E2C58E46C30F389 | Q19: 010101 | R19: T | S19: F | T19: F | AU19: 010101593095CD714E2F8E2C58E46C30F389 | AV19: 18
A20: 압착단자 | B20: 압착터미널, 35㎟, 1C 구내 | C20: 개소 | D20: 6 | L20: =TRUNC(F20+H20+J20, 0) -> 0 | M20: 호표 11 | N20: 593095D0C94447883EA4D4601D7A81 | Q20: 010101 | R20: T | S20: F | T20: F | AU20: 010101593095D0C94447883EA4D4601D7A81 | AV20: 19
A21: 압착단자 | B21: 압착터미널, 120㎟, 1C 구내 | C21: 개소 | D21: 4 | L21: =TRUNC(F21+H21+J21, 0) -> 0 | M21: 호표 12 | N21: 593095D0C9447C89683705649BD58D | Q21: 010101 | R21: T | S21: F | T21: F | AU21: 010101593095D0C9447C89683705649BD58D | AV21: 20
... A30: 관로구방수 | B30: ø125 | C30: 개 | D30: 2 | L30: =TRUNC(F30+H30+J30, 0) -> 0 | M30: 호표 18 | N30: 5930E54ACF42808A35365166153E83 | Q30: 010101 | R30: T | S30: F | T30: F | AU30: 0101015930E54ACF42808A35365166153E83 | AV30: 29
A51: [ 합 계 ] | L51: =SUM(L5:L50) -> 0 | N51: TOTAL
A52: 옥외인입공사 | Q52: 010102
A53: 경질비닐전선관 | B53: 54mm, 매입 | C53: m | D53: 96 | L53: =TRUNC(F53+H53+J53, 0) -> 0 | M53: 호표 19 | N53: 5930E54548494D89A23A176C9D9B81 | Q53: 010102 | R53: T | S53: F | T53: F | AU53: 0101025930E54548494D89A23A176C9D9B81 | AV53: 31
A54: 풀박스 | B54: 200X200X150mm, 노출, 벽면 | C54: 개 | D54: 1 | L54: =TRUNC(F54+H54+J54, 0) -> 0 | M54: 호표 20 | N54: 5930E5481E43C88B37063667436280 | Q54: 010102 | R54: T | S54: F | T54: F | AU54: 0101025930E5481E43C88B37063667436280 | AV54: 32
A55: 핸드홀(수공1호) | B55: 950*450*700 | C55: 조 | D55: 1 | L55: =TRUNC(F55+H55+J55, 0) -> 0 | M55: 호표 21 | N55: 5931657C114C9C8B803D9B69B3BF86 | Q55: 010102 | R55: T | S55: F | T55: F | AU55: 0101025931657C114C9C8B803D9B69B3BF86 | AV55: 33
A56: 관로구방수 | B56: ø125 | C56: 개 | D56: 3 | L56: =TRUNC(F56+H56+J56, 0) -> 0 | M56: 호표 18 | N56: 5930E54ACF42808A35365166153E83 | Q56: 010102 | R56: T | S56: F | T56: F | AU56: 0101025930E54ACF42808A35365166153E83 | AV56: 34
A75: [ 합 계 ] | L75: =SUM(L53:L74) -> 0 | N75: TOTAL
A76: 전력간선 설비공사 | Q76: 010103
A77: 분전함 L-1-M | C77: 면 | D77: 1 | L77: =TRUNC(F77+H77+J77, 0) -> 0 | M77: 호표 22 | N77: 593005242B40018A8EAD3E6D063B89 | Q77: 010103 | R77: T | S77: F | T77: F | AU77: 010103593005242B40018A8EAD3E6D063B89 | AV77: 36
A78: 분전함 L-1-A | C78: 면 | D78: 1 | L78: =TRUNC(F78+H78+J78, 0) -> 0 | M78: 호표 23 | N78: 593005242B403D81C8CBB16F3E728E | Q78: 010103 | R78: T | S78: F | T78: F | AU78: 010103593005242B403D81C8CBB16F3E728E | AV78: 37
A79: 강제전선관 | B79: 아연도, 28mm, 노출(앵커볼트 설치하는 경우 제외) | C79: m | D79: 5 | L79: =TRUNC(F79+H79+J79, 0) -> 0 | M79: 호표 24 | N79: 5930E5454A444687216D5B69932289 | Q79: 010103 | R79: T | S79: F | T79: F | AU79: 0101035930E5454A444687216D5B69932289 | AV79: 38
A80: 강제전선관 | B80: 아연도, 28mm, 매입(또는 앵커볼트 설치에 따른 노출공사) | C80: m | D80: 4.5 | L80: =TRUNC(F80+H80+J80, 0) -> 0 | M80: 호표 25 | N80: 5930E5454A444682BFCA056A357583 | Q80: 010103 | R80: T | S80: F | T80: F | AU80: 0101035930E5454A444682BFCA056A357583 | AV80: 39
A81: 강제전선관 | B81: 아연도, 42mm, 노출(앵커볼트 설치하는 경우 제외) | C81: m | D81: 6 | L81: =TRUNC(F81+H81+J81, 0) -> 0 | M81: 호표 26 | N81: 5930E5454A446182C90EA06E00D581 | Q81: 010103 | R81: T | S81: F | T81: F | AU81: 0101035930E5454A446182C90EA06E00D581 | AV81: 40
A82: 강제전선관 | B82: 아연도, 42mm, 매입(또는 앵커볼트 설치에 따른 노출공사) | C82: m | D82: 20 | L82: =TRUNC(F82+H82+J82, 0) -> 0 | M82: 호표 27 | N82: 5930E5454A4461874B48016631CC8A | Q82: 010103 | R82: T | S82: F | T82: F | AU82: 0101035930E5454A4461874B48016631CC8A | AV82: 41
A83: 강제전선관 | B83: 아연도, 54mm, 노출(앵커볼트 설치하는 경우 제외) | C83: m | D83: 3 | L83: =TRUNC(F83+H83+J83, 0) -> 0 | M83: 호표 28 | N83: 5930E5454A44738B80ACC6665EF18D | Q83: 010103 | R83: T | S83: F | T83: F | AU83: 0101035930E5454A44738B80ACC6665EF18D | AV83: 42
A84: 강제전선관 | B84: 아연도, 54mm, 매입(또는 앵커볼트 설치에 따른 노출공사) | C84: m | D84: 7 | L84: =TRUNC(F84+H84+J84, 0) -> 0 | M84: 호표 29 | N84: 5930E5454A44738E540B4762D35787 | Q84: 010103 | R84: T | S84: F | T84: F | AU84: 0101035930E5454A44738E540B4762D35787 | AV84: 43
A85: 1종금속제가요전선관 | B85: 28mm 방수, 노출 | C85: m | D85: 2 | L85: =TRUNC(F85+H85+J85, 0) -> 0 | M85: 호표 30 | N85: 5930E545494BEB8ABC5311604AA389 | Q85: 010103 | R85: T | S85: F | T85: F | AU85: 0101035930E545494BEB8ABC5311604AA389 | AV85: 44
A86: 전력케이블 | B86: F-CV, 0.6/1kV, 4C 2.5㎟ | C86: m | D86: 11.5 | L86: =TRUNC(F86+H86+J86, 0) -> 0 | M86: 호표 31 | N86: 593095C6C24BA1886FBA826E0ABA83 | Q86: 010103 | R86: T | S86: F | T86: F | AU86: 010103593095C6C24BA1886FBA826E0ABA83 | AV86: 45
A87: 전력케이블 | B87: F-CV, 0.6/1kV, 4C 16㎟ | C87: m | D87: 26 | L87: =TRUNC(F87+H87+J87, 0) -> 0 | M87: 호표 32 | N87: 593095C6C24BEF85AA83826AA5D585 | Q87: 010103 | R87: T | S87: F | T87: F | AU87: 010103593095C6C24BEF85AA83826AA5D585 | AV87: 46
A88: 전력케이블 | B88: F-CV, 0.6/1kV, 1C 35㎟ | C88: m | D88: 384 | L88: =TRUNC(F88+H88+J88, 0) -> 0 | M88: 호표 33 | N88: 593095C6C24B0187EF30EA60D4A08B | Q88: 010103 | R88: T | S88: F | T88: F | AU88: 010103593095C6C24B0187EF30EA60D4A08B | AV88: 47
A89: 전력케이블 | B89: F-CV, 0.6/1kV, 1C 150㎟ | C89: m | D89: 948 | L89: =TRUNC(F89+H89+J89, 0) -> 0 | M89: 호표 34 | N89: 593095C7ED43898DC43BDB65CC0088 | Q89: 010103 | R89: T | S89: F | T89: F | AU89: 010103593095C7ED43898DC43BDB65CC0088 | AV89: 48
A90: 전력케이블 | B90: F-CV, 0.6/1kV, 1C 300㎟ | C90: m | D90: 316 | L90: =TRUNC(F90+H90+J90, 0) -> 0 | M90: 호표 35 | N90: 593095C7ED43B5818DF4DE6DE05982 | Q90: 010103 | R90: T | S90: F | T90: F | AU90: 010103593095C7ED43B5818DF4DE6DE05982 | AV90: 49
... A94: 절연전선 | B94: F-GV, 185㎟, 직매포설 | C94: m | D94: 79 | L94: =TRUNC(F94+H94+J94, 0) -> 0 | M94: 호표 38 | N94: 5930A52A28472485B1CF0C61057B86 | Q94: 010103 | R94: T | S94: F | T94: F | AU94: 0101035930A52A28472485B1CF0C61057B86 | AV94: 53
A95: 노말밴드후강전선관용 | B95: 아연도28mm | C95: 개 | D95: 3 | L95: =TRUNC(F95+H95+J95, 0) -> 0 | N95: 5E5165B6F64A1188FA42C76516308943971014 | Q95: 010103 | R95: F | S95: F | T95: T | AU95: 0101035E5165B6F64A1188FA42C76516308943971014 | AV95: 54
A96: 노말밴드후강전선관용 | B96: 아연도42mm | C96: 개 | D96: 3 | L96: =TRUNC(F96+H96+J96, 0) -> 0 | N96: 5E5165B6F64A1188FA42C76516308943971016 | Q96: 010103 | R96: F | S96: F | T96: T | AU96: 0101035E5165B6F64A1188FA42C76516308943971016 | AV96: 55
A97: 노말밴드후강전선관용 | B97: 아연도54mm | C97: 개 | D97: 2 | L97: =TRUNC(F97+H97+J97, 0) -> 0 | N97: 5E5165B6F64A1188FA42C76516308943971019 | Q97: 010103 | R97: F | S97: F | T97: T | AU97: 0101035E5165B6F64A1188FA42C76516308943971019 | AV97: 56
A98: 박스커넥터(방수) | B98: 1종금속제가요전선관, 28mm | C98: 개 | D98: 2 | L98: =TRUNC(F98+H98+J98, 0) -> 0 | N98: 5E5165B6F64A1188FA4CCB6A50C58E772FBE60 | Q98: 010103 | R98: F | S98: F | T98: T | AU98: 0101035E5165B6F64A1188FA4CCB6A50C58E772FBE60 | AV98: 57
A99: 러그단자 | B99: 동관단자 2홀, 35㎟, 1C 구내 | C99: 개소 | D99: 8 | L99: =TRUNC(F99+H99+J99, 0) -> 0 | M99: 호표 39 | N99: 593095D0CA463C8C668CF86249AC8D | Q99: 010103 | R99: T | S99: F | T99: F | AU99: 010103593095D0CA463C8C668CF86249AC8D | AV99: 58
A100: 러그단자 | B100: 동관단자 2홀, 95㎟, 1C 구내 | C100: 개소 | D100: 6 | L100: =TRUNC(F100+H100+J100, 0) -> 0 | M100: 호표 40 | N100: 593095D0CA460788689B2E61602689 | Q100: 010103 | R100: T | S100: F | T100: F | AU100: 010103593095D0CA460788689B2E61602689 | AV100: 59
A101: 러그단자 | B101: 동관단자 2홀, 150㎟, 1C 구내 | C101: 개소 | D101: 24 | L101: =TRUNC(F101+H101+J101, 0) -> 0 | M101: 호표 41 | N101: 593095D1ED494F821B93666B85B98D | Q101: 010103 | R101: T | S101: F | T101: F | AU101: 010103593095D1ED494F821B93666B85B98D | AV101: 60
A102: 러그단자 | B102: 동관단자 2홀, 185㎟, 1C 구내 | C102: 개소 | D102: 2 | L102: =TRUNC(F102+H102+J102, 0) -> 0 | M102: 호표 42 | N102: 593095D1ED4974865AFA4F652AC287 | Q102: 010103 | R102: T | S102: F | T102: F | AU102: 010103593095D1ED4974865AFA4F652AC287 | AV102: 61
A103: 러그단자 | B103: 동관단자 2홀, 300㎟, 1C 구내 | C103: 개소 | D103: 8 | L103: =TRUNC(F103+H103+J103, 0) -> 0 | M103: 호표 43 | N103: 593095D1ED49138E95FAA369153D8D | Q103: 010103 | R103: T | S103: F | T103: F | AU103: 010103593095D1ED49138E95FAA369153D8D | AV103: 62
A104: 풀박스 | B104: 100X100X100mm, 노출, 천정 | C104: 개 | D104: 2 | L104: =TRUNC(F104+H104+J104, 0) -> 0 | M104: 호표 44 | N104: 5930E5481E43EB8F5951EC69448E8A | Q104: 010103 | R104: T | S104: F | T104: F | AU104: 0101035930E5481E43EB8F5951EC69448E8A | AV104: 63
A105: 파이프행거 | B105: 28C | C105: 개소 | D105: 3 | L105: =TRUNC(F105+H105+J105, 0) -> 0 | M105: 호표 45 | N105: 5930E54BD742758DCA5A8A60DDB888 | Q105: 010103 | R105: T | S105: F | T105: F | AU105: 0101035930E54BD742758DCA5A8A60DDB888 | AV105: 64
A106: 파이프행거 | B106: 42C | C106: 개소 | D106: 14 | L106: =TRUNC(F106+H106+J106, 0) -> 0 | M106: 호표 46 | N106: 5930E54BD742758DCA5CB860854B8F | Q106: 010103 | R106: T | S106: F | T106: F | AU106: 0101035930E54BD742758DCA5CB860854B8F | AV106: 65
A107: 파이프행거 | B107: 54C | C107: 개소 | D107: 5 | L107: =TRUNC(F107+H107+J107, 0) -> 0 | M107: 호표 47 | N107: 5930E54BD742758DCA5F0C647BCA8F | Q107: 010103 | R107: T | S107: F | T107: F | AU107: 0101035930E54BD742758DCA5F0C647BCA8F | AV107: 66
A123: [ 합 계 ] | L123: =SUM(L77:L122) -> 0 | N123: TOTAL
A124: 배관공사 | Q124: 010104
A125: 합성수지제 가요전선관 | B125: 하이렉스-CD(난연성), 16mm, 매입 | C125: m | D125: 67 | L125: =TRUNC(F125+H125+J125, 0) -> 0 | M125: 호표 48 | N125: 5930E5454F4C0D8384BF1C65C3F687 | Q125: 010104 | R125: T | S125: F | T125: F | AU125: 0101045930E5454F4C0D8384BF1C65C3F687 | AV125: 68
A126: 합성수지제 가요전선관 | B126: 하이렉스-CD(난연성), 22mm, 매입 | C126: m | D126: 51.5 | L126: =TRUNC(F126+H126+J126, 0) -> 0 | M126: 호표 49 | N126: 5930E5454F4C1F8AAE201F6D92D481 | Q126: 010104 | R126: T | S126: F | T126: F | AU126: 0101045930E5454F4C1F8AAE201F6D92D481 | AV126: 69
A127: 합성수지제 가요전선관 | B127: 하이렉스-CD(난연성), 28mm, 매입 | C127: m | D127: 82.5 | L127: =TRUNC(F127+H127+J127, 0) -> 0 | M127: 호표 50 | N127: 5930E5454F4C66840944916725288B | Q127: 010104 | R127: T | S127: F | T127: F | AU127: 0101045930E5454F4C66840944916725288B | AV127: 70
A128: 스위치박스 | B128: ST, 1개용 54mm | C128: 개 | D128: 19 | L128: =TRUNC(F128+H128+J128, 0) -> 0 | M128: 호표 51 | N128: 5930E54F4D48DA851C7FCD61681487 | Q128: 010104 | R128: T | S128: F | T128: F | AU128: 0101045930E54F4D48DA851C7FCD61681487 | AV128: 71
A147: [ 합 계 ] | L147: =SUM(L125:L146) -> 0 | N147: TOTAL
A148: 지상1층 전열설비공사 | Q148: 01010501
A149: 합성수지제 가요전선관 | B149: 하이렉스-CD(난연성), 16mm, 매입 | C149: m | D149: 180 | L149: =TRUNC(F149+H149+J149, 0) -> 0 | M149: 호표 48 | N149: 5930E5454F4C0D8384BF1C65C3F687 | Q149: 01010501 | R149: T | S149: F | T149: F | AU149: 010105015930E5454F4C0D8384BF1C65C3F687 | AV149: 74
A150: 절연전선 | B150: HFIX, 2.5㎟, 관내배선 바닥공사 | C150: m | D150: 540 | L150: =TRUNC(F150+H150+J150, 0) -> 0 | M150: 호표 52 | N150: 593095C53C4CF78246644D66F68287 | Q150: 01010501 | R150: T | S150: F | T150: F | AU150: 01010501593095C53C4CF78246644D66F68287 | AV150: 75
A151: 스위치박스 | B151: ST, 1개용 54mm | C151: 개 | D151: 2 | L151: =TRUNC(F151+H151+J151, 0) -> 0 | M151: 호표 51 | N151: 5930E54F4D48DA851C7FCD61681487 | Q151: 01010501 | R151: T | S151: F | T151: F | AU151: 010105015930E54F4D48DA851C7FCD61681487 | AV151: 76
A152: 콘크리트박스 | B152: 4각 54mm | C152: 개 | D152: 26 | L152: =TRUNC(F152+H152+J152, 0) -> 0 | M152: 호표 53 | N152: 5930E54F4D48AD81BCD4A7669D178F | Q152: 01010501 | R152: T | S152: F | T152: F | AU152: 010105015930E54F4D48AD81BCD4A7669D178F | AV152: 77
A153: 콘센트 | B153: 매입-접지형, 15A 250V 2구 | C153: 개 | D153: 5 | L153: =TRUNC(F153+H153+J153, 0) -> 0 | M153: 호표 54 | N153: 593085D12D4A39874A6332630A8586 | Q153: 01010501 | R153: T | S153: F | T153: F | AU153: 01010501593085D12D4A39874A6332630A8586 | AV153: 78
A154: 콘센트 | B154: 방우형, 15A 250V 1구 | C154: 개 | D154: 11 | L154: =TRUNC(F154+H154+J154, 0) -> 0 | M154: 호표 55 | N154: 593085D12E44868D4F1EF56D31BF86 | Q154: 01010501 | R154: T | S154: F | T154: F | AU154: 01010501593085D12E44868D4F1EF56D31BF86 | AV154: 79
A155: 콘센트 | B155: 대기전력차단콘센트 3구 | C155: 개 | D155: 10 | L155: =TRUNC(F155+H155+J155, 0) -> 0 | M155: 호표 56 | N155: 593085D12E448689D4365360B39F8E | Q155: 01010501 | R155: T | S155: F | T155: F | AU155: 01010501593085D12E448689D4365360B39F8E | AV155: 80
A171: [ 합 계 ] | L171: =SUM(L149:L170) -> 0 | N171: TOTAL
A172: 지상1층 전등설비공사 | Q172: 01010601
A173: 강제전선관 | B173: 아연도, 16mm, 노출(앵커볼트 설치하는 경우 제외) | C173: m | D173: 353 | L173: =TRUNC(F173+H173+J173, 0) -> 0 | M173: 호표 57 | N173: 5930E5454A442B894524FB6693D18D | Q173: 01010601 | R173: T | S173: F | T173: F | AU173: 010106015930E5454A442B894524FB6693D18D | AV173: 83
A174: 1종금속제가요전선관 | B174: 16mm 비방수, 노출 | C174: m | D174: 18 | L174: =TRUNC(F174+H174+J174, 0) -> 0 | M174: 호표 58 | N174: 5930E545494B818348E9E0635E2480 | Q174: 01010601 | R174: T | S174: F | T174: F | AU174: 010106015930E545494B818348E9E0635E2480 | AV174: 84
A175: 1종금속제가요전선관 | B175: 16mm 방수, 노출 | C175: m | D175: 3 | L175: =TRUNC(F175+H175+J175, 0) -> 0 | M175: 호표 59 | N175: 5930E545494B81834BBD5E646C4C81 | Q175: 01010601 | R175: T | S175: F | T175: F | AU175: 010106015930E545494B81834BBD5E646C4C81 | AV175: 85
A176: 절연전선 | B176: HFIX, 2.5㎟, 관내배선 | C176: m | D176: 1190.5 | L176: =TRUNC(F176+H176+J176, 0) -> 0 | M176: 호표 60 | N176: 593095C53C4CF782455D5C6BFC6A81 | Q176: 01010601 | R176: T | S176: F | T176: F | AU176: 01010601593095C53C4CF782455D5C6BFC6A81 | AV176: 86
A177: 절연전선 | B177: HFIX, 2.5㎟(1.78mm), 관내배선 | C177: m | D177: 33 | L177: =TRUNC(F177+H177+J177, 0) -> 0 | M177: 호표 61 | N177: 593095C53C4CF782455CB563477485 | Q177: 01010601 | R177: T | S177: F | T177: F | AU177: 01010601593095C53C4CF782455CB563477485 | AV177: 87
A178: 박스커넥터(비방수) | B178: 1종금속제가요전선관, 16mm | C178: 개 | D178: 18 | L178: =TRUNC(F178+H178+J178, 0) -> 0 | N178: 5E5165B6F64A1188FA4CCB6A50C58E772FB9E3 | Q178: 01010601 | R178: F | S178: F | T178: T | AU178: 010106015E5165B6F64A1188FA4CCB6A50C58E772FB9E3 | AV178: 88
A179: 박스커넥터(방수) | B179: 1종금속제가요전선관, 16mm | C179: 개 | D179: 4 | L179: =TRUNC(F179+H179+J179, 0) -> 0 | N179: 5E5165B6F64A1188FA4CCB6A50C58E772FBE6E | Q179: 01010601 | R179: F | S179: F | T179: T | AU179: 010106015E5165B6F64A1188FA4CCB6A50C58E772FBE6E | AV179: 89
A180: 스위치박스 | B180: ST, 1개용 54mm | C180: 개 | D180: 13 | L180: =TRUNC(F180+H180+J180, 0) -> 0 | M180: 호표 51 | N180: 5930E54F4D48DA851C7FCD61681487 | Q180: 01010601 | R180: T | S180: F | T180: F | AU180: 010106015930E54F4D48DA851C7FCD61681487 | AV180: 90
A181: 풀박스 | B181: 200X200X200mm, 노출, 천정 | C181: 개 | D181: 1 | L181: =TRUNC(F181+H181+J181, 0) -> 0 | M181: 호표 62 | N181: 5930E5481E43C88CD826056EB6DD82 | Q181: 01010601 | R181: T | S181: F | T181: F | AU181: 010106015930E5481E43C88CD826056EB6DD82 | AV181: 91
A182: 콘크리트박스 | B182: 8각 54mm | C182: 개 | D182: 2 | L182: =TRUNC(F182+H182+J182, 0) -> 0 | M182: 호표 63 | N182: 5930E54F4D48AD81BFA8066EA59786 | Q182: 01010601 | R182: T | S182: F | T182: F | AU182: 010106015930E54F4D48AD81BFA8066EA59786 | AV182: 92
A183: 아우트렛박스 | B183: 8각 54mm | C183: 개 | D183: 77 | L183: =TRUNC(F183+H183+J183, 0) -> 0 | M183: 호표 64 | N183: 5930E54F4D48BF869320A46BF0DE84 | Q183: 01010601 | R183: T | S183: F | T183: F | AU183: 010106015930E54F4D48BF869320A46BF0DE84 | AV183: 93
A184: 콘센트 | B184: 매입-접지형, 15A 250V 1구 | C184: 개 | D184: 9 | L184: =TRUNC(F184+H184+J184, 0) -> 0 | M184: 호표 65 | N184: 593085D12D4A398121E05D65FECC8A | Q184: 01010601 | R184: T | S184: F | T184: F | AU184: 01010601593085D12D4A398121E05D65FECC8A | AV184: 94
A185: 등기구 "A"TYPE | B185: LED 40W X 1 (LED 슬림매입등)300x1200 | C185: 개 | D185: 50 | L185: =TRUNC(F185+H185+J185, 0) -> 0 | M185: 호표 66 | N185: 593085D85A442B820EC4BB60BD0085 | Q185: 01010601 | R185: T | S185: F | T185: F | AU185: 01010601593085D85A442B820EC4BB60BD0085 | AV185: 95
A186: 등기구 "B"TYPE | B186: LED 40W X 1 (LED 평판매입등)600x600 | C186: 개 | D186: 2 | L186: =TRUNC(F186+H186+J186, 0) -> 0 | M186: 호표 67 | N186: 593085D85A442B820D3D2963B04A8F | Q186: 01010601 | R186: T | S186: F | T186: F | AU186: 01010601593085D85A442B820D3D2963B04A8F | AV186: 96
A187: 등기구 "C"TYPE | B187: LED 15W X 1 (LED 다운라이트) | C187: 개 | D187: 10 | L187: =TRUNC(F187+H187+J187, 0) -> 0 | M187: 호표 68 | N187: 593085D85A442B820B0F2E6A194E86 | Q187: 01010601 | R187: T | S187: F | T187: F | AU187: 01010601593085D85A442B820B0F2E6A194E86 | AV187: 97
A188: 등기구 "D"TYPE | B188: LED 15W X 1 (LED 벽부등) | C188: 개 | D188: 6 | L188: =TRUNC(F188+H188+J188, 0) -> 0 | M188: 호표 69 | N188: 593085D85A442B8208BBEF6190D889 | Q188: 01010601 | R188: T | S188: F | T188: F | AU188: 01010601593085D85A442B8208BBEF6190D889 | AV188: 98
A189: 재실감지센서 | C189: 개 | D189: 2 | L189: =TRUNC(F189+H189+J189, 0) -> 0 | M189: 호표 70 | N189: 593085D85A442B8276811B6E58A08D | Q189: 01010601 | R189: T | S189: F | T189: F | AU189: 01010601593085D85A442B8276811B6E58A08D | AV189: 99
A190: 스위치 | B190: 단로, 15A 250V, 1구 | C190: 개 | D190: 2 | L190: =TRUNC(F190+H190+J190, 0) -> 0 | M190: 호표 71 | N190: 593085D7B44E10810C9F5E65641384 | Q190: 01010601 | R190: T | S190: F | T190: F | AU190: 01010601593085D7B44E10810C9F5E65641384 | AV190: 100
A191: 스위치 | B191: 단로, 15A 250V, 2구 | C191: 개 | D191: 5 | L191: =TRUNC(F191+H191+J191, 0) -> 0 | M191: 호표 72 | N191: 593085D7B44E108213F0F66E55FF87 | Q191: 01010601 | R191: T | S191: F | T191: F | AU191: 01010601593085D7B44E108213F0F66E55FF87 | AV191: 101
A192: 스위치 | B192: 단로, 15A 250V, 3구 | C192: 개 | D192: 4 | L192: =TRUNC(F192+H192+J192, 0) -> 0 | M192: 호표 73 | N192: 593085D7B44E10833A9AD86EE08D8C | Q192: 01010601 | R192: T | S192: F | T192: F | AU192: 01010601593085D7B44E10833A9AD86EE08D8C | AV192: 102
A193: 일괄소등스위치 | B193: 1회로 | C193: 개 | D193: 2 | L193: =TRUNC(F193+H193+J193, 0) -> 0 | M193: 호표 74 | N193: 593085D7B243138BF2AAEA613A7F8B | Q193: 01010601 | R193: T | S193: F | T193: F | AU193: 01010601593085D7B243138BF2AAEA613A7F8B | AV193: 103
A194: 파이프행거 | B194: 16C | C194: 개소 | D194: 206 | L194: =TRUNC(F194+H194+J194, 0) -> 0 | M194: 호표 75 | N194: 5930E54BD742758DCA58DD6B823986 | Q194: 01010601 | R194: T | S194: F | T194: F | AU194: 010106015930E54BD742758DCA58DD6B823986 | AV194: 104
A195: 전선관지지 | B195: 16C | C195: 개소 | D195: 28 | L195: =TRUNC(F195+H195+J195, 0) -> 0 | M195: 호표 76 | N195: 5930E54BD742758DCA58DC6911AD83 | Q195: 01010601 | R195: T | S195: F | T195: F | AU195: 010106015930E54BD742758DCA58DC6911AD83 | AV195: 105
A196: 파이프행거 | B196: 22C | C196: 개소 | D196: 3 | L196: =TRUNC(F196+H196+J196, 0) -> 0 | M196: 호표 77 | N196: 5930E54BD742758DCA5B9167E2BE87 | Q196: 01010601 | R196: T | S196: F | T196: F | AU196: 010106015930E54BD742758DCA5B9167E2BE87 | AV196: 106
A197: 박스커버 | B197: 8각, 둥근구멍, 평 | C197: 개 | D197: 70 | L197: =TRUNC(F197+H197+J197, 0) -> 0 | N197: 5E5165B6F7446D8F39C1C0679C2E834244E409 | Q197: 01010601 | R197: F | S197: F | T197: T | AU197: 010106015E5165B6F7446D8F39C1C0679C2E834244E409 | AV197: 107
...

Sheet 공량설정_일위대가
A1: 일위대가 | B1: 적용율(%) | C1: 소수점이하자릿수 | D1: 일위대가 코드
A2: 파상형 경질폴리에틸렌 전선관 125mm (호표 1) | B2: 100 | D2: 5930E5465440248359C8436CB76F89
A3: 보통인부 | C3: 3 | D3: 5930E5465440248359C8436CB76F8959AA5540E048C48F14B9336B086782CEA69C67
A4: 배전전공 | C4: 3 | D4: 5930E5465440248359C8436CB76F8959AA5540E048C48F14B9336B086782CEA69411
A5: 경질비닐전선관 22mm, 노출 (호표 2) | B5: 100 | D5: 5930E545484906831CBA9E66A9F18D
A6: 내선전공 | C6: 4 | D6: 5930E545484906831CBA9E66A9F18D59AA5540E048C48F14B9336B086782CEA69B5A
A7: 경질비닐전선관 28mm, 노출 (호표 3) | B7: 100 | D7: 5930E545484979803DA7F36D122487
A8: 내선전공 | C8: 4 | D8: 5930E545484979803DA7F36D12248759AA5540E048C48F14B9336B086782CEA69B5A
A9: 경질비닐전선관 42mm, 노출 (호표 4) | B9: 100 | D9: 5930E54548495E824147276490B281
A10: 내선전공 | C10: 4 | D10: 5930E54548495E824147276490B28159AA5540E048C48F14B9336B086782CEA69B5A
A11: 전력케이블 FR-CN/CO-W, 22.9KV, 1C 60㎟, 3열포설 1열당 (호표 5) | B11: 100 | D11: 593095C7EE4C2E869081FC6523F082
A12: 특고압케이블전공 | C12: 4 | D12: 593095C7EE4C2E869081FC6523F08259AA5540E048C48F14B9336B086782CEA69B59
A13: 보통인부 | C13: 4 | D13: 593095C7EE4C2E869081FC6523F08259AA5540E048C48F14B9336B086782CEA69C67
A14: 절연전선 F-GV, 16㎟, 관내포설 (호표 6) | B14: 100 | D14: 5930A52A28403581CCACCB64EDEB85
A15: 내선전공 | C15: 4 | D15: 5930A52A28403581CCACCB64EDEB8559AA5540E048C48F14B9336B086782CEA69B5A
A16: 절연전선 F-GV, 25㎟, 관내포설 (호표 7) | B16: 100 | D16: 5930A52A2840098AB1808563D0338B
A17: 내선전공 | C17: 4 | D17: 5930A52A2840098AB1808563D0338B59AA5540E048C48F14B9336B086782CEA69B5A
A18: 절연전선 F-GV, 35㎟, 관내포설 (호표 8) | B18: 100 | D18: 5930A52A28401A83502C076EB0A388
A19: 내선전공 | C19: 4 | D19: 5930A52A28401A83502C076EB0A38859AA5540E048C48F14B9336B086782CEA69B5A
A20: 절연전선 F-GV, 120㎟, 관내포설 (호표 9) | B20: 100 | D20: 5930A52A2847408B8E5AF36CE05082
A21: 내선전공 | C21: 4 | D21: 5930A52A2847408B8E5AF36CE0508259AA5540E048C48F14B9336B086782CEA69B5A
A22: 케이블단말접속자재 자기수축, 23KV, 1C, 60-70㎟, 구내 (호표 10) | B22: 100 | D22: 593095CD714E2F8E2C58E46C30F389
A23: 특고압케이블전공 | C23: 2 | D23: 593095CD714E2F8E2C58E46C30F38959AA5540E048C48F14B9336B086782CEA69B59
A24: 압착단자 압착터미널, 35㎟, 1C 구내 (호표 11) | B24: 100 | D24: 593095D0C94447883EA4D4601D7A81
A25: 저압케이블전공 | C25: 3 | D25: 593095D0C94447883EA4D4601D7A8159AA5540E048C48F14B9336B086782CEA69B57
A26: 압착단자 압착터미널, 120㎟, 1C 구내 (호표 12) | B26: 100 | D26: 593095D0C9447C89683705649BD58D
A27: 저압케이블전공 | C27: 4 | D27: 593095D0C9447C89683705649BD58D59AA5540E048C48F14B9336B086782CEA69B57
A28: 풀박스 400X400X300mm, 노출, 천정 (호표 13) | B28: 100 | D28: 5930E5481E439389E2CD9662571E89
A29: 내선전공 | C29: 3 | D29: 5930E5481E439389E2CD9662571E8959AA5540E048C48F14B9336B086782CEA69B5A
A30: 접지봉 14Φ×1000mm (호표 14) | B30: 100 | D30: 5930A5287C4598830BC17C6E25B686
A31: 내선전공 | C31: 2 | D31: 5930A5287C4598830BC17C6E25B68659AA5540E048C48F14B9336B086782CEA69B5A
A32: 보통인부 | C32: 2 | D32: 5930A5287C4598830BC17C6E25B68659AA5540E048C48F14B9336B086782CEA69C67
A33: 크램프 접지크램프, 28C (호표 15) | B33: 100 | D33: 5930A52A2F4B5180F4AE706FD88A8D
A34: 내선전공 | C34: 2 | D34: 5930A52A2F4B5180F4AE706FD88A8D59AA5540E048C48F14B9336B086782CEA69B5A
A35: 모래깔기지정 인력 (호표 16) | B35: 100 | D35: 597A351ACE47CA84055B536D6ABC8C
A36: 보통인부 | C36: 1 | D36: 597A351ACE47CA84055B536D6ABC8C59AA5540E048C48F14B9336B086782CEA69C67
A37: 전주입상관 특고압용 (호표 17) | B37: 100 | D37: 5930F5ADC34BA183DE8459699F5A8B
A38: 배전전공 | C38: 2 | D38: 5930F5ADC34BA183DE8459699F5A8B59AA5540E048C48F14B9336B086782CEA69411
A39: 보통인부 | C39: 2 | D39: 5930F5ADC34BA183DE8459699F5A8B59AA5540E048C48F14B9336B086782CEA69C67
A40: 관로구방수 ø125 (호표 18) | B40: 100 | D40: 5930E54ACF42808A35365166153E83
A41: 보통인부 | C41: 4 | D41: 5930E54ACF42808A35365166153E8359AA5540E048C48F14B9336B086782CEA69C67
A42: 특고압케이블전공 | C42: 4 | D42: 5930E54ACF42808A35365166153E8359AA5540E048C48F14B9336B086782CEA69B59
A43: 경질비닐전선관 54mm, 매입 (호표 19) | B43: 100 | D43: 5930E54548494D89A23A176C9D9B81
A44: 내선전공 | C44: 2 | D44: 5930E54548494D89A23A176C9D9B8159AA5540E048C48F14B9336B086782CEA69B5A
A45: 풀박스 200X200X150mm, 노출, 벽면 (호표 20) | B45: 100 | D45: 5930E5481E43C88B37063667436280
A46: 내선전공 | C46: 2 | D46: 5930E5481E43C88B3706366743628059AA5540E048C48F14B9336B086782CEA69B5A
A47: 핸드홀(수공1호) 950*450*700 (호표 21) | B47: 100 | D47: 5931657C114C9C8B803D9B69B3BF86
A48: 작업반장 | C48: 2 | D48: 5931657C114C9C8B803D9B69B3BF8659AA5540E048C48F14B9336B086782CEA69C64
A49: 특별인부 | C49: 1 | D49: 5931657C114C9C8B803D9B69B3BF8659AA5540E048C48F14B9336B086782CEA69C66
A50: 비계공 | C50: 2 | D50: 5931657C114C9C8B803D9B69B3BF8659AA5540E048C48F14B9336B086782CEA69C63
A51: 줄눈공 | C51: 2 | D51: 5931657C114C9C8B803D9B69B3BF8659AA5540E048C48F14B9336B086782CEA69F3E
A52: 분전함 L-1-M (호표 22) | B52: 100 | D52: 593005242B40018A8EAD3E6D063B89
A53: 내선전공 | C53: 4 | D53: 593005242B40018A8EAD3E6D063B8959AA5540E048C48F14B9336B086782CEA69B5A
A54: 분전함 L-1-A (호표 23) | B54: 100 | D54: 593005242B403D81C8CBB16F3E728E
A55: 내선전공 | C55: 4 | D55: 593005242B403D81C8CBB16F3E728E59AA5540E048C48F14B9336B086782CEA69B5A
A56: 강제전선관 아연도, 28mm, 노출(앵커볼트 설치하는 경우 제외) (호표 24) | B56: 100 | D56: 5930E5454A444687216D5B69932289
A57: 내선전공 | C57: 3 | D57: 5930E5454A444687216D5B6993228959AA5540E048C48F14B9336B086782CEA69B5A
A58: 강제전선관 아연도, 28mm, 매입(또는 앵커볼트 설치에 따른 노출공사) (호표 25) | B58: 100 | D58: 5930E5454A444682BFCA056A357583
A59: 내선전공 | C59: 3 | D59: 5930E5454A444682BFCA056A35758359AA5540E048C48F14B9336B086782CEA69B5A
A60: 강제전선관 아연도, 42mm, 노출(앵커볼트 설치하는 경우 제외) (호표 26) | B60: 100 | D60: 5930E5454A446182C90EA06E00D581
A61: 내선전공 | C61: 3 | D61: 5930E5454A446182C90EA06E00D58159AA5540E048C48F14B9336B086782CEA69B5A
A62: 강제전선관 아연도, 42mm, 매입(또는 앵커볼트 설치에 따른 노출공사) (호표 27) | B62: 100 | D62: 5930E5454A4461874B48016631CC8A
A63: 내선전공 | C63: 3 | D63: 5930E5454A4461874B48016631CC8A59AA5540E048C48F14B9336B086782CEA69B5A
A64: 강제전선관 아연도, 54mm, 노출(앵커볼트 설치하는 경우 제외) (호표 28) | B64: 100 | D64: 5930E5454A44738B80ACC6665EF18D
A65: 내선전공 | C65: 2 | D65: 5930E5454A44738B80ACC6665EF18D59AA5540E048C48F14B9336B086782CEA69B5A
A66: 강제전선관 아연도, 54mm, 매입(또는 앵커볼트 설치에 따른 노출공사) (호표 29) | B66: 100 | D66: 5930E5454A44738E540B4762D35787
A67: 내선전공 | C67: 3 | D67: 5930E5454A44738E540B4762D3578759AA5540E048C48F14B9336B086782CEA69B5A
A68: 1종금속제가요전선관 28mm 방수, 노출 (호표 30) | B68: 100 | D68: 5930E545494BEB8ABC5311604AA389
A69: 내선전공 | C69: 4 | D69: 5930E545494BEB8ABC5311604AA38959AA5540E048C48F14B9336B086782CEA69B5A
A70: 전력케이블 F-CV, 0.6/1kV, 4C 2.5㎟ (호표 31) | B70: 100 | D70: 593095C6C24BA1886FBA826E0ABA83
A71: 저압케이블전공 | C71: 3 | D71: 593095C6C24BA1886FBA826E0ABA8359AA5540E048C48F14B9336B086782CEA69B57
A72: 전력케이블 F-CV, 0.6/1kV, 4C 16㎟ (호표 32) | B72: 100 | D72: 593095C6C24BEF85AA83826AA5D585
A73: 저압케이블전공 | C73: 3 | D73: 593095C6C24BEF85AA83826AA5D58559AA5540E048C48F14B9336B086782CEA69B57
A74: 전력케이블 F-CV, 0.6/1kV, 1C 35㎟ (호표 33) | B74: 100 | D74: 593095C6C24B0187EF30EA60D4A08B
A75: 저압케이블전공 | C75: 4 | D75: 593095C6C24B0187EF30EA60D4A08B59AA5540E048C48F14B9336B086782CEA69B57
A76: 전력케이블 F-CV, 0.6/1kV, 1C 150㎟ (호표 34) | B76: 100 | D76: 593095C7ED43898DC43BDB65CC0088
A77: 저압케이블전공 | C77: 4 | D77: 593095C7ED43898DC43BDB65CC008859AA5540E048C48F14B9336B086782CEA69B57
A78: 전력케이블 F-CV, 0.6/1kV, 1C 300㎟ (호표 35) | B78: 100 | D78: 593095C7ED43B5818DF4DE6DE05982
A79: 저압케이블전공 | C79: 3 | D79: 593095C7ED43B5818DF4DE6DE0598259AA5540E048C48F14B9336B086782CEA69B57
A80: 절연전선 F-GV, 2.5㎟, 관내포설 (호표 36) | B80: 100 | D80: 5930A52A28407C8A26CCF9618FFF8B
A81: 내선전공 | C81: 3 | D81: 5930A52A28407C8A26CCF9618FFF8B59AA5540E048C48F14B9336B086782CEA69B5A
A82: 절연전선 F-GV, 95㎟, 직매포설 (호표 37) | B82: 100 | D82: 5930A52A28477C86A349FE6D4E7389
A83: 내선전공 | C83: 3 | D83: 5930A52A28477C86A349FE6D4E738959AA5540E048C48F14B9336B086782CEA69B5A
A84: 절연전선 F-GV, 185㎟, 직매포설 (호표 38) | B84: 100 | D84: 5930A52A28472485B1CF0C61057B86
A85: 내선전공 | C85: 3 | D85: 5930A52A28472485B1CF0C61057B8659AA5540E048C48F14B9336B086782CEA69B5A
A86: 러그단자 동관단자 2홀, 35㎟, 1C 구내 (호표 39) | B86: 100 | D86: 593095D0CA463C8C668CF86249AC8D
A87: 저압케이블전공 | C87: 3 | D87: 593095D0CA463C8C668CF86249AC8D59AA5540E048C48F14B9336B086782CEA69B57
A88: 러그단자 동관단자 2홀, 95㎟, 1C 구내 (호표 40) | B88: 100 | D88: 593095D0CA460788689B2E61602689
A89: 저압케이블전공 | C89: 3 | D89: 593095D0CA460788689B2E6160268959AA5540E048C48F14B9336B086782CEA69B57
A90: 러그단자 동관단자 2홀, 150㎟, 1C 구내 (호표 41) | B90: 100 | D90: 593095D1ED494F821B93666B85B98D
A91: 저압케이블전공 | C91: 4 | D91: 593095D1ED494F821B93666B85B98D59AA5540E048C48F14B9336B086782CEA69B57
A92: 러그단자 동관단자 2홀, 185㎟, 1C 구내 (호표 42) | B92: 100 | D92: 593095D1ED4974865AFA4F652AC287
A93: 저압케이블전공 | C93: 3 | D93: 593095D1ED4974865AFA4F652AC28759AA5540E048C48F14B9336B086782CEA69B57
A94: 러그단자 동관단자 2홀, 300㎟, 1C 구내 (호표 43) | B94: 100 | D94: 593095D1ED49138E95FAA369153D8D
A95: 저압케이블전공 | C95: 3 | D95: 593095D1ED49138E95FAA369153D8D59AA5540E048C48F14B9336B086782CEA69B57
A96: 풀박스 100X100X100mm, 노출, 천정 (호표 44) | B96: 100 | D96: 5930E5481E43EB8F5951EC69448E8A
A97: 내선전공 | C97: 3 | D97: 5930E5481E43EB8F5951EC69448E8A59AA5540E048C48F14B9336B086782CEA69B5A
A98: 파이프행거 28C (호표 45) | B98: 100 | D98: 5930E54BD742758DCA5A8A60DDB888
A99: 내선전공 | C99: 3 | D99: 5930E54BD742758DCA5A8A60DDB88859AA5540E048C48F14B9336B086782CEA69B5A
A100: 파이프행거 42C (호표 46) | B100: 100 | D100: 5930E54BD742758DCA5CB860854B8F
...

Sheet  공사설정 
A1: 이 Sheet는 수정하지 마십시요
A2: 공사구분 | B2: D | C2: 타이틀
A3: 확정내역 | B3: 원내역
A4: 자재단가적용 | B4: 5
A5: 경비단가적용 | B5: 5
A6: 품목코드형식 | B6: XXXX-XXXXXXXXXXXXX
A7: 내역금액소수점처리 | B7: C | C7: 1
A8: 일위대가내역소수점처리 | B8: C | C8: 3
A9: 단가명 | B9: 가격정보 | C9: 물가자료 | D9: 물가정보 | E9: 유통물가 | F9: 조사가격 | G9: TTTFT
A10: 환율 | B10: 1153.3 | C10: 0 | D10: 0
A11: 시간당작업량 | B11: R | C11: 4
A12: 1회 사이클시간 | B12: R | C12: 4
A13: 시간당 작업사이클 | B13: R | C13: 3
A14: 일반변수 | B14: C | C14: 5
A15: 시간당 노임산출 계수 | B15: A | C15: 1/8*16/12*25/20 | D15: 1/8*16/12*25/20 | E15: 1/8*16/12*25/20 | F15: 1
A16: 재료비 할증 계수 | B16: 0 | C16: 0
A17: 노무비 할증 계수 | B17: 0 | C17: 0 | D17: 0 | E17: 0 | F17: 0 | G17: 0 | H17: 0 | I17: 0 | J17: 0 | K17: 0 | L17: 0 | M17: 0
A18: 경비 할증 계수 | B18: 0 | C18: 0
A19: 내역,일위대가 품명,규격,단위 따로적용
A20: 내역단가 소수점처리 | C20: 1
A21: 코드 | B21: 공종구분명 | C21: 원가비목코드
A22: 1 | B22: 작 업 부 산 물 | C22: A3
A23: 2 | B23: 운 반 비 | C23: C1
A24: 3 | B24: 관급자 관급자재 | C24: DJ
A25: 4 | B25: 도급자 관급자재 | C25: DK
A26: 5 | B26: 한전불입금 | C26: E1
A27: 6 | B27: 재해예방기술지도비 | C27: E2
A28: 7 | B28: ...
A29: 8 | B29: ...
A30: 9 | B30: ...

Sheet Sheet1
A1: ㅗ
