Workbook
Name ___CDT2: #REF!
Name ___DOG1: #REF!
Name ___DOG2: #REF!
Name ___DOG3: #REF!
Name ___DOG4: #REF!
Name ___NMB96: #REF!
Name ___PI48: #REF!
Name ___PI60: #REF!
Name ___RO110: #REF!
Name ___RO22: #REF!
Name ___RO35: #REF!
Name ___RO60: #REF!
Name ___RO80: #REF!
Name ___TON1: #REF!
Name ___TON2: #REF!
Name ___WW2: #REF!
Name ___WW6: #REF!
Name ___YO1: #N/A
Name __CDT2: #REF!
Name __DOG1: #REF!
Name __DOG2: #REF!
Name __DOG3: #REF!
Name __DOG4: #REF!
Name __HSH1: #REF!
Name __HSH2: #REF!
Name __IntlFixup: TRUE
Name __NP1: #REF!
Name __NP2: #REF!
Name __NSH1: #REF!
Name __NSH2: #REF!
Name __PI48: #REF!
Name __PI60: #REF!
Name __RO110: #REF!
Name __RO22: #REF!
Name __RO35: #REF!
Name __RO60: #REF!
Name __RO80: #REF!
Name __SUB1: #REF!
Name __SUB2: #REF!
Name __SUB3: #REF!
Name __sub4: #REF!
Name __sub5: #REF!
Name __TON1: #REF!
Name __TON2: #REF!
Name __WW2: #REF!
Name __WW6: #REF!
Name __YO1: #N/A
Name _\D: #REF!
Name _\X: #REF!
Name _1: #N/A
Name _10: #N/A
Name _11: #N/A
Name _12: #N/A
Name _13: #N/A
Name _14: #N/A
Name _15: #N/A
Name _16: #N/A
Name _17: #N/A
Name _18: #N/A
Name _19: #N/A

Sheet 표지(내역)
A3: =+'총괄 원가'!C2 -> SDV 전장부품 보안평가 지원센터
E5: [ | F5: 건축, 토목, 기계설비 | K5: ]
E8: 내역서
G15: 2025

Sheet 갑지
B1: 설 계 서 용 지
B2: 과 장 | J2: 심사자 | R2: 검산자 | Z2: 설계자 | AH2: 2025
D4: 2025
F6: ■ | G6: 공 사 명 | K6: : | L6: =+'총괄 원가'!C2 -> SDV 전장부품 보안평가 지원센터
F8: ■ | G8: 공사개요 | K8: : | L8: 건 축 공 사 + 토 목 공 사 + 기 계 설 비 공 사 1식
F10: ■ | G10: 총공사비 | K10: : | L10: =""&NUMBERSTRING(AB19,1)&" 원정 ( ￦"& FIXED(AB19,0,0)&" )" -> 영 원정 ( ￦0 )
AV11: 구 분 | AW11: 도 급 액 | AX11: 관급(도급자) | AY11: 관급(관급자) | AZ11: 계
H12: ■ | I12: 내역 | O12: 건축+토목+기계설비 | AA12: : | AB12: =+'총괄 원가'!D36 -> 0 | AV12: =+O12 -> 건축+토목+기계설비 | AW12: =+'총괄 원가'!D36 -> 0
O14: =+'총괄 원가'!A37 -> 도급자설치 관급자재비 | AA14: : | AB14: =+'총괄 원가'!D37 -> 0 | AV14: =+O14 -> 도급자설치 관급자재비 | AX14: =+'총괄 원가'!D37 -> 0
M16: ` | O16: =+'총괄 원가'!A38 -> 관급자설치 관급자재비 | AA16: : | AB16: =+'총괄 원가'!D38 -> 0 | AV16: =+O16 -> 관급자설치 관급자재비 | AY16: =+'총괄 원가'!D38 -> 0
O19: 총공사비 | AA19: : | AB19: =SUM(AB12:AG17) -> 0 | AV19: 계 | AW19: =+AW12+AW14+AW16 -> 0 | AX19: =+AX12+AX14+AX16 -> 0 | AY19: =+AY12+AY14+AY16 -> 0 | AZ19: =+AW19+AX19+AY19 -> 0
P23: 예산 : | AB23: =$AB$19-R23 -> 0 | AH23: =IF(AB23<0,": 예산미달",": 예산초과") -> : 예산초과 | AV23: 공사금액 | AW23: 도급액 | AX23: =+AX11 -> 관급(도급자) | AY23: =+AY11 -> 관급(관급자) | AZ23: 도급+관급
AV24: 800.54 | AW24: =+AW$19/$AV24 -> 0 | AX24: =+AX$19/$AV24 -> 0 | AY24: =+AY$19/$AV24 -> 0 | AZ24: =+AZ$19/$AV24 -> 0
AV25: =+AV24*0.3025 -> 242.16335 | AW25: =+AW$19/$AV25 -> 0 | AX25: =+AX$19/$AV25 -> 0 | AY25: =+AY$19/$AV25 -> 0 | AZ25: =+AZ$19/$AV25 -> 0

Sheet 총괄 원가
A1: 공 사 원 가 계 산 서
A2: 공사명 : | C2: =+'총괄 순공사비'!F2 -> SDV 전장부품 보안평가 지원센터 | V2: 퇴직공제 부금비 | W2: 안 전 관 리 비
A3: 비 목 | D3: 금 액 | F3: 구 성 비 | N3: 비 고 | Q3: 공사금액 | V3: 1억이상 | W3: 2천만원 총공사비기준 | X3: 5억이상 재(도관)+직노 | Y3: 50억이상 재(도관)+직노
A4: 순 공 사 원 가 | B4: 재료비 | C4: 직접재료비 | D4: =+'총괄 순공사비'!N9 -> 0 | Q4: 순공사 | S4: =+D4+D8+D11 -> 0 | V4: =+D4 -> 0 | W4: =D4 -> 0 | X4: =+D4 -> 0 | Y4: =+D4 -> 0 | Z4: 직접재료비
C5: 간접재료비 | D5: 0 | Q5: 도급액 | S5: =D36 -> 0 | T5: =(S5/S4)/100 -> #DIV/0! | V5: =+D5 -> 0 | W5: =+D5 -> 0 | X5: =+D5 -> 0 | Y5: =+D5 -> 0 | Z5: 간접재료비
C6: 작업설,부산물(△) | D6: 0 | Q6: 도급+관급 | S6: =+D39 -> 0 | T6: =(S6/S4)/100 -> #DIV/0! | V6: =+D6 -> 0 | W6: =+D6 -> 0 | X6: =+D6 -> 0 | Y6: =+D6 -> 0 | Z6: 작업설, 부산물(△)
C7: [ 소 계 ] | D7: =+D4+D5+D6 -> 0 | V7: =SUM(V4:V6) -> 0 | W7: =SUM(W4:W6) -> 0 | X7: =SUM(X4:X6) -> 0 | Y7: =SUM(Y4:Y6) -> 0 | Z7: [ 소 계 ]
B8: 노무비 | C8: 직접노무비 | D8: =+'총괄 순공사비'!P9 -> 0 | V8: =+D8 -> 0 | W8: =D8 -> 0 | X8: =D8 -> 0 | Y8: =D8 -> 0 | Z8: 직접노무비
C9: 간접노무비 | D9: =TRUNC(D8*K9, 0) -> 0 | G9: 직접노무비 | J9: * | K9: 0.152 | V9: =INT(V8*$K9) -> 0 | W9: =INT(W8*$K9) -> 0 | X9: =INT(X8*$K9) -> 0 | Y9: =INT(Y8*$K9) -> 0 | Z9: 간접노무비
C10: [ 소 계 ] | D10: =TRUNC(D8+D9, 0) -> 0 | Q10: 산업안전보건관리비 | V10: =SUM(V8:V9) -> 0 | W10: =SUM(W8:W9) -> 0 | X10: =SUM(X8:X9) -> 0 | Y10: =SUM(Y8:Y9) -> 0 | Z10: [ 소 계 ]
B11: 경 비 | C11: 기계경비 | D11: =+'총괄 순공사비'!R9 -> 0 | Q11: 총공사금액 : 도급액+도급자관급 2천만원이상 | T11: =+V36+V37 -> 0 | V11: =+D11 -> 0 | W11: =+D11 -> 0 | X11: =+D11 -> 0 | Y11: =+D11 -> 0 | Z11: =+C11 -> 기계경비
C12: 산재보험료 | D12: =TRUNC(D10*K12, 0) -> 0 | G12: 노무비 | J12: * | K12: 0.0356 | Q12: 대상액 : 직재+간재+직노+도급자설치관급 | T12: =+V4+V5+V8+V37 -> 0 | V12: =INT(V10*$K12) -> 0 | W12: =INT(W7*$K12) -> 0 | X12: =INT(X7*$K12) -> 0 | Y12: =INT(Y7*$K12) -> 0 | Z12: =+C12 -> 산재보험료
C13: 고용보험료 | D13: =TRUNC(D10*K13, 0) -> 0 | G13: 노무비 | J13: * | K13: 0.0101 | R13: 5억미만 | S13: 5억이상~50억미만 | T13: 50억이상 | V13: =INT(V10*$K13) -> 0 | W13: =INT(W7*$K13) -> 0 | X13: =INT(X7*$K13) -> 0 | Y13: =INT(Y7*$K13) -> 0 | Z13: =+C13 -> 고용보험료
C14: 건강보험료 | D14: =TRUNC(D8*K14, 0) -> 0 | G14: 직접노무비 | J14: * | K14: 0.03545 | R14: 0.0311 | S14: 0.0228 | T14: 0.0237 | V14: =INT(V8*$K14) -> 0 | W14: =INT((W4)*$K14) -> 0 | X14: =INT((X4)*$K14) -> 0 | Y14: =INT((Y4)*$K14) -> 0 | Z14: =+C14 -> 건강보험료
C15: 노인장기요양보험료 | D15: =TRUNC(D14*K15, 0) -> 0 | G15: 건강보험료 | J15: * | K15: 0.1295 | Q15: a. | R15: =INT(((D7+D8)+(T39/1.1))*R14) -> 6 | S15: =INT(((D7+D8)+(T39/1.1))*S14)+S18 -> 4325004 | T15: =INT(((D7+D8)+(T39/1.1))*T14) -> 4 | V15: =INT(V8*$K15) -> 0 | W15: =INT((W4)*$K15) -> 0 | X15: =INT((X4)*$K15) -> 0 | Y15: =INT((Y4)*$K15) -> 0 | Z15: =+C15 -> 노인장기요양보험료
C16: 연금보험료 | D16: =TRUNC(D8*K16, 0) -> 0 | G16: 직접노무비 | J16: * | K16: 0.045 | Q16: b. | R16: =INT(((D7+D8)*R14)*1.2) -> 0 | S16: =INT(((D7+D8)*S14)*1.2)+S18*1.2 -> 5190000 | T16: =INT(((D7+D8)*T14)*1.2) -> 0 | V16: =INT((V14)*$K16) -> 0 | W16: =INT((W14)*$K16) -> 0 | X16: =INT((X14)*$K16) -> 0 | Y16: =INT((Y14)*$K16) -> 0 | Z16: =+C16 -> 연금보험료
C17: 퇴직공제부금비 | D17: =TRUNC(D8*K17, 0) -> 0 | G17: 직접노무비 | J17: * | K17: =IF(V39>=100000000, 2.3%,0) -> 0 | Q17: 적용 | R17: =INT(MIN(R15:R16)) -> 0 | S17: =INT(MIN(S15:S16)) -> 4325004 | T17: =INT(MIN(T15:T16)) -> 0 | Z17: =+C17 -> 퇴직공제부금비
C18: 산업안전보건관리비 | D18: =TRUNC(MIN(M18:M19), 0) -> 0 | G18: (재료비+직노+도급관급/1.1) | J18: * | K18: =IF((T11)<20000000,0%,IF(AND((T11)>=20000000,(T12)<500000000),3.11%,IF(AND((T12)>=500000000,(T12)<5000000000),2.28%,IF((T12)>=5000000000,2.37%,"")))) -> 0 | L18: = | M18: =IF((K18=R14),R15,IF(AND(K18=S14),S15,IF(AND(K18=T14),T15,""))) | S18: 4325000 | T18: 기초액(건축) | W18: =INT(MIN(R15,R16)) -> 0 | X18: =INT(MIN(S15,S16)) -> 4325004 | Y18: =INT(MIN(T15,T16)) -> 0 | Z18: =+C18 -> 산업안전보건관리비
G19: (재료비+직노) * | I19: =+K18 -> 0 | J19: * | K19: 1.2 | L19: = | M19: =IF((I19=R14),R16,IF((I19=S14),S16,IF((I19=T14),T16,""))) | S19: 기초액 4,325,000원 포함 | Z19: =+C19 -> 0
C20: 환경보전비 | D20: =TRUNC((D7+D8+D11)*K20, 0) -> 0 | G20: (재료비+직노+기계경비) | J20: * | K20: 0.005 | Q20: 환경보전비 | R20: 주택(신축) 조경,기타(전문,개보수) | T20: 0.3 | V20: =INT((V7+V8+V11)*$K20) -> 0 | W20: =INT((W7+W8+W11)*$K20) -> 0 | X20: =INT((X7+X8+X11)*$K20) -> 0 | Y20: =INT((Y7+Y8+Y11)*$K20) -> 0 | Z20: =+C20 -> 환경보전비
C21: 기타경비 | D21: =TRUNC((D7+D10)*K21, 0) -> 0 | G21: (재료비+노무비) | J21: * | K21: 0.047 | R21: 주택 외 건축 | T21: 0.5 | V21: =INT((V7+V8)*$K21) -> 0 | W21: =INT((W7+W8)*$K21) -> 0 | X21: =INT((X7+X8)*$K21) -> 0 | Y21: =INT((Y7+Y8)*$K21) -> 0 | Z21: =+C21 -> 기타경비
C22: 하도급지급보증수수료 | D22: =TRUNC((D7+D8+D11)*K22, 0) -> 0 | G22: (재료비+직노+기계경비) | J22: * | K22: 0.00081 | Q22: 하도급지급보증수수료 | R22: 50억미만 (전문공사제외) | T22: 0.081 | V22: =INT((V7+V8+V11)*$K22) -> 0 | W22: =INT((W7+W8+W11)*$K22) -> 0 | X22: =INT((X7+X8+X11)*$K22) -> 0 | Y22: =INT((Y7+Y8+Y11)*$K22) -> 0 | Z22: =+C22 -> 하도급지급보증수수료
C23: 건설기계대여금지급보증서발급수수료 | D23: =TRUNC((D7+D8+D11)*K23, 0) -> 0 | G23: (재료비+직노+기계경비) | J23: * | K23: 0.0007 | Q23: 건설기계대여금수수료 | R23: 종합 | S23: 건축공사 | T23: 0.07 | V23: =INT((V7+V8+V11)*$K23) -> 0 | W23: =INT((W7+W8+W11)*$K23) -> 0 | X23: =INT((X7+X8+X11)*$K23) -> 0 | Y23: =INT((Y7+Y8+Y11)*$K23) -> 0 | Z23: =+C23 -> 건설기계대여금지급보증서발급수수료
C24: 품질시험비 | D24: =+'총괄 순공사비'!R17 -> 0 | S24: 산업환경설비 | T24: 0.16 | V24: =+D24 -> 0 | W24: =+D24 -> 0 | X24: =+D24 -> 0 | Y24: =+D24 -> 0 | Z24: =+C24 -> 품질시험비
C25: 안전관리비 | R25: 전문 | S25: 비계구조물해체 | T25: 0.68 | V25: =+D25 -> 0 | W25: =+D25 -> 0 | X25: =+D25 -> 0 | Y25: =+D25 -> 0 | Z25: =+C25 -> 안전관리비
C26: [ 소 계 ] | D26: =TRUNC(SUM(D11:D25), 0) -> 0 | S26: 석,시설물유지관리,철콘,가스시설 | T26: 0.32 | V26: =SUM(V11:V25) -> 0 | W26: =SUM(W11:W25) -> 0 | X26: =SUM(X11:X25) -> 4325004 | Y26: =SUM(Y11:Y25) -> 0 | Z26: =+C26 -> [ 소 계 ]
A27: 계 | D27: =TRUNC(D7+D10+D26, 0) -> 0 | V27: =+V7+V10+V26 -> 0 | W27: =+W7+W10+W26 -> 0 | X27: =+X7+X10+X26 -> 4325004 | Y27: =+Y7+Y10+Y26 -> 0 | Z27: =+A27 -> 계
A28: 일반관리비 | D28: =TRUNC(D27*K28, 0) -> 0 | G28: 계 | J28: * | K28: 0.04 | S28: 도장,철강재설치 | T28: 0.16 | V28: =INT((V7+V10+V26)*$K28) -> 0 | W28: =INT((W7+W10+W26)*$K28) -> 0 | X28: =INT((X7+X10+X26)*$K28) -> 173000 | Y28: =INT((Y7+Y10+Y26)*$K28) -> 0 | Z28: =+A28 -> 일반관리비
A29: 이윤 | D29: =TRUNC(D43-D44, 0) -> 0 | G29: (노무비+경비+일반관리비) | J29: * | K29: 0.1 | S29: 기계설비 그외 (인테리어등) | T29: 0.1 | V29: =INT((V10+V12+V28)*$K29) -> 0 | W29: =INT((W10+W12+W28)*$K29) -> 0 | X29: =INT((X10+X12+X28)*$K29) -> 17300 | Y29: =INT((Y10+Y12+Y28)*$K29) -> 0 | Z29: =+A29 -> 이윤
A30: 작업부산물 | D30: =+'총괄 순공사비'!T13 -> 0 | V30: =+D30 -> 0 | W30: =+D30 -> 0 | X30: =+D30 -> 0 | Y30: =+D30 -> 0 | Z30: =+A30 -> 작업부산물
A31: 건설폐기물상차비 | V31: =+D31 -> 0 | W31: =+D31 -> 0 | X31: =+D31 -> 0 | Y31: =+D31 -> 0 | Z31: =+A31 -> 건설폐기물상차비
A32: 건설폐기물처리비 | V32: =+D32 -> 0 | W32: =+D32 -> 0 | X32: =+D32 -> 0 | Y32: =+D32 -> 0 | Z32: =+A32 -> 건설폐기물처리비
A33: 재활용폐기물처리비 | V33: =+D33 -> 0 | W33: =+D33 -> 0 | X33: =+D33 -> 0 | Y33: =+D33 -> 0 | Z33: =+A33 -> 재활용폐기물처리비
A34: 공급가액 | D34: =TRUNC(SUM(D27:D33), 0) -> 0 | V34: =SUM(V27:V33) -> 0 | W34: =SUM(W27:W33) -> 0 | X34: =SUM(X27:X33) -> 4515304 | Y34: =SUM(Y27:Y33) -> 0 | Z34: =+A34 -> 공급가액
A35: 부가가치세 | D35: =TRUNC((D34*K35), 0) -> 0 | G35: 공급가액 | J35: * | K35: 0.1 | V35: =+V34*$K35 -> 0 | W35: =+W34*$K35 -> 0 | X35: =+X34*$K35 -> 451530.4 | Y35: =+Y34*$K35 -> 0 | Z35: =+A35 -> 부가가치세
A36: 도급액 | D36: =TRUNC((D34+D35), 0) -> 0 | Q36: 절사 | R36: 도급괸급+절사 | S36: 조달수수료 | T36: 조달수수료제외 | V36: =SUM(V34:V35) -> 0 | W36: =SUM(W34:W35) -> 0 | X36: =SUM(X34:X35) -> 4966834.4 | Y36: =SUM(Y34:Y35) -> 0 | Z36: =+A36 -> 도급액
A37: 도급자설치 관급자재비 | D37: =+'총괄 순공사비'!T21 -> 0 | Q37: 218 | R37: =+D37+Q37 -> 218 | S37: =ROUNDDOWN(((R37/1.0054)*0.0054), 0) -> 1 | T37: =+R37-S37 -> 217 | V37: =+D37 -> 0 | W37: =+D37 -> 0 | X37: =+D37 -> 0 | Y37: =+D37 -> 0 | Z37: =+A37 -> 도급자설치 관급자재비
A38: 관급자설치 관급자재비 | D38: =+'총괄 순공사비'!T26 -> 0 | V38: =+D38 -> 0 | W38: =+D38 -> 0 | X38: =+D38 -> 0 | Y38: =+D38 -> 0 | Z38: =+A38 -> 관급자설치 관급자재비
A39: 총공사비 | D39: =SUM(D36:D38) -> 0 | Q39: =SUM(Q38:Q38) -> 0 | R39: =SUM(R37:R38) -> 218 | S39: =SUM(S37:S38) -> 1 | T39: =SUM(T37:T38) -> 217 | V39: =SUM(V36:V38) -> 0 | W39: =SUM(W36:W38) -> 0 | X39: =SUM(X36:X38) -> 4966834.4 | Y39: =SUM(Y36:Y38) -> 0 | Z39: =+A39 -> 총공사비
C41: 예산 | D41: 0 | F41: =INT($D$39-D41) -> 0 | H41: =IF(($D$39=F41)," ",IF((F41<0),"미달",IF((F41>0),"초과")))
C43: 이윤 | D43: =(D10+D26+D28)*K29 -> 0 | L43: =+$D$39-I43 -> 0 | N43: =IF(($D$39=L43)," ",IF((L43<0),"감",IF((L43>0),"증")))
C44: 절사 | D44: =ROUND(RIGHT(D47,3)/1.1, 0) -> 0
C45: 공급가액 | D45: =TRUNC(SUM(D27:D28)+SUM(D30:D33)+D43, 0) -> 0
C46: 부가세 | D46: =TRUNC(D45*K35, 0) -> 0
C47: 도급액 | D47: =(D45+D46) -> 0
N48: =IF((K48>0),"증",IF((K48<0),"감",IF((K48=0)," ")))

Sheet 총괄 순공사비
B1: 순 공 사 집 계 표
B2: 공사명 : | F2: SDV 전장부품 보안평가 지원센터
B3: 품 명 | K3: 규 격 | L3: 수량 | M3: 재 료 비 | O3: 노 무 비 | Q3: 경 비 | S3: 합 계 | U3: 비 고
M4: 단 가 | N4: 금 액 | O4: 단 가 | P4: 금 액 | Q4: 단 가 | R4: 금 액 | S4: 단 가 | T4: 금 액
A5: 1 | B5: 1 | C5: . | D5: 순 공 사 비 | S5: =M5+O5+Q5 -> 0 | T5: =N5+P5+R5 -> 0
B6: =+B5 -> 1 | C6: - | D6: 1 | E6: . | F6: 건축공사 | L6: 1 | M6: =+'건축 공종별집계표'!F6 -> 0 | N6: =M6*L6 -> 0 | O6: =+'건축 공종별집계표'!H6 -> 0 | P6: =O6*L6 -> 0 | Q6: =+'건축 공종별집계표'!J6 -> 0 | R6: =Q6*L6 -> 0 | S6: =M6+O6+Q6 -> 0 | T6: =N6+P6+R6 -> 0
B7: =+B5 -> 1 | C7: - | D7: =+D6+1 -> 2 | E7: . | F7: 토목공사 | L7: 1 | U7: 토목내역참조
B8: =+B6 -> 1 | C8: - | D8: =+D7+1 -> 3 | E8: . | F8: 기계설비공사 | L8: 1 | U8: 설비내역참조
B9: 합 계 | N9: =SUM(N6:N8) -> 0 | P9: =SUM(P6:P8) -> 0 | R9: =SUM(R6:R8) -> 0 | T9: =N9+P9+R9 -> 0
A11: =SUM(#REF!) -> #REF! | B11: 2 | C11: . | D11: 작업부산물
A12: 100 | B12: =+B11 -> 2 | C12: - | D12: 1 | E12: . | F12: 건축공사 | L12: 1 | M12: =+'건축 공종별집계표'!F24 -> 0 | N12: =(M12*L12) -> 0 | P12: =O12*L12 -> 0 | R12: =Q12*L12 -> 0 | T12: =N12+P12+R12 -> 0
B13: 합 계 | N13: =SUM(N12:N12) -> 0 | P13: =SUM(P12:P12) -> 0 | R13: =SUM(R12:R12) -> 0 | T13: =N13+P13+R13 -> 0
A15: =SUM(A1:A6) -> 1 | B15: 3 | C15: . | D15: 품질시험비
A16: 100 | B16: =+B15 -> 3 | C16: - | D16: 1 | E16: . | F16: 건축공사 | L16: 1 | N16: =(M16*L16) -> 0 | P16: =O16*L16 -> 0 | R16: =+'건축 공종별집계표'!J25 -> 0 | T16: =N16+P16+R16 -> 0
B17: 합 계 | N17: =SUM(N16:N16) -> 0 | P17: =SUM(P16:P16) -> 0 | R17: =SUM(R16:R16) -> 0 | T17: =N17+P17+R17 -> 0
A19: =SUM(A5:A10) -> 1 | B19: 4 | C19: . | D19: 도급자설치 관급자재
A20: 100 | B20: =+B19 -> 4 | C20: - | D20: 1 | E20: . | F20: 건축공사 | L20: 1
B21: 합 계 | N21: =SUM(N20:N20) -> 0 | P21: =SUM(P20:P20) -> 0 | R21: =SUM(R20:R20) -> 0 | T21: =N21+P21+R21 -> 0
A23: =SUM(A19:A22) -> 101 | B23: 5 | C23: . | D23: 관급자설치 관급자재 | R23: =Q23*L23 -> 0
B24: =+B23 -> 5 | C24: - | D24: 1 | E24: . | F24: 건축공사 | L24: 1 | N24: =M24*L24 -> 0 | P24: =O24*L24 -> 0 | R24: =Q24*L24 -> 0 | T24: =N24+P24+R24 -> 0
B25: =+B24 -> 5 | C25: - | D25: =+D24+1 -> 2 | E25: . | F25: 기계설비공사 | L25: 1 | N25: =M25*L25 -> 0 | P25: =O25*L25 -> 0 | R25: =Q25*L25 -> 0 | T25: =N25+P25+R25 -> 0 | U25: 설비내역참조
B26: 합 계 | N26: =SUM(N24:N25) -> 0 | P26: =SUM(P24:P25) -> 0 | R26: =SUM(R24:R25) -> 0 | T26: =N26+P26+R26 -> 0

Sheet 건축 공종별집계표
A1: 공 종 별 집 계 표
A2: [ SDV 전장부품 보안평가 지원센터(건축) ]
A3: 품 명 | B3: 규 격 | C3: 단위 | D3: 수량 | E3: 재 료 비 | G3: 노 무 비 | I3: 경 비 | K3: 합 계 | M3: 비 고 | N3: 공종코드 | O3: 변수 | P3: 상위공종 | Q3: 공종구분 | R3: 공종레벨 | S3: 공종소계 | T3: 원가계산서 연결금액
E4: 단 가 | F4: 금 액 | G4: 단 가 | H4: 금 액 | I4: 단 가 | J4: 금 액 | K4: 단 가 | L4: 금 액
A5: 01 SDV 전장부품 보안평가 지원센터 | D5: 1 | E5: =F6 -> 0 | F5: =E5*D5 -> 0 | G5: =H6 -> 0 | H5: =G5*D5 -> 0 | I5: =J6 -> 0 | J5: =I5*D5 -> 0 | K5: =E5+G5+I5 -> 0 | L5: =F5+H5+J5 -> 0 | N5: 01 | R5: 1
A6: 0101 ▣ 건 축 공 사 | D6: 1 | E6: =F7+F8+F9+F10+F11+F12+F13+F14+F15+F16+F17+F18+F19+F20+F21+F22+F23 -> 0 | F6: =E6*D6 -> 0 | G6: =H7+H8+H9+H10+H11+H12+H13+H14+H15+H16+H17+H18+H19+H20+H21+H22+H23 -> 0 | H6: =G6*D6 -> 0 | I6: =J7+J8+J9+J10+J11+J12+J13+J14+J15+J16+J17+J18+J19+J20+J21+J22+J23 -> 0 | J6: =I6*D6 -> 0 | K6: =E6+G6+I6 -> 0 | L6: =F6+H6+J6 -> 0 | N6: 0101 | P6: 01 | R6: 2
A7: 010101 가 설 공 사 | D7: 1 | E7: ='건축 공종별내역서'!F27 -> 0 | F7: =E7*D7 -> 0 | G7: ='건축 공종별내역서'!H27 -> 0 | H7: =G7*D7 -> 0 | I7: ='건축 공종별내역서'!J27 -> 0 | J7: =I7*D7 -> 0 | K7: =E7+G7+I7 -> 0 | L7: =F7+H7+J7 -> 0 | N7: 010101 | P7: 0101 | R7: 3
A8: 010102 토 및 지정공사 | D8: 1 | E8: ='건축 공종별내역서'!F51 -> 0 | F8: =E8*D8 -> 0 | G8: ='건축 공종별내역서'!H51 -> 0 | H8: =G8*D8 -> 0 | I8: ='건축 공종별내역서'!J51 -> 0 | J8: =I8*D8 -> 0 | K8: =E8+G8+I8 -> 0 | L8: =F8+H8+J8 -> 0 | N8: 010102 | P8: 0101 | R8: 3
A9: 010103 철근콘크리트공사 | D9: 1 | E9: ='건축 공종별내역서'!F75 -> 0 | F9: =E9*D9 -> 0 | G9: ='건축 공종별내역서'!H75 -> 0 | H9: =G9*D9 -> 0 | I9: ='건축 공종별내역서'!J75 -> 0 | J9: =I9*D9 -> 0 | K9: =E9+G9+I9 -> 0 | L9: =F9+H9+J9 -> 0 | N9: 010103 | P9: 0101 | R9: 3
A10: 010104 조 적 공 사 | D10: 1 | E10: ='건축 공종별내역서'!F99 -> 0 | F10: =E10*D10 -> 0 | G10: ='건축 공종별내역서'!H99 -> 0 | H10: =G10*D10 -> 0 | I10: ='건축 공종별내역서'!J99 -> 0 | J10: =I10*D10 -> 0 | K10: =E10+G10+I10 -> 0 | L10: =F10+H10+J10 -> 0 | N10: 010104 | P10: 0101 | R10: 3
A11: 010105 돌 공 사 | D11: 1 | E11: ='건축 공종별내역서'!F123 -> 0 | F11: =E11*D11 -> 0 | G11: ='건축 공종별내역서'!H123 -> 0 | H11: =G11*D11 -> 0 | I11: ='건축 공종별내역서'!J123 -> 0 | J11: =I11*D11 -> 0 | K11: =E11+G11+I11 -> 0 | L11: =F11+H11+J11 -> 0 | N11: 010105 | P11: 0101 | R11: 3
A12: 010106 타 일 공 사 | D12: 1 | E12: ='건축 공종별내역서'!F147 -> 0 | F12: =E12*D12 -> 0 | G12: ='건축 공종별내역서'!H147 -> 0 | H12: =G12*D12 -> 0 | I12: ='건축 공종별내역서'!J147 -> 0 | J12: =I12*D12 -> 0 | K12: =E12+G12+I12 -> 0 | L12: =F12+H12+J12 -> 0 | N12: 010106 | P12: 0101 | R12: 3
A13: 010107 목공사및수장공사 | D13: 1 | E13: ='건축 공종별내역서'!F171 -> 0 | F13: =E13*D13 -> 0 | G13: ='건축 공종별내역서'!H171 -> 0 | H13: =G13*D13 -> 0 | I13: ='건축 공종별내역서'!J171 -> 0 | J13: =I13*D13 -> 0 | K13: =E13+G13+I13 -> 0 | L13: =F13+H13+J13 -> 0 | N13: 010107 | P13: 0101 | R13: 3
A14: 010108 방 수 공 사 | D14: 1 | E14: ='건축 공종별내역서'!F195 -> 0 | F14: =E14*D14 -> 0 | G14: ='건축 공종별내역서'!H195 -> 0 | H14: =G14*D14 -> 0 | I14: ='건축 공종별내역서'!J195 -> 0 | J14: =I14*D14 -> 0 | K14: =E14+G14+I14 -> 0 | L14: =F14+H14+J14 -> 0 | N14: 010108 | P14: 0101 | R14: 3
A15: 010109 지붕 및 홈통공사 | D15: 1 | E15: ='건축 공종별내역서'!F219 -> 0 | F15: =E15*D15 -> 0 | G15: ='건축 공종별내역서'!H219 -> 0 | H15: =G15*D15 -> 0 | I15: ='건축 공종별내역서'!J219 -> 0 | J15: =I15*D15 -> 0 | K15: =E15+G15+I15 -> 0 | L15: =F15+H15+J15 -> 0 | N15: 010109 | P15: 0101 | R15: 3
A16: 010110 금 속 공 사 | D16: 1 | E16: ='건축 공종별내역서'!F243 -> 0 | F16: =E16*D16 -> 0 | G16: ='건축 공종별내역서'!H243 -> 0 | H16: =G16*D16 -> 0 | I16: ='건축 공종별내역서'!J243 -> 0 | J16: =I16*D16 -> 0 | K16: =E16+G16+I16 -> 0 | L16: =F16+H16+J16 -> 0 | N16: 010110 | P16: 0101 | R16: 3
A17: 010111 미 장 공 사 | D17: 1 | E17: ='건축 공종별내역서'!F267 -> 0 | F17: =E17*D17 -> 0 | G17: ='건축 공종별내역서'!H267 -> 0 | H17: =G17*D17 -> 0 | I17: ='건축 공종별내역서'!J267 -> 0 | J17: =I17*D17 -> 0 | K17: =E17+G17+I17 -> 0 | L17: =F17+H17+J17 -> 0 | N17: 010111 | P17: 0101 | R17: 3
A18: 010112 창호 및 유리공사 | D18: 1 | E18: ='건축 공종별내역서'!F339 -> 0 | F18: =E18*D18 -> 0 | G18: ='건축 공종별내역서'!H339 -> 0 | H18: =G18*D18 -> 0 | I18: ='건축 공종별내역서'!J339 -> 0 | J18: =I18*D18 -> 0 | K18: =E18+G18+I18 -> 0 | L18: =F18+H18+J18 -> 0 | N18: 010112 | P18: 0101 | R18: 3
A19: 010113 칠 공 사 | D19: 1 | E19: ='건축 공종별내역서'!F363 -> 0 | F19: =E19*D19 -> 0 | G19: ='건축 공종별내역서'!H363 -> 0 | H19: =G19*D19 -> 0 | I19: ='건축 공종별내역서'!J363 -> 0 | J19: =I19*D19 -> 0 | K19: =E19+G19+I19 -> 0 | L19: =F19+H19+J19 -> 0 | N19: 010113 | P19: 0101 | R19: 3
A20: 010114 기 타 공 사 | D20: 1 | E20: ='건축 공종별내역서'!F387 -> 0 | F20: =E20*D20 -> 0 | G20: ='건축 공종별내역서'!H387 -> 0 | H20: =G20*D20 -> 0 | I20: ='건축 공종별내역서'!J387 -> 0 | J20: =I20*D20 -> 0 | K20: =E20+G20+I20 -> 0 | L20: =F20+H20+J20 -> 0 | N20: 010114 | P20: 0101 | R20: 3
A21: 010115 철 거 공 사 | D21: 1 | E21: ='건축 공종별내역서'!F411 -> 0 | F21: =E21*D21 -> 0 | G21: ='건축 공종별내역서'!H411 -> 0 | H21: =G21*D21 -> 0 | I21: ='건축 공종별내역서'!J411 -> 0 | J21: =I21*D21 -> 0 | K21: =E21+G21+I21 -> 0 | L21: =F21+H21+J21 -> 0 | N21: 010115 | P21: 0101 | R21: 3
A22: 010116 골 재 대 | D22: 1 | E22: ='건축 공종별내역서'!F435 -> 0 | F22: =E22*D22 -> 0 | G22: ='건축 공종별내역서'!H435 -> 0 | H22: =G22*D22 -> 0 | I22: ='건축 공종별내역서'!J435 -> 0 | J22: =I22*D22 -> 0 | K22: =E22+G22+I22 -> 0 | L22: =F22+H22+J22 -> 0 | N22: 010116 | P22: 0101 | R22: 3
A23: 010117 운 반 비 | D23: 1 | E23: ='건축 공종별내역서'!F459 -> 0 | F23: =E23*D23 -> 0 | G23: ='건축 공종별내역서'!H459 -> 0 | H23: =G23*D23 -> 0 | I23: ='건축 공종별내역서'!J459 -> 0 | J23: =I23*D23 -> 0 | K23: =E23+G23+I23 -> 0 | L23: =F23+H23+J23 -> 0 | N23: 010117 | P23: 0101 | R23: 3
A24: 010118 작 업 부 산 물 | D24: 1 | E24: ='건축 공종별내역서'!F483 -> 0 | F24: =E24*D24 -> 0 | G24: ='건축 공종별내역서'!H483 -> 0 | H24: =G24*D24 -> 0 | I24: ='건축 공종별내역서'!J483 -> 0 | J24: =I24*D24 -> 0 | K24: =E24+G24+I24 -> 0 | L24: =F24+H24+J24 -> 0 | M24: 별산 | N24: 010118 | Q24: 1 | R24: 3 | T24: =L24*1 -> 0
A25: 010119 품 질 시 험 비 | D25: 1 | E25: ='건축 공종별내역서'!F507 -> 0 | F25: =E25*D25 -> 0 | G25: ='건축 공종별내역서'!H507 -> 0 | H25: =G25*D25 -> 0 | I25: ='건축 공종별내역서'!J507 -> 0 | J25: =I25*D25 -> 0 | K25: =E25+G25+I25 -> 0 | L25: =F25+H25+J25 -> 0 | M25: 별산 | N25: 010119 | Q25: 4 | R25: 3 | T25: =L25*1 -> 0
A26: 010120 도급자설치관급자재비 | D26: 1 | E26: ='건축 공종별내역서'!F531 -> 0 | F26: =E26*D26 -> 0 | G26: ='건축 공종별내역서'!H531 -> 0 | H26: =G26*D26 -> 0 | I26: ='건축 공종별내역서'!J531 -> 0 | J26: =I26*D26 -> 0 | K26: =E26+G26+I26 -> 0 | L26: =F26+H26+J26 -> 0 | M26: 별산 | N26: 010120 | Q26: 8 | R26: 3 | T26: =L26*1 -> 0
A27: 010121 관급자설치관급자재비 | D27: 1 | E27: ='건축 공종별내역서'!F555 -> 0 | F27: =E27*D27 -> 0 | G27: ='건축 공종별내역서'!H555 -> 0 | H27: =G27*D27 -> 0 | I27: ='건축 공종별내역서'!J555 -> 0 | J27: =I27*D27 -> 0 | K27: =E27+G27+I27 -> 0 | L27: =F27+H27+J27 -> 0 | M27: 별산 | N27: 010121 | Q27: 9 | R27: 3 | T27: =L27*1 -> 0

Sheet 건축 공종별내역서
A1: [ SDV 전장부품 보안평가 지원센터(건축) ]
A2: 품 명 | B2: 규 격 | C2: 단위 | D2: 수량 | E2: 재 료 비 | G2: 노 무 비 | I2: 경 비 | K2: 합 계 | M2: 비 고 | N2: 품목코드 | O2: 변수 | P2: 설정 | Q2: 공종코드 | R2: 일위 | S2: 단산 | T2: 자재 | U2: 손료적용 | V2: 손료저장 | W2: 적용율 | X2: JUK1 | Y2: JUK2 | Z2: JUK3 | AA2: JUK4 | AB2: JUK5 | AC2: JUK6 | AD2: JUK7 | AE2: JUK8 | AF2: JUK9 | AG2: JUK10 | AH2: JUK11 | AI2: JUK12 | AJ2: JUK13 | AK2: JUK14 | AL2: JUK15 | AM2: JUK16 | AN2: JUK17 | AO2: JUK18 | AP2: JUK19 | AQ2: JUK20 | AR2: 자재구분 | AS2: 공종구분 | AT2: 공종레벨 | AU2: 공종+자재 | AV2: 고유번호
E3: 단 가 | F3: 금 액 | G3: 단 가 | H3: 금 액 | I3: 단 가 | J3: 금 액 | K3: 단 가 | L3: 금 액
A4: 010101 가 설 공 사 | Q4: 010101
A5: 콘테이너형 가설사무소 설치 및 해체 | B5: 3.0*6.0m, 12개월 | C5: 개소 | D5: 1 | N5: 461688C1BC2A338095A226DFC931B | Q5: 010101 | R5: T | S5: F | T5: F | AU5: 010101461688C1BC2A338095A226DFC931B | AV5: 230
A6: 콘테이너형 가설창고 설치 및 해체 | B6: 3.0*6.0m, 12개월 | C6: 개소 | D6: 1 | N6: 461688C1BC293140902525754E4C5 | Q6: 010101 | R6: T | S6: F | T6: F | AU6: 010101461688C1BC293140902525754E4C5 | AV6: 231
A7: 조립식가설울타리/E.G.I철판 | B7: H=3.0, 12개월 | C7: M | D7: 240 | N7: 461688C2448230409016732132790 | Q7: 010101 | R7: T | S7: F | T7: F | AU7: 010101461688C2448230409016732132790 | AV7: 232
A8: 수평 규준틀 | B8: 평 | C8: 개소 | D8: 4 | N8: 461688C246B03030974B95EE989D7 | Q8: 010101 | R8: T | S8: F | T8: F | AU8: 010101461688C246B03030974B95EE989D7 | AV8: 9
A9: 수평 규준틀 | B9: 귀 | C9: 개소 | D9: 9 | N9: 461688C246B03030974B95DC38660 | Q9: 010101 | R9: T | S9: F | T9: F | AU9: 010101461688C246B03030974B95DC38660 | AV9: 10
A10: 강관동바리 설치 및 해체 | B10: 3.5m이하, 3개월 | C10: M2 | D10: 32 | N10: 461688C246B33D409DEDD062FF46D | Q10: 010101 | R10: T | S10: F | T10: F | AU10: 010101461688C246B33D409DEDD062FF46D | AV10: 233
A11: 강관동바리 설치 및 해체 | B11: 3.5m초과~4.2m이하, 3개월 | C11: M2 | D11: 767 | N11: 461688C246B33D409DEDD062FF574 | Q11: 010101 | R11: T | S11: F | T11: F | AU11: 010101461688C246B33D409DEDD062FF574 | AV11: 234
A12: 시스템동바리 설치 및 해체 | B12: 10m초과~20m이하, 3개월 | C12: 10공M3 | D12: 10 | N12: 461688C246B33D509EC7E088FD746 | Q12: 010101 | R12: T | S12: F | T12: F | AU12: 010101461688C246B33D509EC7E088FD746 | AV12: 235
A13: 시스템비계 설치 및 해체 | B13: 10.0m이하, 3개월(발판2열)(계단설치해체비포함) | C13: M2 | D13: 584 | N13: 461688C246B03020968C2590771F9 | Q13: 010101 | R13: T | S13: F | T13: F | AU13: 010101461688C246B03020968C2590771F9 | AV13: 236
A14: 시스템비계 설치 및 해체 | B14: 10.0m초과~20.0m이하, 3개월(발판2열)(계단설치해체비포함) | C14: M2 | D14: 302 | N14: 461688C246B03020968C259077280 | Q14: 010101 | R14: T | S14: F | T14: F | AU14: 010101461688C246B03020968C259077280 | AV14: 237
A15: 시스템비계 설치 및 해체/내부 | B15: 10.0m이하, 3개월(발판1열)(계단설치해체비포함) | C15: M2 | D15: 52 | N15: 461688C246B03020968C2590771FA | Q15: 010101 | R15: T | S15: F | T15: F | AU15: 010101461688C246B03020968C2590771FA | AV15: 238
A16: 건축물보양 | B16: 보양지 붙이기, 타일면 | C16: M2 | D16: 34 | N16: 461688C7C5F73F60900DDBFB7EE19 | Q16: 010101 | R16: T | S16: F | T16: F | AU16: 010101461688C7C5F73F60900DDBFB7EE19 | AV16: 19
... A19: 건축물 현장정리 | B19: 철근콘크리트조, 철골·철근콘크리트조 | C19: M2 | D19: 801 | N19: 461688C7C69B3AA09E10B3B142AE9 | Q19: 010101 | R19: T | S19: F | T19: F | AU19: 010101461688C7C69B3AA09E10B3B142AE9 | AV19: 16
A20: 준공청소 | C20: M2 | D20: 801 | N20: 461688C7C3C83D209330AA661CCED | Q20: 010101 | R20: T | S20: F | T20: F | AU20: 010101461688C7C3C83D209330AA661CCED | AV20: 239
Q21: 010101
Q22: 010101
Q23: 010101
Q24: 010101
Q25: 010101
Q26: 010101
A27: [ 합 계 ] | F27: =SUMIF(Q5:Q26,"010101",F5:F26) -> 0 | H27: =SUMIF(Q5:Q26,"010101",H5:H26) -> 0 | J27: =SUMIF(Q5:Q26,"010101",J5:J26) -> 0 | L27: =SUMIF(Q5:Q26,"010101",L5:L26) -> 0 | N27: TOTAL
A28: 010102 토 및 지정공사 | Q28: 010102
A29: 터파기/토사 | B29: 보통, 굴착기 0.7m3 | C29: M3 | D29: 733 | N29: 463B82FEFDFE30F09EDD8B6BB652A | Q29: 010102 | R29: F | S29: T | T29: F | AU29: 010102463B82FEFDFE30F09EDD8B6BB652A | AV29: 25
A30: 토사 운반/단지외 10km | B30: 보통, 덤프 15ton+굴착기 0.7m3 | C30: M3 | D30: 666 | N30: 463B82FDD6D5394091EFCDFCA47C0 | Q30: 010102 | R30: F | S30: T | T30: F | AU30: 010102463B82FDD6D5394091EFCDFCA47C0 | AV30: 26
A31: 되메우기 및 다짐 | B31: 굴착기0.6m3+진동롤러(자주식+핸드가이식)+살수 | C31: M3 | D31: 67 | N31: 463B82F3D0D23070935DC65F9B314 | Q31: 010102 | R31: T | S31: F | T31: F | AU31: 010102463B82F3D0D23070935DC65F9B314 | AV31: 240
A32: 발포폴리스티렌 슬래브 위 깔기 | B32: 비드법 2종, 비중 0.03, 100mm | C32: M2 | D32: 311 | N32: 461686F17CE83C009490B195EFBC1 | Q32: 010102 | R32: T | S32: F | T32: F | AU32: 010102461686F17CE83C009490B195EFBC1 | AV32: 276
A33: 방습필름 설치 - 바닥 | B33: 폴리에틸렌필름, 두께, 0.03mm, 2겹 | C33: M2 | D33: 356 | N33: 461686F17E993730925B69120CD62 | Q33: 010102 | R33: T | S33: F | T33: F | AU33: 010102461686F17E993730925B69120CD62 | AV33: 282
A34: 고강도콘크리트말뚝(대구) | B34: 400mm*65mm*15m*2670kg, A종 | C34: 본 | D34: 114 | N34: 413E8B621A3C39D09A29123ADCBEA5C1029F9 | Q34: 010102 | R34: F | S34: F | T34: T | AU34: 010102413E8B621A3C39D09A29123ADCBEA5C1029F9 | AV34: 241
A35: 파일박기(SIP공법-벌크시멘트포함) | B35: D500 이하(케이싱사용,T4) | C35: M | D35: 1653 | N35: 46168A1416273D109D8A9BB24034D | Q35: 010102 | R35: T | S35: F | T35: F | AU35: 01010246168A1416273D109D8A9BB24034D | AV35: 252
A36: 파일용접이음/용접 | B36: Φ400, 이음밴드2EA포함 | C36: 개소 | D36: 57 | N36: 46168A1416203A30914EE9C8DEB7A | Q36: 010102 | R36: T | S36: F | T36: F | AU36: 01010246168A1416203A30914EE9C8DEB7A | AV36: 257
A37: 말뚝두부정리(콘크리트) | B37: D400 | C37: 본 | D37: 57 | N37: 46168A14162134809D129C7FF0A86 | Q37: 010102 | R37: T | S37: F | T37: F | AU37: 01010246168A14162134809D129C7FF0A86 | AV37: 24
A38: 파일하차비 | B38: Ø400 기준 | C38: 본 | D38: 114 | N38: 46168A1416273D109D8A9BB252C02 | Q38: 010102 | R38: T | S38: F | T38: F | AU38: 01010246168A1416273D109D8A9BB252C02 | AV38: 250
A39: S.I.P 장비조립, 해체 | B39: 작업구간내 이동, 조립2일,해체1일 | C39: 회 | D39: 1 | N39: 46168A15395432009DB52CE1621FF | Q39: 010102 | R39: T | S39: F | T39: F | AU39: 01010246168A15395432009DB52CE1621FF | AV39: 254
A40: 동재하시험 | C40: 회당 | D40: 3 | N40: 463B8864B9AC38E09818623232D9B | Q40: 010102 | R40: T | S40: F | T40: F | AU40: 010102463B8864B9AC38E09818623232D9B | AV40: 456
Q41: 010102
Q42: 010102
Q43: 010102
Q44: 010102
Q45: 010102
Q46: 010102
Q47: 010102
Q48: 010102
Q49: 010102
Q50: 010102
A51: [ 합 계 ] | F51: =SUMIF(Q29:Q50,"010102",F29:F50) -> 0 | H51: =SUMIF(Q29:Q50,"010102",H29:H50) -> 0 | J51: =SUMIF(Q29:Q50,"010102",J29:J50) -> 0 | L51: =SUMIF(Q29:Q50,"010102",L29:L50) -> 0 | N51: TOTAL
A52: 010103 철근콘크리트공사 | Q52: 010103
A53: 레미콘[관급] | B53: 25-30-150 | C53: M3 | D53: 698 | N53: 413E8B621BC43C8099DE612E6578BD3D9EAA0 | R53: F | S53: F | T53: T | AR53: 관급자재 | AU53: 010103413E8B621BC43C8099DE612E6578BD3D9EAA0 | AV53: 258
A54: 레미콘[관급] | B54: 25-18-120 | C54: M3 | D54: 96 | N54: 413E8B621BC43C8099DE612E6578BD3D9EE3D | R54: F | S54: F | T54: T | AR54: 관급자재 | AU54: 010103413E8B621BC43C8099DE612E6578BD3D9EE3D | AV54: 259
A55: 콘크리트 펌프차 타설(무근, 진동기無) | B55: slump 8~12cm, 매트기초 등, f2 : Type-Ⅱ, 36m | C55: M3 | D55: 48 | N55: 46168D42D35D30C09A042C3147525 | Q55: 010103 | R55: T | S55: F | T55: F | AU55: 01010346168D42D35D30C09A042C3147525 | AV55: 262
A56: 콘크리트 펌프차 타설 | B56: slump 15cm, 매트기초 등, f2 : Type-Ⅱ, 36m | C56: M3 | D56: 221 | N56: 46168D42D08C36009C0A1FFDFCE21 | Q56: 010103 | R56: T | S56: F | T56: F | AU56: 01010346168D42D08C36009C0A1FFDFCE21 | AV56: 260
A57: 콘크리트 펌프차 타설 | B57: slump 15cm, 벽,기둥,슬래브 등, f2 : Type-Ⅱ, 36m | C57: M3 | D57: 269 | N57: 46168D42D08F33409BE56745ACAE3 | Q57: 010103 | R57: T | S57: F | T57: F | AU57: 01010346168D42D08F33409BE56745ACAE3 | AV57: 261
A58: 콘크리트 펌프차 타설 | B58: slump 15cm, 옹벽, 줄기초 등, f2 : Type-Ⅱ, 36m | C58: M3 | D58: 201 | N58: 46168D42D08E31209162F13B55468 | Q58: 010103 | R58: T | S58: F | T58: F | AU58: 01010346168D42D08E31209162F13B55468 | AV58: 264
A59: 콘크리트 펌프차 타설(무근) | B59: slump 8~12cm, 벽,기둥,슬래브 등, f2 : Type-Ⅱ, 36m | C59: M3 | D59: 46 | N59: 46168D42D35F33B094246442566DE | Q59: 010103 | R59: T | S59: F | T59: F | AU59: 01010346168D42D35F33B094246442566DE | AV59: 263
A60: 합판거푸집 설치 및 해체 | B60: 보통 4회, 수직고 7m까지 | C60: M2 | D60: 1001 | N60: 46168D45A46834F09E9FC79689C35 | Q60: 010103 | R60: T | S60: F | T60: F | AU60: 01010346168D45A46834F09E9FC79689C35 | AV60: 265
A61: 합판거푸집 설치 및 해체 | B61: 간단 5회, 수직고 7m까지 | C61: M2 | D61: 371 | N61: 46168D45A73C32C09DB1B3CB91D0F | Q61: 010103 | R61: T | S61: F | T61: F | AU61: 01010346168D45A73C32C09DB1B3CB91D0F | AV61: 266
A62: 유로폼 설치 및 해체 | B62: 간단, 수직고 7m까지, 매트기초 | C62: M2 | D62: 85 | N62: 46168D45A2BA3D309261668EE44E4 | Q62: 010103 | R62: T | S62: F | T62: F | AU62: 01010346168D45A2BA3D309261668EE44E4 | AV62: 32
A63: 유로폼 설치 및 해체 | B63: 보통, 수직고 7m까지 | C63: M2 | D63: 2309 | N63: 46168D45A2BA3D309261668EE458B | Q63: 010103 | R63: T | S63: F | T63: F | AU63: 01010346168D45A2BA3D309261668EE458B | AV63: 267
A64: 원형거푸집 설치 및 해체 | B64: 친환경 종이형 1회, Ø600 | C64: M2 | D64: 7 | N64: 46168D45A50B35D09E144D7DF705B | Q64: 010103 | R64: T | S64: F | T64: F | AU64: 01010346168D45A50B35D09E144D7DF705B | AV64: 269
A65: 이형철근[관급] | B65: HD-10, 하치장상차도 | C65: TON | D65: 16.877 | N65: 413E8B621A3C39309BF14760D7193446B541C | R65: F | S65: F | T65: T | AR65: 관급자재 | AU65: 010103413E8B621A3C39309BF14760D7193446B541C | AV65: 270
A66: 이형철근[관급] | B66: HD-13, 하치장상차도 | C66: TON | D66: 20.065 | N66: 413E8B621A3C39309BF14760D7193446B541F | R66: F | S66: F | T66: T | AR66: 관급자재 | AU66: 010103413E8B621A3C39309BF14760D7193446B541F | AV66: 271
A67: 이형철근[관급] | B67: HD-16, 하치장상차도 | C67: TON | D67: 0.795 | N67: 413E8B621A3C39309BF14760D7193446B541E | R67: F | S67: F | T67: T | AR67: 관급자재 | AU67: 010103413E8B621A3C39309BF14760D7193446B541E | AV67: 272
A68: 이형철근[관급] | B68: HD-19, 하치장상차도 | C68: TON | D68: 37.458 | N68: 413E8B621A3C39309BF14760D7193446B5419 | R68: F | S68: F | T68: T | AR68: 관급자재 | AU68: 010103413E8B621A3C39309BF14760D7193446B5419 | AV68: 273
A69: 철근 현장가공 및 현장조립 | B69: Type-Ⅰ | C69: TON | D69: 73.005 | N69: 46168D464D9F3CB098A0A9B5A330C | Q69: 010103 | R69: T | S69: F | T69: F | AU69: 01010346168D464D9F3CB098A0A9B5A330C | AV69: 274
A70: 철강설(철근) | B70: 철강설, 고철, 작업설부산물 | C70: kg | D70: -2190 | N70: 41138C235A5E346090095E445D5A9F109E882 | Q70: 010103 | R70: F | S70: F | T70: T | AU70: 01010341138C235A5E346090095E445D5A9F109E882 | AV70: 283
A71: 지수판설치 - PVC 용접 | B71: PVC, H200*5t | C71: M | D71: 24 | N71: 46168D4CD21233B09915E77933C40 | Q71: 010103 | R71: T | S71: F | T71: F | AU71: 01010346168D4CD21233B09915E77933C40 | AV71: 33
Q72: 010103
Q73: 010103
Q74: 010103
A75: [ 합 계 ] | F75: =SUMIF(Q53:Q74,"010103",F53:F74) -> 0 | H75: =SUMIF(Q53:Q74,"010103",H53:H74) -> 0 | J75: =SUMIF(Q53:Q74,"010103",J53:J74) -> 0 | L75: =SUMIF(Q53:Q74,"010103",L53:L74) -> 0 | N75: TOTAL
A76: 010104 조 적 공 사 | Q76: 010104
A77: 콘크리트벽돌 | B77: 콘크리트벽돌, 190*57*90mm | C77: 매 | D77: 10738 | N77: 413E8B62191639409A2558783BE3FDCB9E4F4 | Q77: 010104 | R77: F | S77: F | T77: T | AU77: 010104413E8B62191639409A2558783BE3FDCB9E4F4 | AV77: 290
A78: 미장벽돌 | B78: 미장벽돌, 190*90*57mm, 그레이토담 | C78: 매 | D78: 10033 | N78: 413E8B62191639409A254E2C7C112DEF25040 | Q78: 010104 | R78: F | S78: F | T78: T | AU78: 010104413E8B62191639409A254E2C7C112DEF25040 | AV78: 291
A79: 0.5B 벽돌쌓기 | B79: 3.6m 이하, 시공량 25m2/일당 | C79: M2 | D79: 89 | N79: 46168F935BE635F09A3AFE5199984 | Q79: 010104 | R79: T | S79: F | T79: F | AU79: 01010446168F935BE635F09A3AFE5199984 | AV79: 37
A80: 0.5B 벽돌쌓기 | B80: 3.6m 초과 ~ 7.2m 이하, 시공량 23m2/일당 | C80: M2 | D80: 2 | N80: 46168F935BE635F09A3AFE51AA0F6 | Q80: 010104 | R80: T | S80: F | T80: F | AU80: 01010446168F935BE635F09A3AFE51AA0F6 | AV80: 38
A81: 1.0B 벽돌쌓기 | B81: 3.6m 이하, 시공량 15m2/일당 | C81: M2 | D81: 23 | N81: 46168F935BE635D09F6D9871F4541 | Q81: 010104 | R81: T | S81: F | T81: F | AU81: 01010446168F935BE635D09F6D9871F4541 | AV81: 39
A82: 1.0B 벽돌쌓기 | B82: 3.6m 초과 ~ 7.2m 이하, 시공량 13m2/일당 | C82: M2 | D82: 1 | N82: 46168F935BE635D09F6D9871CF07B | Q82: 010104 | R82: T | S82: F | T82: F | AU82: 01010446168F935BE635D09F6D9871CF07B | AV82: 40
A83: 치장쌓기 및 줄눈설치 | B83: 3.6m 이하, 0.5B, 시공량 20m2/일당 | C83: M2 | D83: 130 | N83: 46168F935BE53B1098A6EE64B44DF | Q83: 010104 | R83: T | S83: F | T83: F | AU83: 01010446168F935BE53B1098A6EE64B44DF | AV83: 41
A84: 치장벽돌보강철물설치 | B84: 연결철물+통풍구+신축+앵글+방수지+앙카 | C84: M2 | D84: 130 | N84: 46168F807FE837509D3A44F805230 | Q84: 010104 | R84: T | S84: F | T84: F | AU84: 01010446168F807FE837509D3A44F805230 | AV84: 292
A85: 벽돌운반 | B85: 인력, 1층 | C85: 천매 | D85: 14.021 | N85: 46168F93593B3F809B6AD91111176 | Q85: 010104 | R85: T | S85: F | T85: F | AU85: 01010446168F93593B3F809B6AD91111176 | AV85: 42
A86: 벽돌운반 | B86: 리프트 사용 | C86: 천매 | D86: 5.946 | N86: 46168F93593B3F809B6AC8FA1536E | Q86: 010104 | R86: T | S86: F | T86: F | AU86: 01010446168F93593B3F809B6AC8FA1536E | AV86: 293
A87: 인방보 설치 | B87: 치장벽돌 | C87: M | D87: 7 | N87: 46168F8078BB35409E90492AB4190 | Q87: 010104 | R87: T | S87: F | T87: F | AU87: 01010446168F8078BB35409E90492AB4190 | AV87: 47
Q88: 010104
Q89: 010104
Q90: 010104
Q91: 010104
Q92: 010104
Q93: 010104
Q94: 010104
Q95: 010104
Q96: 010104
Q97: 010104
Q98: 010104
A99: [ 합 계 ] | F99: =SUMIF(Q77:Q98,"010104",F77:F98) -> 0 | H99: =SUMIF(Q77:Q98,"010104",H77:H98) -> 0 | J99: =SUMIF(Q77:Q98,"010104",J77:J98) -> 0 | L99: =SUMIF(Q77:Q98,"010104",L77:L98) -> 0 | N99: TOTAL
A100: 010105 돌 공 사 | Q100: 010105
A101: 화강석붙임(습식, 혼드) | B101: 바닥, 포천석 30mm, 모르타르 30mm | C101: M2 | D101: 70 | N101: 461684AAFA4135E09C253D193CDF1 | Q101: 010105 | R101: T | S101: F | T101: F | AU101: 010105461684AAFA4135E09C253D193CDF1 | AV101: 295
A102: 화강석붙임(습식, 혼드) | B102: 바닥, 포천석 30mm, 모르타르 40mm | C102: M2 | D102: 125 | N102: 461684AAFA4135E09C253D193CDF2 | Q102: 010105 | R102: T | S102: F | T102: F | AU102: 010105461684AAFA4135E09C253D193CDF2 | AV102: 296
...

Sheet 토목 내역서총괄표
B1: 내역서총괄표
B3: 공사명 : SDV 전장부품 보안평가 지원센터(토목)
B4: 공종 | C4: 품 명 | D4: 규 격 | E4: 수 량 | F4: 단위 | G4: 합 계 | H4: 노무비 | I4: 재료비 | J4: 경 비 | K4: 비 고
B5: 1. | C5: 토 공 | G5: =H5+I5+J5 -> 0 | H5: ='토목 내역서'!J6 -> 0 | I5: ='토목 내역서'!L6 -> 0 | J5: ='토목 내역서'!N6 -> 0
B6: 2. | C6: 배 수 공 | G6: =H6+I6+J6 -> 0 | H6: ='토목 내역서'!J16 -> 0 | I6: ='토목 내역서'!L16 -> 0 | J6: ='토목 내역서'!N16 -> 0
B7: 3. | C7: 포 장 공 | G7: =H7+I7+J7 -> 0 | H7: ='토목 내역서'!J43 -> 0 | I7: ='토목 내역서'!L43 -> 0 | J7: ='토목 내역서'!N43 -> 0
B8: 4. | C8: 부 대 공 | G8: =H8+I8+J8 -> 0 | H8: ='토목 내역서'!J78 -> 0 | I8: ='토목 내역서'!L78 -> 0 | J8: ='토목 내역서'!N78 -> 0
C9: 순직접공사비 | G9: =H9+I9+J9 -> 0 | H9: ='토목 내역서'!J93 -> 0 | I9: ='토목 내역서'!L93 -> 0 | J9: ='토목 내역서'!N93 -> 0
B10: ◎ | C10: 폐기물 처리비 | G10: =H10+I10+J10 -> 0 | H10: ='토목 내역서'!J94 -> 0 | I10: ='토목 내역서'!L94 -> 0 | J10: ='토목 내역서'!N94 -> 0 | K10: 별도발주

Sheet 토목 내역서
B1: 내역서
B3: 공사명 : SDV 전장부품 보안평가 지원센터(토목)
B4: 공종 | C4: 품 명 | D4: 규 격 | E4: 수 량 | F4: 단위 | G4: 합 계 | I4: 노무비 | K4: 재료비 | M4: 경 비 | O4: 비 고
G5: 단 가 | H5: 금 액 | I5: 단 가 | J5: 금 액 | K5: 단 가 | L5: 금 액 | M5: 단 가 | N5: 금 액
B6: 1. | C6: 토 공
B7: 1.1 | C7: 흙 깍 기
C8: 절취(토사 보통) | D8: 기계 | E8: 73 | F8: ㎥
C9: 터파기(토사)보통 | D9: 기계+인력 | E9: 81 | F9: ㎥
B10: 1.2 | C10: 흙 쌓 기
C11: 성 토 및 다짐 | D11: 기계 | E11: 41 | F11: ㎥
C12: 되메우기(토사 다짐)보통 | D12: 기계+인력 | E12: 68 | F12: ㎥
B13: 1.3 | C13: 잔토처리
C14: 사토운반(토사) | D14: 덤프+기계 | E14: 45 | F14: ㎥
B16: 2. | C16: 배 수 공
B17: 2.1 | C17: 배수관로 설치 | D17: D200
C18: 고강성PVC이중벽관 접합및부설 | D18: Φ200mm | E18: 70 | F18: m
C19: PVC 이중벽관 | D19: D=200mm | E19: 73.5 | F19: M
C20: 모래기초지정 | E20: 4.5 | F20: ㎥
C21: 모 래, 대구, 도착도 | D21: 강모래 | E21: 4.7 | F21: ㎥
C22: 콘크리트구멍뚫기(벽체) | D22: D200,T=150 | E22: 1 | F22: 개소
B23: 2.2 | C23: 트랜치측구 설치 | D23: 300*270~290,L=12.0m
C24: 레미콘타설(장비사용타설) | D24: 무근구조물 | E24: 2 | F24: ㎥
C25: 레미콘(대구)-사급 | D25: 25-21-120 | E25: 2.1 | F25: ㎥
C26: 유로폼 | D26: 보통,0~7m | E26: 17.04 | F26: ㎡
C27: 맨홀뚜껑설치 | E27: 12 | F27: 개소
C28: 스틸그레이팅 | D28: 기존재사용 | E28: 12 | F28: 개
C29: 트랜치측구 뚜껑틀설치 | E29: 12 | F29: m
C30: 철근조립(현장) | D30: Type-Ⅰ-1 (소형) | E30: 0.014 | F30: Ton
C31: 이형철근(SD400),대구 | D31: D=13mm | E31: 0.015 | F31: Ton
C32: 면 목 | D32: 30, 21×21 | E32: 25.2 | F32: M
B33: 2.3 | C33: 오수집수정 설치(A형) | D33: 600x600xH,4개소
C34: 레미콘타설(장비사용타설) | D34: 무근구조물(소형) | E34: 1.7 | F34: ㎥
C35: 레미콘(대구)-사급 | D35: 25-21-120 | E35: 1.7 | F35: ㎥
C36: 유로폼 | D36: 보통,0~7m | E36: 18.3 | F36: ㎡
C37: 맨홀뚜껑설치 | E37: 4 | F37: 개소
C38: 주철맨홀뚜껑(원형) | D38: Φ648 KS | E38: 4 | F38: EA
C39: 몰 탈 | D39: 1:3 | E39: 0.137 | F39: ㎥
C40: 면 목 | D40: 30, 21×21 | E40: 15.1 | F40: M
C41: 철근설치 | D41: (D13mm/8EA) | E41: 4 | F41: 조
B43: 3. | C43: 포 장 공
B44: 3.1 | C44: 인조화강블록포장 | D44: T=6cm,A=24㎡
C45: 보도용 블록 설치(소형) | D45: A-Type, t=8cm이하 | E45: 24 | F45: ㎡
C46: 인조화강블록(투수) | D46: T60,보도용 | E46: 25 | F46: ㎡
C47: 보조기층포설및다짐 | D47: 인력식 소규모 장비사용 시공 | E47: 3 | F47: ㎥
C48: 혼합골재, 대구, 도착도 | D48: D=40mm(기층용) | E48: 3.1 | F48: ㎥
B49: 3.2 | C49: 아스콘 포장 | D49: T=35Cm,A=155㎡
C50: 아스팔트 표층 포설및다짐 | D50: 소규모포설,t=7.5cm이하 | E50: 155 | F50: ㎡
C51: 아스콘(사급),대구 | D51: #78(표층용) | E51: 18.6 | F51: Ton
C52: 텍코팅(인력식) | D52: 아스팔트스프레이어400ℓ | E52: 155 | F52: ㎡
C53: 아스팔트유제 | D53: RSC-4 | E53: 0.32 | F53: D/M
C54: 아스팔트 기층 포설및다짐 | D54: 소규모포설,t=7.5cm이하 | E54: 155 | F54: ㎡
C55: 아스콘(사급),대구 | D55: #467(기층용) | E55: 37.2 | F55: Ton
C56: 프라임코팅(인력식) | D56: 아스팔트스프레이어400ℓ | E56: 155 | F56: ㎡
C57: 아스팔트유제 | D57: RSC-3 | E57: 0.6 | F57: D/M
C58: 보조기층포설및다짐 | D58: 인력식 소규모 장비사용 시공 | E58: 38.1 | F58: ㎥
C59: 혼합골재, 대구, 도착도 | D59: D=40mm(기층용) | E59: 39.7 | F59: ㎥
B60: 3.3 | C60: 아스콘 덧씌우기 | D60: T=5Cm,A=142㎡
C61: 아스팔트 덧씌우기 | D61: 소규모포장 | E61: 142 | F61: ㎡
C62: 아스콘(사급),대구 | D62: #78(표층용) | E62: 17 | F62: Ton
C63: 텍코팅(인력식) | D63: 아스팔트스프레이어400ℓ | E63: 142 | F63: ㎡
C64: 아스팔트유제 | D64: RSC-4 | E64: 0.29 | F64: D/M
B65: 3.4 | C65: 화강경계석 설치 | D65: 180x200
C66: 레미콘타설(장비사용타설) | D66: 무근구조물 | E66: 0.56 | F66: ㎥
C67: 레미콘(대구)-사급 | D67: 25-21-120 | E67: 0.57 | F67: ㎥
C68: 유로폼 | D68: 간단,0~7m | E68: 5.5 | F68: ㎡
C69: 보차도 및 도로경계블록 설치(직선) | D69: A-Type, 400mm미만(폭+높이) | E69: 22 | F69: M
C70: 보차도경계석(화강석) | D70: 180*200 | E70: 22 | F70: 개
B71: 3.5 | C71: 화강경계석 설치 | D71: 150x150
C72: 레미콘타설(장비사용타설) | D72: 무근구조물 | E72: 0.11 | F72: ㎥
C73: 레미콘(대구)-사급 | D73: 25-21-120 | E73: 0.11 | F73: ㎥
C74: 유로폼 | D74: 간단,0~7m | E74: 1.25 | F74: ㎡
C75: 보차도 및 도로경계블록 설치(직선) | D75: A-Type, 350mm미만(폭+높이) | E75: 5 | F75: M
C76: 도로경계석(화강석) | D76: 150*150 | E76: 5 | F76: 개
B78: 4. | C78: 부 대 공
B79: 4.1 | C79: 기존시설물 철거 및 이설
C80: 무근콘크리트깨기 | D80: T=30cm미만(기계) | E80: 11.4 | F80: ㎥
C81: 아스팔트포장깨기 | D81: 대형브레이커+0.4㎥ | E81: 45.2 | F81: ㎥
C82: 보차도 및 도로경계블록 철거 | D82: A-Type, 400mm미만(폭+높이) | E82: 48 | F82: M
C83: 아스팔트 포장절단 | E83: 110 | F83: M
C84: 아스팔트 절삭 | D84: 소규모포장 | E84: 142 | F84: ㎡
C85: 메쉬휀스 철거 | D85: H2.0 | E85: 14 | F85: m
C86: 폐기물상차(폐콘크리트) | D86: 기계 | E86: 67 | F86: ㎥
B87: 4.2 | C87: 중기운반 및 기타
C88: 중기운반 | D88: 토공 | E88: 1 | F88: 식
C89: 아스팔트운반 | E89: 1.2 | F89: D/M
C93: 순직접공사비
B94: ◎ | C94: 폐기물 처리비 | O94: 합계제외
C95: 폐기물처리비 | D95: 폐콘크리트 | E95: 35 | F95: Ton
C96: 폐기물처리비 | D96: 폐아스콘 | E96: 123 | F96: Ton
C97: 폐기물운반비(상차제외) | D97: 30km이하,덤프24톤 | E97: 157 | F97: Ton
C98: 부가가치세 | E98: 10 | F98: %

Sheet 기계설비 공종별집계표
A1: 공 종 별 집 계 표
A2: [ SDV 전장부품 보안평가 지원센터(기계설비) ]
A3: 품 명 | B3: 규 격 | C3: 단위 | D3: 수량 | E3: 재 료 비 | G3: 노 무 비 | I3: 경 비 | K3: 합 계 | M3: 비 고 | N3: 공종코드 | O3: 변수 | P3: 상위공종 | Q3: 공종구분 | R3: 공종레벨 | S3: 공종소계 | T3: 원가계산서 연결금액
E4: 단 가 | F4: 금 액 | G4: 단 가 | H4: 금 액 | I4: 단 가 | J4: 금 액 | K4: 단 가 | L4: 금 액
A5: 01 SDV 전장부품 보안평가 지원센터 | N5: 01 | R5: 1
A6: 0101 기계설비공사 | N6: 0101 | P6: 01 | R6: 2
A7: 010101 장비설치공사 | D7: 1 | E7: ='[1]기계설비 공종별내역서'!F27 -> 0 | F7: =E7*D7 -> 0 | G7: ='[1]기계설비 공종별내역서'!H27 -> 0 | H7: =G7*D7 -> 0 | I7: ='[1]기계설비 공종별내역서'!J27 -> 0 | J7: =I7*D7 -> 0 | K7: =E7+G7+I7 -> 0 | L7: =F7+H7+J7 -> 0 | N7: 010101 | P7: 0101 | R7: 3
A8: 010102 옥외배관공사 | D8: 1 | E8: ='[1]기계설비 공종별내역서'!F51 -> 0 | F8: =E8*D8 -> 0 | G8: ='[1]기계설비 공종별내역서'!H51 -> 0 | H8: =G8*D8 -> 0 | I8: ='[1]기계설비 공종별내역서'!J51 -> 0 | J8: =I8*D8 -> 0 | K8: =E8+G8+I8 -> 0 | L8: =F8+H8+J8 -> 0 | N8: 010102 | P8: 0101 | R8: 3
A9: 010103 위생배관공사 | D9: 1 | E9: =F10+F11+F12 -> 0 | F9: =E9*D9 -> 0 | G9: =H10+H11+H12 -> 0 | H9: =G9*D9 -> 0 | I9: =J10+J11+J12 -> 0 | J9: =I9*D9 -> 0 | K9: =E9+G9+I9 -> 0 | L9: =F9+H9+J9 -> 0 | N9: 010103 | P9: 0101 | R9: 3
A10: 01010301 위생기구설치공사 | D10: 1 | E10: ='[1]기계설비 공종별내역서'!F75 -> 0 | F10: =E10*D10 -> 0 | G10: ='[1]기계설비 공종별내역서'!H75 -> 0 | H10: =G10*D10 -> 0 | I10: ='[1]기계설비 공종별내역서'!J75 -> 0 | J10: =I10*D10 -> 0 | K10: =E10+G10+I10 -> 0 | L10: =F10+H10+J10 -> 0 | N10: 01010301 | P10: 010103 | R10: 4
A11: 01010302 급수급탕배관공사 | D11: 1 | E11: ='[1]기계설비 공종별내역서'!F147 -> 0 | F11: =E11*D11 -> 0 | G11: ='[1]기계설비 공종별내역서'!H147 -> 0 | H11: =G11*D11 -> 0 | I11: ='[1]기계설비 공종별내역서'!J147 -> 0 | J11: =I11*D11 -> 0 | K11: =E11+G11+I11 -> 0 | L11: =F11+H11+J11 -> 0 | N11: 01010302 | P11: 010103 | R11: 4
A12: 01010303 오배수배관공사 | D12: 1 | E12: ='[1]기계설비 공종별내역서'!F243 -> 0 | F12: =E12*D12 -> 0 | G12: ='[1]기계설비 공종별내역서'!H243 -> 0 | H12: =G12*D12 -> 0 | I12: ='[1]기계설비 공종별내역서'!J243 -> 0 | J12: =I12*D12 -> 0 | K12: =E12+G12+I12 -> 0 | L12: =F12+H12+J12 -> 0 | N12: 01010303 | P12: 010103 | R12: 4
A13: 010104 환기배관공사 | D13: 1 | E13: ='[1]기계설비 공종별내역서'!F267 -> 0 | F13: =E13*D13 -> 0 | G13: ='[1]기계설비 공종별내역서'!H267 -> 0 | H13: =G13*D13 -> 0 | I13: ='[1]기계설비 공종별내역서'!J267 -> 0 | J13: =I13*D13 -> 0 | K13: =E13+G13+I13 -> 0 | L13: =F13+H13+J13 -> 0 | N13: 010104 | P13: 0101 | R13: 3
A14: 010105 에어배관공사 | D14: 1 | E14: ='[1]기계설비 공종별내역서'!F291 -> 0 | F14: =E14*D14 -> 0 | G14: ='[1]기계설비 공종별내역서'!H291 -> 0 | H14: =G14*D14 -> 0 | I14: ='[1]기계설비 공종별내역서'!J291 -> 0 | J14: =I14*D14 -> 0 | K14: =E14+G14+I14 -> 0 | L14: =F14+H14+J14 -> 0 | N14: 010105 | P14: 0101 | R14: 3
A15: 010106 부대공사 | D15: 1 | E15: ='[1]기계설비 공종별내역서'!F315 -> 0 | F15: =E15*D15 -> 0 | G15: ='[1]기계설비 공종별내역서'!H315 -> 0 | H15: =G15*D15 -> 0 | I15: ='[1]기계설비 공종별내역서'!J315 -> 0 | J15: =I15*D15 -> 0 | K15: =E15+G15+I15 -> 0 | L15: =F15+H15+J15 -> 0 | N15: 010106 | P15: 0101 | R15: 3
A16: 010107 냉난방기설치공사 | D16: 1 | E16: ='[1]기계설비 공종별내역서'!F363 -> 0 | F16: =E16*D16 -> 0 | G16: ='[1]기계설비 공종별내역서'!H363 -> 0 | H16: =G16*D16 -> 0 | I16: ='[1]기계설비 공종별내역서'!J363 -> 0 | J16: =I16*D16 -> 0 | K16: =E16+G16+I16 -> 0 | L16: =F16+H16+J16 -> 0 | N16: 010107 | P16: 0101 | R16: 3
A17: [ 소 계 ] | F17: =F7+F8+F9+F13+F14+F15+F16 -> 0 | H17: =H7+H8+H9+H13+H14+H15+H16 -> 0 | J17: =J7+J8+J9+J13+J14+J15+J16 -> 0 | L17: =F17+H17+J17 -> 0
A19: 0102 관급자관급공사 | M19: 합계제외 | N19: 0102 | P19: 01 | R19: 2
A20: 010201 전열교환기설치공사 | D20: 1 | E20: ='[1]기계설비 공종별내역서'!F387 -> 0 | F20: =E20*D20 -> 0 | G20: ='[1]기계설비 공종별내역서'!H387 -> 0 | H20: =G20*D20 -> 0 | I20: ='[1]기계설비 공종별내역서'!J387 -> 0 | J20: =I20*D20 -> 0 | K20: =E20+G20+I20 -> 0 | L20: =F20+H20+J20 -> 0 | N20: 010201 | P20: 0102 | R20: 3
A21: [ 소 계 ] | F21: =F20 -> 0 | H21: =H20 -> 0 | J21: =J20 -> 0 | L21: =F21+H21+J21 -> 0
A27: [ 합 계 ] | F27: =F17+F21 -> 0 | H27: =H17+H21 -> 0 | J27: =J17+J21 -> 0 | L27: =F27+H27+J27 -> 0

Sheet 기계설비 공종별내역서
A1: [ SDV 전장부품 보안평가 지원센터(기계설비) ]
A2: 품 명 | B2: 규 격 | C2: 단위 | D2: 수량 | E2: 재 료 비 | G2: 노 무 비 | I2: 경 비 | K2: 합 계 | M2: 비 고 | N2: 품목코드 | O2: 변수 | P2: 설정 | Q2: 공종코드 | R2: 일위 | S2: 단산 | T2: 자재 | U2: 손료적용 | V2: 손료저장 | W2: 적용율 | X2: JUK1 | Y2: JUK2 | Z2: JUK3 | AA2: JUK4 | AB2: JUK5 | AC2: JUK6 | AD2: JUK7 | AE2: JUK8 | AF2: JUK9 | AG2: JUK10 | AH2: JUK11 | AI2: JUK12 | AJ2: JUK13 | AK2: JUK14 | AL2: JUK15 | AM2: JUK16 | AN2: JUK17 | AO2: JUK18 | AP2: JUK19 | AQ2: JUK20 | AR2: 자재구분 | AS2: 공종구분 | AT2: 공종레벨 | AU2: 공종+자재 | AV2: 고유번호
E3: 단 가 | F3: 금 액 | G3: 단 가 | H3: 금 액 | I3: 단 가 | J3: 금 액 | K3: 단 가 | L3: 금 액
A4: 010101 장비설치공사 | Q4: 010101
A5: 배수펌프(수중형) | B5: 200LPMx9Mx0.3KW | C5: 대 | D5: 2 | N5: 5F1BC44C5963E565C58F7F2BCA5A3165A73A07 | Q5: 010101 | R5: F | S5: F | T5: T | AU5: 0101015F1BC44C5963E565C58F7F2BCA5A3165A73A07 | AV5: 7
A6: 배기팬(천정형)D150 | B6: 210CMHx30W 역풍방지형 | C6: 대 | D6: 8 | N6: 5F1BC44C5963E565C58F7F2BCA5A3165A73A00 | Q6: 010101 | R6: F | S6: F | T6: T | AU6: 0101015F1BC44C5963E565C58F7F2BCA5A3165A73A00 | AV6: 8
A7: 저장식전기온수기 | B7: 15L/1.5KW | C7: 대 | D7: 5 | N7: 5F1BC44C5963E565C58F7F2BCA5A3165A73A0B | Q7: 010101 | R7: F | S7: F | T7: T | AU7: 0101015F1BC44C5963E565C58F7F2BCA5A3165A73A0B | AV7: 9
A8: 천정형전기온풍기 | B8: 1.5KW | C8: 대 | D8: 4 | N8: 5F1BC44C5963E565C58F7F2BCA5A3165A73A0A | Q8: 010101 | R8: F | S8: F | T8: T | AU8: 0101015F1BC44C5963E565C58F7F2BCA5A3165A73A0A | AV8: 10
A9: 배수펌프 설치 | B9: 0.75 kw 이하 | C9: 대 | D9: 2 | N9: 58F7544809BE4D8B588B26710B5195 | Q9: 010101 | R9: T | S9: F | T9: F | AU9: 01010158F7544809BE4D8B588B26710B5195 | AV9: 5
A10: 욕실배기팬 설치 | B10: 200mm 이하 | C10: 대 | D10: 8 | N10: 58F7544BD9C4D951CD85AE5EDB5885 | Q10: 010101 | R10: T | S10: F | T10: F | AU10: 01010158F7544BD9C4D951CD85AE5EDB5885 | AV10: 4
A11: 전기온수기 설치 | B11: 벽걸이형, 15L | C11: 대 | D11: 5 | N11: 58F794E22929103D2787496A135865 | Q11: 010101 | R11: T | S11: F | T11: F | AU11: 01010158F794E22929103D2787496A135865 | AV11: 6
Q12: 010101
Q13: 010101
Q14: 010101
Q15: 010101
Q16: 010101
Q17: 010101
Q18: 010101
Q19: 010101
Q20: 010101
Q21: 010101
Q22: 010101
Q23: 010101
... Q26: 010101
A27: [ 합 계 ] | F27: =SUMIF(Q5:Q26,"010101",F5:F26) -> 0 | H27: =SUMIF(Q5:Q26,"010101",H5:H26) -> 0 | J27: =SUMIF(Q5:Q26,"010101",J5:J26) -> 0 | L27: =SUMIF(Q5:Q26,"010101",L5:L26) -> 0 | N27: TOTAL
A28: 010102 옥외배관공사 | Q28: 010102
A29: 스테인리스배관 | B29: D 50 x 3T | C29: M | D29: 77 | N29: 58F7241049806DADC080787F9F5B65 | Q29: 010102 | R29: T | S29: F | T29: F | AU29: 01010258F7241049806DADC080787F9F5B65 | AV29: 12
A30: 일반배관용 STS강관 이음쇠 | B30: 유니온 (SUS 나사) D50 | C30: EA | D30: 1 | N30: 5F637459193029E2F98F9D9303507695B491E1 | Q30: 010102 | R30: F | S30: F | T30: T | AU30: 0101025F637459193029E2F98F9D9303507695B491E1 | AV30: 13
A31: 일반배관용 STS강관 이음쇠 | B31: 니플 (SUS 나사) D50 | C31: EA | D31: 3 | N31: 5F637459193029E2F98F9D9303507695B5A48B | Q31: 010102 | R31: F | S31: F | T31: T | AU31: 0101025F637459193029E2F98F9D9303507695B5A48B | AV31: 14
A32: 일반배관용 STS강관 이음쇠 | B32: 엘보(SUS 용접#10) D50 | C32: EA | D32: 3 | N32: 5F637459193029E2F98F9D93035076A55FFEB2 | Q32: 010102 | R32: F | S32: F | T32: T | AU32: 0101025F637459193029E2F98F9D93035076A55FFEB2 | AV32: 15
A33: 일반배관용 STS강관 이음쇠 | B33: 티이(SUS 용접 S#10) D80 | C33: EA | D33: 1 | N33: 5F637459193029E2F98F9D93035076A55EDED9 | Q33: 010102 | R33: F | S33: F | T33: T | AU33: 0101025F637459193029E2F98F9D93035076A55EDED9 | AV33: 16
A34: 스테인리스용접 | B34: D50 | C34: 개소 | D34: 19 | N34: 58F724104992DE4A758F828D105355 | Q34: 010102 | R34: T | S34: F | T34: F | AU34: 01010258F724104992DE4A758F828D105355 | AV34: 17
A35: 스테인리스용접 | B35: D80 | C35: 개소 | D35: 5 | N35: 58F724104992DE4A758F8CF0C55BD5 | Q35: 010102 | R35: T | S35: F | T35: F | AU35: 01010258F724104992DE4A758F8CF0C55BD5 | AV35: 18
A36: 스텐볼밸브 | B36: D 50 | C36: EA | D36: 1 | N36: 58F764B19927B688638B0B72EF50E5 | Q36: 010102 | R36: T | S36: F | T36: F | AU36: 01010258F764B19927B688638B0B72EF50E5 | AV36: 19
Q37: 010102
Q38: 010102
Q39: 010102
Q40: 010102
Q41: 010102
Q42: 010102
Q43: 010102
Q44: 010102
Q45: 010102
Q46: 010102
Q47: 010102
Q48: 010102
... Q50: 010102
A51: [ 합 계 ] | F51: =SUMIF(Q29:Q50,"010102",F29:F50) -> 0 | H51: =SUMIF(Q29:Q50,"010102",H29:H50) -> 0 | J51: =SUMIF(Q29:Q50,"010102",J29:J50) -> 0 | L51: =SUMIF(Q29:Q50,"010102",L29:L50) -> 0 | N51: TOTAL
A52: 01010301 위생기구설치공사 | Q52: 01010301
A53: 대변기 | B53: 양변기 910C(F/V) | C53: SET | D53: 6 | N53: 58F784FCF91C27F41F8D9569425975 | Q53: 01010301 | R53: T | S53: F | T53: F | AU53: 0101030158F784FCF91C27F41F8D9569425975 | AV53: 23
A54: 소변기 | B54: 센서내장형,VU-312 | C54: SET | D54: 4 | N54: 58F784FCF93F84F0DD85ACA02053D5 | Q54: 01010301 | R54: T | S54: F | T54: F | AU54: 0101030158F784FCF93F84F0DD85ACA02053D5 | AV54: 24
A55: 세면기(원형) | B55: KSL 1050B, (S/L) | C55: SET | D55: 4 | N55: 58F784FCF9496DCD39836C10D15D45 | Q55: 01010301 | R55: T | S55: F | T55: F | AU55: 0101030158F784FCF9496DCD39836C10D15D45 | AV55: 25
A56: 인조대리석세면대(1구) | B56: L=1,140 | C56: EA | D56: 4 | N56: 58F784FCF9496DCD39836C10D15D55 | Q56: 01010301 | R56: T | S56: F | T56: F | AU56: 0101030158F784FCF9496DCD39836C10D15D55 | AV56: 32
A57: 거울 | B57: 화장경, 900*1000*5mm | C57: EA | D57: 4 | N57: 58F784F939F0B22616838FE34555E5 | Q57: 01010301 | R57: T | S57: F | T57: F | AU57: 0101030158F784F939F0B22616838FE34555E5 | AV57: 30
A58: 화장지걸이 | B58: STS | C58: EA | D58: 6 | N58: 58F784FF490821F99B8ED487125D45 | Q58: 01010301 | R58: T | S58: F | T58: F | AU58: 0101030158F784FF490821F99B8ED487125D45 | AV58: 26
A59: 비누대 | B59: STS | C59: EA | D59: 4 | N59: 58F784FF49084CD34F81BD881E56C5 | Q59: 01010301 | R59: T | S59: F | T59: F | AU59: 0101030158F784FF49084CD34F81BD881E56C5 | AV59: 27
A60: 여성위생용품수거함 | C60: EA | D60: 4 | N60: 58F784FF49086FA281893460C558C5 | Q60: 01010301 | R60: T | S60: F | T60: F | AU60: 0101030158F784FF49086FA281893460C558C5 | AV60: 28
A61: 에어타올 | B61: 에어타올, STS | C61: SET | D61: 4 | N61: 58F784FF49085D31F586F1C9ED5205 | Q61: 01010301 | R61: T | S61: F | T61: F | AU61: 0101030158F784FF49085D31F586F1C9ED5205 | AV61: 29
Q62: 01010301
Q63: 01010301
Q64: 01010301
Q65: 01010301
Q66: 01010301
Q67: 01010301
Q68: 01010301
Q69: 01010301
Q70: 01010301
Q71: 01010301
Q72: 01010301
Q73: 01010301
Q74: 01010301
A75: [ 합 계 ] | F75: =SUMIF(Q53:Q74,"01010301",F53:F74) -> 0 | H75: =SUMIF(Q53:Q74,"01010301",H53:H74) -> 0 | J75: =SUMIF(Q53:Q74,"01010301",J53:J74) -> 0 | L75: =SUMIF(Q53:Q74,"01010301",L53:L74) -> 0 | N75: TOTAL
A76: 01010302 급수급탕배관공사 | Q76: 01010302
A77: 스테인리스배관 | B77: D 15 x 3T | C77: M | D77: 2 | N77: 58F7241049806DADC080787F985075 | Q77: 01010302 | R77: T | S77: F | T77: F | AU77: 0101030258F7241049806DADC080787F985075 | AV77: 34
A78: 스테인리스배관 | B78: D 20 x 3T | C78: M | D78: 6 | N78: 58F7241049806DADC080787F9B5DB5 | Q78: 01010302 | R78: T | S78: F | T78: F | AU78: 0101030258F7241049806DADC080787F9B5DB5 | AV78: 35
A79: 스테인리스배관(K-TYPE) | B79: D 13 | C79: M | D79: 60 | N79: 58F7241049BDA788638A5261E05AB5 | Q79: 01010302 | R79: T | S79: F | T79: F | AU79: 0101030258F7241049BDA788638A5261E05AB5 | AV79: 36
A80: 스테인리스배관(K-TYPE) | B80: D 20 | C80: M | D80: 56 | N80: 58F7241049BDA788638A5261E357F5 | Q80: 01010302 | R80: T | S80: F | T80: F | AU80: 0101030258F7241049BDA788638A5261E357F5 | AV80: 37
A81: 스테인리스배관(K-TYPE) | B81: D 25 | C81: M | D81: 21 | N81: 58F7241049BDA788638A5261E25585 | Q81: 01010302 | R81: T | S81: F | T81: F | AU81: 0101030258F7241049BDA788638A5261E25585 | AV81: 38
A82: 스테인리스배관(K-TYPE) | B82: D 40 | C82: M | D82: 22 | N82: 58F7241049BDA788638A5261E45065 | Q82: 01010302 | R82: T | S82: F | T82: F | AU82: 0101030258F7241049BDA788638A5261E45065 | AV82: 39
A83: 스테인리스배관(K-TYPE) | B83: D 50 | C83: M | D83: 3 | N83: 58F7241049BDA788638A5261E75DA5 | Q83: 01010302 | R83: T | S83: F | T83: F | AU83: 0101030258F7241049BDA788638A5261E75DA5 | AV83: 40
A84: 관보온(가교발포+매직) | B84: 25TxD15 | C84: M | D84: 43 | N84: 58F74463F9B97B0E68832C90F35365 | Q84: 01010302 | R84: T | S84: F | T84: F | AU84: 0101030258F74463F9B97B0E68832C90F35365 | AV84: 41
A85: 관보온(가교발포+매직) | B85: 25TxD20 | C85: M | D85: 56 | N85: 58F74463F9B94E56488EE7B5CB5235 | Q85: 01010302 | R85: T | S85: F | T85: F | AU85: 0101030258F74463F9B94E56488EE7B5CB5235 | AV85: 42
A86: 관보온(가교발포+매직) | B86: 25TxD25 | C86: M | D86: 17 | N86: 58F74463F9B958E9C182C2E2F852E5 | Q86: 01010302 | R86: T | S86: F | T86: F | AU86: 0101030258F74463F9B958E9C182C2E2F852E5 | AV86: 43
A87: 관보온(가교발포+매직) | B87: 25TxD40 | C87: M | D87: 22 | N87: 58F74463F9B93DBBE7800E3DED5405 | Q87: 01010302 | R87: T | S87: F | T87: F | AU87: 0101030258F74463F9B93DBBE7800E3DED5405 | AV87: 44
A88: 관보온(가교발포+매직) | B88: 25TxD50 | C88: M | D88: 3 | N88: 58F74463F9B900F5768DA766F558A5 | Q88: 01010302 | R88: T | S88: F | T88: F | AU88: 0101030258F74463F9B900F5768DA766F558A5 | AV88: 45
... A143: 잡철물 제작 및 설치 | B143: 현장제작설치, 일반철재 | C143: 톤 | D143: 0.018 | N143: 58F7A4CA09576040448569B0FA5665 | Q143: 01010302 | R143: T | S143: F | T143: F | AU143: 0101030258F7A4CA09576040448569B0FA5665 | AV143: 100
Q144: 01010302
Q145: 01010302
Q146: 01010302
A147: [ 합 계 ] | F147: =SUMIF(Q77:Q146,"01010302",F77:F146) -> 0 | H147: =SUMIF(Q77:Q146,"01010302",H77:H146) -> 0 | J147: =SUMIF(Q77:Q146,"01010302",J77:J146) -> 0 | L147: =SUMIF(Q77:Q146,"01010302",L77:L146) -> 0 | N147: TOTAL
A148: 01010303 오배수배관공사 | Q148: 01010303
A149: 백강관옥내배관 | B149: D 50 | C149: M | D149: 8 | N149: 58F72414296ABEF8A68777C5005245 | Q149: 01010303 | R149: T | S149: F | T149: F | AU149: 0101030358F72414296ABEF8A68777C5005245 | AV149: 103
A150: PVC배수용배관(VG1)접착제 | B150: D 50 | C150: M | D150: 9 | N150: 58F7241C79B7C097608E21B43F5335 | Q150: 01010303 | R150: T | S150: F | T150: F | AU150: 0101030358F7241C79B7C097608E21B43F5335 | AV150: 104
A151: PVC배수용배관(VG1)접착제 | B151: D 75 | C151: M | D151: 4 | N151: 58F7241C79B7C097608E21B4395AB5 | Q151: 01010303 | R151: T | S151: F | T151: F | AU151: 0101030358F7241C79B7C097608E21B4395AB5 | AV151: 105
A152: PVC배수용배관(VG1)접착제 | B152: D100 | C152: M | D152: 4 | N152: 58F7241C79B7C097608E21B43A5B25 | Q152: 01010303 | R152: T | S152: F | T152: F | AU152: 0101030358F7241C79B7C097608E21B43A5B25 | AV152: 106
A153: PVC배수용배관(VG2)접착제 | B153: D 50 | C153: M | D153: 34 | N153: 58F7241C798A8AAF5486DC65695325 | Q153: 01010303 | R153: T | S153: F | T153: F | AU153: 0101030358F7241C798A8AAF5486DC65695325 | AV153: 107
A154: PVC배수용배관(VG2)접착제 | B154: D100 | C154: M | D154: 5 | N154: 58F7241C798A8AAF5486DC656C5865 | Q154: 01010303 | R154: T | S154: F | T154: F | AU154: 0101030358F7241C798A8AAF5486DC656C5865 | AV154: 108
A155: PVC배수용배관(VG1)고무링 | B155: D 50 | C155: M | D155: 29 | N155: 58F7241C79B7C097608D1B69EC5285 | Q155: 01010303 | R155: T | S155: F | T155: F | AU155: 0101030358F7241C79B7C097608D1B69EC5285 | AV155: 109
A156: PVC배수용배관(VG1)고무링 | B156: D 75 | C156: M | D156: 66 | N156: 58F7241C79B7C097608D1B69EB5015 | Q156: 01010303 | R156: T | S156: F | T156: F | AU156: 0101030358F7241C79B7C097608D1B69EB5015 | AV156: 110
A157: PVC배수용배관(VG1)고무링 | B157: D100 | C157: M | D157: 35 | N157: 58F7241C79B7C097608D1B69EA57B5 | Q157: 01010303 | R157: T | S157: F | T157: F | AU157: 0101030358F7241C79B7C097608D1B69EA57B5 | AV157: 111
...
