Workbook

Sheet 원가계산서
B1: 공 사 원 가 계 산 서
B2: 공사명 : 모빌리티전자파안전성평가지원센터건립전기소방공사 | F2: ="금액 : "&TEXT(E26,"[DBNUM4]")&"원(\" & TEXT(E26,"#,###")&")" -> 금액 : 영원(\)
B3: 비 목 | E3: 금 액 | F3: 구 성 비 | G3: 비 고
A4: A1 | B4: 순 공 사 원 가 | C4: 재 료 비 | D4: 직 접 재 료 비 | E4: =TRUNC(공종별집계표!F5, 0) -> 0
A5: A2 | D5: 간 접 재 료 비 | E5: 0
A6: A3 | D6: 작업설, 부산물(△) | E6: 0
A7: AS | D7: [ 소 계 ] | E7: =TRUNC(E4+E5-E6, 0) -> 0
A8: B1 | C8: 노 무 비 | D8: 직 접 노 무 비 | E8: =TRUNC(공종별집계표!H5, 0) -> 0
A9: B2 | D9: 간 접 노 무 비 | E9: =TRUNC(E8*0.126, 0) -> 0 | F9: 직접노무비 * 12.6%
A10: BS | D10: [ 소 계 ] | E10: =TRUNC(E8+E9, 0) -> 0
A11: C4 | C11: 경 비 | D11: 산 재 보 험 료 | E11: =TRUNC(E10*0.0356, 0) -> 0 | F11: 노무비 * 3.56%
A12: C5 | D12: 고 용 보 험 료 | E12: =TRUNC(E10*0.0101, 0) -> 0 | F12: 노무비 * 1.01%
A13: C6 | D13: 국민 건강 보험료 | E13: =TRUNC(E8*0.03545, 0) -> 0 | F13: 직접노무비 * 3.545%
A14: C7 | D14: 국민 연금 보험료 | E14: =TRUNC(E8*0.045, 0) -> 0 | F14: 직접노무비 * 4.5%
A15: CA | D15: 산업안전보건관리비 | E15: =TRUNC((E7+E8)*0.0311, 0) -> 0 | F15: (재료비+직노+관급자재비) * 3.11%
A16: CB | D16: 노인장기요양보험료 | E16: =TRUNC(E13*0.1295, 0) -> 0 | F16: 건강보험료 * 12.95%
A17: CG | D17: 기 타 경 비 | E17: =TRUNC((E7+E10)*0.052, 0) -> 0 | F17: (재료비+노무비) * 5.2%
A18: CS | D18: [ 소 계 ] | E18: =TRUNC(E11+E12+E13+E14+E15+E16+E17, 0) -> 0
A19: S1 | B19: 계 | E19: =TRUNC(E7+E10+E18, 0) -> 0
A20: D1 | B20: 일 반 관 리 비 | E20: =TRUNC(E19*0.06, 0) -> 0 | F20: 계 * 6%
A21: D2 | B21: 이 윤 | E21: =TRUNC((E10+E18+E20)*0.15, 0) -> 0 | F21: (노무비+경비+일반관리비) * 15%
A22: D9 | B22: 공 급 가 액 | E22: =TRUNC(E19+E20+E21, 0) -> 0
A23: DB | B23: 부 가 가 치 세 | E23: =TRUNC((E22+E25)*0.1, 0) -> 0 | F23: 공급가액 * 10%
A24: DH | B24: 도 급 액 | E24: =TRUNC(E22+E23, -3) -> 0
A25: D8 | B25: 배상책임공제비 | E25: =TRUNC((E22)*0.00364, 0)*1.1 -> 0 | F25: 부가가치세 포함
A26: S2 | B26: 총 공 사 비 | E26: =TRUNC(E24+E25, -3) -> 0 | G26: 천단위미만 절사

Sheet 공종별집계표
A1: 공 종 별 집 계 표
A2: [ 모빌리티전자파안전성평가지원센터건립전기소방공사 ]
A3: 품 명 | B3: 규 격 | C3: 단위 | D3: 수량 | E3: 재 료 비 | G3: 노 무 비 | I3: 경 비 | K3: 합 계 | M3: 비 고 | N3: 공종코드 | O3: 변수 | P3: 상위공종 | Q3: 공종구분 | R3: 공종레벨 | S3: 공종소계 | T3: 원가계산서 연결금액
E4: 단 가 | F4: 금 액 | G4: 단 가 | H4: 금 액 | I4: 단 가 | J4: 금 액 | K4: 단 가 | L4: 금 액
A5: 01 모빌리티전자파안전성평가지원센터건립전기소방공사 | D5: 1 | E5: =F6+F11 -> 0 | F5: =E5*D5 -> 0 | G5: =H6+H11 -> 0 | H5: =G5*D5 -> 0 | I5: =J6+J11 -> 0 | J5: =I5*D5 -> 0 | K5: =E5+G5+I5 -> 0 | L5: =F5+H5+J5 -> 0 | N5: 01 | R5: 1
A6: 소방공사 | D6: 1 | E6: =F7 -> 0 | F6: =E6*D6 -> 0 | G6: =H7 -> 0 | H6: =G6*D6 -> 0 | I6: =J7 -> 0 | J6: =I6*D6 -> 0 | K6: =E6+G6+I6 -> 0 | L6: =F6+H6+J6 -> 0 | N6: 0101 | P6: 01 | R6: 2
A7: 전기소방공사 | D7: 1 | E7: =F8+F9+F10 -> 0 | F7: =E7*D7 -> 0 | G7: =H8+H9+H10 -> 0 | H7: =G7*D7 -> 0 | I7: =J8+J9+J10 -> 0 | J7: =I7*D7 -> 0 | K7: =E7+G7+I7 -> 0 | L7: =F7+H7+J7 -> 0 | N7: 010101 | P7: 0101 | R7: 3
A8: 0101 소방간선 공사 | D8: 1 | E8: =공종별내역서!F28 -> 0 | F8: =E8*D8 -> 0 | G8: =공종별내역서!H28 -> 0 | H8: =G8*D8 -> 0 | I8: =공종별내역서!J28 -> 0 | J8: =I8*D8 -> 0 | K8: =E8+G8+I8 -> 0 | L8: =F8+H8+J8 -> 0 | N8: 01010101 | P8: 010101 | R8: 4
A9: 0102 자동화재탐지설비 공사 | D9: 1 | E9: =공종별내역서!F53 -> 0 | F9: =E9*D9 -> 0 | G9: =공종별내역서!H53 -> 0 | H9: =G9*D9 -> 0 | I9: =공종별내역서!J53 -> 0 | J9: =I9*D9 -> 0 | K9: =E9+G9+I9 -> 0 | L9: =F9+H9+J9 -> 0 | N9: 01010102 | P9: 010101 | R9: 4
A10: 0103 유도등설비 공사 | D10: 1 | E10: =공종별내역서!F78 -> 0 | F10: =E10*D10 -> 0 | G10: =공종별내역서!H78 -> 0 | H10: =G10*D10 -> 0 | I10: =공종별내역서!J78 -> 0 | J10: =I10*D10 -> 0 | K10: =E10+G10+I10 -> 0 | L10: =F10+H10+J10 -> 0 | N10: 01010103 | P10: 010101 | R10: 4
A27: [ 합 계 ] | F27: =F5 -> 0 | H27: =H5 -> 0 | J27: =J5 -> 0 | L27: =L5 -> 0

Sheet 공종별내역서
A1: [ 모빌리티전자파안전성평가지원센터건립전기소방공사 ]
A2: 품 명 | B2: 규 격 | C2: 단위 | D2: 수량 | E2: 재 료 비 | G2: 노 무 비 | I2: 경 비 | K2: 합 계 | M2: 비 고 | N2: 품목코드 | O2: 변수 | P2: 설정 | Q2: 공종코드 | R2: 일위 | S2: 단산 | T2: 자재 | U2: 손료적용 | V2: 손료저장 | W2: 적용율 | X2: JUK1 | Y2: JUK2 | Z2: JUK3 | AA2: JUK4 | AB2: JUK5 | AC2: JUK6 | AD2: JUK7 | AE2: JUK8 | AF2: JUK9 | AG2: JUK10 | AH2: JUK11 | AI2: JUK12 | AJ2: JUK13 | AK2: JUK14 | AL2: JUK15 | AM2: JUK16 | AN2: JUK17 | AO2: JUK18 | AP2: JUK19 | AQ2: JUK20 | AR2: 자재구분 | AS2: 공종구분 | AT2: 공종레벨 | AU2: 공종+자재 | AV2: 고유번호
E3: 단 가 | F3: 금 액 | G3: 단 가 | H3: 금 액 | I3: 단 가 | J3: 금 액 | K3: 단 가 | L3: 금 액
A4: 0101 소방간선 공사 | Q4: 01010101
A5: 강제전선관 | B5: 아연도, 22mm, 노출 | C5: m | D5: 119 | M5: 호표 1 | N5: 5B39E6D132C32209E8E7906F2A6435 | Q5: 01010101 | R5: T | S5: F | T5: F | AU5: 010101015B39E6D132C32209E8E7906F2A6435 | AV5: 5
A6: 절연전선(7열동시포설) | B6: HFIX, 2.5㎟, 관내배선 | C6: m | D6: 714 | M6: 호표 2 | N6: 5B39964993C370098E4A77C02DBE1E | Q6: 01010101 | R6: T | S6: F | T6: F | AU6: 010101015B39964993C370098E4A77C02DBE1E | AV6: 44
A7: 절연전선(8열동시포설) | B7: HFIX, 2.5㎟, 관내배선 | C7: m | D7: 236 | M7: 호표 3 | N7: 5B39964993C370098E4A77C02DBF20 | Q7: 01010101 | R7: T | S7: F | T7: F | AU7: 010101015B39964993C370098E4A77C02DBF20 | AV7: 45
A8: 풀박스 | B8: 200X200X100mm, 노출, 벽면 | C8: 개 | D8: 2 | M8: 호표 4 | N8: 5B39E6DCDF038209CC6CE25029EDC1 | Q8: 01010101 | R8: T | S8: F | T8: F | AU8: 010101015B39E6DCDF038209CC6CE25029EDC1 | AV8: 11
A9: 화재수신기 | B9: P형1급, 20회로/벽부 | C9: 대 | D9: 1 | M9: 호표 5 | N9: 5B39B69EF5D39E09FB773E3929C9DA | Q9: 01010101 | R9: T | S9: F | T9: F | AU9: 010101015B39B69EF5D39E09FB773E3929C9DA | AV9: 13
A10: 전원공급반 | B10: DC 24V | C10: 개 | D10: 1 | M10: 호표 6 | N10: 5B39B69973D3EB096C1A907F2FDBF4 | Q10: 01010101 | R10: T | S10: F | T10: F | AU10: 010101015B39B69973D3EB096C1A907F2FDBF4 | AV10: 15
A11: 비상경보세트 | B11: 단독형 | C11: 대 | D11: 3 | M11: 호표 7 | N11: 5B39B6913E2344094E5B29E2229A02 | Q11: 01010101 | R11: T | S11: F | T11: F | AU11: 010101015B39B6913E2344094E5B29E2229A02 | AV11: 17
A28: [ 합 계 ] | F28: =SUM(F5:F27) -> 0 | H28: =SUM(H5:H27) -> 0 | J28: =SUM(J5:J27) -> 0 | L28: =SUM(L5:L27) -> 0 | N28: TOTAL
A29: 0102 자동화재탐지설비 공사 | Q29: 01010102
A30: 강제전선관 | B30: 아연도, 16mm, 노출 | C30: m | D30: 75 | M30: 호표 8 | N30: 5B39E6D132C333094D9462852E8DA7 | Q30: 01010102 | R30: T | S30: F | T30: F | AU30: 010101025B39E6D132C333094D9462852E8DA7 | AV30: 20
A31: 강제전선관 | B31: 아연도, 22mm, 노출 | C31: m | D31: 80 | M31: 호표 1 | N31: 5B39E6D132C32209E8E7906F2A6435 | Q31: 01010102 | R31: T | S31: F | T31: F | AU31: 010101025B39E6D132C32209E8E7906F2A6435 | AV31: 21
A32: 강제전선관 | B32: 아연도, 28mm, 노출 | C32: m | D32: 41 | M32: 호표 9 | N32: 5B39E6D132C35E0927499A8E2A6434 | Q32: 01010102 | R32: T | S32: F | T32: F | AU32: 010101025B39E6D132C35E0927499A8E2A6434 | AV32: 22
A33: 강제전선관 | B33: 아연도, 36mm, 노출 | C33: m | D33: 24 | M33: 호표 10 | N33: 5B39E6D132C34D09D30BE5DB21E029 | Q33: 01010102 | R33: T | S33: F | T33: F | AU33: 010101025B39E6D132C34D09D30BE5DB21E029 | AV33: 23
A34: 1종금속제가요전선관 | B34: 16mm 비방수, 노출 | C34: m | D34: 18 | M34: 호표 11 | N34: 5B39E6D131338C09881B4CDB2FA4B0 | Q34: 01010102 | R34: T | S34: F | T34: F | AU34: 010101025B39E6D131338C09881B4CDB2FA4B0 | AV34: 24
A35: 절연전선(4열동시포설) | B35: HFIX, 1.38mm, 관배배선 | C35: m | D35: 372 | M35: 호표 12 | N35: 5B39964993C34B094A70D80B2B4E8E | Q35: 01010102 | R35: T | S35: F | T35: F | AU35: 010101025B39964993C34B094A70D80B2B4E8E | AV35: 46
A36: 절연전선(6열동시포설) | B36: HFIX, 2.5㎟, 관내배선 | C36: m | D36: 480 | M36: 호표 13 | N36: 5B39964993C370098E4A77C02DBD77 | Q36: 01010102 | R36: T | S36: F | T36: F | AU36: 010101025B39964993C370098E4A77C02DBD77 | AV36: 47
A37: 절연전선(10열동시포설) | B37: HFIX, 2.5㎟, 관내배선 | C37: m | D37: 842 | M37: 호표 14 | N37: 5B39964993C370098E4A77C02DBF27 | Q37: 01010102 | R37: T | S37: F | T37: F | AU37: 010101025B39964993C370098E4A77C02DBF27 | AV37: 48
A38: 박스커넥터(비방수) | B38: 1종금속제가요전선관, 16mm | C38: 개 | D38: 8 | N38: 5C53664E0B533209CC79D79B259788537DEAA2 | Q38: 01010102 | R38: F | S38: F | T38: T | AU38: 010101025C53664E0B533209CC79D79B259788537DEAA2 | AV38: 28
A39: 아우트렛박스 | B39: 8각 54mm | C39: 개 | D39: 16 | M39: 호표 15 | N39: 5B39E6DB3463270965BFB3332E3965 | Q39: 01010102 | R39: T | S39: F | T39: F | AU39: 010101025B39E6DB3463270965BFB3332E3965 | AV39: 29
A40: 화재감지기 | B40: 열감지기, 차동식스포트형 | C40: 개 | D40: 5 | M40: 호표 16 | N40: 5B39B69DEC339F0993D5F1DE216576 | Q40: 01010102 | R40: T | S40: F | T40: F | AU40: 010101025B39B69DEC339F0993D5F1DE216576 | AV40: 30
A41: 화재감지기 | B41: 연기감지기 | C41: 개 | D41: 7 | M41: 호표 17 | N41: 5B39B69DEF83FA09691E2B6824538E | Q41: 01010102 | R41: T | S41: F | T41: F | AU41: 010101025B39B69DEF83FA09691E2B6824538E | AV41: 31
A42: 화재감지기 | B42: 불꽃감지기 | C42: 개 | D42: 4 | M42: 호표 18 | N42: 5B39B69DEF83FA09691E2B6824538F | Q42: 01010102 | R42: T | S42: F | T42: F | AU42: 010101025B39B69DEF83FA09691E2B6824538F | AV42: 32
A43: 박스커버 | B43: 8각, 둥근구멍, 평 | C43: 개 | D43: 16 | N43: 5C53664E0A43A009FC9BD6CE2ED2BC052C38F6 | Q43: 01010102 | R43: F | S43: F | T43: T | AU43: 010101025C53664E0A43A009FC9BD6CE2ED2BC052C38F6 | AV43: 33
A53: [ 합 계 ] | F53: =SUM(F30:F52) -> 0 | H53: =SUM(H30:H52) -> 0 | J53: =SUM(J30:J52) -> 0 | L53: =SUM(L30:L52) -> 0 | N53: TOTAL
A54: 0103 유도등설비 공사 | Q54: 01010103
A55: 강제전선관 | B55: 아연도, 16mm, 노출 | C55: m | D55: 178 | M55: 호표 8 | N55: 5B39E6D132C333094D9462852E8DA7 | Q55: 01010103 | R55: T | S55: F | T55: F | AU55: 010101035B39E6D132C333094D9462852E8DA7 | AV55: 35
A56: 절연전선(2열동시포설) | B56: HFIX, 2.5㎟, 관내배선 | C56: m | D56: 356 | M56: 호표 19 | N56: 5B39964993C370098E4A77C02DB998 | Q56: 01010103 | R56: T | S56: F | T56: F | AU56: 010101035B39964993C370098E4A77C02DB998 | AV56: 49
A57: 아우트렛박스 | B57: 4각 54mm | C57: 개 | D57: 25 | M57: 호표 20 | N57: 5B39E6DB34632709658279612BD2B0 | Q57: 01010103 | R57: T | S57: F | T57: F | AU57: 010101035B39E6DB34632709658279612BD2B0 | AV57: 37
A58: 유도등 | B58: 통로유도등(고휘도), LED | C58: 개 | D58: 6 | M58: 호표 21 | N58: 5B39B694F1835D09D873A0702FE679 | Q58: 01010103 | R58: T | S58: F | T58: F | AU58: 010101035B39B694F1835D09D873A0702FE679 | AV58: 38
A59: 유도등 | B59: 피난구유도등(고휘도), LED, 소형(단면), 60분용 | C59: 개 | D59: 5 | M59: 호표 22 | N59: 5B39B694F1836E094F92D3042C9FBF | Q59: 01010103 | R59: T | S59: F | T59: F | AU59: 010101035B39B694F1836E094F92D3042C9FBF | AV59: 39
A60: 입체형유도등 | B60: 소형, 돌출형, 3면용 | C60: 개 | D60: 3 | M60: 호표 23 | N60: 5B39B694F3B32309659CA9F120738A | Q60: 01010103 | R60: T | S60: F | T60: F | AU60: 010101035B39B694F3B32309659CA9F120738A | AV60: 50
A61: 박스커버 | B61: 4각, 둥근구멍, 평 | C61: 개 | D61: 25 | N61: 5C53664E0A43A009FC9BD6CE2ED2BC052C38F1 | Q61: 01010103 | R61: F | S61: F | T61: T | AU61: 010101035C53664E0A43A009FC9BD6CE2ED2BC052C38F1 | AV61: 41
A78: [ 합 계 ] | F78: =SUM(F55:F77) -> 0 | H78: =SUM(H55:H77) -> 0 | J78: =SUM(J55:J77) -> 0 | L78: =SUM(L55:L77) -> 0 | N78: TOTAL
A79: 별도공사 | Q79: 0102
A80: 재해예방기술지도수수료 | C80: 식 | D80: 1 | E80: =TRUNC(#REF!,0) -> #REF! | F80: =TRUNC(E80*D80, 0) -> #REF! | G80: =TRUNC(#REF!,0) -> #REF! | H80: =TRUNC(G80*D80, 0) -> #REF! | I80: =TRUNC(#REF!,0) -> #REF! | J80: =TRUNC(I80*D80, 0) -> #REF! | K80: =TRUNC(E80+G80+I80, 0) -> #REF! | L80: =TRUNC(F80+H80+J80, 0) -> #REF! | N80: 5ACC36D908533A098716649D2B0DE96C3F7078 | Q80: 0102 | R80: F | S80: F | T80: T | AU80: 01025ACC36D908533A098716649D2B0DE96C3F7078 | AV80: 43
A102: [ 합 계 ] | F102: =SUM(F80:F101) -> #REF! | H102: =SUM(H80:H101) -> #REF! | J102: =SUM(J80:J101) -> #REF! | L102: =SUM(L80:L101) -> #REF! | N102: TOTAL

Sheet 공량설정_일위대가
A1: 일위대가 | B1: 적용율(%) | C1: 소수점이하자릿수 | D1: 일위대가 코드
A2: 강제전선관 아연도, 22mm, 노출 (호표 1) | B2: 100 | D2: 5B39E6D132C32209E8E7906F2A6435
A3: 내선전공 | C3: 3 | D3: 5B39E6D132C32209E8E7906F2A64355BA1464E05C32809A90772D4276C01503263BC
A4: 절연전선(7열동시포설) HFIX, 2.5㎟, 관내배선 (호표 2) | B4: 100 | D4: 5B39964993C370098E4A77C02DBE1E
A5: 내선전공 | C5: 4 | D5: 5B39964993C370098E4A77C02DBE1E5BA1464E05C32809A90772D4276C01503263BC
A6: 절연전선(8열동시포설) HFIX, 2.5㎟, 관내배선 (호표 3) | B6: 100 | D6: 5B39964993C370098E4A77C02DBF20
A7: 내선전공 | C7: 4 | D7: 5B39964993C370098E4A77C02DBF205BA1464E05C32809A90772D4276C01503263BC
A8: 풀박스 200X200X100mm, 노출, 벽면 (호표 4) | B8: 100 | D8: 5B39E6DCDF038209CC6CE25029EDC1
A9: 내선전공 | C9: 3 | D9: 5B39E6DCDF038209CC6CE25029EDC15BA1464E05C32809A90772D4276C01503263BC
A10: 화재수신기 P형1급, 20회로/벽부 (호표 5) | B10: 100 | D10: 5B39B69EF5D39E09FB773E3929C9DA
A11: 내선전공 | C11: 1 | D11: 5B39B69EF5D39E09FB773E3929C9DA5BA1464E05C32809A90772D4276C01503263BC
A12: 전원공급반 DC 24V (호표 6) | B12: 100 | D12: 5B39B69973D3EB096C1A907F2FDBF4
A13: 내선전공 | C13: 2 | D13: 5B39B69973D3EB096C1A907F2FDBF45BA1464E05C32809A90772D4276C01503263BC
A14: 비상경보세트 단독형 (호표 7) | B14: 100 | D14: 5B39B6913E2344094E5B29E2229A02
A15: 내선전공 | C15: 2 | D15: 5B39B6913E2344094E5B29E2229A025BA1464E05C32809A90772D4276C01503263BC
A16: 강제전선관 아연도, 16mm, 노출 (호표 8) | B16: 100 | D16: 5B39E6D132C333094D9462852E8DA7
A17: 내선전공 | C17: 3 | D17: 5B39E6D132C333094D9462852E8DA75BA1464E05C32809A90772D4276C01503263BC
A18: 강제전선관 아연도, 28mm, 노출 (호표 9) | B18: 100 | D18: 5B39E6D132C35E0927499A8E2A6434
A19: 내선전공 | C19: 3 | D19: 5B39E6D132C35E0927499A8E2A64345BA1464E05C32809A90772D4276C01503263BC
A20: 강제전선관 아연도, 36mm, 노출 (호표 10) | B20: 100 | D20: 5B39E6D132C34D09D30BE5DB21E029
A21: 내선전공 | C21: 2 | D21: 5B39E6D132C34D09D30BE5DB21E0295BA1464E05C32809A90772D4276C01503263BC
A22: 1종금속제가요전선관 16mm 비방수, 노출 (호표 11) | B22: 100 | D22: 5B39E6D131338C09881B4CDB2FA4B0
A23: 내선전공 | C23: 3 | D23: 5B39E6D131338C09881B4CDB2FA4B05BA1464E05C32809A90772D4276C01503263BC
A24: 절연전선(4열동시포설) HFIX, 1.38mm, 관배배선 (호표 12) | B24: 100 | D24: 5B39964993C34B094A70D80B2B4E8E
A25: 내선전공 | C25: 4 | D25: 5B39964993C34B094A70D80B2B4E8E5BA1464E05C32809A90772D4276C01503263BC
A26: 절연전선(6열동시포설) HFIX, 2.5㎟, 관내배선 (호표 13) | B26: 100 | D26: 5B39964993C370098E4A77C02DBD77
A27: 내선전공 | C27: 4 | D27: 5B39964993C370098E4A77C02DBD775BA1464E05C32809A90772D4276C01503263BC
A28: 절연전선(10열동시포설) HFIX, 2.5㎟, 관내배선 (호표 14) | B28: 100 | D28: 5B39964993C370098E4A77C02DBF27
A29: 내선전공 | C29: 4 | D29: 5B39964993C370098E4A77C02DBF275BA1464E05C32809A90772D4276C01503263BC
A30: 아우트렛박스 8각 54mm (호표 15) | B30: 100 | D30: 5B39E6DB3463270965BFB3332E3965
A31: 내선전공 | C31: 3 | D31: 5B39E6DB3463270965BFB3332E39655BA1464E05C32809A90772D4276C01503263BC
A32: 화재감지기 열감지기, 차동식스포트형 (호표 16) | B32: 100 | D32: 5B39B69DEC339F0993D5F1DE216576
A33: 내선전공 | C33: 2 | D33: 5B39B69DEC339F0993D5F1DE2165765BA1464E05C32809A90772D4276C01503263BC
A34: 화재감지기 연기감지기 (호표 17) | B34: 100 | D34: 5B39B69DEF83FA09691E2B6824538E
A35: 내선전공 | C35: 2 | D35: 5B39B69DEF83FA09691E2B6824538E5BA1464E05C32809A90772D4276C01503263BC
A36: 화재감지기 불꽃감지기 (호표 18) | B36: 100 | D36: 5B39B69DEF83FA09691E2B6824538F
A37: 내선전공 | C37: 4 | D37: 5B39B69DEF83FA09691E2B6824538F5BA1464E05C32809A90772D4276C01503263BC
A38: 절연전선(2열동시포설) HFIX, 2.5㎟, 관내배선 (호표 19) | B38: 100 | D38: 5B39964993C370098E4A77C02DB998
A39: 내선전공 | C39: 3 | D39: 5B39964993C370098E4A77C02DB9985BA1464E05C32809A90772D4276C01503263BC
A40: 아우트렛박스 4각 54mm (호표 20) | B40: 100 | D40: 5B39E6DB34632709658279612BD2B0
...

Sheet  공사설정 
A1: 이 Sheet는 수정하지 마십시요
A2: 공사구분 | B2: D | C2: 타이틀
A3: 확정내역 | B3: 원내역
A4: 자재단가적용 | B4: 5
A5: 경비단가적용 | B5: 5
A6: 품목코드형식 | B6: XXXX-XXXXXXXXXXXXX
A7: 내역금액소수점처리 | B7: C | C7: 1
A8: 일위대가내역소수점처리 | B8: C | C8: 3
A9: 단가명 | B9: 가격정보 | C9: 물가자료 | D9: 물가정보 | E9: 유통물가 | F9: 조사가격 | G9: TTTFT
A10: 환율 | B10: 1153.3 | C10: 0 | D10: 0
A11: 시간당작업량 | B11: R | C11: 4
A12: 1회 사이클시간 | B12: R | C12: 4
A13: 시간당 작업사이클 | B13: R | C13: 3
A14: 일반변수 | B14: C | C14: 5
A15: 시간당 노임산출 계수 | B15: A | C15: 1/8*16/12*25/20 | D15: 1/8*16/12*25/20 | E15: 1/8*16/12*25/20 | F15: 1
A16: 재료비 할증 계수 | B16: 0 | C16: 0
A17: 노무비 할증 계수 | B17: 0 | C17: 0 | D17: 0 | E17: 0 | F17: 0 | G17: 0 | H17: 0 | I17: 0 | J17: 0 | K17: 0 | L17: 0 | M17: 0
A18: 경비 할증 계수 | B18: 0 | C18: 0
A19: 내역,일위대가 품명,규격,단위 따로적용
A20: 내역단가 소수점처리 | C20: 1
A21: 코드 | B21: 공종구분명 | C21: 원가비목코드
A22: 1 | B22: 작 업 부 산 물 | C22: A3
A23: 2 | B23: 운 반 비 | C23: C1
A24: 3 | B24: 관 급 자 재 비 | C24: DJ
A25: 4 | B25: 사 급 자 재 비 | C25: D3
A26: 5 | B26: 외 자 재
A27: 6 | B27: ...
A28: 7 | B28: ...
A29: 8 | B29: ...
A30: 9 | B30: ...
