Workbook

Sheet 원가계산서
B1: 공 사 원 가 계 산 서
B2: 공사명 : SDV보안평가지원센터전기공사 | F2: ="금액 : "&TEXT(E33,"[DBNUM4]")&"원(\" & TEXT(E33,"#,###")&")" -> 금액 : 영원(\)
B3: 비 목 | E3: 금 액 | F3: 구 성 비 | G3: 비 고
A4: A1 | B4: 순 공 사 원 가 | C4: 재 료 비 | D4: 직 접 재 료 비 | E4: =TRUNC(공종별집계표!F5, 0) -> 0
A5: A2 | D5: 간 접 재 료 비 | E5: 0
A6: A3 | D6: 작업설, 부산물(△) | E6: 0
A7: AS | D7: [ 소 계 ] | E7: =TRUNC(E4+E5-E6, 0) -> 0
A8: B1 | C8: 노 무 비 | D8: 직 접 노 무 비 | E8: =TRUNC(공종별집계표!H5, 0) -> 0
A9: B2 | D9: 간 접 노 무 비 | E9: =TRUNC(E8*0.15, 0) -> 0 | F9: 직접노무비 * 15%
A10: BS | D10: [ 소 계 ] | E10: =TRUNC(E8+E9, 0) -> 0
A11: C2 | C11: 경 비 | D11: 경 비 | E11: =TRUNC(공종별집계표!J5, 0) -> 0
A12: C4 | D12: 산 재 보 험 료 | E12: =TRUNC(E10*0.0356, 0) -> 0 | F12: 노무비 * 3.56%
A13: C5 | D13: 고 용 보 험 료 | E13: =TRUNC(E10*0.0101, 0) -> 0 | F13: 노무비 * 1.01%
A14: C6 | D14: 국민 건강 보험료 | E14: =TRUNC(E8*0.03595, 0) -> 0 | F14: 직접노무비 * 3.595%
A15: C7 | D15: 국민 연금 보험료 | E15: =TRUNC(E8*0.0475, 0) -> 0 | F15: 직접노무비 * 4.75%
A16: C8 | D16: 퇴직 공제 부금비 | E16: =TRUNC(E8*0.023, 0) -> 0 | F16: 직접노무비 * 2.3%
A17: CA | D17: 산업안전보건관리비 | F17: (재료비+직노+도급자관급자재비) * 2.28% + 기초액
A18: CB | D18: 노인장기요양보험료 | E18: =TRUNC(E14*0.1314, 0) -> 0 | F18: 건강보험료 * 13.14%
A19: CG | D19: 기 타 경 비 | E19: =TRUNC((E7+E10)*0.046, 0) -> 0 | F19: (재료비+노무비) * 4.6%
A20: CS | D20: [ 소 계 ] | E20: =TRUNC(E11+E12+E13+E14+E15+E16+E17+E18+E19, 0) -> 0
A21: S1 | B21: 계 | E21: =TRUNC(E7+E10+E20, 0) -> 0
A22: D1 | B22: 일 반 관 리 비 | E22: =TRUNC(E21*0.04, 0) -> 0 | F22: 계 * 4%
A23: D2 | B23: 이 윤 | E23: =TRUNC((E10+E20+E22)*0.1, 0) -> 0 | F23: (노무비+경비+일반관리비) * 10%
A24: D9 | B24: 공 급 가 액 | E24: =TRUNC(E21+E22+E23, 0) -> 0
A25: DB | B25: 부 가 가 치 세 | E25: =TRUNC(E24*0.1, 0) -> 0 | F25: 공급가액 * 10%
A26: DH | B26: 도 급 액 | E26: =TRUNC(E24+E25, 0) -> 0
A27: DJ | B27: 관급자 관급자재 | E27: =TRUNC(공종별집계표!T20, 0) -> 0
A28: DK | B28: 도급자 관급자재 | E28: =TRUNC(공종별집계표!T23, 0) -> 0
A29: S2 | B29: 총 공 사 비 | E29: =TRUNC(E26+E27+E28, 0) -> 0
A30: E1 | B30: 사용전검사료 | E30: =TRUNC(공종별집계표!L27, 0) -> 0
A31: E1 | B31: 재해예방기술지도비 | E31: =TRUNC(공종별집계표!L28, 0) -> 0
A32: E2 | B32: 겐트리 구조물설치 | E32: =TRUNC(공종별집계표!T29, 0) -> 0
A33: S3 | B33: 총 계 | E33: =TRUNC(E29++E30+E31+E32, -3) -> 0 | G33: 천단위미만절사

Sheet 공종별집계표
A1: 공 종 별 집 계 표
A2: [ SDV보안평가지원센터전기공사 ]
A3: 품 명 | B3: 규 격 | C3: 단위 | D3: 수량 | E3: 재 료 비 | G3: 노 무 비 | I3: 경 비 | K3: 합 계 | M3: 비 고 | N3: 공종코드 | O3: 변수 | P3: 상위공종 | Q3: 공종구분 | R3: 공종레벨 | S3: 공종소계 | T3: 원가계산서 연결금액
E4: 단 가 | F4: 금 액 | G4: 단 가 | H4: 금 액 | I4: 단 가 | J4: 금 액 | K4: 단 가 | L4: 금 액
A5: 01 SDV보안평가지원센터전기공사 | D5: 1 | E5: =F6 -> 0 | F5: =E5*D5 -> 0 | G5: =H6 -> 0 | H5: =G5*D5 -> 0 | I5: =J6 -> 0 | J5: =I5*D5 -> 0 | K5: =E5+G5+I5 -> 0 | L5: =F5+H5+J5 -> 0 | N5: 01 | R5: 1
A6: 전기공사 | D6: 1 | E6: =F7+F8+F9+F13+F17+F18+F19 -> 0 | F6: =E6*D6 -> 0 | G6: =H7+H8+H9+H13+H17+H18+H19 -> 0 | H6: =G6*D6 -> 0 | I6: =J7+J8+J9+J13+J17+J18+J19 -> 0 | J6: =I6*D6 -> 0 | K6: =E6+G6+I6 -> 0 | L6: =F6+H6+J6 -> 0 | N6: 0101 | P6: 01 | R6: 2
A7: 0101 옥외인입 및 수변전설비공사 | D7: 1 | E7: =공종별내역서!F51 -> 0 | F7: =E7*D7 -> 0 | G7: =공종별내역서!H51 -> 0 | H7: =G7*D7 -> 0 | I7: =공종별내역서!J51 -> 0 | J7: =I7*D7 -> 0 | K7: =E7+G7+I7 -> 0 | L7: =F7+H7+J7 -> 0 | N7: 010101 | P7: 0101 | R7: 3
A8: 0102 전력간선설비공사 | D8: 1 | E8: =공종별내역서!F75 -> 0 | F8: =E8*D8 -> 0 | G8: =공종별내역서!H75 -> 0 | H8: =G8*D8 -> 0 | I8: =공종별내역서!J75 -> 0 | J8: =I8*D8 -> 0 | K8: =E8+G8+I8 -> 0 | L8: =F8+H8+J8 -> 0 | N8: 010102 | P8: 0101 | R8: 3
A9: 0103 전열설비공사 | D9: 1 | E9: =F10+F11+F12 -> 0 | F9: =E9*D9 -> 0 | G9: =H10+H11+H12 -> 0 | H9: =G9*D9 -> 0 | I9: =J10+J11+J12 -> 0 | J9: =I9*D9 -> 0 | K9: =E9+G9+I9 -> 0 | L9: =F9+H9+J9 -> 0 | N9: 010103 | P9: 0101 | R9: 3
A10: 010301 지상1층 전열설비공사 | D10: 1 | E10: =공종별내역서!F99 -> 0 | F10: =E10*D10 -> 0 | G10: =공종별내역서!H99 -> 0 | H10: =G10*D10 -> 0 | I10: =공종별내역서!J99 -> 0 | J10: =I10*D10 -> 0 | K10: =E10+G10+I10 -> 0 | L10: =F10+H10+J10 -> 0 | N10: 01010301 | P10: 010103 | R10: 4
A11: 010302 지상2층 전열설비공사 | D11: 1 | E11: =공종별내역서!F123 -> 0 | F11: =E11*D11 -> 0 | G11: =공종별내역서!H123 -> 0 | H11: =G11*D11 -> 0 | I11: =공종별내역서!J123 -> 0 | J11: =I11*D11 -> 0 | K11: =E11+G11+I11 -> 0 | L11: =F11+H11+J11 -> 0 | N11: 01010302 | P11: 010103 | R11: 4
A12: 010303 지상3층 전열설비공사 | D12: 1 | E12: =공종별내역서!F147 -> 0 | F12: =E12*D12 -> 0 | G12: =공종별내역서!H147 -> 0 | H12: =G12*D12 -> 0 | I12: =공종별내역서!J147 -> 0 | J12: =I12*D12 -> 0 | K12: =E12+G12+I12 -> 0 | L12: =F12+H12+J12 -> 0 | N12: 01010303 | P12: 010103 | R12: 4
A13: 0104 전등설비공사 | D13: 1 | E13: =F14+F15+F16 -> 0 | F13: =E13*D13 -> 0 | G13: =H14+H15+H16 -> 0 | H13: =G13*D13 -> 0 | I13: =J14+J15+J16 -> 0 | J13: =I13*D13 -> 0 | K13: =E13+G13+I13 -> 0 | L13: =F13+H13+J13 -> 0 | N13: 010104 | P13: 0101 | R13: 3
A14: 010401 지상1층 전등설비공사 | D14: 1 | E14: =공종별내역서!F171 -> 0 | F14: =E14*D14 -> 0 | G14: =공종별내역서!H171 -> 0 | H14: =G14*D14 -> 0 | I14: =공종별내역서!J171 -> 0 | J14: =I14*D14 -> 0 | K14: =E14+G14+I14 -> 0 | L14: =F14+H14+J14 -> 0 | N14: 01010401 | P14: 010104 | R14: 4
A15: 010402 지상2층 전등설비공사 | D15: 1 | E15: =공종별내역서!F195 -> 0 | F15: =E15*D15 -> 0 | G15: =공종별내역서!H195 -> 0 | H15: =G15*D15 -> 0 | I15: =공종별내역서!J195 -> 0 | J15: =I15*D15 -> 0 | K15: =E15+G15+I15 -> 0 | L15: =F15+H15+J15 -> 0 | N15: 01010402 | P15: 010104 | R15: 4
A16: 010403 지상3층 전등설비공사 | D16: 1 | E16: =공종별내역서!F243 -> 0 | F16: =E16*D16 -> 0 | G16: =공종별내역서!H243 -> 0 | H16: =G16*D16 -> 0 | I16: =공종별내역서!J243 -> 0 | J16: =I16*D16 -> 0 | K16: =E16+G16+I16 -> 0 | L16: =F16+H16+J16 -> 0 | N16: 01010403 | P16: 010104 | R16: 4
A17: 0105 냉난방, 전열교환기설비공사 | D17: 1 | E17: =공종별내역서!F267 -> 0 | F17: =E17*D17 -> 0 | G17: =공종별내역서!H267 -> 0 | H17: =G17*D17 -> 0 | I17: =공종별내역서!J267 -> 0 | J17: =I17*D17 -> 0 | K17: =E17+G17+I17 -> 0 | L17: =F17+H17+J17 -> 0 | N17: 010105 | P17: 0101 | R17: 3
A18: 0106 CABLE TRAY 및 DUCT설비공사 | D18: 1 | E18: =공종별내역서!F291 -> 0 | F18: =E18*D18 -> 0 | G18: =공종별내역서!H291 -> 0 | H18: =G18*D18 -> 0 | I18: =공종별내역서!J291 -> 0 | J18: =I18*D18 -> 0 | K18: =E18+G18+I18 -> 0 | L18: =F18+H18+J18 -> 0 | N18: 010106 | P18: 0101 | R18: 3
A19: 0107 접지공사 | D19: 1 | E19: =공종별내역서!F315 -> 0 | F19: =E19*D19 -> 0 | G19: =공종별내역서!H315 -> 0 | H19: =G19*D19 -> 0 | I19: =공종별내역서!J315 -> 0 | J19: =I19*D19 -> 0 | K19: =E19+G19+I19 -> 0 | L19: =F19+H19+J19 -> 0 | N19: 010107 | P19: 0101 | R19: 3
A20: 02 관급자설치관급자재 | D20: 1 | E20: =F21+F22 -> 0 | F20: =E20*D20 -> 0 | G20: =H21+H22 -> 0 | H20: =G20*D20 -> 0 | I20: =J21+J22 -> 0 | J20: =I20*D20 -> 0 | K20: =E20+G20+I20 -> 0 | L20: =F20+H20+J20 -> 0 | N20: 0102 | Q20: 3 | R20: 2 | T20: =L20*1 -> 0
A21: 0201 수배전반 | D21: 1 | E21: =공종별내역서!F339 -> 0 | F21: =E21*D21 -> 0 | G21: =공종별내역서!H339 -> 0 | H21: =G21*D21 -> 0 | I21: =공종별내역서!J339 -> 0 | J21: =I21*D21 -> 0 | K21: =E21+G21+I21 -> 0 | L21: =F21+H21+J21 -> 0 | N21: 010201 | P21: 0102 | R21: 3
A22: 0202 메시형울타리 | D22: 1 | E22: =공종별내역서!F363 -> 0 | F22: =E22*D22 -> 0 | G22: =공종별내역서!H363 -> 0 | H22: =G22*D22 -> 0 | I22: =공종별내역서!J363 -> 0 | J22: =I22*D22 -> 0 | K22: =E22+G22+I22 -> 0 | L22: =F22+H22+J22 -> 0 | N22: 010201 | P22: 0102 | R22: 3
A23: 03 도급자설치관급자재 | D23: 1 | E23: =F24+F25 -> 0 | F23: =E23*D23 -> 0 | G23: =H24+H25 -> 0 | H23: =G23*D23 -> 0 | I23: =J24+J25 -> 0 | J23: =I23*D23 -> 0 | K23: =E23+G23+I23 -> 0 | L23: =F23+H23+J23 -> 0 | N23: 0103 | Q23: 4 | R23: 2 | T23: =L23*1 -> 0
A24: 0301 분전함 | D24: 1 | E24: =공종별내역서!F387 -> 0 | F24: =E24*D24 -> 0 | G24: =공종별내역서!H387 -> 0 | H24: =G24*D24 -> 0 | I24: =공종별내역서!J387 -> 0 | J24: =I24*D24 -> 0 | K24: =E24+G24+I24 -> 0 | L24: =F24+H24+J24 -> 0 | N24: 010301 | P24: 0103 | R24: 3
A25: 0302 LED 등기구 | D25: 1 | E25: =공종별내역서!F411 -> 0 | F25: =E25*D25 -> 0 | G25: =공종별내역서!H411 -> 0 | H25: =G25*D25 -> 0 | I25: =공종별내역서!J411 -> 0 | J25: =I25*D25 -> 0 | K25: =E25+G25+I25 -> 0 | L25: =F25+H25+J25 -> 0 | N25: 010302 | P25: 0103 | R25: 3
A26: 04 별도공사(사용전검사료,재해예방기술지도비) | D26: 1 | E26: =F27+F28 -> 0 | F26: =E26*D26 -> 0 | G26: =H27+H28 -> 0 | H26: =G26*D26 -> 0 | I26: =J27+J28 -> 0 | J26: =I26*D26 -> 0 | K26: =E26+G26+I26 -> 0 | L26: =F26+H26+J26 -> 0 | N26: 0104 | Q26: 5 | R26: 2 | T26: =L26*1 -> 0
A27: 0401 사용전검사료 | D27: 1 | E27: =공종별내역서!F435 -> 0 | F27: =E27*D27 -> 0 | G27: =공종별내역서!H435 -> 0 | H27: =G27*D27 -> 0 | I27: =공종별내역서!J435 -> 0 | J27: =I27*D27 -> 0 | K27: =E27+G27+I27 -> 0 | L27: =F27+H27+J27 -> 0 | N27: 010401 | P27: 0104 | R27: 3
A28: 0402 재해예방기술지도 수수료 | D28: 1 | E28: =공종별내역서!F459 -> 0 | F28: =E28*D28 -> 0 | G28: =공종별내역서!H459 -> 0 | H28: =G28*D28 -> 0 | I28: =공종별내역서!J459 -> 0 | J28: =I28*D28 -> 0 | K28: =E28+G28+I28 -> 0 | L28: =F28+H28+J28 -> 0 | N28: 010402 | P28: 0104 | R28: 3
A29: 05 별도공사(겐트리) | D29: 1 | E29: =공종별내역서!F483 -> 0 | F29: =E29*D29 -> 0 | G29: =공종별내역서!H483 -> 0 | H29: =G29*D29 -> 0 | I29: =공종별내역서!J483 -> 0 | J29: =I29*D29 -> 0 | K29: =E29+G29+I29 -> 0 | L29: =F29+H29+J29 -> 0 | N29: 0105 | Q29: 6 | R29: 2 | T29: =L29*1 -> 0
A50: [ 합 계 ] | F50: =F5 -> 0 | H50: =H5 -> 0 | J50: =J5 -> 0 | L50: =L5 -> 0

Sheet 공종별내역서
A1: [ SDV보안평가지원센터전기공사 ]
A2: 품 명 | B2: 규 격 | C2: 단위 | D2: 수량 | E2: 재 료 비 | G2: 노 무 비 | I2: 경 비 | K2: 합 계 | M2: 비 고 | N2: 품목코드 | O2: 변수 | P2: 설정 | Q2: 공종코드 | R2: 일위 | S2: 단산 | T2: 자재 | U2: 손료적용 | V2: 손료저장 | W2: 적용율 | X2: JUK1 | Y2: JUK2 | Z2: JUK3 | AA2: JUK4 | AB2: JUK5 | AC2: JUK6 | AD2: JUK7 | AE2: JUK8 | AF2: JUK9 | AG2: JUK10 | AH2: JUK11 | AI2: JUK12 | AJ2: JUK13 | AK2: JUK14 | AL2: JUK15 | AM2: JUK16 | AN2: JUK17 | AO2: JUK18 | AP2: JUK19 | AQ2: JUK20 | AR2: 자재구분 | AS2: 공종구분 | AT2: 공종레벨 | AU2: 공종+자재 | AV2: 고유번호
E3: 단 가 | F3: 금 액 | G3: 단 가 | H3: 금 액 | I3: 단 가 | J3: 금 액 | K3: 단 가 | L3: 금 액
A4: 0101 옥외인입 및 수변전설비공사 | Q4: 010101
A5: 피뢰장치및액세서리 | B5: 피뢰기, 18kV, 2.5kA | C5: 개 | N5: 59BD04D9434505F20547D204E4EC818E1FD432 | Q5: 010101 | R5: F | S5: F | T5: T | AU5: 01010159BD04D9434505F20547D204E4EC818E1FD432 | AV5: 4
A6: 파상형 경질폴리에틸렌 전선관 | B6: 80mm | C6: m | M6: 호표 1 | N6: 5ED994E0632C05A58C44EC7258E7B5 | Q6: 010101 | R6: T | S6: F | T6: F | AU6: 0101015ED994E0632C05A58C44EC7258E7B5 | AV6: 13
A7: 절연전선 | B7: F-GV, 150㎟, 관내포설 | C7: m | M7: 호표 2 | N7: 5ED9D47E33F405936E444F49029855 | Q7: 010101 | R7: T | S7: F | T7: F | AU7: 0101015ED9D47E33F405936E444F49029855 | AV7: 243
A8: 단 말 처 리 재 | B8: 23kV 1/C 60° | C8: 개 | N8: 59BD04D9434505F20547D207B84A7AD20F9475 | Q8: 010101 | R8: F | S8: F | T8: T | AU8: 01010159BD04D9434505F20547D207B84A7AD20F9475 | AV8: 5
A9: 애자 | B9: 내오손 결합애자, 157mm x 213mm | C9: 개 | N9: 59BD04D9434505C5324D8810633B6AEE469D72 | Q9: 010101 | R9: F | S9: F | T9: T | AU9: 01010159BD04D9434505C5324D8810633B6AEE469D72 | AV9: 6
A10: 경완금밴드 | B10: 1방3호-200 | C10: 개 | N10: 59BD04D9434505C5324D8393AA4DEB56F1719B | Q10: 010101 | R10: F | S10: F | T10: T | AU10: 01010159BD04D9434505C5324D8393AA4DEB56F1719B | AV10: 7
A11: 전주입상관 | B11: 특고압용 | C11: 개소 | M11: 호표 3 | N11: 5ED984FD83030590FD4B6B4892E4ED | Q11: 010101 | R11: T | S11: F | T11: F | AU11: 0101015ED984FD83030590FD4B6B4892E4ED | AV11: 11
A12: 파상형 경질폴리에틸렌 전선관 | B12: 125mm | C12: m | M12: 호표 4 | N12: 5ED994E0632C05FDBE44617D46C6EF | Q12: 010101 | R12: T | S12: F | T12: F | AU12: 0101015ED994E0632C05FDBE44617D46C6EF | AV12: 249
A13: 관로구방수 | B13: ø125 | C13: 개 | M13: 호표 5 | N13: 5ED994EC13B205C7524B6045FF0C32 | Q13: 010101 | R13: T | S13: F | T13: F | AU13: 0101015ED994EC13B205C7524B6045FF0C32 | AV13: 15
A14: 맨홀 | B14: 2,000*1,500*1,500 | C14: 개소 | M14: 호표 6 | N14: 5ED9749463430510F841DF09D28106 | Q14: 010101 | R14: T | S14: F | T14: F | AU14: 0101015ED9749463430510F841DF09D28106 | AV14: 250
A15: 전력케이블 | B15: FR-CN/CO-W, 22.9KV, 1C 60㎟, 3열포설 1열당 | C15: m | M15: 호표 7 | N15: 5ED9E46193E9056D6840F4BC4E2DED | Q15: 010101 | R15: T | S15: F | T15: F | AU15: 0101015ED9E46193E9056D6840F4BC4E2DED | AV15: 17
A16: 케이블단말접속자재 | B16: 자기수축, 23KV, 1C, 60-70㎟, 구내 | C16: Kit | M16: 호표 8 | N16: 5ED9E46B93BB059652431E849B12B0 | Q16: 010101 | R16: T | S16: F | T16: F | AU16: 0101015ED9E46B93BB059652431E849B12B0 | AV16: 18
A17: 접지봉 | B17: 14Φ×1000mm | C17: 개소 | M17: 호표 9 | N17: 5ED9D47C03E605A4F241FEA84595D6 | Q17: 010101 | R17: T | S17: F | T17: F | AU17: 0101015ED9D47C03E605A4F241FEA84595D6 | AV17: 19
A18: 터파기 | B18: 토사,백호90%+인력10% | C18: ㎥ | M18: 산근 1 | N18: 5E975467E3D905992645866F1961E5 | Q18: 010101 | R18: F | S18: T | T18: F | AU18: 0101015E975467E3D905992645866F1961E5 | AV18: 20
A19: 잔토처리 | B19: 토사10km 백호0.7M3+덤프15톤 | C19: ㎥ | M19: 산근 2 | N19: 5E975466C34C05360848B866425A60 | Q19: 010101 | R19: F | S19: T | T19: F | AU19: 0101015E975466C34C05360848B866425A60 | AV19: 21
A20: 되메우고다지기(기계) | B20: 백호0.7M3*래머80kg,다짐15cm | C20: ㎥ | M20: 산근 3 | N20: 5E975461432C058CBC470F8779DE6B | Q20: 010101 | R20: F | S20: T | T20: F | AU20: 0101015E975461432C058CBC470F8779DE6B | AV20: 22
A21: 모래깔기지정 | B21: 인력 | C21: ㎥ | M21: 호표 10 | N21: 5E97447F83A90555F74574794298B6 | Q21: 010101 | R21: T | S21: F | T21: F | AU21: 0101015E97447F83A90555F74574794298B6 | AV21: 23
A22: 맨홀 | B22: 1,000*1,000*1,000 | C22: 개소 | M22: 호표 11 | N22: 5ED9749463430510F841DF09D28333 | Q22: 010101 | R22: T | S22: F | T22: F | AU22: 0101015ED9749463430510F841DF09D28333 | AV22: 24
... A35: 절연전선 | B35: F-GV, 50㎟, 관내포설 | C35: m | M35: 호표 24 | N35: 5ED9D47E33F30527254FE207244BDA | Q35: 010101 | R35: T | S35: F | T35: F | AU35: 0101015ED9D47E33F30527254FE207244BDA | AV35: 34
A51: [ 합 계 ] | N51: TOTAL
A52: 0102 전력간선설비공사 | Q52: 010102
A53: 분전함 L-1-A | C53: 면 | M53: 호표 26 | N53: 5ED97497334305662E41609DF03D8A | Q53: 010102 | R53: T | S53: F | T53: F | AU53: 0101025ED97497334305662E41609DF03D8A | AV53: 37
A54: 분전함 P-N | C54: 면 | M54: 호표 27 | N54: 5ED97497334305C8A54E8A78066AEE | Q54: 010102 | R54: T | S54: F | T54: F | AU54: 0101025ED97497334305C8A54E8A78066AEE | AV54: 38
A55: 노말밴드후강전선관용 | B55: 아연도54mm | C55: 개 | N55: 59BD04D943560546DA4DFAAEA1349E5F18FF0C | Q55: 010102 | R55: F | S55: F | T55: T | AU55: 01010259BD04D943560546DA4DFAAEA1349E5F18FF0C | AV55: 39
A56: 노말밴드후강전선관용 | B56: 아연도70mm | C56: 개 | N56: 59BD04D943560546DA4DFAAEA1349E5F18FF0D | Q56: 010102 | R56: F | S56: F | T56: T | AU56: 01010259BD04D943560546DA4DFAAEA1349E5F18FF0D | AV56: 40
A57: 분전함 L-1-M | C57: 면 | M57: 호표 28 | N57: 5ED9749733430570B1483E945750CE | Q57: 010102 | R57: T | S57: F | T57: F | AU57: 0101025ED9749733430570B1483E945750CE | AV57: 41
A58: 분전함 L-2-M | C58: 면 | M58: 호표 29 | N58: 5ED974973343050DB6429DBEBFF3AB | Q58: 010102 | R58: T | S58: F | T58: F | AU58: 0101025ED974973343050DB6429DBEBFF3AB | AV58: 42
A59: 분전함 L-3-M | C59: 면 | M59: 호표 30 | N59: 5ED97497334305289D4E1C9CAE941A | Q59: 010102 | R59: T | S59: F | T59: F | AU59: 0101025ED97497334305289D4E1C9CAE941A | AV59: 43
A60: 분전함 P-AC | C60: 면 | M60: 호표 31 | N60: 5ED97497334305C8A54E8A78066AE6 | Q60: 010102 | R60: T | S60: F | T60: F | AU60: 0101025ED97497334305C8A54E8A78066AE6 | AV60: 44
A61: 강제전선관 | B61: 아연도, 54mm, 매입(또는 앵커볼트 설치에 따른 노출공사) | C61: m | M61: 호표 32 | N61: 5ED994E333A005383149C76F9E7531 | Q61: 010102 | R61: T | S61: F | T61: F | AU61: 0101025ED994E333A005383149C76F9E7531 | AV61: 45
A62: 강제전선관 | B62: 아연도, 70mm, 매입(또는 앵커볼트 설치에 따른 노출공사) | C62: m | M62: 호표 33 | N62: 5ED994E333A005CE7142F8FEA40313 | Q62: 010102 | R62: T | S62: F | T62: F | AU62: 0101025ED994E333A005CE7142F8FEA40313 | AV62: 46
A63: 파이프행거 | B63: 54C | C63: 개소 | M63: 호표 34 | N63: 5ED994ED33B8054DA74DDB748F09F0 | Q63: 010102 | R63: T | S63: F | T63: F | AU63: 0101025ED994ED33B8054DA74DDB748F09F0 | AV63: 47
A64: 파이프행거 | B64: 70C | C64: 개소 | M64: 호표 35 | N64: 5ED994ED33B8054DA74DDA6EA4A4BC | Q64: 010102 | R64: T | S64: F | T64: F | AU64: 0101025ED994ED33B8054DA74DDA6EA4A4BC | AV64: 48
A65: 전력케이블 | B65: F-CV, 0.6/1kV, 4C 16㎟ | C65: m | M65: 호표 36 | N65: 5ED9E460F32A05D5A3452CCB9306A2 | Q65: 010102 | R65: T | S65: F | T65: F | AU65: 0101025ED9E460F32A05D5A3452CCB9306A2 | AV65: 49
A66: 전력케이블 | B66: F-CV, 0.6/1kV, 1C 70㎟ | C66: m | M66: 호표 37 | N66: 5ED9E46193DF05114C42A82DD074CF | Q66: 010102 | R66: T | S66: F | T66: F | AU66: 0101025ED9E46193DF05114C42A82DD074CF | AV66: 50
A67: 러그단자 | B67: 동관단자 2홀, 35㎟, 1C 구내 | C67: 개소 | M67: 호표 38 | N67: 5ED9E476A3B60578F64B93D587B3D0 | Q67: 010102 | R67: T | S67: F | T67: F | AU67: 0101025ED9E476A3B60578F64B93D587B3D0 | AV67: 51
...

Sheet 일위대가목록
A1: 일 위 대 가 목 록
A2: [ SDV보안평가지원센터전기공사 ]
A3: 코 드 | B3: 품 명 | C3: 규 격 | D3: 단위 | E3: 재 료 비 | F3: 노 무 비 | G3: 경 비 | H3: 합 계 | I3: 번 호 | J3: 비 고 | K3: 노임계수 | L3: 할증 | M3: 품셈개요 | N3: 장비일위
A4: 5ED994E0632C05A58C44EC7258E7B5 | B4: 파상형 경질폴리에틸렌 전선관 | C4: 80mm | D4: m | E4: =일위대가!F12 -> 1641 | F4: =일위대가!H12 -> 7520 | G4: =일위대가!J12 -> 0 | H4: =E4+F4+G4 -> 9161 | I4: 호표 1
A5: 5ED9D47E33F405936E444F49029855 | B5: 절연전선 | C5: F-GV, 150㎟, 관내포설 | D5: m | E5: =일위대가!F20 -> 13586 | F5: =일위대가!H20 -> 4515 | G5: =일위대가!J20 -> 0 | H5: =E5+F5+G5 -> 18101 | I5: 호표 2
A6: 5ED984FD83030590FD4B6B4892E4ED | B6: 전주입상관 | C6: 특고압용 | D6: 개소 | E6: =일위대가!F27 -> 3306 | F6: =일위대가!H27 -> 110220 | G6: =일위대가!J27 -> 0 | H6: =E6+F6+G6 -> 113526 | I6: 호표 3
A7: 5ED994E0632C05FDBE44617D46C6EF | B7: 파상형 경질폴리에틸렌 전선관 | C7: 125mm | D7: m | E7: =일위대가!F37 -> 3802 | F7: =일위대가!H37 -> 14898 | G7: =일위대가!J37 -> 0 | H7: =E7+F7+G7 -> 18700 | I7: 호표 4
A8: 5ED994EC13B205C7524B6045FF0C32 | B8: 관로구방수 | C8: ø125 | D8: 개 | E8: =일위대가!F47 -> 65381 | F8: =일위대가!H47 -> 72786 | G8: =일위대가!J47 -> 0 | H8: =E8+F8+G8 -> 138167 | I8: 호표 5
A9: 5ED9749463430510F841DF09D28106 | B9: 맨홀 | C9: 2,000*1,500*1,500 | D9: 개소 | E9: =일위대가!F69 -> 1033065 | F9: =일위대가!H69 -> 986599 | G9: =일위대가!J69 -> 4298 | H9: =E9+F9+G9 -> 2023962 | I9: 호표 6
A10: 5ED9E46193E9056D6840F4BC4E2DED | B10: 전력케이블 | C10: FR-CN/CO-W, 22.9KV, 1C 60㎟, 3열포설 1열당 | D10: m | E10: =일위대가!F78 -> 18487 | F10: =일위대가!H78 -> 4533 | G10: =일위대가!J78 -> 0 | H10: =E10+F10+G10 -> 23020 | I10: 호표 7
A11: 5ED9E46B93BB059652431E849B12B0 | B11: 케이블단말접속자재 | C11: 자기수축, 23KV, 1C, 60-70㎟, 구내 | D11: Kit | E11: =일위대가!F84 -> 71012 | F11: =일위대가!H84 -> 378929 | G11: =일위대가!J84 -> 0 | H11: =E11+F11+G11 -> 449941 | I11: 호표 8
A12: 5ED9D47C03E605A4F241FEA84595D6 | B12: 접지봉 | C12: 14Φ×1000mm | D12: 개소 | E12: =일위대가!F91 -> 4632 | F12: =일위대가!H91 -> 43869 | G12: =일위대가!J91 -> 0 | H12: =E12+F12+G12 -> 48501 | I12: 호표 9
A13: 5E97447F83A90555F74574794298B6 | B13: 모래깔기지정 | C13: 인력 | D13: ㎥ | E13: =일위대가!F97 -> 61376 | F13: =일위대가!H97 -> 68827 | G13: =일위대가!J97 -> 0 | H13: =E13+F13+G13 -> 130203 | I13: 호표 10
A14: 5ED9749463430510F841DF09D28333 | B14: 맨홀 | C14: 1,000*1,000*1,000 | D14: 개소 | E14: =일위대가!F119 -> 641450 | F14: =일위대가!H119 -> 434385 | G14: =일위대가!J119 -> 1730 | H14: =E14+F14+G14 -> 1077565 | I14: 호표 11
A15: 5ED994E3338505400A48116F64D173 | B15: 경질비닐전선관 | C15: 22mm, 매입 | D15: m | E15: =일위대가!F128 -> 887 | F15: =일위대가!H128 -> 14778 | G15: =일위대가!J128 -> 0 | H15: =E15+F15+G15 -> 15665 | I15: 호표 12
A16: 5ED994E3338505379D45ABAB55FDF3 | B16: 경질비닐전선관 | C16: 28mm, 매입 | D16: m | E16: =일위대가!F137 -> 1480 | F16: =일위대가!H137 -> 19704 | G16: =일위대가!J137 -> 0 | H16: =E16+F16+G16 -> 21184 | I16: 호표 13
A17: 5ED994E0632C058AA64805C763C518 | B17: 파상형 경질폴리에틸렌 전선관 | C17: 100mm | D17: m | E17: =일위대가!F147 -> 2476 | F17: =일위대가!H147 -> 11174 | G17: =일위대가!J147 -> 0 | H17: =E17+F17+G17 -> 13650 | I17: 호표 14
A18: 5ED994EEC3790513764CAF4AFE62FA | B18: 풀박스 | C18: 400X400X300mm, 노출, 천정 | D18: 개 | E18: =일위대가!F153 -> 24467 | F18: =일위대가!H153 -> 114943 | G18: =일위대가!J153 -> 0 | H18: =E18+F18+G18 -> 139410 | I18: 호표 15
A19: 5ED994EC13B205FC9249512EC0690B | B19: 관로구방수 | C19: ø100 | D19: 1개 | E19: =일위대가!F163 -> 49228 | F19: =일위대가!H163 -> 50117 | G19: =일위대가!J163 -> 0 | H19: =E19+F19+G19 -> 99345 | I19: 호표 16
A20: 5ED9E46193DF05696D4DFB439A0F76 | B20: 전력케이블 | C20: F-CV, 0.6/1kV, 1C 240㎟ | D20: m | E20: =일위대가!F171 -> 44305 | F20: =일위대가!H171 -> 41365 | G20: =일위대가!J171 -> 0 | H20: =E20+F20+G20 -> 85670 | I20: 호표 17
A21: 5ED9E476A38A05BF324C9623679EBD | B21: 압착단자 | C21: 압착터미널, 35㎟, 1C 구내 | D21: 개소 | E21: =일위대가!F177 -> 733 | F21: =일위대가!H177 -> 16424 | G21: =일위대가!J177 -> 0 | H21: =E21+F21+G21 -> 17157 | I21: 호표 18
A22: 5ED9E47743E7053DA74D6CDAC50302 | B22: 압착단자 | C22: 압착터미널, 150㎟, 1C 구내 | D22: 개소 | E22: =일위대가!F183 -> 2200 | F22: =일위대가!H183 -> 31023 | G22: =일위대가!J183 -> 0 | H22: =E22+F22+G22 -> 33223 | I22: 호표 19
A23: 5ED9E47743D60580FC441B13771A9E | B23: 러그단자 | C23: 동관단자 2홀, 240㎟, 1C 구내 | D23: 개소 | E23: =일위대가!F189 -> 12069 | F23: =일위대가!H189 -> 38323 | G23: =일위대가!J189 -> 0 | H23: =E23+F23+G23 -> 50392 | I23: 호표 20
A24: 5ED9D47E33F305FCA941C7657E3821 | B24: 절연전선 | C24: F-GV, 16㎟, 관내포설 | D24: m | E24: =일위대가!F197 -> 2648 | F24: =일위대가!H197 -> 2873 | G24: =일위대가!J197 -> 0 | H24: =E24+F24+G24 -> 5521 | I24: 호표 21
A25: 5ED9D47E33F305C7EE494EA0D17798 | B25: 절연전선 | C25: F-GV, 25㎟, 관내포설 | D25: m | E25: =일위대가!F205 -> 4337 | F25: =일위대가!H205 -> 2873 | G25: =일위대가!J205 -> 0 | H25: =E25+F25+G25 -> 7210 | I25: 호표 22
A26: 5ED9D47E33F305D07648E28F1BA7B6 | B26: 절연전선 | C26: F-GV, 35㎟, 관내포설 | D26: m | E26: =일위대가!F213 -> 6108 | F26: =일위대가!H213 -> 2873 | G26: =일위대가!J213 -> 0 | H26: =E26+F26+G26 -> 8981 | I26: 호표 23
A27: 5ED9D47E33F30527254FE207244BDA | B27: 절연전선 | C27: F-GV, 50㎟, 관내포설 | D27: m | E27: =일위대가!F221 -> 8031 | F27: =일위대가!H221 -> 3284 | G27: =일위대가!J221 -> 0 | H27: =E27+F27+G27 -> 11315 | I27: 호표 24
A28: 5ED9D47E33F30531BF46E89E1DB294 | B28: 절연전선 | C28: F-GV, 70㎟, 관내포설 | D28: m | E28: =일위대가!F229 -> 11363 | F28: =일위대가!H229 -> 3284 | G28: =일위대가!J229 -> 0 | H28: =E28+F28+G28 -> 14647 | I28: 호표 25
A29: 5ED97497334305662E41609DF03D8A | B29: 분전함 L-1-A | D29: 면 | E29: =일위대가!F235 -> 2764 | F29: =일위대가!H235 -> 92146 | G29: =일위대가!J235 -> 0 | H29: =E29+F29+G29 -> 94910 | I29: 호표 26
A30: 5ED97497334305C8A54E8A78066AEE | B30: 분전함 P-N | D30: 면 | E30: =일위대가!F241 -> 13235 | F30: =일위대가!H241 -> 441193 | G30: =일위대가!J241 -> 0 | H30: =E30+F30+G30 -> 454428 | I30: 호표 27
A31: 5ED9749733430570B1483E945750CE | B31: 분전함 L-1-M | D31: 면 | E31: =일위대가!F247 -> 58568 | F31: =일위대가!H247 -> 1952267 | G31: =일위대가!J247 -> 0 | H31: =E31+F31+G31 -> 2010835 | I31: 호표 28
A32: 5ED974973343050DB6429DBEBFF3AB | B32: 분전함 L-2-M | D32: 면 | E32: =일위대가!F253 -> 18618 | F32: =일위대가!H253 -> 620615 | G32: =일위대가!J253 -> 0 | H32: =E32+F32+G32 -> 639233 | I32: 호표 29
A33: 5ED97497334305289D4E1C9CAE941A | B33: 분전함 L-3-M | D33: 면 | E33: =일위대가!F259 -> 22859 | F33: =일위대가!H259 -> 761996 | G33: =일위대가!J259 -> 0 | H33: =E33+F33+G33 -> 784855 | I33: 호표 30
A34: 5ED97497334305C8A54E8A78066AE6 | B34: 분전함 P-AC | D34: 면 | E34: =일위대가!F265 -> 29971 | F34: =일위대가!H265 -> 999054 | G34: =일위대가!J265 -> 0 | H34: =E34+F34+G34 -> 1029025 | I34: 호표 31
A35: 5ED994E333A005383149C76F9E7531 | B35: 강제전선관 | C35: 아연도, 54mm, 매입(또는 앵커볼트 설치에 따른 노출공사) | D35: m | E35: =일위대가!F274 -> 13835 | F35: =일위대가!H274 -> 83744 | G35: =일위대가!J274 -> 0 | H35: =E35+F35+G35 -> 97579 | I35: 호표 32
A36: 5ED994E333A005CE7142F8FEA40313 | B36: 강제전선관 | C36: 아연도, 70mm, 매입(또는 앵커볼트 설치에 따른 노출공사) | D36: m | E36: =일위대가!F283 -> 16549 | F36: =일위대가!H283 -> 108375 | G36: =일위대가!J283 -> 0 | H36: =E36+F36+G36 -> 124924 | I36: 호표 33
A37: 5ED994ED33B8054DA74DDB748F09F0 | B37: 파이프행거 | C37: 54C | D37: 개소 | E37: =일위대가!F293 -> 2237 | F37: =일위대가!H293 -> 9852 | G37: =일위대가!J293 -> 0 | H37: =E37+F37+G37 -> 12089 | I37: 호표 34
A38: 5ED994ED33B8054DA74DDA6EA4A4BC | B38: 파이프행거 | C38: 70C | D38: 개소 | E38: =일위대가!F303 -> 2287 | F38: =일위대가!H303 -> 9852 | G38: =일위대가!J303 -> 0 | H38: =E38+F38+G38 -> 12139 | I38: 호표 35
A39: 5ED9E460F32A05D5A3452CCB9306A2 | B39: 전력케이블 | C39: F-CV, 0.6/1kV, 4C 16㎟ | D39: m | E39: =일위대가!F311 -> 13533 | F39: =일위대가!H311 -> 6995 | G39: =일위대가!J311 -> 0 | H39: =E39+F39+G39 -> 20528 | I39: 호표 36
A40: 5ED9E46193DF05114C42A82DD074CF | B40: 전력케이블 | C40: F-CV, 0.6/1kV, 1C 70㎟ | D40: m | E40: =일위대가!F319 -> 13495 | F40: =일위대가!H319 -> 17336 | G40: =일위대가!J319 -> 0 | H40: =E40+F40+G40 -> 30831 | I40: 호표 37
...

Sheet 일위대가
A1: [ SDV보안평가지원센터전기공사 ]
A2: 품 명 | B2: 규 격 | C2: 단위 | D2: 수량 | E2: 재 료 비 | G2: 노 무 비 | I2: 경 비 | K2: 합 계 | M2: 비 고 | N2: 일위대가 | O2: 품목코드 | P2: 일위 | Q2: 단산 | R2: 자재 | S2: 손료적용 | T2: 손료저장 | U2: 적용율 | V2: JUK1 | W2: JUK2 | X2: JUK3 | Y2: JUK4 | Z2: JUK5 | AA2: JUK6 | AB2: JUK7 | AC2: JUK8 | AD2: JUK9 | AE2: JUK10 | AF2: JUK11 | AG2: JUK12 | AH2: JUK13 | AI2: JUK14 | AJ2: JUK15 | AK2: JUK16 | AL2: JUK17 | AM2: JUK18 | AN2: JUK19 | AO2: JUK20 | AP2: 할증적용 | AQ2: 할증저장 | AR2: 할증율 | AS2: HAL1 | AT2: HAL2 | AU2: HAL3 | AV2: 자재구분 | AW2: 일위대가+자재 | AX2: 장비일위 | AY2: 설정
E3: 단 가 | F3: 금 액 | G3: 단 가 | H3: 금 액 | I3: 단 가 | J3: 금 액 | K3: 단 가 | L3: 금 액
A4: 파상형 경질폴리에틸렌 전선관 80mm m ( 호표 1 ) | N4: 5ED994E0632C05A58C44EC7258E7B5
A5: 파상형경질폴리에틸렌전선관 | B5: 80mm | C5: m | D5: 1 | E5: =단가대비표!O132 -> 1180 | F5: =TRUNC(E5*D5,2) -> 1180 | G5: =단가대비표!P132 -> 0 | H5: =TRUNC(G5*D5,2) -> 0 | I5: =단가대비표!V132 -> 0 | J5: =TRUNC(I5*D5,2) -> 0 | K5: =TRUNC(E5+G5+I5,2) -> 1180 | L5: =TRUNC(F5+H5+J5,2) -> 1180 | N5: 5ED994E0632C05A58C44EC7258E7B5 | O5: 59BD04D943560546DA4DF4059EE0CD25C7313E | P5: F | Q5: F | R5: T | V5: 1 | W5: 2 | AW5: 5ED994E0632C05A58C44EC7258E7B559BD04D943560546DA4DF4059EE0CD25C7313E
A6: 파상형경질폴리에틸렌전선관 | B6: 80mm | C6: m | D6: 0.03 | E6: =단가대비표!O132 -> 1180 | F6: =TRUNC(E6*D6,2) -> 35.4 | G6: =단가대비표!P132 -> 0 | H6: =TRUNC(G6*D6,2) -> 0 | I6: =단가대비표!V132 -> 0 | J6: =TRUNC(I6*D6,2) -> 0 | K6: =TRUNC(E6+G6+I6,2) -> 1180 | L6: =TRUNC(F6+H6+J6,2) -> 35.4 | N6: 5ED994E0632C05A58C44EC7258E7B5 | O6: 59BD04D943560546DA4DF4059EE0CD25C7313E | P6: F | Q6: F | R6: T | AW6: 5ED994E0632C05A58C44EC7258E7B559BD04D943560546DA4DF4059EE0CD25C7313E
A7: 전선관부속품 | B7: 전선관의 15% | C7: 식 | D7: 1 | E7: =TRUNC(SUMIF(V5:V11, RIGHTB(O7, 1), F5:F11)*U7, 2) -> 177 | F7: =TRUNC(E7*D7,2) -> 177 | G7: 0 | H7: =TRUNC(G7*D7,2) -> 0 | I7: 0 | J7: =TRUNC(I7*D7,2) -> 0 | K7: =TRUNC(E7+G7+I7,2) -> 177 | L7: =TRUNC(F7+H7+J7,2) -> 177 | N7: 5ED994E0632C05A58C44EC7258E7B5 | O7: 5F8EC49E238505677B46C060FE9D001 | P7: F | Q7: F | R7: F | S7: 0 | T7: 0 | U7: 0.15 | AW7: 5ED994E0632C05A58C44EC7258E7B55F8EC49E238505677B46C060FE9E002
A8: 소모잡자재 | B8: 배관배선의 2% | C8: 식 | D8: 1 | E8: =TRUNC(SUMIF(W5:W11, RIGHTB(O8, 1), F5:F11)*U8, 2) -> 23.6 | F8: =TRUNC(E8*D8,2) -> 23.6 | G8: 0 | H8: =TRUNC(G8*D8,2) -> 0 | I8: 0 | J8: =TRUNC(I8*D8,2) -> 0 | K8: =TRUNC(E8+G8+I8,2) -> 23.6 | L8: =TRUNC(F8+H8+J8,2) -> 23.6 | N8: 5ED994E0632C05A58C44EC7258E7B5 | O8: 5F8EC49E238505677B46C060FE9E002 | P8: F | Q8: F | R8: F | S8: 0 | T8: 0 | U8: 0.02 | AW8: 5ED994E0632C05A58C44EC7258E7B55F8EC49E238505677B46C060FE9F003
A9: 보통인부 | B9: 일반공사 직종 | C9: 인 | D9: =공량산출근거서!K9 -> 0.022 | E9: =단가대비표!O162 -> 0 | F9: =TRUNC(E9*D9,2) -> 0 | G9: =단가대비표!P162 -> 172068 | H9: =TRUNC(G9*D9,2) -> 3785.49 | I9: =단가대비표!V162 -> 0 | J9: =TRUNC(I9*D9,2) -> 0 | K9: =TRUNC(E9+G9+I9,2) -> 172068 | L9: =TRUNC(F9+H9+J9,2) -> 3785.49 | N9: 5ED994E0632C05A58C44EC7258E7B5 | O9: 5E48649BA312059493492DA425E3C8A9219B85 | P9: F | Q9: F | R9: T | X9: 3 | AW9: 5ED994E0632C05A58C44EC7258E7B55E48649BA312059493492DA425E3C8A9219B85
A10: 배전전공 | B10: 일반공사 직종 | C10: 인 | D10: =공량산출근거서!K10 -> 0.009 | E10: =단가대비표!O172 -> 0 | F10: =TRUNC(E10*D10,2) -> 0 | G10: =단가대비표!P172 -> 414968 | H10: =TRUNC(G10*D10,2) -> 3734.71 | I10: =단가대비표!V172 -> 0 | J10: =TRUNC(I10*D10,2) -> 0 | K10: =TRUNC(E10+G10+I10,2) -> 414968 | L10: =TRUNC(F10+H10+J10,2) -> 3734.71 | N10: 5ED994E0632C05A58C44EC7258E7B5 | O10: 5E48649BA312059493492DA425E3C8A92193B0 | P10: F | Q10: F | R10: T | X10: 3 | AW10: 5ED994E0632C05A58C44EC7258E7B55E48649BA312059493492DA425E3C8A92193B0
A11: 공구손료 | B11: 노무비의 3% | C11: 식 | D11: 1 | E11: =TRUNC(SUMIF(X5:X11, RIGHTB(O11, 1), H5:H11)*U11, 2) -> 225.6 | F11: =TRUNC(E11*D11,2) -> 225.6 | G11: 0 | H11: =TRUNC(G11*D11,2) -> 0 | I11: 0 | J11: =TRUNC(I11*D11,2) -> 0 | K11: =TRUNC(E11+G11+I11,2) -> 225.6 | L11: =TRUNC(F11+H11+J11,2) -> 225.6 | N11: 5ED994E0632C05A58C44EC7258E7B5 | O11: 5F8EC49E238505677B46C060FE9F003 | P11: F | Q11: F | R11: F | S11: 1 | T11: 0 | U11: 0.03 | AW11: 5ED994E0632C05A58C44EC7258E7B55F8EC49E238505677B46C060FE98004
A12: [ 합 계 ] | F12: =TRUNC(SUMIF(N5:N11, N4, F5:F11),0) -> 1641 | H12: =TRUNC(SUMIF(N5:N11, N4, H5:H11),0) -> 7520 | J12: =TRUNC(SUMIF(N5:N11, N4, J5:J11),0) -> 0 | L12: =F12+H12+J12 -> 9161 | N12: TOTAL | O12: TOTAL
A14: 절연전선 F-GV, 150㎟, 관내포설 m ( 호표 2 ) | N14: 5ED9D47E33F405936E444F49029855
A15: 절연전선및피복선 | B15: 접지용비닐절연전선, F-GV, 150㎟ | C15: m | D15: 1 | E15: =단가대비표!O24 -> 12010 | F15: =TRUNC(E15*D15,2) -> 12010 | G15: =단가대비표!P24 -> 0 | H15: =TRUNC(G15*D15,2) -> 0 | I15: =단가대비표!V24 -> 0 | J15: =TRUNC(I15*D15,2) -> 0 | K15: =TRUNC(E15+G15+I15,2) -> 12010 | L15: =TRUNC(F15+H15+J15,2) -> 12010 | N15: 5ED9D47E33F405936E444F49029855 | O15: 59A344B813EF05160541291C4BCB9380C226D3 | P15: F | Q15: F | R15: T | V15: 1 | AW15: 5ED9D47E33F405936E444F4902985559A344B813EF05160541291C4BCB9380C226D3
A16: 절연전선및피복선 | B16: 접지용비닐절연전선, F-GV, 150㎟ | C16: m | D16: 0.1 | E16: =단가대비표!O24 -> 12010 | F16: =TRUNC(E16*D16,2) -> 1201 | G16: =단가대비표!P24 -> 0 | H16: =TRUNC(G16*D16,2) -> 0 | I16: =단가대비표!V24 -> 0 | J16: =TRUNC(I16*D16,2) -> 0 | K16: =TRUNC(E16+G16+I16,2) -> 12010 | L16: =TRUNC(F16+H16+J16,2) -> 1201 | N16: 5ED9D47E33F405936E444F49029855 | O16: 59A344B813EF05160541291C4BCB9380C226D3 | P16: F | Q16: F | R16: T | AW16: 5ED9D47E33F405936E444F4902985559A344B813EF05160541291C4BCB9380C226D3
A17: 소모잡자재 | B17: 배관배선의 2% | C17: 식 | D17: 1 | E17: =TRUNC(SUMIF(V15:V19, RIGHTB(O17, 1), F15:F19)*U17, 2) -> 240.2 | F17: =TRUNC(E17*D17,2) -> 240.2 | G17: 0 | H17: =TRUNC(G17*D17,2) -> 0 | I17: 0 | J17: =TRUNC(I17*D17,2) -> 0 | K17: =TRUNC(E17+G17+I17,2) -> 240.2 | L17: =TRUNC(F17+H17+J17,2) -> 240.2 | N17: 5ED9D47E33F405936E444F49029855 | O17: 5F8EC49E238505677B46C060FE9D001 | P17: F | Q17: F | R17: F | S17: 0 | T17: 0 | U17: 0.02 | AW17: 5ED9D47E33F405936E444F490298555F8EC49E238505677B46C060FE9F003
A18: 내선전공 | B18: 일반공사 직종 | C18: 인 | D18: =공량산출근거서!K14 -> 0.0165 | E18: =단가대비표!O169 -> 0 | F18: =TRUNC(E18*D18,2) -> 0 | G18: =단가대비표!P169 -> 273676 | H18: =TRUNC(G18*D18,2) -> 4515.65 | I18: =단가대비표!V169 -> 0 | J18: =TRUNC(I18*D18,2) -> 0 | K18: =TRUNC(E18+G18+I18,2) -> 273676 | L18: =TRUNC(F18+H18+J18,2) -> 4515.65 | N18: 5ED9D47E33F405936E444F49029855 | O18: 5E48649BA312059493492DA425E3C8A9219CA8 | P18: F | Q18: F | R18: T | W18: 2 | AW18: 5ED9D47E33F405936E444F490298555E48649BA312059493492DA425E3C8A9219CA8
A19: 공구손료 | B19: 인력품의 3% | C19: 식 | D19: 1 | E19: =TRUNC(SUMIF(W15:W19, RIGHTB(O19, 1), H15:H19)*U19, 2) -> 135.46 | F19: =TRUNC(E19*D19,2) -> 135.46 | G19: 0 | H19: =TRUNC(G19*D19,2) -> 0 | I19: 0 | J19: =TRUNC(I19*D19,2) -> 0 | K19: =TRUNC(E19+G19+I19,2) -> 135.46 | L19: =TRUNC(F19+H19+J19,2) -> 135.46 | N19: 5ED9D47E33F405936E444F49029855 | O19: 5F8EC49E238505677B46C060FE9E002 | P19: F | Q19: F | R19: F | S19: 1 | T19: 0 | U19: 0.03 | AW19: 5ED9D47E33F405936E444F490298555F8EC49E238505677B46C060FE98004
A20: [ 합 계 ] | F20: =TRUNC(SUMIF(N15:N19, N14, F15:F19),0) -> 13586 | H20: =TRUNC(SUMIF(N15:N19, N14, H15:H19),0) -> 4515 | J20: =TRUNC(SUMIF(N15:N19, N14, J15:J19),0) -> 0 | L20: =F20+H20+J20 -> 18101 | N20: TOTAL | O20: TOTAL
A22: 전주입상관 특고압용 개소 ( 호표 3 ) | N22: 5ED984FD83030590FD4B6B4892E4ED
A23: 지중선용가선철물 | B23: 전주용입상관, D130×2m | C23: 개 | D23: 1 | E23: =단가대비표!O108 -> 0 | F23: =TRUNC(E23*D23,2) -> 0 | G23: =단가대비표!P108 -> 0 | H23: =TRUNC(G23*D23,2) -> 0 | I23: =단가대비표!V108 -> 0 | J23: =TRUNC(I23*D23,2) -> 0 | K23: =TRUNC(E23+G23+I23,2) -> 0 | L23: =TRUNC(F23+H23+J23,2) -> 0 | N23: 5ED984FD83030590FD4B6B4892E4ED | O23: 59BD04D9434505C5324CE1AA8DAD0634C512EB | P23: F | Q23: F | R23: T | AW23: 5ED984FD83030590FD4B6B4892E4ED59BD04D9434505C5324CE1AA8DAD0634C512EB
A24: 보통인부 | B24: 일반공사 직종 | C24: 인 | D24: =공량산출근거서!K18 -> 0.11 | E24: =단가대비표!O162 -> 0 | F24: =TRUNC(E24*D24,2) -> 0 | G24: =단가대비표!P162 -> 172068 | H24: =TRUNC(G24*D24,2) -> 18927.48 | I24: =단가대비표!V162 -> 0 | J24: =TRUNC(I24*D24,2) -> 0 | K24: =TRUNC(E24+G24+I24,2) -> 172068 | L24: =TRUNC(F24+H24+J24,2) -> 18927.48 | N24: 5ED984FD83030590FD4B6B4892E4ED | O24: 5E48649BA312059493492DA425E3C8A9219B85 | P24: F | Q24: F | R24: T | V24: 1 | AW24: 5ED984FD83030590FD4B6B4892E4ED5E48649BA312059493492DA425E3C8A9219B85
A25: 배전전공 | B25: 일반공사 직종 | C25: 인 | D25: =공량산출근거서!K19 -> 0.22 | E25: =단가대비표!O172 -> 0 | F25: =TRUNC(E25*D25,2) -> 0 | G25: =단가대비표!P172 -> 414968 | H25: =TRUNC(G25*D25,2) -> 91292.96 | I25: =단가대비표!V172 -> 0 | J25: =TRUNC(I25*D25,2) -> 0 | K25: =TRUNC(E25+G25+I25,2) -> 414968 | L25: =TRUNC(F25+H25+J25,2) -> 91292.96 | N25: 5ED984FD83030590FD4B6B4892E4ED | O25: 5E48649BA312059493492DA425E3C8A92193B0 | P25: F | Q25: F | R25: T | V25: 1 | AW25: 5ED984FD83030590FD4B6B4892E4ED5E48649BA312059493492DA425E3C8A92193B0
A26: 공구손료 | B26: 인력품의 3% | C26: 식 | D26: 1 | E26: =TRUNC(SUMIF(V23:V26, RIGHTB(O26, 1), H23:H26)*U26, 2) -> 3306.61 | F26: =TRUNC(E26*D26,2) -> 3306.61 | G26: 0 | H26: =TRUNC(G26*D26,2) -> 0 | I26: 0 | J26: =TRUNC(I26*D26,2) -> 0 | K26: =TRUNC(E26+G26+I26,2) -> 3306.61 | L26: =TRUNC(F26+H26+J26,2) -> 3306.61 | N26: 5ED984FD83030590FD4B6B4892E4ED | O26: 5F8EC49E238505677B46C060FE9D001 | P26: F | Q26: F | R26: F | S26: 1 | T26: 0 | U26: 0.03 | AW26: 5ED984FD83030590FD4B6B4892E4ED5F8EC49E238505677B46C060FE9D001
A27: [ 합 계 ] | F27: =TRUNC(SUMIF(N23:N26, N22, F23:F26),0) -> 3306 | H27: =TRUNC(SUMIF(N23:N26, N22, H23:H26),0) -> 110220 | J27: =TRUNC(SUMIF(N23:N26, N22, J23:J26),0) -> 0 | L27: =F27+H27+J27 -> 113526 | N27: TOTAL | O27: TOTAL
A29: 파상형 경질폴리에틸렌 전선관 125mm m ( 호표 4 ) | N29: 5ED994E0632C05FDBE44617D46C6EF
A30: 파상형경질폴리에틸렌전선관 | B30: 125mm | C30: m | D30: 1 | E30: =단가대비표!O134 -> 2796 | F30: =TRUNC(E30*D30,2) -> 2796 | G30: =단가대비표!P134 -> 0 | H30: =TRUNC(G30*D30,2) -> 0 | I30: =단가대비표!V134 -> 0 | J30: =TRUNC(I30*D30,2) -> 0 | K30: =TRUNC(E30+G30+I30,2) -> 2796 | L30: =TRUNC(F30+H30+J30,2) -> 2796 | N30: 5ED994E0632C05FDBE44617D46C6EF | O30: 59BD04D943560546DA4DF4059EE0CD25C7313C | P30: F | Q30: F | R30: T | V30: 1 | W30: 2 | AW30: 5ED994E0632C05FDBE44617D46C6EF59BD04D943560546DA4DF4059EE0CD25C7313C
A31: 파상형경질폴리에틸렌전선관 | B31: 125mm | C31: m | D31: 0.03 | E31: =단가대비표!O134 -> 2796 | F31: =TRUNC(E31*D31,2) -> 83.88 | G31: =단가대비표!P134 -> 0 | H31: =TRUNC(G31*D31,2) -> 0 | I31: =단가대비표!V134 -> 0 | J31: =TRUNC(I31*D31,2) -> 0 | K31: =TRUNC(E31+G31+I31,2) -> 2796 | L31: =TRUNC(F31+H31+J31,2) -> 83.88 | N31: 5ED994E0632C05FDBE44617D46C6EF | O31: 59BD04D943560546DA4DF4059EE0CD25C7313C | P31: F | Q31: F | R31: T | AW31: 5ED994E0632C05FDBE44617D46C6EF59BD04D943560546DA4DF4059EE0CD25C7313C
A32: 전선관부속품 | B32: 전선관의 15% | C32: 식 | D32: 1 | E32: =TRUNC(SUMIF(V30:V36, RIGHTB(O32, 1), F30:F36)*U32, 2) -> 419.4 | F32: =TRUNC(E32*D32,2) -> 419.4 | G32: 0 | H32: =TRUNC(G32*D32,2) -> 0 | I32: 0 | J32: =TRUNC(I32*D32,2) -> 0 | K32: =TRUNC(E32+G32+I32,2) -> 419.4 | L32: =TRUNC(F32+H32+J32,2) -> 419.4 | N32: 5ED994E0632C05FDBE44617D46C6EF | O32: 5F8EC49E238505677B46C060FE9D001 | P32: F | Q32: F | R32: F | S32: 0 | T32: 0 | U32: 0.15 | AW32: 5ED994E0632C05FDBE44617D46C6EF5F8EC49E238505677B46C060FE9E002
A33: 소모잡자재 | B33: 배관,배선의 2% | C33: 식 | D33: 1 | E33: =TRUNC(SUMIF(W30:W36, RIGHTB(O33, 1), F30:F36)*U33, 2) -> 55.92 | F33: =TRUNC(E33*D33,2) -> 55.92 | G33: 0 | H33: =TRUNC(G33*D33,2) -> 0 | I33: 0 | J33: =TRUNC(I33*D33,2) -> 0 | K33: =TRUNC(E33+G33+I33,2) -> 55.92 | L33: =TRUNC(F33+H33+J33,2) -> 55.92 | N33: 5ED994E0632C05FDBE44617D46C6EF | O33: 5F8EC49E238505677B46C060FE9E002 | P33: F | Q33: F | R33: F | S33: 0 | T33: 0 | U33: 0.02 | AW33: 5ED994E0632C05FDBE44617D46C6EF5F8EC49E238505677B46C060FE9F003
A34: 보통인부 | B34: 일반공사 직종 | C34: 인 | D34: =공량산출근거서!K25 -> 0.048 | E34: =단가대비표!O162 -> 0 | F34: =TRUNC(E34*D34,2) -> 0 | G34: =단가대비표!P162 -> 172068 | H34: =TRUNC(G34*D34,2) -> 8259.26 | I34: =단가대비표!V162 -> 0 | J34: =TRUNC(I34*D34,2) -> 0 | K34: =TRUNC(E34+G34+I34,2) -> 172068 | L34: =TRUNC(F34+H34+J34,2) -> 8259.26 | N34: 5ED994E0632C05FDBE44617D46C6EF | O34: 5E48649BA312059493492DA425E3C8A9219B85 | P34: F | Q34: F | R34: T | X34: 3 | AW34: 5ED994E0632C05FDBE44617D46C6EF5E48649BA312059493492DA425E3C8A9219B85
A35: 배전전공 | B35: 일반공사 직종 | C35: 인 | D35: =공량산출근거서!K26 -> 0.016 | E35: =단가대비표!O172 -> 0 | F35: =TRUNC(E35*D35,2) -> 0 | G35: =단가대비표!P172 -> 414968 | H35: =TRUNC(G35*D35,2) -> 6639.48 | I35: =단가대비표!V172 -> 0 | J35: =TRUNC(I35*D35,2) -> 0 | K35: =TRUNC(E35+G35+I35,2) -> 414968 | L35: =TRUNC(F35+H35+J35,2) -> 6639.48 | N35: 5ED994E0632C05FDBE44617D46C6EF | O35: 5E48649BA312059493492DA425E3C8A92193B0 | P35: F | Q35: F | R35: T | X35: 3 | AW35: 5ED994E0632C05FDBE44617D46C6EF5E48649BA312059493492DA425E3C8A92193B0
A36: 공구손료 | B36: 노무비의 3% | C36: 식 | D36: 1 | E36: =TRUNC(SUMIF(X30:X36, RIGHTB(O36, 1), H30:H36)*U36, 2) -> 446.96 | F36: =TRUNC(E36*D36,2) -> 446.96 | G36: 0 | H36: =TRUNC(G36*D36,2) -> 0 | I36: 0 | J36: =TRUNC(I36*D36,2) -> 0 | K36: =TRUNC(E36+G36+I36,2) -> 446.96 | L36: =TRUNC(F36+H36+J36,2) -> 446.96 | N36: 5ED994E0632C05FDBE44617D46C6EF | O36: 5F8EC49E238505677B46C060FE9F003 | P36: F | Q36: F | R36: F | S36: 1 | T36: 0 | U36: 0.03 | AW36: 5ED994E0632C05FDBE44617D46C6EF5F8EC49E238505677B46C060FE98004
A37: [ 합 계 ] | F37: =TRUNC(SUMIF(N30:N36, N29, F30:F36),0) -> 3802 | H37: =TRUNC(SUMIF(N30:N36, N29, H30:H36),0) -> 14898 | J37: =TRUNC(SUMIF(N30:N36, N29, J30:J36),0) -> 0 | L37: =F37+H37+J37 -> 18700 | N37: TOTAL | O37: TOTAL
A39: 관로구방수 ø125 개 ( 호표 5 ) | N39: 5ED994EC13B205C7524B6045FF0C32
A40: 전선관피팅 | B40: 관구밀폐기, 실링가스켓, D125 | C40: 개 | D40: 1 | E40: =단가대비표!O147 -> 25049 | F40: =TRUNC(E40*D40,2) -> 25049 | G40: =단가대비표!P147 -> 0 | H40: =TRUNC(G40*D40,2) -> 0 | I40: =단가대비표!V147 -> 0 | J40: =TRUNC(I40*D40,2) -> 0 | K40: =TRUNC(E40+G40+I40,2) -> 25049 | L40: =TRUNC(F40+H40+J40,2) -> 25049 | N40: 5ED994EC13B205C7524B6045FF0C32 | O40: 59BD04D943560546DA4DFAAEA1349E5D674BC3 | P40: F | Q40: F | R40: T | AW40: 5ED994EC13B205C7524B6045FF0C3259BD04D943560546DA4DFAAEA1349E5D674BC3
A41: 관구밀폐기 | B41: 관구밀폐기, 이종연결관, Φ125mm | C41: 개 | D41: 1 | E41: =단가대비표!O153 -> 5415 | F41: =TRUNC(E41*D41,2) -> 5415 | G41: =단가대비표!P153 -> 0 | H41: =TRUNC(G41*D41,2) -> 0 | I41: =단가대비표!V153 -> 0 | J41: =TRUNC(I41*D41,2) -> 0 | K41: =TRUNC(E41+G41+I41,2) -> 5415 | L41: =TRUNC(F41+H41+J41,2) -> 5415 | N41: 5ED994EC13B205C7524B6045FF0C32 | O41: 59BD04D943560546DA4DFAAEA027188DE702AE | P41: F | Q41: F | R41: T | AW41: 5ED994EC13B205C7524B6045FF0C3259BD04D943560546DA4DFAAEA027188DE702AE
A42: 통신용발포지수제 | B42: 통신용발포지수제, 발포지수제, D150이하 | C42: 개 | D42: 1 | E42: =단가대비표!O85 -> 30264 | F42: =TRUNC(E42*D42,2) -> 30264 | G42: =단가대비표!P85 -> 0 | H42: =TRUNC(G42*D42,2) -> 0 | I42: =단가대비표!V85 -> 0 | J42: =TRUNC(I42*D42,2) -> 0 | K42: =TRUNC(E42+G42+I42,2) -> 30264 | L42: =TRUNC(F42+H42+J42,2) -> 30264 | N42: 5ED994EC13B205C7524B6045FF0C32 | O42: 59BD04D9434505F25D4F7C29C1250E50261B60 | P42: F | Q42: F | R42: T | AW42: 5ED994EC13B205C7524B6045FF0C3259BD04D9434505F25D4F7C29C1250E50261B60
A43: 통신용발포지수제 | B43: 통신용발포지수제, 수밀보호테이프 | C43: 개 | D43: 1 | E43: =단가대비표!O86 -> 2470 | F43: =TRUNC(E43*D43,2) -> 2470 | G43: =단가대비표!P86 -> 0 | H43: =TRUNC(G43*D43,2) -> 0 | I43: =단가대비표!V86 -> 0 | J43: =TRUNC(I43*D43,2) -> 0 | K43: =TRUNC(E43+G43+I43,2) -> 2470 | L43: =TRUNC(F43+H43+J43,2) -> 2470 | N43: 5ED994EC13B205C7524B6045FF0C32 | O43: 59BD04D9434505F25D4F7C29C128C13DC9DFC8 | P43: F | Q43: F | R43: T | AW43: 5ED994EC13B205C7524B6045FF0C3259BD04D9434505F25D4F7C29C128C13DC9DFC8
A44: 보통인부 | B44: 일반공사 직종 | C44: 인 | D44: =공량산출근거서!K30 -> 0.1188 | E44: =단가대비표!O162 -> 0 | F44: =TRUNC(E44*D44,2) -> 0 | G44: =단가대비표!P162 -> 172068 | H44: =TRUNC(G44*D44,2) -> 20441.67 | I44: =단가대비표!V162 -> 0 | J44: =TRUNC(I44*D44,2) -> 0 | K44: =TRUNC(E44+G44+I44,2) -> 172068 | L44: =TRUNC(F44+H44+J44,2) -> 20441.67 | N44: 5ED994EC13B205C7524B6045FF0C32 | O44: 5E48649BA312059493492DA425E3C8A9219B85 | P44: F | Q44: F | R44: T | V44: 1 | AW44: 5ED994EC13B205C7524B6045FF0C325E48649BA312059493492DA425E3C8A9219B85
...

Sheet 공량산출근거서
A1: 공 량 산 출 근 거 서
A2: [ SDV보안평가지원센터전기공사 ]
A3: 코 드 | B3: 품 명 | C3: 규 격 | D3: 단위 | E3: 품 셈 목 록 | F3: 수 량 | G3: 할증 | H3: 노임할증-1 | I3: 노임할증-2 | J3: 노임할증-3 | K3: 내역수량 | L3: 직 종 명 | M3: 공 량 | N3: 계 | O3: 번 호 | P3: 비 고 | T3: 일위대가목록+자재 | V3: 보통인부 | W3: 일반공사 직종 | X3: 배전전공 | Y3: 내선전공 | Z3: 특고압케이블전공 | AA3: 저압케이블전공
A4: 파상형 경질폴리에틸렌 전선관 80mm m (호표 1)
A5: 59BD04D943560546DA4DF4059EE0CD25C7313E | B5: 파상형경질폴리에틸렌전선관 | C5: 80mm | D5: m | E5: 전기품셈 4-31 | F5: 1 | H5: 0 | K5: 1 | L5: 보통인부 | M5: =0.022*(H5+100)/100*(I5+100)/100*(J5+100)/100 -> 0.022 | N5: =F5*M5 -> 0.022 | O5: 노임 1 | P5: 0.022*1 | Q5: 5ED994E0632C05A58C44EC7258E7B5 | R5: 5E48649BA312059493492DA425E3C8A9219B85 | S5: 0.022 | T5: 5ED994E0632C05A58C44EC7258E7B559BD04D943560546DA4DF4059EE0CD25C7313E | V5: =N5 -> 0.022
L6: 배전전공 | M6: =0.009*(H5+100)/100*(I5+100)/100*(J5+100)/100 -> 0.009 | N6: =F5*M6 -> 0.009 | O6: 노임 11 | P6: 0.009*1 | Q6: 5ED994E0632C05A58C44EC7258E7B5 | R6: 5E48649BA312059493492DA425E3C8A92193B0 | S6: 0.009 | T6: 5ED994E0632C05A58C44EC7258E7B559BD04D943560546DA4DF4059EE0CD25C7313E | X6: =N6 -> 0.009
A7: 59BD04D943560546DA4DF4059EE0CD25C7313E | B7: 파상형경질폴리에틸렌전선관 | C7: 80mm | D7: m | E7: 전기품셈 4-31 | F7: 0 | H7: 0 | K7: 0.03 | L7: 보통인부 | M7: =0.022*(H7+100)/100*(I7+100)/100*(J7+100)/100 -> 0.022 | N7: =F7*M7 -> 0 | O7: 노임 1 | P7: 0.022*1 | Q7: 5ED994E0632C05A58C44EC7258E7B5 | R7: 5E48649BA312059493492DA425E3C8A9219B85 | S7: 0.022 | T7: 5ED994E0632C05A58C44EC7258E7B559BD04D943560546DA4DF4059EE0CD25C7313E | V7: =N7 -> 0
L8: 배전전공 | M8: =0.009*(H7+100)/100*(I7+100)/100*(J7+100)/100 -> 0.009 | N8: =F7*M8 -> 0 | O8: 노임 11 | P8: 0.009*1 | Q8: 5ED994E0632C05A58C44EC7258E7B5 | R8: 5E48649BA312059493492DA425E3C8A92193B0 | S8: 0.009 | T8: 5ED994E0632C05A58C44EC7258E7B559BD04D943560546DA4DF4059EE0CD25C7313E | X8: =N8 -> 0
A9: 5E48649BA312059493492DA425E3C8A9219B85 | B9: 보통인부 | C9: 일반공사 직종 | D9: 인 | F9: =SUM(V5:V8) -> 0.022 | K9: =ROUND(F9*공량설정_일위대가!B2/100, 공량설정_일위대가!C3) -> 0.022 | O9: 노임 1 | Q9: 5ED994E0632C05A58C44EC7258E7B5 | T9: 5ED994E0632C05A58C44EC7258E7B55E48649BA312059493492DA425E3C8A9219B85
A10: 5E48649BA312059493492DA425E3C8A92193B0 | B10: 배전전공 | C10: 일반공사 직종 | D10: 인 | F10: =SUM(X5:X8) -> 0.009 | K10: =ROUND(F10*공량설정_일위대가!B2/100, 공량설정_일위대가!C4) -> 0.009 | O10: 노임 11 | Q10: 5ED994E0632C05A58C44EC7258E7B5 | T10: 5ED994E0632C05A58C44EC7258E7B55E48649BA312059493492DA425E3C8A92193B0
A11: 절연전선 F-GV, 150㎟, 관내포설 m (호표 2)
A12: 59A344B813EF05160541291C4BCB9380C226D3 | B12: 절연전선및피복선 | C12: 접지용비닐절연전선, F-GV, 150㎟ | D12: m | E12: 전기품셈 3-38 | F12: 1 | H12: 50 | K12: 1 | L12: 내선전공 | M12: =0.011*(H12+100)/100*(I12+100)/100*(J12+100)/100 -> 0.0165 | N12: =F12*M12 -> 0.0165 | O12: 노임 8 | P12: 0.011*1 * 150% | Q12: 5ED9D47E33F405936E444F49029855 | R12: 5E48649BA312059493492DA425E3C8A9219CA8 | S12: 0.011 | T12: 5ED9D47E33F405936E444F4902985559A344B813EF05160541291C4BCB9380C226D3 | Y12: =N12 -> 0.0165
A13: 59A344B813EF05160541291C4BCB9380C226D3 | B13: 절연전선및피복선 | C13: 접지용비닐절연전선, F-GV, 150㎟ | D13: m | E13: 전기품셈 3-38 | F13: 0 | H13: 0 | K13: 0.1 | L13: 내선전공 | M13: =0.011*(H13+100)/100*(I13+100)/100*(J13+100)/100 -> 0.011 | N13: =F13*M13 -> 0 | O13: 노임 8 | P13: 0.011*1 | Q13: 5ED9D47E33F405936E444F49029855 | R13: 5E48649BA312059493492DA425E3C8A9219CA8 | S13: 0.011 | T13: 5ED9D47E33F405936E444F4902985559A344B813EF05160541291C4BCB9380C226D3 | Y13: =N13 -> 0
A14: 5E48649BA312059493492DA425E3C8A9219CA8 | B14: 내선전공 | C14: 일반공사 직종 | D14: 인 | F14: =SUM(Y12:Y13) -> 0.0165 | K14: =ROUND(F14*공량설정_일위대가!B5/100, 공량설정_일위대가!C6) -> 0.0165 | O14: 노임 8 | Q14: 5ED9D47E33F405936E444F49029855 | T14: 5ED9D47E33F405936E444F490298555E48649BA312059493492DA425E3C8A9219CA8
A15: 전주입상관 특고압용 개소 (호표 3)
A16: 59BD04D9434505C5324CE1AA8DAD0634C512EB | B16: 지중선용가선철물 | C16: 전주용입상관, D130×2m | D16: 개 | E16: 전기4-33 | F16: 1 | G16: 0 | K16: 1 | L16: 보통인부 | M16: =0.11*(H16+100)/100*(I16+100)/100*(J16+100)/100 -> 0.11 | N16: =F16*M16 -> 0.11 | O16: 노임 1 | P16: 0.11*1 | Q16: 5ED984FD83030590FD4B6B4892E4ED | R16: 5E48649BA312059493492DA425E3C8A9219B85 | S16: 0.11 | T16: 5ED984FD83030590FD4B6B4892E4ED59BD04D9434505C5324CE1AA8DAD0634C512EB | V16: =N16 -> 0.11
L17: 배전전공 | M17: =0.22*(H16+100)/100*(I16+100)/100*(J16+100)/100 -> 0.22 | N17: =F16*M17 -> 0.22 | O17: 노임 11 | P17: 0.22*1 | Q17: 5ED984FD83030590FD4B6B4892E4ED | R17: 5E48649BA312059493492DA425E3C8A92193B0 | S17: 0.22 | T17: 5ED984FD83030590FD4B6B4892E4ED59BD04D9434505C5324CE1AA8DAD0634C512EB | X17: =N17 -> 0.22
A18: 5E48649BA312059493492DA425E3C8A9219B85 | B18: 보통인부 | C18: 일반공사 직종 | D18: 인 | F18: =SUM(V16:V17) -> 0.11 | K18: =ROUND(F18*공량설정_일위대가!B7/100, 공량설정_일위대가!C8) -> 0.11 | O18: 노임 1 | Q18: 5ED984FD83030590FD4B6B4892E4ED | T18: 5ED984FD83030590FD4B6B4892E4ED5E48649BA312059493492DA425E3C8A9219B85
A19: 5E48649BA312059493492DA425E3C8A92193B0 | B19: 배전전공 | C19: 일반공사 직종 | D19: 인 | F19: =SUM(X16:X17) -> 0.22 | K19: =ROUND(F19*공량설정_일위대가!B7/100, 공량설정_일위대가!C9) -> 0.22 | O19: 노임 11 | Q19: 5ED984FD83030590FD4B6B4892E4ED | T19: 5ED984FD83030590FD4B6B4892E4ED5E48649BA312059493492DA425E3C8A92193B0
A20: 파상형 경질폴리에틸렌 전선관 125mm m (호표 4)
A21: 59BD04D943560546DA4DF4059EE0CD25C7313C | B21: 파상형경질폴리에틸렌전선관 | C21: 125mm | D21: m | E21: 전기품셈 4-31 | F21: 1 | H21: 0 | K21: 1 | L21: 보통인부 | M21: =0.048*(H21+100)/100*(I21+100)/100*(J21+100)/100 -> 0.048 | N21: =F21*M21 -> 0.048 | O21: 노임 1 | P21: 0.048*1 | Q21: 5ED994E0632C05FDBE44617D46C6EF | R21: 5E48649BA312059493492DA425E3C8A9219B85 | S21: 0.048 | T21: 5ED994E0632C05FDBE44617D46C6EF59BD04D943560546DA4DF4059EE0CD25C7313C | V21: =N21 -> 0.048
L22: 배전전공 | M22: =0.016*(H21+100)/100*(I21+100)/100*(J21+100)/100 -> 0.016 | N22: =F21*M22 -> 0.016 | O22: 노임 11 | P22: 0.016*1 | Q22: 5ED994E0632C05FDBE44617D46C6EF | R22: 5E48649BA312059493492DA425E3C8A92193B0 | S22: 0.016 | T22: 5ED994E0632C05FDBE44617D46C6EF59BD04D943560546DA4DF4059EE0CD25C7313C | X22: =N22 -> 0.016
A23: 59BD04D943560546DA4DF4059EE0CD25C7313C | B23: 파상형경질폴리에틸렌전선관 | C23: 125mm | D23: m | E23: 전기품셈 4-31 | F23: 0 | H23: 0 | K23: 0.03 | L23: 보통인부 | M23: =0.048*(H23+100)/100*(I23+100)/100*(J23+100)/100 -> 0.048 | N23: =F23*M23 -> 0 | O23: 노임 1 | P23: 0.048*1 | Q23: 5ED994E0632C05FDBE44617D46C6EF | R23: 5E48649BA312059493492DA425E3C8A9219B85 | S23: 0.048 | T23: 5ED994E0632C05FDBE44617D46C6EF59BD04D943560546DA4DF4059EE0CD25C7313C | V23: =N23 -> 0
L24: 배전전공 | M24: =0.016*(H23+100)/100*(I23+100)/100*(J23+100)/100 -> 0.016 | N24: =F23*M24 -> 0 | O24: 노임 11 | P24: 0.016*1 | Q24: 5ED994E0632C05FDBE44617D46C6EF | R24: 5E48649BA312059493492DA425E3C8A92193B0 | S24: 0.016 | T24: 5ED994E0632C05FDBE44617D46C6EF59BD04D943560546DA4DF4059EE0CD25C7313C | X24: =N24 -> 0
A25: 5E48649BA312059493492DA425E3C8A9219B85 | B25: 보통인부 | C25: 일반공사 직종 | D25: 인 | F25: =SUM(V21:V24) -> 0.048 | K25: =ROUND(F25*공량설정_일위대가!B10/100, 공량설정_일위대가!C11) -> 0.048 | O25: 노임 1 | Q25: 5ED994E0632C05FDBE44617D46C6EF | T25: 5ED994E0632C05FDBE44617D46C6EF5E48649BA312059493492DA425E3C8A9219B85
A26: 5E48649BA312059493492DA425E3C8A92193B0 | B26: 배전전공 | C26: 일반공사 직종 | D26: 인 | F26: =SUM(X21:X24) -> 0.016 | K26: =ROUND(F26*공량설정_일위대가!B10/100, 공량설정_일위대가!C12) -> 0.016 | O26: 노임 11 | Q26: 5ED994E0632C05FDBE44617D46C6EF | T26: 5ED994E0632C05FDBE44617D46C6EF5E48649BA312059493492DA425E3C8A92193B0
A27: 관로구방수 ø125 개 (호표 5)
A28: 59BD04D943560546DA4DFAAEA027188DE702AE | B28: 관구밀폐기 | C28: 관구밀폐기, 이종연결관, Φ125mm | D28: 개 | E28: 전기품셈 2-18 | F28: 1 | G28: 0 | K28: 1 | L28: 보통인부 | M28: =0.1188*(H28+100)/100*(I28+100)/100*(J28+100)/100 -> 0.1188 | N28: =F28*M28 -> 0.1188 | O28: 노임 1 | P28: 0.132*0.9 | Q28: 5ED994EC13B205C7524B6045FF0C32 | R28: 5E48649BA312059493492DA425E3C8A9219B85 | S28: 0.1188 | T28: 5ED994EC13B205C7524B6045FF0C3259BD04D943560546DA4DFAAEA027188DE702AE | V28: =N28 -> 0.1188
L29: 특고압케이블전공 | M29: =0.1188*(H28+100)/100*(I28+100)/100*(J28+100)/100 -> 0.1188 | N29: =F28*M29 -> 0.1188 | O29: 노임 9 | P29: 0.132*0.9 | Q29: 5ED994EC13B205C7524B6045FF0C32 | R29: 5E48649BA312059493492DA425E3C8A9219CAB | S29: 0.1188 | T29: 5ED994EC13B205C7524B6045FF0C3259BD04D943560546DA4DFAAEA027188DE702AE | Z29: =N29 -> 0.1188
A30: 5E48649BA312059493492DA425E3C8A9219B85 | B30: 보통인부 | C30: 일반공사 직종 | D30: 인 | F30: =SUM(V28:V29) -> 0.1188 | K30: =ROUND(F30*공량설정_일위대가!B13/100, 공량설정_일위대가!C14) -> 0.1188 | O30: 노임 1 | Q30: 5ED994EC13B205C7524B6045FF0C32 | T30: 5ED994EC13B205C7524B6045FF0C325E48649BA312059493492DA425E3C8A9219B85
A31: 5E48649BA312059493492DA425E3C8A9219CAB | B31: 특고압케이블전공 | C31: 일반공사 직종 | D31: 인 | F31: =SUM(Z28:Z29) -> 0.1188 | K31: =ROUND(F31*공량설정_일위대가!B13/100, 공량설정_일위대가!C15) -> 0.1188 | O31: 노임 9 | Q31: 5ED994EC13B205C7524B6045FF0C32 | T31: 5ED994EC13B205C7524B6045FF0C325E48649BA312059493492DA425E3C8A9219CAB
A32: 맨홀 2,000*1,500*1,500 개소 (호표 6)
A33: 59BD04D9434505F205441DF8005D9C825F57D0 | B33: 접지장치또는조립품 | C33: 접지봉, 14Φ×1000mm | D33: 개 | E33: 전기품셈 3-38 | F33: 1 | G33: 0 | K33: 1 | L33: 보통인부 | M33: =0.08*(H33+100)/100*(I33+100)/100*(J33+100)/100 -> 0.08 | N33: =F33*M33 -> 0.08 | O33: 노임 1 | P33: 0.08*1 | Q33: 5ED9749463430510F841DF09D28106 | R33: 5E48649BA312059493492DA425E3C8A9219B85 | S33: 0.08 | T33: 5ED9749463430510F841DF09D2810659BD04D9434505F205441DF8005D9C825F57D0 | V33: =N33 -> 0.08
L34: 내선전공 | M34: =0.11*(H33+100)/100*(I33+100)/100*(J33+100)/100 -> 0.11 | N34: =F33*M34 -> 0.11 | O34: 노임 8 | P34: 0.11*1 | Q34: 5ED9749463430510F841DF09D28106 | R34: 5E48649BA312059493492DA425E3C8A9219CA8 | S34: 0.11 | T34: 5ED9749463430510F841DF09D2810659BD04D9434505F205441DF8005D9C825F57D0 | Y34: =N34 -> 0.11
A35: 59A344B813EF05160541291C4BCB9380C226D4 | B35: 접지용비닐절연전선 | C35: F-GV, 35㎟ | D35: m | E35: 전기품셈 3-38 | F35: 5 | G35: 10 | K35: 5 | L35: 내선전공 | M35: =0.007*(H35+100)/100*(I35+100)/100*(J35+100)/100 -> 0.007 | N35: =F35*M35 -> 0.035 | O35: 노임 8 | P35: 0.007*1 | Q35: 5ED9749463430510F841DF09D28106 | R35: 5E48649BA312059493492DA425E3C8A9219CA8 | S35: 0.007 | T35: 5ED9749463430510F841DF09D2810659A344B813EF05160541291C4BCB9380C226D4 | Y35: =N35 -> 0.035
A36: 5E48649BA312059493492DA425E3C8A9219B85 | B36: 보통인부 | C36: 일반공사 직종 | D36: 인 | F36: =SUM(V33:V35) -> 0.08 | K36: =ROUND(F36*공량설정_일위대가!B16/100, 공량설정_일위대가!C18) -> 0.08 | O36: 노임 1 | Q36: 5ED9749463430510F841DF09D28106 | T36: 5ED9749463430510F841DF09D281065E48649BA312059493492DA425E3C8A9219B85
A37: 5E48649BA312059493492DA425E3C8A9219CA8 | B37: 내선전공 | C37: 일반공사 직종 | D37: 인 | F37: =SUM(Y33:Y35) -> 0.145 | K37: =ROUND(F37*공량설정_일위대가!B16/100, 공량설정_일위대가!C17) -> 0.145 | O37: 노임 8 | Q37: 5ED9749463430510F841DF09D28106 | T37: 5ED9749463430510F841DF09D281065E48649BA312059493492DA425E3C8A9219CA8
A38: 전력케이블 FR-CN/CO-W, 22.9KV, 1C 60㎟, 3열포설 1열당 m (호표 7)
A39: 59A344B813EF0516324A0471957AB09866416C | B39: 전력케이블 | C39: FR-CNCO-W, 수밀형무독성난연, 22.9kV, 60㎟ | D39: m | E39: 전기품셈 4-34 | F39: 1 | H39: -13 | K39: 1 | L39: 보통인부 | M39: =0.00846*(H39+100)/100*(I39+100)/100*(J39+100)/100 -> 0.0073602 | N39: =F39*M39 -> 0.0073602 | O39: 노임 1 | P39: 0.00846*1 * 87% | Q39: 5ED9E46193E9056D6840F4BC4E2DED | R39: 5E48649BA312059493492DA425E3C8A9219B85 | S39: 0.00846 | T39: 5ED9E46193E9056D6840F4BC4E2DED59A344B813EF0516324A0471957AB09866416C | V39: =N39 -> 0.0073602
L40: 특고압케이블전공 | M40: =0.00846*(H39+100)/100*(I39+100)/100*(J39+100)/100 -> 0.0073602 | N40: =F39*M40 -> 0.0073602 | O40: 노임 9 | P40: 0.00846*1 * 87% | Q40: 5ED9E46193E9056D6840F4BC4E2DED | R40: 5E48649BA312059493492DA425E3C8A9219CAB | S40: 0.00846 | T40: 5ED9E46193E9056D6840F4BC4E2DED59A344B813EF0516324A0471957AB09866416C | Z40: =N40 -> 0.0073602
...

Sheet 단가대비표
A1: 단 가 대 비 표
A2: [ SDV보안평가지원센터전기공사 ]
A3: 코 드 | B3: 품 명 | C3: 규격 | D3: 단위 | E3: 재 료 비 | P3: 노 무 비 | Q3: 경 비 | W3: 번 호 | X3: 비 고 | Y3: 품목구분 | Z3: 노임구분 | AA3: 소수점처리 | AB3: 자재구분
E4: 가격정보 | F4: PAGE | G4: 물가자료 | H4: PAGE | I4: 물가정보 | J4: PAGE | K4: 유통물가 | L4: PAGE | M4: 조사가격 | N4: PAGE | O4: 적용단가 | Q4: 가격정보 | R4: 물가자료 | S4: 물가정보 | T4: 유통물가 | U4: 조사가격 | V4: 적용단가
A5: 5980549793F90520F4416E2D1C6953A39AFED1 | B5: 굴삭기(유압식백호) | C5: 0.7㎥ | D5: 대 | E5: 0 | G5: 0 | I5: 0 | K5: 0 | M5: 0 | O5: 0 | P5: 0 | Q5: 0 | R5: 0 | S5: 0 | T5: 0 | U5: 93042 | V5: 93042 | W5: 자재 1 | X5: 천원
A6: 5980549793F90520BE463C683713754CEA52F2 | B6: 덤프트럭 | C6: 15ton | D6: 대 | E6: 0 | G6: 0 | I6: 0 | K6: 0 | M6: 0 | O6: 0 | P6: 0 | Q6: 0 | R6: 0 | S6: 0 | T6: 0 | U6: 64995 | V6: 64995 | W6: 자재 2 | X6: 천원
A7: 5980549793F905315A4F296E9978B8307204A8 | B7: 래머 | C7: 80KG | D7: 대 | E7: 0 | G7: 0 | I7: 0 | K7: 0 | M7: 0 | O7: 0 | P7: 0 | Q7: 0 | R7: 0 | S7: 0 | T7: 0 | U7: 1134 | V7: 1134 | W7: 자재 3 | X7: 천원
A8: 5992D44623490595C2460F0ACC166440153C7E | B8: 자갈 | C8: (별도) | D8: ㎥ | E8: 0 | G8: 29000 | H8: 62 | I8: 48000 | J8: 55 | K8: 0 | M8: 0 | O8: 29000 | P8: 0 | Q8: 0 | R8: 0 | S8: 0 | T8: 0 | U8: 0 | V8: 0 | W8: 자재 4 | X8: 별도
A9: 5992D44623490595C2460F0ACC1664401539AC | B9: 자갈 | C9: 자갈, 부산, 도착도, #57 | D9: ㎥ | E9: 0 | G9: 29000 | H9: 62 | I9: 48000 | J9: 55 | K9: 0 | M9: 0 | O9: 29000 | P9: 0 | Q9: 0 | R9: 0 | S9: 0 | T9: 0 | U9: 0 | V9: 0 | W9: 자재 5
A10: 5992D44623490595DC4E5FCFD4B966F84CD84E | B10: 모래 | C10: 모래(별도) | D10: ㎥ | E10: 0 | G10: 50000 | H10: 62 | I10: 68000 | J10: 55 | K10: 0 | M10: 0 | O10: 50000 | P10: 0 | Q10: 0 | R10: 0 | S10: 0 | T10: 0 | U10: 0 | V10: 0 | W10: 자재 6 | X10: 별도
A11: 5992D44623490595DC4E5FCFD4B966F84CDED1 | B11: 모래 | C11: 모래, 부산, 도착도 | D11: ㎥ | E11: 0 | G11: 50000 | H11: 62 | I11: 68000 | J11: 55 | K11: 0 | M11: 0 | O11: 50000 | P11: 0 | Q11: 0 | R11: 0 | S11: 0 | T11: 0 | U11: 0 | V11: 0 | W11: 자재 7
A12: 599294EDA32305A002416AE660D80CE70EE445 | B12: 경유 | C12: 경유, 저유황 | D12: L | E12: 0 | G12: 1596 | H12: 하 32 | I12: 1788 | J12: 1438 | K12: 0 | M12: 0 | O12: 1596 | P12: 0 | Q12: 0 | R12: 0 | S12: 0 | T12: 0 | U12: 0 | V12: 0 | W12: 자재 8
A13: 599294EDA32305A0024169DF0E9903083C0685 | B13: 공업용휘발유 | C13: 공업용휘발유, 무연 | D13: L | E13: 0 | G13: 1656 | H13: 하 32 | I13: 1898 | J13: 1438 | K13: 0 | M13: 0 | O13: 1656 | P13: 0 | Q13: 0 | R13: 0 | S13: 0 | T13: 0 | U13: 0 | V13: 0 | W13: 자재 9
A14: 59A344B813DE058408411451B1FE09FFA6CDFB | B14: PVC관 | C14: 150A | D14: EA | E14: 0 | G14: 0 | I14: 0 | K14: 0 | M14: 9282 | O14: 9282 | P14: 0 | Q14: 0 | R14: 0 | S14: 0 | T14: 0 | U14: 0 | V14: 0 | W14: 자재 10
A15: 59A344B813DE058408411451B1FE09FFA6CDFA | B15: 자철물제작설치(철제) | C15: 간단 | D15: Kg | E15: 0 | G15: 0 | I15: 0 | K15: 0 | M15: 27297 | O15: 27297 | P15: 3700 | Q15: 0 | R15: 0 | S15: 0 | T15: 0 | U15: 0 | V15: 0 | W15: 자재 11
A16: 59A344B813EF05160541291C4BCB9380C3C424 | B16: 접지용비닐절연전선 | C16: F-GV, 4㎟ | D16: m | E16: 921 | F16: 20683696 | G16: 1172 | H16: 1075 | I16: 1255 | J16: 1165 | K16: 0 | M16: 0 | O16: 921 | P16: 0 | Q16: 0 | R16: 0 | S16: 0 | T16: 0 | U16: 0 | V16: 0 | W16: 자재 12
A17: 59A344B813EF05160541291C4BCB9380C3C425 | B17: 접지용비닐절연전선 | C17: F-GV, 6㎟ | D17: m | E17: 1031 | F17: 20683697 | G17: 1535 | H17: 1075 | I17: 1429 | J17: 1165 | K17: 0 | M17: 0 | O17: 1031 | P17: 0 | Q17: 0 | R17: 0 | S17: 0 | T17: 0 | U17: 0 | V17: 0 | W17: 자재 13
A18: 59A344B813EF05160541291C4BCB9380C3C42B | B18: 절연전선및피복선 | C18: 접지용비닐절연전선, F-GV, 16㎟ | D18: m | E18: 2365 | F18: 20683699 | G18: 3274 | H18: 1075 | I18: 3288 | J18: 1165 | K18: 0 | M18: 0 | O18: 2365 | P18: 0 | Q18: 0 | R18: 0 | S18: 0 | T18: 0 | U18: 0 | V18: 0 | W18: 자재 14
A19: 59A344B813EF05160541291C4BCB9380C226D5 | B19: 접지용비닐절연전선 | C19: F-GV, 25㎟ | D19: m | E19: 3796 | F19: 20683700 | G19: 5078 | H19: 1075 | I19: 5050 | J19: 1165 | K19: 0 | M19: 0 | O19: 3796 | P19: 0 | Q19: 0 | R19: 0 | S19: 0 | T19: 0 | U19: 0 | V19: 0 | W19: 자재 15
A20: 59A344B813EF05160541291C4BCB9380C226D4 | B20: 접지용비닐절연전선 | C20: F-GV, 35㎟ | D20: m | E20: 5377 | F20: 20683701 | G20: 6905 | H20: 1075 | I20: 7132 | J20: 1165 | K20: 0 | M20: 0 | O20: 5377 | P20: 0 | Q20: 0 | R20: 0 | S20: 0 | T20: 0 | U20: 0 | V20: 0 | W20: 자재 16
A21: 59A344B813EF05160541291C4BCB9380C226D7 | B21: 접지용비닐절연전선 | C21: F-GV, 50㎟ | D21: m | E21: 7083 | F21: 20683702 | G21: 9307 | H21: 1075 | I21: 9695 | J21: 1165 | K21: 0 | M21: 0 | O21: 7083 | P21: 0 | Q21: 0 | R21: 0 | S21: 0 | T21: 0 | U21: 0 | V21: 0 | W21: 자재 17
A22: 59A344B813EF05160541291C4BCB9380C226D6 | B22: 접지용비닐절연전선 | C22: F-GV, 70㎟ | D22: m | E22: 10058 | F22: 20683703 | G22: 13178 | H22: 1075 | I22: 12444 | J22: 1161 | K22: 0 | M22: 0 | O22: 10058 | P22: 0 | Q22: 0 | R22: 0 | S22: 0 | T22: 0 | U22: 0 | V22: 0 | W22: 자재 18
A23: 59A344B813EF05160541291C4BCB9380C226D0 | B23: 접지용비닐절연전선 | C23: F-GV, 120㎟ | D23: m | E23: 16965 | F23: 20683705 | G23: 22701 | H23: 1075 | I23: 22474 | J23: 1165 | K23: 0 | M23: 0 | O23: 16965 | P23: 0 | Q23: 0 | R23: 0 | S23: 0 | T23: 0 | U23: 0 | V23: 0 | W23: 자재 19
A24: 59A344B813EF05160541291C4BCB9380C226D3 | B24: 절연전선및피복선 | C24: 접지용비닐절연전선, F-GV, 150㎟ | D24: m | E24: 12417 | F24: 20683706 | G24: 12010 | H24: 1084 | I24: 21730 | J24: 1233 | K24: 0 | M24: 0 | O24: 12010 | P24: 0 | Q24: 0 | R24: 0 | S24: 0 | T24: 0 | U24: 0 | V24: 0 | W24: 자재 20
A25: 59A344B813EF05160541291C4BCB9380C2242C | B25: 접지용 절연전선 | C25: F-GV, 16㎟ | D25: m | E25: 0 | G25: 0 | I25: 0 | K25: 0 | M25: 3048 | O25: 3048 | P25: 6292 | Q25: 0 | R25: 0 | S25: 0 | T25: 0 | U25: 0 | V25: 0 | W25: 자재 21
A26: 59A344B813EF05160541291C4BCB9380CD311A | B26: BC WIRE | C26: BC WIRE 70SQ | D26: m | E26: 0 | G26: 16070 | H26: 1080 | I26: 11953 | J26: 1180 | K26: 0 | M26: 10773 | O26: 10773 | P26: 2189 | Q26: 0 | R26: 0 | S26: 0 | T26: 0 | U26: 0 | V26: 0 | W26: 자재 22
A27: 59A344B813EF05163248460ADAF0A828410D21 | B27: 등기구 "A"TYPE | D27: EA | E27: 0 | G27: 0 | I27: 0 | K27: 0 | M27: 0 | O27: 0 | P27: 0 | Q27: 0 | R27: 0 | S27: 0 | T27: 0 | U27: 0 | V27: 0 | W27: 자재 23
A28: 59A344B813EF05163248460ADAF0A828410D20 | B28: 등기구 "B"TYPE | D28: EA | E28: 0 | G28: 0 | I28: 0 | K28: 0 | M28: 0 | O28: 0 | P28: 0 | Q28: 0 | R28: 0 | S28: 0 | T28: 0 | U28: 0 | V28: 0 | W28: 자재 24
A29: 59A344B813EF05163248460ADAF0A828410C03 | B29: 등기구 "C"TYPE | D29: EA | E29: 0 | G29: 0 | I29: 0 | K29: 0 | M29: 0 | O29: 0 | P29: 0 | Q29: 0 | R29: 0 | S29: 0 | T29: 0 | U29: 0 | V29: 0 | W29: 자재 25
A30: 59A344B813EF05163248460ADAF0A828410C02 | B30: 등기구 "D"TYPE | D30: EA | E30: 0 | G30: 0 | I30: 0 | K30: 0 | M30: 0 | O30: 0 | P30: 0 | Q30: 0 | R30: 0 | S30: 0 | T30: 0 | U30: 0 | V30: 0 | W30: 자재 26
A31: 59A344B813EF05163248460ADAF0A828410C01 | B31: 등기구 "E"TYPE | D31: EA | E31: 0 | G31: 0 | I31: 0 | K31: 0 | M31: 0 | O31: 0 | P31: 0 | Q31: 0 | R31: 0 | S31: 0 | T31: 0 | U31: 0 | V31: 0 | W31: 자재 27
A32: 59A344B813EF05163248460ADAF0A828410C00 | B32: 등기구 "F"TYPE | D32: EA | E32: 0 | G32: 0 | I32: 0 | K32: 0 | M32: 0 | O32: 0 | P32: 0 | Q32: 0 | R32: 0 | S32: 0 | T32: 0 | U32: 0 | V32: 0 | W32: 자재 28
A33: 59A344B813EF05163248460ADAF0A828410A57 | B33: 등기구 "G"TYPE | D33: EA | E33: 0 | G33: 0 | I33: 0 | K33: 0 | M33: 0 | O33: 0 | P33: 0 | Q33: 0 | R33: 0 | S33: 0 | T33: 0 | U33: 0 | V33: 0 | W33: 자재 29
A34: 59A344B813EF05163248460ADAF0A828410A56 | B34: POLE LIGHT | C34: 5m이하, 1등용 | D34: EA | E34: 0 | G34: 0 | I34: 0 | K34: 0 | M34: 0 | O34: 0 | P34: 0 | Q34: 0 | R34: 0 | S34: 0 | T34: 0 | U34: 0 | V34: 0 | W34: 자재 30
A35: 59A344B813EF0516324A0471957AB09866416C | B35: 전력케이블 | C35: FR-CNCO-W, 수밀형무독성난연, 22.9kV, 60㎟ | D35: m | E35: 17478 | F35: 10040270 | G35: 23403 | H35: 1074 | I35: 23446 | J35: 1170 | K35: 0 | M35: 0 | O35: 17478 | P35: 0 | Q35: 0 | R35: 0 | S35: 0 | T35: 0 | U35: 0 | V35: 0 | W35: 자재 31
A36: 59A344B813EF0516324A0472BC02388E33C202 | B36: 전력케이블 | C36: 0.6/1kV, F-CV, 1C×70㎟ | D36: m | E36: 12127 | F36: 20683890 | G36: 13487 | H36: 1075 | I36: 13984 | J36: 1168 | K36: 0 | M36: 0 | O36: 12127 | P36: 0 | Q36: 0 | R36: 0 | S36: 0 | T36: 0 | U36: 0 | V36: 0 | W36: 자재 32
A37: 59A344B813EF0516324A0472BC02388E33C207 | B37: 전력케이블 | C37: 600V폴리에틸렌케이블, 0.6/1kV, F-CV, 1C×240㎟ | D37: m | E37: 40247 | F37: 20683895 | G37: 45867 | H37: 1075 | I37: 45638 | J37: 1168 | K37: 0 | M37: 0 | O37: 40247 | P37: 0 | Q37: 0 | R37: 0 | S37: 0 | T37: 0 | U37: 0 | V37: 0 | W37: 자재 33
A38: 59A344B813EF0516324A0472BC02388E322432 | B38: 전력케이블 | C38: 0.6/1kV, F-CV, 2C×6㎟ | D38: m | E38: 2772 | F38: 20683904 | G38: 3101 | H38: 1075 | I38: 3256 | J38: 1168 | K38: 0 | M38: 0 | O38: 2772 | P38: 0 | Q38: 0 | R38: 0 | S38: 0 | T38: 0 | U38: 0 | V38: 0 | W38: 자재 34
A39: 59A344B813EF0516324A0472BC02388E32205F | B39: 전력케이블 | C39: 0.6/1kV, F-CV, 4C×4㎟ | D39: m | E39: 3380 | F39: 20683944 | G39: 4068 | H39: 1075 | I39: 4036 | J39: 1168 | K39: 0 | M39: 0 | O39: 3380 | P39: 0 | Q39: 0 | R39: 0 | S39: 0 | T39: 0 | U39: 0 | V39: 0 | W39: 자재 35
A40: 59A344B813EF0516324A0472BC02388E32205C | B40: 전력케이블 | C40: 0.6/1kV, F-CV, 4C×16㎟ | D40: m | E40: 12452 | F40: 20683947 | G40: 13153 | H40: 1075 | I40: 14459 | J40: 1168 | K40: 0 | M40: 0 | O40: 12452 | P40: 0 | Q40: 0 | R40: 0 | S40: 0 | T40: 0 | U40: 0 | V40: 0 | W40: 자재 36
...

Sheet 공량설정_일위대가
A1: 일위대가 | B1: 적용율(%) | C1: 소수점이하자릿수 | D1: 일위대가 코드
A2: 파상형 경질폴리에틸렌 전선관 80mm (호표 1) | B2: 100 | D2: 5ED994E0632C05A58C44EC7258E7B5
A3: 보통인부 | C3: 3 | D3: 5ED994E0632C05A58C44EC7258E7B55E48649BA312059493492DA425E3C8A9219B85
A4: 배전전공 | C4: 3 | D4: 5ED994E0632C05A58C44EC7258E7B55E48649BA312059493492DA425E3C8A92193B0
A5: 절연전선 F-GV, 150㎟, 관내포설 (호표 2) | B5: 100 | D5: 5ED9D47E33F405936E444F49029855
