Workbook

Sheet 원가계산서
B1: 공 사 원 가 계 산 서
B2: 공사명 : SDV보안평가지원센터전기공사 | F2: ="금액 : "&TEXT(E33,"[DBNUM4]")&"원(\" & TEXT(E33,"#,###")&")" -> 금액 : 영원(\)
B3: 비 목 | E3: 금 액 | F3: 구 성 비 | G3: 비 고
A4: A1 | B4: 순 공 사 원 가 | C4: 재 료 비 | D4: 직 접 재 료 비 | E4: =TRUNC(공종별집계표!F5, 0) -> 0
A5: A2 | D5: 간 접 재 료 비 | E5: 0
A6: A3 | D6: 작업설, 부산물(△) | E6: 0
A7: AS | D7: [ 소 계 ] | E7: =TRUNC(E4+E5-E6, 0) -> 0
A8: B1 | C8: 노 무 비 | D8: 직 접 노 무 비 | E8: =TRUNC(공종별집계표!H5, 0) -> 0
A9: B2 | D9: 간 접 노 무 비 | E9: =TRUNC(E8*0.15, 0) -> 0 | F9: 직접노무비 * 15%
A10: BS | D10: [ 소 계 ] | E10: =TRUNC(E8+E9, 0) -> 0
A11: C2 | C11: 경 비 | D11: 경 비 | E11: =TRUNC(공종별집계표!J5, 0) -> 0
A12: C4 | D12: 산 재 보 험 료 | E12: =TRUNC(E10*0.0356, 0) -> 0 | F12: 노무비 * 3.56%
A13: C5 | D13: 고 용 보 험 료 | E13: =TRUNC(E10*0.0101, 0) -> 0 | F13: 노무비 * 1.01%
A14: C6 | D14: 국민 건강 보험료 | E14: =TRUNC(E8*0.03595, 0) -> 0 | F14: 직접노무비 * 3.595%
A15: C7 | D15: 국민 연금 보험료 | E15: =TRUNC(E8*0.0475, 0) -> 0 | F15: 직접노무비 * 4.75%
A16: C8 | D16: 퇴직 공제 부금비 | E16: =TRUNC(E8*0.023, 0) -> 0 | F16: 직접노무비 * 2.3%
A17: CA | D17: 산업안전보건관리비 | F17: (재료비+직노+도급자관급자재비) * 2.28% + 기초액
A18: CB | D18: 노인장기요양보험료 | E18: =TRUNC(E14*0.1314, 0) -> 0 | F18: 건강보험료 * 13.14%
A19: CG | D19: 기 타 경 비 | E19: =TRUNC((E7+E10)*0.046, 0) -> 0 | F19: (재료비+노무비) * 4.6%
A20: CS | D20: [ 소 계 ] | E20: =TRUNC(E11+E12+E13+E14+E15+E16+E17+E18+E19, 0) -> 0
A21: S1 | B21: 계 | E21: =TRUNC(E7+E10+E20, 0) -> 0
A22: D1 | B22: 일 반 관 리 비 | E22: =TRUNC(E21*0.04, 0) -> 0 | F22: 계 * 4%
A23: D2 | B23: 이 윤 | E23: =TRUNC((E10+E20+E22)*0.1, 0) -> 0 | F23: (노무비+경비+일반관리비) * 10%
A24: D9 | B24: 공 급 가 액 | E24: =TRUNC(E21+E22+E23, 0) -> 0
A25: DB | B25: 부 가 가 치 세 | E25: =TRUNC(E24*0.1, 0) -> 0 | F25: 공급가액 * 10%
A26: DH | B26: 도 급 액 | E26: =TRUNC(E24+E25, 0) -> 0
A27: DJ | B27: 관급자 관급자재 | E27: =TRUNC(공종별집계표!T20, 0) -> 0
A28: DK | B28: 도급자 관급자재 | E28: =TRUNC(공종별집계표!T23, 0) -> 0
A29: S2 | B29: 총 공 사 비 | E29: =TRUNC(E26+E27+E28, 0) -> 0
A30: E1 | B30: 사용전검사료 | E30: =TRUNC(공종별집계표!L27, 0) -> 0
A31: E1 | B31: 재해예방기술지도비 | E31: =TRUNC(공종별집계표!L28, 0) -> 0
A32: E2 | B32: 겐트리 구조물설치 | E32: =TRUNC(공종별집계표!T29, 0) -> 0
A33: S3 | B33: 총 계 | E33: =TRUNC(E29++E30+E31+E32, -3) -> 0 | G33: 천단위미만절사

Sheet 공종별집계표
A1: 공 종 별 집 계 표
A2: [ SDV보안평가지원센터전기공사 ]
A3: 품 명 | B3: 규 격 | C3: 단위 | D3: 수량 | E3: 재 료 비 | G3: 노 무 비 | I3: 경 비 | K3: 합 계 | M3: 비 고 | N3: 공종코드 | O3: 변수 | P3: 상위공종 | Q3: 공종구분 | R3: 공종레벨 | S3: 공종소계 | T3: 원가계산서 연결금액
E4: 단 가 | F4: 금 액 | G4: 단 가 | H4: 금 액 | I4: 단 가 | J4: 금 액 | K4: 단 가 | L4: 금 액
A5: 01 SDV보안평가지원센터전기공사 | D5: 1 | E5: =F6 -> 0 | F5: =E5*D5 -> 0 | G5: =H6 -> 0 | H5: =G5*D5 -> 0 | I5: =J6 -> 0 | J5: =I5*D5 -> 0 | K5: =E5+G5+I5 -> 0 | L5: =F5+H5+J5 -> 0 | N5: 01 | R5: 1
A6: 전기공사 | D6: 1 | E6: =F7+F8+F9+F13+F17+F18+F19 -> 0 | F6: =E6*D6 -> 0 | G6: =H7+H8+H9+H13+H17+H18+H19 -> 0 | H6: =G6*D6 -> 0 | I6: =J7+J8+J9+J13+J17+J18+J19 -> 0 | J6: =I6*D6 -> 0 | K6: =E6+G6+I6 -> 0 | L6: =F6+H6+J6 -> 0 | N6: 0101 | P6: 01 | R6: 2
A7: 0101 옥외인입 및 수변전설비공사 | D7: 1 | E7: =공종별내역서!F51 -> 0 | F7: =E7*D7 -> 0 | G7: =공종별내역서!H51 -> 0 | H7: =G7*D7 -> 0 | I7: =공종별내역서!J51 -> 0 | J7: =I7*D7 -> 0 | K7: =E7+G7+I7 -> 0 | L7: =F7+H7+J7 -> 0 | N7: 010101 | P7: 0101 | R7: 3
A8: 0102 전력간선설비공사 | D8: 1 | E8: =공종별내역서!F75 -> 0 | F8: =E8*D8 -> 0 | G8: =공종별내역서!H75 -> 0 | H8: =G8*D8 -> 0 | I8: =공종별내역서!J75 -> 0 | J8: =I8*D8 -> 0 | K8: =E8+G8+I8 -> 0 | L8: =F8+H8+J8 -> 0 | N8: 010102 | P8: 0101 | R8: 3
A9: 0103 전열설비공사 | D9: 1 | E9: =F10+F11+F12 -> 0 | F9: =E9*D9 -> 0 | G9: =H10+H11+H12 -> 0 | H9: =G9*D9 -> 0 | I9: =J10+J11+J12 -> 0 | J9: =I9*D9 -> 0 | K9: =E9+G9+I9 -> 0 | L9: =F9+H9+J9 -> 0 | N9: 010103 | P9: 0101 | R9: 3
A10: 010301 지상1층 전열설비공사 | D10: 1 | E10: =공종별내역서!F99 -> 0 | F10: =E10*D10 -> 0 | G10: =공종별내역서!H99 -> 0 | H10: =G10*D10 -> 0 | I10: =공종별내역서!J99 -> 0 | J10: =I10*D10 -> 0 | K10: =E10+G10+I10 -> 0 | L10: =F10+H10+J10 -> 0 | N10: 01010301 | P10: 010103 | R10: 4
A11: 010302 지상2층 전열설비공사 | D11: 1 | E11: =공종별내역서!F123 -> 0 | F11: =E11*D11 -> 0 | G11: =공종별내역서!H123 -> 0 | H11: =G11*D11 -> 0 | I11: =공종별내역서!J123 -> 0 | J11: =I11*D11 -> 0 | K11: =E11+G11+I11 -> 0 | L11: =F11+H11+J11 -> 0 | N11: 01010302 | P11: 010103 | R11: 4
A12: 010303 지상3층 전열설비공사 | D12: 1 | E12: =공종별내역서!F147 -> 0 | F12: =E12*D12 -> 0 | G12: =공종별내역서!H147 -> 0 | H12: =G12*D12 -> 0 | I12: =공종별내역서!J147 -> 0 | J12: =I12*D12 -> 0 | K12: =E12+G12+I12 -> 0 | L12: =F12+H12+J12 -> 0 | N12: 01010303 | P12: 010103 | R12: 4
A13: 0104 전등설비공사 | D13: 1 | E13: =F14+F15+F16 -> 0 | F13: =E13*D13 -> 0 | G13: =H14+H15+H16 -> 0 | H13: =G13*D13 -> 0 | I13: =J14+J15+J16 -> 0 | J13: =I13*D13 -> 0 | K13: =E13+G13+I13 -> 0 | L13: =F13+H13+J13 -> 0 | N13: 010104 | P13: 0101 | R13: 3
A14: 010401 지상1층 전등설비공사 | D14: 1 | E14: =공종별내역서!F171 -> 0 | F14: =E14*D14 -> 0 | G14: =공종별내역서!H171 -> 0 | H14: =G14*D14 -> 0 | I14: =공종별내역서!J171 -> 0 | J14: =I14*D14 -> 0 | K14: =E14+G14+I14 -> 0 | L14: =F14+H14+J14 -> 0 | N14: 01010401 | P14: 010104 | R14: 4
A15: 010402 지상2층 전등설비공사 | D15: 1 | E15: =공종별내역서!F195 -> 0 | F15: =E15*D15 -> 0 | G15: =공종별내역서!H195 -> 0 | H15: =G15*D15 -> 0 | I15: =공종별내역서!J195 -> 0 | J15: =I15*D15 -> 0 | K15: =E15+G15+I15 -> 0 | L15: =F15+H15+J15 -> 0 | N15: 01010402 | P15: 010104 | R15: 4
A16: 010403 지상3층 전등설비공사 | D16: 1 | E16: =공종별내역서!F243 -> 0 | F16: =E16*D16 -> 0 | G16: =공종별내역서!H243 -> 0 | H16: =G16*D16 -> 0 | I16: =공종별내역서!J243 -> 0 | J16: =I16*D16 -> 0 | K16: =E16+G16+I16 -> 0 | L16: =F16+H16+J16 -> 0 | N16: 01010403 | P16: 010104 | R16: 4
A17: 0105 냉난방, 전열교환기설비공사 | D17: 1 | E17: =공종별내역서!F267 -> 0 | F17: =E17*D17 -> 0 | G17: =공종별내역서!H267 -> 0 | H17: =G17*D17 -> 0 | I17: =공종별내역서!J267 -> 0 | J17: =I17*D17 -> 0 | K17: =E17+G17+I17 -> 0 | L17: =F17+H17+J17 -> 0 | N17: 010105 | P17: 0101 | R17: 3
A18: 0106 CABLE TRAY 및 DUCT설비공사 | D18: 1 | E18: =공종별내역서!F291 -> 0 | F18: =E18*D18 -> 0 | G18: =공종별내역서!H291 -> 0 | H18: =G18*D18 -> 0 | I18: =공종별내역서!J291 -> 0 | J18: =I18*D18 -> 0 | K18: =E18+G18+I18 -> 0 | L18: =F18+H18+J18 -> 0 | N18: 010106 | P18: 0101 | R18: 3
A19: 0107 접지공사 | D19: 1 | E19: =공종별내역서!F315 -> 0 | F19: =E19*D19 -> 0 | G19: =공종별내역서!H315 -> 0 | H19: =G19*D19 -> 0 | I19: =공종별내역서!J315 -> 0 | J19: =I19*D19 -> 0 | K19: =E19+G19+I19 -> 0 | L19: =F19+H19+J19 -> 0 | N19: 010107 | P19: 0101 | R19: 3
A20: 02 관급자설치관급자재 | D20: 1 | E20: =F21+F22 -> 0 | F20: =E20*D20 -> 0 | G20: =H21+H22 -> 0 | H20: =G20*D20 -> 0 | I20: =J21+J22 -> 0 | J20: =I20*D20 -> 0 | K20: =E20+G20+I20 -> 0 | L20: =F20+H20+J20 -> 0 | N20: 0102 | Q20: 3 | R20: 2 | T20: =L20*1 -> 0
A21: 0201 수배전반 | D21: 1 | E21: =공종별내역서!F339 -> 0 | F21: =E21*D21 -> 0 | G21: =공종별내역서!H339 -> 0 | H21: =G21*D21 -> 0 | I21: =공종별내역서!J339 -> 0 | J21: =I21*D21 -> 0 | K21: =E21+G21+I21 -> 0 | L21: =F21+H21+J21 -> 0 | N21: 010201 | P21: 0102 | R21: 3
A22: 0202 메시형울타리 | D22: 1 | E22: =공종별내역서!F363 -> 0 | F22: =E22*D22 -> 0 | G22: =공종별내역서!H363 -> 0 | H22: =G22*D22 -> 0 | I22: =공종별내역서!J363 -> 0 | J22: =I22*D22 -> 0 | K22: =E22+G22+I22 -> 0 | L22: =F22+H22+J22 -> 0 | N22: 010201 | P22: 0102 | R22: 3
A23: 03 도급자설치관급자재 | D23: 1 | E23: =F24+F25 -> 0 | F23: =E23*D23 -> 0 | G23: =H24+H25 -> 0 | H23: =G23*D23 -> 0 | I23: =J24+J25 -> 0 | J23: =I23*D23 -> 0 | K23: =E23+G23+I23 -> 0 | L23: =F23+H23+J23 -> 0 | N23: 0103 | Q23: 4 | R23: 2 | T23: =L23*1 -> 0
A24: 0301 분전함 | D24: 1 | E24: =공종별내역서!F387 -> 0 | F24: =E24*D24 -> 0 | G24: =공종별내역서!H387 -> 0 | H24: =G24*D24 -> 0 | I24: =공종별내역서!J387 -> 0 | J24: =I24*D24 -> 0 | K24: =E24+G24+I24 -> 0 | L24: =F24+H24+J24 -> 0 | N24: 010301 | P24: 0103 | R24: 3
A25: 0302 LED 등기구 | D25: 1 | E25: =공종별내역서!F411 -> 0 | F25: =E25*D25 -> 0 | G25: =공종별내역서!H411 -> 0 | H25: =G25*D25 -> 0 | I25: =공종별내역서!J411 -> 0 | J25: =I25*D25 -> 0 | K25: =E25+G25+I25 -> 0 | L25: =F25+H25+J25 -> 0 | N25: 010302 | P25: 0103 | R25: 3
A26: 04 별도공사(사용전검사료,재해예방기술지도비) | D26: 1 | E26: =F27+F28 -> 0 | F26: =E26*D26 -> 0 | G26: =H27+H28 -> 0 | H26: =G26*D26 -> 0 | I26: =J27+J28 -> 0 | J26: =I26*D26 -> 0 | K26: =E26+G26+I26 -> 0 | L26: =F26+H26+J26 -> 0 | N26: 0104 | Q26: 5 | R26: 2 | T26: =L26*1 -> 0
A27: 0401 사용전검사료 | D27: 1 | E27: =공종별내역서!F435 -> 0 | F27: =E27*D27 -> 0 | G27: =공종별내역서!H435 -> 0 | H27: =G27*D27 -> 0 | I27: =공종별내역서!J435 -> 0 | J27: =I27*D27 -> 0 | K27: =E27+G27+I27 -> 0 | L27: =F27+H27+J27 -> 0 | N27: 010401 | P27: 0104 | R27: 3
A28: 0402 재해예방기술지도 수수료 | D28: 1 | E28: =공종별내역서!F459 -> 0 | F28: =E28*D28 -> 0 | G28: =공종별내역서!H459 -> 0 | H28: =G28*D28 -> 0 | I28: =공종별내역서!J459 -> 0 | J28: =I28*D28 -> 0 | K28: =E28+G28+I28 -> 0 | L28: =F28+H28+J28 -> 0 | N28: 010402 | P28: 0104 | R28: 3
A29: 05 별도공사(겐트리) | D29: 1 | E29: =공종별내역서!F483 -> 0 | F29: =E29*D29 -> 0 | G29: =공종별내역서!H483 -> 0 | H29: =G29*D29 -> 0 | I29: =공종별내역서!J483 -> 0 | J29: =I29*D29 -> 0 | K29: =E29+G29+I29 -> 0 | L29: =F29+H29+J29 -> 0 | N29: 0105 | Q29: 6 | R29: 2 | T29: =L29*1 -> 0
A50: [ 합 계 ] | F50: =F5 -> 0 | H50: =H5 -> 0 | J50: =J5 -> 0 | L50: =L5 -> 0

Sheet 공종별내역서
A1: [ SDV보안평가지원센터전기공사 ]
A2: 품 명 | B2: 규 격 | C2: 단위 | D2: 수량 | E2: 재 료 비 | G2: 노 무 비 | I2: 경 비 | K2: 합 계 | M2: 비 고 | N2: 품목코드 | O2: 변수 | P2: 설정 | Q2: 공종코드 | R2: 일위 | S2: 단산 | T2: 자재 | U2: 손료적용 | V2: 손료저장 | W2: 적용율 | X2: JUK1 | Y2: JUK2 | Z2: JUK3 | AA2: JUK4 | AB2: JUK5 | AC2: JUK6 | AD2: JUK7 | AE2: JUK8 | AF2: JUK9 | AG2: JUK10 | AH2: JUK11 | AI2: JUK12 | AJ2: JUK13 | AK2: JUK14 | AL2: JUK15 | AM2: JUK16 | AN2: JUK17 | AO2: JUK18 | AP2: JUK19 | AQ2: JUK20 | AR2: 자재구분 | AS2: 공종구분 | AT2: 공종레벨 | AU2: 공종+자재 | AV2: 고유번호
E3: 단 가 | F3: 금 액 | G3: 단 가 | H3: 금 액 | I3: 단 가 | J3: 금 액 | K3: 단 가 | L3: 금 액
A4: 0101 옥외인입 및 수변전설비공사 | Q4: 010101
A5: 피뢰장치및액세서리 | B5: 피뢰기, 18kV, 2.5kA | C5: 개 | N5: 59BD04D9434505F20547D204E4EC818E1FD432 | Q5: 010101 | R5: F | S5: F | T5: T | AU5: 01010159BD04D9434505F20547D204E4EC818E1FD432 | AV5: 4
A6: 파상형 경질폴리에틸렌 전선관 | B6: 80mm | C6: m | M6: 호표 1 | N6: 5ED994E0632C05A58C44EC7258E7B5 | Q6: 010101 | R6: T | S6: F | T6: F | AU6: 0101015ED994E0632C05A58C44EC7258E7B5 | AV6: 13
A7: 절연전선 | B7: F-GV, 150㎟, 관내포설 | C7: m | M7: 호표 2 | N7: 5ED9D47E33F405936E444F49029855 | Q7: 010101 | R7: T | S7: F | T7: F | AU7: 0101015ED9D47E33F405936E444F49029855 | AV7: 243
A8: 단 말 처 리 재 | B8: 23kV 1/C 60° | C8: 개 | N8: 59BD04D9434505F20547D207B84A7AD20F9475 | Q8: 010101 | R8: F | S8: F | T8: T | AU8: 01010159BD04D9434505F20547D207B84A7AD20F9475 | AV8: 5
A9: 애자 | B9: 내오손 결합애자, 157mm x 213mm | C9: 개 | N9: 59BD04D9434505C5324D8810633B6AEE469D72 | Q9: 010101 | R9: F | S9: F | T9: T | AU9: 01010159BD04D9434505C5324D8810633B6AEE469D72 | AV9: 6
A10: 경완금밴드 | B10: 1방3호-200 | C10: 개 | N10: 59BD04D9434505C5324D8393AA4DEB56F1719B | Q10: 010101 | R10: F | S10: F | T10: T | AU10: 01010159BD04D9434505C5324D8393AA4DEB56F1719B | AV10: 7
A11: 전주입상관 | B11: 특고압용 | C11: 개소 | M11: 호표 3 | N11: 5ED984FD83030590FD4B6B4892E4ED | Q11: 010101 | R11: T | S11: F | T11: F | AU11: 0101015ED984FD83030590FD4B6B4892E4ED | AV11: 11
A12: 파상형 경질폴리에틸렌 전선관 | B12: 125mm | C12: m | M12: 호표 4 | N12: 5ED994E0632C05FDBE44617D46C6EF | Q12: 010101 | R12: T | S12: F | T12: F | AU12: 0101015ED994E0632C05FDBE44617D46C6EF | AV12: 249
A13: 관로구방수 | B13: ø125 | C13: 개 | M13: 호표 5 | N13: 5ED994EC13B205C7524B6045FF0C32 | Q13: 010101 | R13: T | S13: F | T13: F | AU13: 0101015ED994EC13B205C7524B6045FF0C32 | AV13: 15
A14: 맨홀 | B14: 2,000*1,500*1,500 | C14: 개소 | M14: 호표 6 | N14: 5ED9749463430510F841DF09D28106 | Q14: 010101 | R14: T | S14: F | T14: F | AU14: 0101015ED9749463430510F841DF09D28106 | AV14: 250
A15: 전력케이블 | B15: FR-CN/CO-W, 22.9KV, 1C 60㎟, 3열포설 1열당 | C15: m | M15: 호표 7 | N15: 5ED9E46193E9056D6840F4BC4E2DED | Q15: 010101 | R15: T | S15: F | T15: F | AU15: 0101015ED9E46193E9056D6840F4BC4E2DED | AV15: 17
A16: 케이블단말접속자재 | B16: 자기수축, 23KV, 1C, 60-70㎟, 구내 | C16: Kit | M16: 호표 8 | N16: 5ED9E46B93BB059652431E849B12B0 | Q16: 010101 | R16: T | S16: F | T16: F | AU16: 0101015ED9E46B93BB059652431E849B12B0 | AV16: 18
A17: 접지봉 | B17: 14Φ×1000mm | C17: 개소 | M17: 호표 9 | N17: 5ED9D47C03E605A4F241FEA84595D6 | Q17: 010101 | R17: T | S17: F | T17: F | AU17: 0101015ED9D47C03E605A4F241FEA84595D6 | AV17: 19
A18: 터파기 | B18: 토사,백호90%+인력10% | C18: ㎥ | M18: 산근 1 | N18: 5E975467E3D905992645866F1961E5 | Q18: 010101 | R18: F | S18: T | T18: F | AU18: 0101015E975467E3D905992645866F1961E5 | AV18: 20
A19: 잔토처리 | B19: 토사10km 백호0.7M3+덤프15톤 | C19: ㎥ | M19: 산근 2 | N19: 5E975466C34C05360848B866425A60 | Q19: 010101 | R19: F | S19: T | T19: F | AU19: 0101015E975466C34C05360848B866425A60 | AV19: 21
A20: 되메우고다지기(기계) | B20: 백호0.7M3*래머80kg,다짐15cm | C20: ㎥ | M20: 산근 3 | N20: 5E975461432C058CBC470F8779DE6B | Q20: 010101 | R20: F | S20: T | T20: F | AU20: 0101015E975461432C058CBC470F8779DE6B | AV20: 22
A21: 모래깔기지정 | B21: 인력 | C21: ㎥ | M21: 호표 10 | N21: 5E97447F83A90555F74574794298B6 | Q21: 010101 | R21: T | S21: F | T21: F | AU21: 0101015E97447F83A90555F74574794298B6 | AV21: 23
A22: 맨홀 | B22: 1,000*1,000*1,000 | C22: 개소 | M22: 호표 11 | N22: 5ED9749463430510F841DF09D28333 | Q22: 010101 | R22: T | S22: F | T22: F | AU22: 0101015ED9749463430510F841DF09D28333 | AV22: 24
... A35: 절연전선 | B35: F-GV, 50㎟, 관내포설 | C35: m | M35: 호표 24 | N35: 5ED9D47E33F30527254FE207244BDA | Q35: 010101 | R35: T | S35: F | T35: F | AU35: 0101015ED9D47E33F30527254FE207244BDA | AV35: 34
A51: [ 합 계 ] | N51: TOTAL
A52: 0102 전력간선설비공사 | Q52: 010102
A53: 분전함 L-1-A | C53: 면 | M53: 호표 26 | N53: 5ED97497334305662E41609DF03D8A | Q53: 010102 | R53: T | S53: F | T53: F | AU53: 0101025ED97497334305662E41609DF03D8A | AV53: 37
A54: 분전함 P-N | C54: 면 | M54: 호표 27 | N54: 5ED97497334305C8A54E8A78066AEE | Q54: 010102 | R54: T | S54: F | T54: F | AU54: 0101025ED97497334305C8A54E8A78066AEE | AV54: 38
A55: 노말밴드후강전선관용 | B55: 아연도54mm | C55: 개 | N55: 59BD04D943560546DA4DFAAEA1349E5F18FF0C | Q55: 010102 | R55: F | S55: F | T55: T | AU55: 01010259BD04D943560546DA4DFAAEA1349E5F18FF0C | AV55: 39
A56: 노말밴드후강전선관용 | B56: 아연도70mm | C56: 개 | N56: 59BD04D943560546DA4DFAAEA1349E5F18FF0D | Q56: 010102 | R56: F | S56: F | T56: T | AU56: 01010259BD04D943560546DA4DFAAEA1349E5F18FF0D | AV56: 40
A57: 분전함 L-1-M | C57: 면 | M57: 호표 28 | N57: 5ED9749733430570B1483E945750CE | Q57: 010102 | R57: T | S57: F | T57: F | AU57: 0101025ED9749733430570B1483E945750CE | AV57: 41
A58: 분전함 L-2-M | C58: 면 | M58: 호표 29 | N58: 5ED974973343050DB6429DBEBFF3AB | Q58: 010102 | R58: T | S58: F | T58: F | AU58: 0101025ED974973343050DB6429DBEBFF3AB | AV58: 42
A59: 분전함 L-3-M | C59: 면 | M59: 호표 30 | N59: 5ED97497334305289D4E1C9CAE941A | Q59: 010102 | R59: T | S59: F | T59: F | AU59: 0101025ED97497334305289D4E1C9CAE941A | AV59: 43
A60: 분전함 P-AC | C60: 면 | M60: 호표 31 | N60: 5ED97497334305C8A54E8A78066AE6 | Q60: 010102 | R60: T | S60: F | T60: F | AU60: 0101025ED97497334305C8A54E8A78066AE6 | AV60: 44
A61: 강제전선관 | B61: 아연도, 54mm, 매입(또는 앵커볼트 설치에 따른 노출공사) | C61: m | M61: 호표 32 | N61: 5ED994E333A005383149C76F9E7531 | Q61: 010102 | R61: T | S61: F | T61: F | AU61: 0101025ED994E333A005383149C76F9E7531 | AV61: 45
A62: 강제전선관 | B62: 아연도, 70mm, 매입(또는 앵커볼트 설치에 따른 노출공사) | C62: m | M62: 호표 33 | N62: 5ED994E333A005CE7142F8FEA40313 | Q62: 010102 | R62: T | S62: F | T62: F | AU62: 0101025ED994E333A005CE7142F8FEA40313 | AV62: 46
A63: 파이프행거 | B63: 54C | C63: 개소 | M63: 호표 34 | N63: 5ED994ED33B8054DA74DDB748F09F0 | Q63: 010102 | R63: T | S63: F | T63: F | AU63: 0101025ED994ED33B8054DA74DDB748F09F0 | AV63: 47
A64: 파이프행거 | B64: 70C | C64: 개소 | M64: 호표 35 | N64: 5ED994ED33B8054DA74DDA6EA4A4BC | Q64: 010102 | R64: T | S64: F | T64: F | AU64: 0101025ED994ED33B8054DA74DDA6EA4A4BC | AV64: 48
A65: 전력케이블 | B65: F-CV, 0.6/1kV, 4C 16㎟ | C65: m | M65: 호표 36 | N65: 5ED9E460F32A05D5A3452CCB9306A2 | Q65: 010102 | R65: T | S65: F | T65: F | AU65: 0101025ED9E460F32A05D5A3452CCB9306A2 | AV65: 49
A66: 전력케이블 | B66: F-CV, 0.6/1kV, 1C 70㎟ | C66: m | M66: 호표 37 | N66: 5ED9E46193DF05114C42A82DD074CF | Q66: 010102 | R66: T | S66: F | T66: F | AU66: 0101025ED9E46193DF05114C42A82DD074CF | AV66: 50
A67: 러그단자 | B67: 동관단자 2홀, 35㎟, 1C 구내 | C67: 개소 | M67: 호표 38 | N67: 5ED9E476A3B60578F64B93D587B3D0 | Q67: 010102 | R67: T | S67: F | T67: F | AU67: 0101025ED9E476A3B60578F64B93D587B3D0 | AV67: 51
A68: 러그단자 | B68: 동관단자 2홀, 70㎟, 1C 구내 | C68: 개소 | M68: 호표 39 | N68: 5ED9E476A3B6055C0341BEEC294D79 | Q68: 010102 | R68: T | S68: F | T68: F | AU68: 0101025ED9E476A3B6055C0341BEEC294D79 | AV68: 52
A69: 절연전선 | B69: F-GV, 16㎟, 관내포설 | C69: m | M69: 호표 21 | N69: 5ED9D47E33F305FCA941C7657E3821 | Q69: 010102 | R69: T | S69: F | T69: F | AU69: 0101025ED9D47E33F305FCA941C7657E3821 | AV69: 53
A70: 절연전선 | B70: F-GV, 35㎟, 관내포설 | C70: m | M70: 호표 23 | N70: 5ED9D47E33F305D07648E28F1BA7B6 | Q70: 010102 | R70: T | S70: F | T70: F | AU70: 0101025ED9D47E33F305D07648E28F1BA7B6 | AV70: 54
A75: [ 합 계 ] | N75: TOTAL
A76: 010301 지상1층 전열설비공사 | Q76: 01010301
A77: 박스커버 | B77: 4각, 둥근구멍, 오목 | C77: 개 | N77: 59BD04D9434505F25D4610DED17BE90757BF37 | Q77: 01010301 | R77: F | S77: F | T77: T | AU77: 0101030159BD04D9434505F25D4610DED17BE90757BF37 | AV77: 57
A78: 합성수지제 가요전선관 | B78: 하이렉스-CD(난연성), 16mm, 매입 | C78: m | M78: 호표 40 | N78: 5ED994E333F8054FD049099AAA1449 | Q78: 01010301 | R78: T | S78: F | T78: F | AU78: 010103015ED994E333F8054FD049099AAA1449 | AV78: 58
A79: 스위치박스 | B79: ST, 1개용 54mm | C79: 개 | M79: 호표 41 | N79: 5ED994E94374058D3B422A1CD47878 | Q79: 01010301 | R79: T | S79: F | T79: F | AU79: 010103015ED994E94374058D3B422A1CD47878 | AV79: 59
A80: 아우트렛박스 | B80: 4각 54mm | C80: 개 | M80: 호표 42 | N80: 5ED994E9437405E7AE4BC189AD3204 | Q80: 01010301 | R80: T | S80: F | T80: F | AU80: 010103015ED994E9437405E7AE4BC189AD3204 | AV80: 60
A81: 절연전선(3열동시포설) | B81: HFIX, 2.5㎟, 관내배선 | C81: m | M81: 호표 43 | N81: 5ED9E46343A4057D20459DFD8AC51D | Q81: 01010301 | R81: T | S81: F | T81: F | AU81: 010103015ED9E46343A4057D20459DFD8AC51D | AV81: 61
A82: 절연전선(3열동시포설) | B82: HFIX, 2.5㎟, 관내배선 바닥공사 | C82: m | M82: 호표 44 | N82: 5ED9E46343A4057D2046A3C8B835C4 | Q82: 01010301 | R82: T | S82: F | T82: F | AU82: 010103015ED9E46343A4057D2046A3C8B835C4 | AV82: 62
A83: 콘센트 | B83: 매입-접지형, 15A 250V 2구 | C83: 개 | M83: 호표 45 | N83: 5ED9F447C3F2055ADA4055EAB90B20 | Q83: 01010301 | R83: T | S83: F | T83: F | AU83: 010103015ED9F447C3F2055ADA4055EAB90B20 | AV83: 63
A84: 콘센트 | B84: 방우형, 15A 250V 1구 | C84: 개 | M84: 호표 46 | N84: 5ED9F447C3C5051C874877F52CD366 | Q84: 01010301 | R84: T | S84: F | T84: F | AU84: 010103015ED9F447C3C5051C874877F52CD366 | AV84: 64
A85: 콘센트 | B85: 대기전력차단콘센트 2구 | C85: 개 | M85: 호표 47 | N85: 5ED9F447C3C5051CFA47C5D6A88DAF | Q85: 01010301 | R85: T | S85: F | T85: F | AU85: 010103015ED9F447C3C5051CFA47C5D6A88DAF | AV85: 65
A99: [ 합 계 ] | N99: TOTAL
A100: 010302 지상2층 전열설비공사 | Q100: 01010302
A101: 박스커버 | B101: 4각, 둥근구멍, 오목 | C101: 개 | N101: 59BD04D9434505F25D4610DED17BE90757BF37 | Q101: 01010302 | R101: F | S101: F | T101: T | AU101: 0101030259BD04D9434505F25D4610DED17BE90757BF37 | AV101: 67
A102: 합성수지제 가요전선관 | B102: 하이렉스-CD(난연성), 16mm, 매입 | C102: m | M102: 호표 40 | N102: 5ED994E333F8054FD049099AAA1449 | Q102: 01010302 | R102: T | S102: F | T102: F | AU102: 010103025ED994E333F8054FD049099AAA1449 | AV102: 68
A103: 아우트렛박스 | B103: 4각 54mm | C103: 개 | M103: 호표 42 | N103: 5ED994E9437405E7AE4BC189AD3204 | Q103: 01010302 | R103: T | S103: F | T103: F | AU103: 010103025ED994E9437405E7AE4BC189AD3204 | AV103: 69
A104: 풀박스 | B104: 100X100X100mm, 매입, 천정 | C104: 개 | M104: 호표 48 | N104: 5ED994EEC379056B7B47BB0FD650FE | Q104: 01010302 | R104: T | S104: F | T104: F | AU104: 010103025ED994EEC379056B7B47BB0FD650FE | AV104: 70
A105: 절연전선(3열동시포설) | B105: HFIX, 2.5㎟, 관내배선 | C105: m | M105: 호표 43 | N105: 5ED9E46343A4057D20459DFD8AC51D | Q105: 01010302 | R105: T | S105: F | T105: F | AU105: 010103025ED9E46343A4057D20459DFD8AC51D | AV105: 71
A106: 절연전선(3열동시포설) | B106: HFIX, 2.5㎟, 관내배선 바닥공사 | C106: m | M106: 호표 44 | N106: 5ED9E46343A4057D2046A3C8B835C4 | Q106: 01010302 | R106: T | S106: F | T106: F | AU106: 010103025ED9E46343A4057D2046A3C8B835C4 | AV106: 72
A107: 콘센트 | B107: 매입-접지형, 15A 250V 2구 | C107: 개 | M107: 호표 45 | N107: 5ED9F447C3F2055ADA4055EAB90B20 | Q107: 01010302 | R107: T | S107: F | T107: F | AU107: 010103025ED9F447C3F2055ADA4055EAB90B20 | AV107: 73
A108: 콘센트 | B108: 대기전력차단콘센트 2구 | C108: 개 | M108: 호표 47 | N108: 5ED9F447C3C5051CFA47C5D6A88DAF | Q108: 01010302 | R108: T | S108: F | T108: F | AU108: 010103025ED9F447C3C5051CFA47C5D6A88DAF | AV108: 74
A123: [ 합 계 ] | N123: TOTAL
A124: 010303 지상3층 전열설비공사 | Q124: 01010303
A125: 박스커버 | B125: 4각, 둥근구멍, 오목 | C125: 개 | N125: 59BD04D9434505F25D4610DED17BE90757BF37 | Q125: 01010303 | R125: F | S125: F | T125: T | AU125: 0101030359BD04D9434505F25D4610DED17BE90757BF37 | AV125: 76
A126: 합성수지제 가요전선관 | B126: 하이렉스-CD(난연성), 16mm, 매입 | C126: m | M126: 호표 40 | N126: 5ED994E333F8054FD049099AAA1449 | Q126: 01010303 | R126: T | S126: F | T126: F | AU126: 010103035ED994E333F8054FD049099AAA1449 | AV126: 77
A127: 스위치박스 | B127: ST, 1개용 54mm | C127: 개 | M127: 호표 41 | N127: 5ED994E94374058D3B422A1CD47878 | Q127: 01010303 | R127: T | S127: F | T127: F | AU127: 010103035ED994E94374058D3B422A1CD47878 | AV127: 78
A128: 아우트렛박스 | B128: 4각 54mm | C128: 개 | M128: 호표 42 | N128: 5ED994E9437405E7AE4BC189AD3204 | Q128: 01010303 | R128: T | S128: F | T128: F | AU128: 010103035ED994E9437405E7AE4BC189AD3204 | AV128: 79
A129: 시스템박스 | B129: 전선관용(매입) | C129: 개 | M129: 호표 49 | N129: 5ED994E9431205223D4B24468F1878 | Q129: 01010303 | R129: T | S129: F | T129: F | AU129: 010103035ED994E9431205223D4B24468F1878 | AV129: 80
A130: 절연전선(3열동시포설) | B130: HFIX, 2.5㎟, 관내배선 | C130: m | M130: 호표 43 | N130: 5ED9E46343A4057D20459DFD8AC51D | Q130: 01010303 | R130: T | S130: F | T130: F | AU130: 010103035ED9E46343A4057D20459DFD8AC51D | AV130: 81
A131: 절연전선(3열동시포설) | B131: HFIX, 2.5㎟, 관내배선 바닥공사 | C131: m | M131: 호표 44 | N131: 5ED9E46343A4057D2046A3C8B835C4 | Q131: 01010303 | R131: T | S131: F | T131: F | AU131: 010103035ED9E46343A4057D2046A3C8B835C4 | AV131: 82
A132: 콘센트 | B132: 매입-접지형, 15A 250V 2구 | C132: 개 | M132: 호표 45 | N132: 5ED9F447C3F2055ADA4055EAB90B20 | Q132: 01010303 | R132: T | S132: F | T132: F | AU132: 010103035ED9F447C3F2055ADA4055EAB90B20 | AV132: 83
A133: 콘센트 | B133: 방우형, 15A 250V 1구 | C133: 개 | M133: 호표 46 | N133: 5ED9F447C3C5051C874877F52CD366 | Q133: 01010303 | R133: T | S133: F | T133: F | AU133: 010103035ED9F447C3C5051C874877F52CD366 | AV133: 84
A134: 콘센트 | B134: 대기전력차단콘센트 2구 | C134: 개 | M134: 호표 47 | N134: 5ED9F447C3C5051CFA47C5D6A88DAF | Q134: 01010303 | R134: T | S134: F | T134: F | AU134: 010103035ED9F447C3C5051CFA47C5D6A88DAF | AV134: 85
A147: [ 합 계 ] | N147: TOTAL
A148: 010401 지상1층 전등설비공사 | Q148: 01010401
A149: 박스커버 | B149: 8각, 둥근구멍, 평 | C149: 개 | N149: 59BD04D9434505F25D4610DED17BE90757BF31 | Q149: 01010401 | R149: F | S149: F | T149: T | AU149: 0101040159BD04D9434505F25D4610DED17BE90757BF31 | AV149: 88
A150: 박스커넥터(비방수) | B150: 1종금속제가요전선관, 16mm | C150: 개 | N150: 59BD04D943560546DA4DF406A5D3AB593DF7AC | Q150: 01010401 | R150: F | S150: F | T150: T | AU150: 0101040159BD04D943560546DA4DF406A5D3AB593DF7AC | AV150: 89
A151: 1종금속제가요전선관 | B151: 16mm 비방수, 노출 | C151: m | M151: 호표 50 | N151: 5ED994E3339705C35F44656FB09BC4 | Q151: 01010401 | R151: T | S151: F | T151: F | AU151: 010104015ED994E3339705C35F44656FB09BC4 | AV151: 90
A152: 합성수지제 가요전선관 | B152: 하이렉스-CD(난연성), 16mm, 매입 | C152: m | M152: 호표 40 | N152: 5ED994E333F8054FD049099AAA1449 | Q152: 01010401 | R152: T | S152: F | T152: F | AU152: 010104015ED994E333F8054FD049099AAA1449 | AV152: 91
A153: 합성수지제 가요전선관 | B153: HI-LEX-PF(난연성), 16mm, 매입 | C153: m | M153: 호표 51 | N153: 5ED994E333F8054FD04A108B5AB68F | Q153: 01010401 | R153: T | S153: F | T153: F | AU153: 010104015ED994E333F8054FD04A108B5AB68F | AV153: 92
A154: 스위치박스 | B154: ST, 1개용 54mm | C154: 개 | M154: 호표 41 | N154: 5ED994E94374058D3B422A1CD47878 | Q154: 01010401 | R154: T | S154: F | T154: F | AU154: 010104015ED994E94374058D3B422A1CD47878 | AV154: 93
A155: 아우트렛박스 | B155: 8각 54mm | C155: 개 | M155: 호표 52 | N155: 5ED994E9437405E7AE480C7D0A9921 | Q155: 01010401 | R155: T | S155: F | T155: F | AU155: 010104015ED994E9437405E7AE480C7D0A9921 | AV155: 94
A156: 절연전선(2열동시포설) | B156: HFIX, 2.5㎟, 관내배선 | C156: m | M156: 호표 53 | N156: 5ED9E46343A4057D20459DFD8AC624 | Q156: 01010401 | R156: T | S156: F | T156: F | AU156: 010104015ED9E46343A4057D20459DFD8AC624 | AV156: 95
A157: 절연전선(3열동시포설) | B157: HFIX, 2.5㎟, 관내배선 | C157: m | M157: 호표 43 | N157: 5ED9E46343A4057D20459DFD8AC51D | Q157: 01010401 | R157: T | S157: F | T157: F | AU157: 010104015ED9E46343A4057D20459DFD8AC51D | AV157: 96
A158: 절연전선(4열동시포설) | B158: HFIX, 2.5㎟, 관내배선 | C158: m | M158: 호표 54 | N158: 5ED9E46343A4057D20459DFD8AC47A | Q158: 01010401 | R158: T | S158: F | T158: F | AU158: 010104015ED9E46343A4057D20459DFD8AC47A | AV158: 97
A159: 절연전선(5열동시포설) | B159: HFIX, 2.5㎟, 관내배선 | C159: m | M159: 호표 55 | N159: 5ED9E46343A4057D20459DFD8AC350 | Q159: 01010401 | R159: T | S159: F | T159: F | AU159: 010104015ED9E46343A4057D20459DFD8AC350 | AV159: 98
A160: 등기구 "A"TYPE | B160: LED 40W X 1 (LED 슬림매입등)300x1200 | C160: 개 | M160: 호표 56 | N160: 5ED9F44E73CA057E5E43FA46C77090 | Q160: 01010401 | R160: T | S160: F | T160: F | AU160: 010104015ED9F44E73CA057E5E43FA46C77090 | AV160: 99
A161: 등기구 "B"TYPE | B161: LED 40W X 1 (LED 슬림직부등)300x1200 | C161: 개 | M161: 호표 57 | N161: 5ED9F44E73CA057E5E464E86358C7A | Q161: 01010401 | R161: T | S161: F | T161: F | AU161: 010104015ED9F44E73CA057E5E464E86358C7A | AV161: 100
A162: 등기구 "C"TYPE | B162: LED 15W X 1 (LED 다운라이트) | C162: 개 | M162: 호표 58 | N162: 5ED9F44E73CA057E5E4755F705061D | Q162: 01010401 | R162: T | S162: F | T162: F | AU162: 010104015ED9F44E73CA057E5E4755F705061D | AV162: 101
... A169: 콘센트 | B169: 매입-접지형, 15A 250V 1구 | C169: 개 | M169: 호표 65 | N169: 5ED9F447C3F2055ABF42F9C131BEEE | Q169: 01010401 | R169: T | S169: F | T169: F | AU169: 010104015ED9F447C3F2055ABF42F9C131BEEE | AV169: 108
A171: [ 합 계 ] | N171: TOTAL
A172: 010402 지상2층 전등설비공사 | Q172: 01010402
A173: 박스커버 | B173: 8각, 둥근구멍, 평 | C173: 개 | N173: 59BD04D9434505F25D4610DED17BE90757BF31 | Q173: 01010402 | R173: F | S173: F | T173: T | AU173: 0101040259BD04D9434505F25D4610DED17BE90757BF31 | AV173: 110
A174: 박스커넥터(비방수) | B174: 1종금속제가요전선관, 16mm | C174: 개 | N174: 59BD04D943560546DA4DF406A5D3AB593DF7AC | Q174: 01010402 | R174: F | S174: F | T174: T | AU174: 0101040259BD04D943560546DA4DF406A5D3AB593DF7AC | AV174: 111
A175: 1종금속제가요전선관 | B175: 16mm 비방수, 노출 | C175: m | M175: 호표 50 | N175: 5ED994E3339705C35F44656FB09BC4 | Q175: 01010402 | R175: T | S175: F | T175: F | AU175: 010104025ED994E3339705C35F44656FB09BC4 | AV175: 112
A176: 합성수지제 가요전선관 | B176: 하이렉스-CD(난연성), 16mm, 매입 | C176: m | M176: 호표 40 | N176: 5ED994E333F8054FD049099AAA1449 | Q176: 01010402 | R176: T | S176: F | T176: F | AU176: 010104025ED994E333F8054FD049099AAA1449 | AV176: 113
A177: 합성수지제 가요전선관 | B177: HI-LEX-PF(난연성), 16mm, 매입 | C177: m | M177: 호표 51 | N177: 5ED994E333F8054FD04A108B5AB68F | Q177: 01010402 | R177: T | S177: F | T177: F | AU177: 010104025ED994E333F8054FD04A108B5AB68F | AV177: 114
...

Sheet 일위대가목록
A1: 일 위 대 가 목 록
A2: [ SDV보안평가지원센터전기공사 ]
A3: 코 드 | B3: 품 명 | C3: 규 격 | D3: 단위 | E3: 재 료 비 | F3: 노 무 비 | G3: 경 비 | H3: 합 계 | I3: 번 호 | J3: 비 고 | K3: 노임계수 | L3: 할증 | M3: 품셈개요 | N3: 장비일위
A4: 5ED994E0632C05A58C44EC7258E7B5 | B4: 파상형 경질폴리에틸렌 전선관 | C4: 80mm | D4: m | E4: =일위대가!F12 -> 1641 | F4: =일위대가!H12 -> 7520 | G4: =일위대가!J12 -> 0 | H4: =E4+F4+G4 -> 9161 | I4: 호표 1
A5: 5ED9D47E33F405936E444F49029855 | B5: 절연전선 | C5: F-GV, 150㎟, 관내포설 | D5: m | E5: =일위대가!F20 -> 13586 | F5: =일위대가!H20 -> 4515 | G5: =일위대가!J20 -> 0 | H5: =E5+F5+G5 -> 18101 | I5: 호표 2
A6: 5ED984FD83030590FD4B6B4892E4ED | B6: 전주입상관 | C6: 특고압용 | D6: 개소 | E6: =일위대가!F27 -> 3306 | F6: =일위대가!H27 -> 110220 | G6: =일위대가!J27 -> 0 | H6: =E6+F6+G6 -> 113526 | I6: 호표 3
A7: 5ED994E0632C05FDBE44617D46C6EF | B7: 파상형 경질폴리에틸렌 전선관 | C7: 125mm | D7: m | E7: =일위대가!F37 -> 3802 | F7: =일위대가!H37 -> 14898 | G7: =일위대가!J37 -> 0 | H7: =E7+F7+G7 -> 18700 | I7: 호표 4
A8: 5ED994EC13B205C7524B6045FF0C32 | B8: 관로구방수 | C8: ø125 | D8: 개 | E8: =일위대가!F47 -> 65381 | F8: =일위대가!H47 -> 72786 | G8: =일위대가!J47 -> 0 | H8: =E8+F8+G8 -> 138167 | I8: 호표 5
A9: 5ED9749463430510F841DF09D28106 | B9: 맨홀 | C9: 2,000*1,500*1,500 | D9: 개소 | E9: =일위대가!F69 -> 1033065 | F9: =일위대가!H69 -> 986599 | G9: =일위대가!J69 -> 4298 | H9: =E9+F9+G9 -> 2023962 | I9: 호표 6
A10: 5ED9E46193E9056D6840F4BC4E2DED | B10: 전력케이블 | C10: FR-CN/CO-W, 22.9KV, 1C 60㎟, 3열포설 1열당 | D10: m | E10: =일위대가!F78 -> 18487 | F10: =일위대가!H78 -> 4533 | G10: =일위대가!J78 -> 0 | H10: =E10+F10+G10 -> 23020 | I10: 호표 7
A11: 5ED9E46B93BB059652431E849B12B0 | B11: 케이블단말접속자재 | C11: 자기수축, 23KV, 1C, 60-70㎟, 구내 | D11: Kit | E11: =일위대가!F84 -> 71012 | F11: =일위대가!H84 -> 378929 | G11: =일위대가!J84 -> 0 | H11: =E11+F11+G11 -> 449941 | I11: 호표 8
A12: 5ED9D47C03E605A4F241FEA84595D6 | B12: 접지봉 | C12: 14Φ×1000mm | D12: 개소 | E12: =일위대가!F91 -> 4632 | F12: =일위대가!H91 -> 43869 | G12: =일위대가!J91 -> 0 | H12: =E12+F12+G12 -> 48501 | I12: 호표 9
A13: 5E97447F83A90555F74574794298B6 | B13: 모래깔기지정 | C13: 인력 | D13: ㎥ | E13: =일위대가!F97 -> 61376 | F13: =일위대가!H97 -> 68827 | G13: =일위대가!J97 -> 0 | H13: =E13+F13+G13 -> 130203 | I13: 호표 10
A14: 5ED9749463430510F841DF09D28333 | B14: 맨홀 | C14: 1,000*1,000*1,000 | D14: 개소 | E14: =일위대가!F119 -> 641450 | F14: =일위대가!H119 -> 434385 | G14: =일위대가!J119 -> 1730 | H14: =E14+F14+G14 -> 1077565 | I14: 호표 11
A15: 5ED994E3338505400A48116F64D173 | B15: 경질비닐전선관 | C15: 22mm, 매입 | D15: m | E15: =일위대가!F128 -> 887 | F15: =일위대가!H128 -> 14778 | G15: =일위대가!J128 -> 0 | H15: =E15+F15+G15 -> 15665 | I15: 호표 12
A16: 5ED994E3338505379D45ABAB55FDF3 | B16: 경질비닐전선관 | C16: 28mm, 매입 | D16: m | E16: =일위대가!F137 -> 1480 | F16: =일위대가!H137 -> 19704 | G16: =일위대가!J137 -> 0 | H16: =E16+F16+G16 -> 21184 | I16: 호표 13
A17: 5ED994E0632C058AA64805C763C518 | B17: 파상형 경질폴리에틸렌 전선관 | C17: 100mm | D17: m | E17: =일위대가!F147 -> 2476 | F17: =일위대가!H147 -> 11174 | G17: =일위대가!J147 -> 0 | H17: =E17+F17+G17 -> 13650 | I17: 호표 14
A18: 5ED994EEC3790513764CAF4AFE62FA | B18: 풀박스 | C18: 400X400X300mm, 노출, 천정 | D18: 개 | E18: =일위대가!F153 -> 24467 | F18: =일위대가!H153 -> 114943 | G18: =일위대가!J153 -> 0 | H18: =E18+F18+G18 -> 139410 | I18: 호표 15
A19: 5ED994EC13B205FC9249512EC0690B | B19: 관로구방수 | C19: ø100 | D19: 1개 | E19: =일위대가!F163 -> 49228 | F19: =일위대가!H163 -> 50117 | G19: =일위대가!J163 -> 0 | H19: =E19+F19+G19 -> 99345 | I19: 호표 16
A20: 5ED9E46193DF05696D4DFB439A0F76 | B20: 전력케이블 | C20: F-CV, 0.6/1kV, 1C 240㎟ | D20: m | E20: =일위대가!F171 -> 44305 | F20: =일위대가!H171 -> 41365 | G20: =일위대가!J171 -> 0 | H20: =E20+F20+G20 -> 85670 | I20: 호표 17
A21: 5ED9E476A38A05BF324C9623679EBD | B21: 압착단자 | C21: 압착터미널, 35㎟, 1C 구내 | D21: 개소 | E21: =일위대가!F177 -> 733 | F21: =일위대가!H177 -> 16424 | G21: =일위대가!J177 -> 0 | H21: =E21+F21+G21 -> 17157 | I21: 호표 18
A22: 5ED9E47743E7053DA74D6CDAC50302 | B22: 압착단자 | C22: 압착터미널, 150㎟, 1C 구내 | D22: 개소 | E22: =일위대가!F183 -> 2200 | F22: =일위대가!H183 -> 31023 | G22: =일위대가!J183 -> 0 | H22: =E22+F22+G22 -> 33223 | I22: 호표 19
A23: 5ED9E47743D60580FC441B13771A9E | B23: 러그단자 | C23: 동관단자 2홀, 240㎟, 1C 구내 | D23: 개소 | E23: =일위대가!F189 -> 12069 | F23: =일위대가!H189 -> 38323 | G23: =일위대가!J189 -> 0 | H23: =E23+F23+G23 -> 50392 | I23: 호표 20
A24: 5ED9D47E33F305FCA941C7657E3821 | B24: 절연전선 | C24: F-GV, 16㎟, 관내포설 | D24: m | E24: =일위대가!F197 -> 2648 | F24: =일위대가!H197 -> 2873 | G24: =일위대가!J197 -> 0 | H24: =E24+F24+G24 -> 5521 | I24: 호표 21
A25: 5ED9D47E33F305C7EE494EA0D17798 | B25: 절연전선 | C25: F-GV, 25㎟, 관내포설 | D25: m | E25: =일위대가!F205 -> 4337 | F25: =일위대가!H205 -> 2873 | G25: =일위대가!J205 -> 0 | H25: =E25+F25+G25 -> 7210 | I25: 호표 22
A26: 5ED9D47E33F305D07648E28F1BA7B6 | B26: 절연전선 | C26: F-GV, 35㎟, 관내포설 | D26: m | E26: =일위대가!F213 -> 6108 | F26: =일위대가!H213 -> 2873 | G26: =일위대가!J213 -> 0 | H26: =E26+F26+G26 -> 8981 | I26: 호표 23
A27: 5ED9D47E33F30527254FE207244BDA | B27: 절연전선 | C27: F-GV, 50㎟, 관내포설 | D27: m | E27: =일위대가!F221 -> 8031 | F27: =일위대가!H221 -> 3284 | G27: =일위대가!J221 -> 0 | H27: =E27+F27+G27 -> 11315 | I27: 호표 24
A28: 5ED9D47E33F30531BF46E89E1DB294 | B28: 절연전선 | C28: F-GV, 70㎟, 관내포설 | D28: m | E28: =일위대가!F229 -> 11363 | F28: =일위대가!H229 -> 3284 | G28: =일위대가!J229 -> 0 | H28: =E28+F28+G28 -> 14647 | I28: 호표 25
A29: 5ED97497334305662E41609DF03D8A | B29: 분전함 L-1-A | D29: 면 | E29: =일위대가!F235 -> 2764 | F29: =일위대가!H235 -> 92146 | G29: =일위대가!J235 -> 0 | H29: =E29+F29+G29 -> 94910 | I29: 호표 26
A30: 5ED97497334305C8A54E8A78066AEE | B30: 분전함 P-N | D30: 면 | E30: =일위대가!F241 -> 13235 | F30: =일위대가!H241 -> 441193 | G30: =일위대가!J241 -> 0 | H30: =E30+F30+G30 -> 454428 | I30: 호표 27
A31: 5ED9749733430570B1483E945750CE | B31: 분전함 L-1-M | D31: 면 | E31: =일위대가!F247 -> 58568 | F31: =일위대가!H247 -> 1952267 | G31: =일위대가!J247 -> 0 | H31: =E31+F31+G31 -> 2010835 | I31: 호표 28
A32: 5ED974973343050DB6429DBEBFF3AB | B32: 분전함 L-2-M | D32: 면 | E32: =일위대가!F253 -> 18618 | F32: =일위대가!H253 -> 620615 | G32: =일위대가!J253 -> 0 | H32: =E32+F32+G32 -> 639233 | I32: 호표 29
A33: 5ED97497334305289D4E1C9CAE941A | B33: 분전함 L-3-M | D33: 면 | E33: =일위대가!F259 -> 22859 | F33: =일위대가!H259 -> 761996 | G33: =일위대가!J259 -> 0 | H33: =E33+F33+G33 -> 784855 | I33: 호표 30
A34: 5ED97497334305C8A54E8A78066AE6 | B34: 분전함 P-AC | D34: 면 | E34: =일위대가!F265 -> 29971 | F34: =일위대가!H265 -> 999054 | G34: =일위대가!J265 -> 0 | H34: =E34+F34+G34 -> 1029025 | I34: 호표 31
A35: 5ED994E333A005383149C76F9E7531 | B35: 강제전선관 | C35: 아연도, 54mm, 매입(또는 앵커볼트 설치에 따른 노출공사) | D35: m | E35: =일위대가!F274 -> 13835 | F35: =일위대가!H274 -> 83744 | G35: =일위대가!J274 -> 0 | H35: =E35+F35+G35 -> 97579 | I35: 호표 32
A36: 5ED994E333A005CE7142F8FEA40313 | B36: 강제전선관 | C36: 아연도, 70mm, 매입(또는 앵커볼트 설치에 따른 노출공사) | D36: m | E36: =일위대가!F283 -> 16549 | F36: =일위대가!H283 -> 108375 | G36: =일위대가!J283 -> 0 | H36: =E36+F36+G36 -> 124924 | I36: 호표 33
A37: 5ED994ED33B8054DA74DDB748F09F0 | B37: 파이프행거 | C37: 54C | D37: 개소 | E37: =일위대가!F293 -> 2237 | F37: =일위대가!H293 -> 9852 | G37: =일위대가!J293 -> 0 | H37: =E37+F37+G37 -> 12089 | I37: 호표 34
A38: 5ED994ED33B8054DA74DDA6EA4A4BC | B38: 파이프행거 | C38: 70C | D38: 개소 | E38: =일위대가!F303 -> 2287 | F38: =일위대가!H303 -> 9852 | G38: =일위대가!J303 -> 0 | H38: =E38+F38+G38 -> 12139 | I38: 호표 35
A39: 5ED9E460F32A05D5A3452CCB9306A2 | B39: 전력케이블 | C39: F-CV, 0.6/1kV, 4C 16㎟ | D39: m | E39: =일위대가!F311 -> 13533 | F39: =일위대가!H311 -> 6995 | G39: =일위대가!J311 -> 0 | H39: =E39+F39+G39 -> 20528 | I39: 호표 36
A40: 5ED9E46193DF05114C42A82DD074CF | B40: 전력케이블 | C40: F-CV, 0.6/1kV, 1C 70㎟ | D40: m | E40: =일위대가!F319 -> 13495 | F40: =일위대가!H319 -> 17336 | G40: =일위대가!J319 -> 0 | H40: =E40+F40+G40 -> 30831 | I40: 호표 37
A41: 5ED9E476A3B60578F64B93D587B3D0 | B41: 러그단자 | C41: 동관단자 2홀, 35㎟, 1C 구내 | D41: 개소 | E41: =일위대가!F325 -> 1702 | F41: =일위대가!H325 -> 16424 | G41: =일위대가!J325 -> 0 | H41: =E41+F41+G41 -> 18126 | I41: 호표 38
A42: 5ED9E476A3B6055C0341BEEC294D79 | B42: 러그단자 | C42: 동관단자 2홀, 70㎟, 1C 구내 | D42: 개소 | E42: =일위대가!F331 -> 4163 | F42: =일위대가!H331 -> 21442 | G42: =일위대가!J331 -> 0 | H42: =E42+F42+G42 -> 25605 | I42: 호표 39
A43: 5ED994E333F8054FD049099AAA1449 | B43: 합성수지제 가요전선관 | C43: 하이렉스-CD(난연성), 16mm, 매입 | D43: m | E43: =일위대가!F340 -> 539 | F43: =일위대가!H340 -> 9852 | G43: =일위대가!J340 -> 0 | H43: =E43+F43+G43 -> 10391 | I43: 호표 40
A44: 5ED994E94374058D3B422A1CD47878 | B44: 스위치박스 | C44: ST, 1개용 54mm | D44: 개 | E44: =일위대가!F346 -> 1477 | F44: =일위대가!H346 -> 29557 | G44: =일위대가!J346 -> 0 | H44: =E44+F44+G44 -> 31034 | I44: 호표 41
A45: 5ED994E9437405E7AE4BC189AD3204 | B45: 아우트렛박스 | C45: 4각 54mm | D45: 개 | E45: =일위대가!F352 -> 3986 | F45: =일위대가!H352 -> 29557 | G45: =일위대가!J352 -> 0 | H45: =E45+F45+G45 -> 33543 | I45: 호표 42
A46: 5ED9E46343A4057D20459DFD8AC51D | B46: 절연전선(3열동시포설) | C46: HFIX, 2.5㎟, 관내배선 | D46: m | E46: =일위대가!F360 -> 689 | F46: =일위대가!H360 -> 2380 | G46: =일위대가!J360 -> 0 | H46: =E46+F46+G46 -> 3069 | I46: 호표 43
A47: 5ED9E46343A4057D2046A3C8B835C4 | B47: 절연전선(3열동시포설) | C47: HFIX, 2.5㎟, 관내배선 바닥공사 | D47: m | E47: =일위대가!F368 -> 675 | F47: =일위대가!H368 -> 1915 | G47: =일위대가!J368 -> 0 | H47: =E47+F47+G47 -> 2590 | I47: 호표 44
A48: 5ED9F447C3F2055ADA4055EAB90B20 | B48: 콘센트 | C48: 매입-접지형, 15A 250V 2구 | D48: 개 | E48: =일위대가!F374 -> 1917 | F48: =일위대가!H374 -> 17788 | G48: =일위대가!J374 -> 0 | H48: =E48+F48+G48 -> 19705 | I48: 호표 45
A49: 5ED9F447C3C5051C874877F52CD366 | B49: 콘센트 | C49: 방우형, 15A 250V 1구 | D49: 개 | E49: =일위대가!F380 -> 2568 | F49: =일위대가!H380 -> 17788 | G49: =일위대가!J380 -> 0 | H49: =E49+F49+G49 -> 20356 | I49: 호표 46
A50: 5ED9F447C3C5051CFA47C5D6A88DAF | B50: 콘센트 | C50: 대기전력차단콘센트 2구 | D50: 개 | E50: =일위대가!F386 -> 55533 | F50: =일위대가!H386 -> 17788 | G50: =일위대가!J386 -> 0 | H50: =E50+F50+G50 -> 73321 | I50: 호표 47
A51: 5ED994EEC379056B7B47BB0FD650FE | B51: 풀박스 | C51: 100X100X100mm, 매입, 천정 | D51: 개 | E51: =일위대가!F392 -> 3189 | F51: =일위대가!H392 -> 10947 | G51: =일위대가!J392 -> 0 | H51: =E51+F51+G51 -> 14136 | I51: 호표 48
A52: 5ED994E9431205223D4B24468F1878 | B52: 시스템박스 | C52: 전선관용(매입) | D52: 개 | E52: =일위대가!F398 -> 57996 | F52: =일위대가!H398 -> 100986 | G52: =일위대가!J398 -> 0 | H52: =E52+F52+G52 -> 158982 | I52: 호표 49
A53: 5ED994E3339705C35F44656FB09BC4 | B53: 1종금속제가요전선관 | C53: 16mm 비방수, 노출 | D53: m | E53: =일위대가!F407 -> 1016 | F53: =일위대가!H407 -> 10837 | G53: =일위대가!J407 -> 0 | H53: =E53+F53+G53 -> 11853 | I53: 호표 50
A54: 5ED994E333F8054FD04A108B5AB68F | B54: 합성수지제 가요전선관 | C54: HI-LEX-PF(난연성), 16mm, 매입 | D54: m | E54: =일위대가!F416 -> 571 | F54: =일위대가!H416 -> 10947 | G54: =일위대가!J416 -> 0 | H54: =E54+F54+G54 -> 11518 | I54: 호표 51
A55: 5ED994E9437405E7AE480C7D0A9921 | B55: 아우트렛박스 | C55: 8각 54mm | D55: 개 | E55: =일위대가!F422 -> 1512 | F55: =일위대가!H422 -> 29557 | G55: =일위대가!J422 -> 0 | H55: =E55+F55+G55 -> 31069 | I55: 호표 52
A56: 5ED9E46343A4057D20459DFD8AC624 | B56: 절연전선(2열동시포설) | C56: HFIX, 2.5㎟, 관내배선 | D56: m | E56: =일위대가!F430 -> 691 | F56: =일위대가!H430 -> 2463 | G56: =일위대가!J430 -> 0 | H56: =E56+F56+G56 -> 3154 | I56: 호표 53
A57: 5ED9E46343A4057D20459DFD8AC47A | B57: 절연전선(4열동시포설) | C57: HFIX, 2.5㎟, 관내배선 | D57: m | E57: =일위대가!F438 -> 686 | F57: =일위대가!H438 -> 2326 | G57: =일위대가!J438 -> 0 | H57: =E57+F57+G57 -> 3012 | I57: 호표 54
A58: 5ED9E46343A4057D20459DFD8AC350 | B58: 절연전선(5열동시포설) | C58: HFIX, 2.5㎟, 관내배선 | D58: m | E58: =일위대가!F446 -> 686 | F58: =일위대가!H446 -> 2298 | G58: =일위대가!J446 -> 0 | H58: =E58+F58+G58 -> 2984 | I58: 호표 55
A59: 5ED9F44E73CA057E5E43FA46C77090 | B59: 등기구 "A"TYPE | C59: LED 40W X 1 (LED 슬림매입등)300x1200 | D59: 개 | E59: =일위대가!F452 -> 2159 | F59: =일위대가!H452 -> 71976 | G59: =일위대가!J452 -> 0 | H59: =E59+F59+G59 -> 74135 | I59: 호표 56
A60: 5ED9F44E73CA057E5E464E86358C7A | B60: 등기구 "B"TYPE | C60: LED 40W X 1 (LED 슬림직부등)300x1200 | D60: 개 | E60: =일위대가!F458 -> 1814 | F60: =일위대가!H458 -> 60482 | G60: =일위대가!J458 -> 0 | H60: =E60+F60+G60 -> 62296 | I60: 호표 57
A61: 5ED9F44E73CA057E5E4755F705061D | B61: 등기구 "C"TYPE | C61: LED 15W X 1 (LED 다운라이트) | D61: 개 | E61: =일위대가!F464 -> 1272 | F61: =일위대가!H464 -> 42419 | G61: =일위대가!J464 -> 0 | H61: =E61+F61+G61 -> 43691 | I61: 호표 58
A62: 5ED9F44E73CA057E5E4481194DEC89 | B62: 등기구 "D"TYPE | C62: LED 15W X 1 (LED 원형직부등) | D62: 개 | E62: =일위대가!F470 -> 960 | F62: =일위대가!H470 -> 32020 | G62: =일위대가!J470 -> 0 | H62: =E62+F62+G62 -> 32980 | I62: 호표 59
A63: 5ED9F44E73CA057E5E45A8220F0BE8 | B63: 등기구 "E"TYPE | C63: LED 15W X 1(LED 벽부등) | D63: 개 | E63: =일위대가!F476 -> 960 | F63: =일위대가!H476 -> 32020 | G63: =일위대가!J476 -> 0 | H63: =E63+F63+G63 -> 32980 | I63: 호표 60
A64: 5ED9F441A374059BFE4C294D7B91CE | B64: 스위치 | C64: 단로, 15A 250V, 1구 | D64: 개 | E64: =일위대가!F482 -> 2020 | F64: =일위대가!H482 -> 23262 | G64: =일위대가!J482 -> 0 | H64: =E64+F64+G64 -> 25282 | I64: 호표 61
A65: 5ED9F441A374059BC147E53F9C7BF3 | B65: 스위치 | C65: 단로, 15A 250V, 2구 | D65: 개 | E65: =일위대가!F488 -> 2548 | F65: =일위대가!H488 -> 23262 | G65: =일위대가!J488 -> 0 | H65: =E65+F65+G65 -> 25810 | I65: 호표 62
A66: 5ED9F441A374059BD34E8E7A1B7C25 | B66: 스위치 | C66: 단로, 15A 250V, 3구 | D66: 개 | E66: =일위대가!F494 -> 3090 | F66: =일위대가!H494 -> 23262 | G66: =일위대가!J494 -> 0 | H66: =E66+F66+G66 -> 26352 | I66: 호표 63
A67: 5ED9F441A31305C7474889687A215F | B67: 일괄소등스위치 | C67: 1회로 | D67: 개 | E67: =일위대가!F500 -> 56697 | F67: =일위대가!H500 -> 23262 | G67: =일위대가!J500 -> 0 | H67: =E67+F67+G67 -> 79959 | I67: 호표 64
A68: 5ED9F447C3F2055ABF42F9C131BEEE | B68: 콘센트 | C68: 매입-접지형, 15A 250V 1구 | D68: 개 | E68: =일위대가!F506 -> 1467 | F68: =일위대가!H506 -> 17788 | G68: =일위대가!J506 -> 0 | H68: =E68+F68+G68 -> 19255 | I68: 호표 65
A69: 5ED994E333F805584D4BA7558435DC | B69: 합성수지제 가요전선관 | C69: 하이렉스-CD(난연성), 22mm, 매입 | D69: m | E69: =일위대가!F515 -> 719 | F69: =일위대가!H515 -> 11822 | G69: =일위대가!J515 -> 0 | H69: =E69+F69+G69 -> 12541 | I69: 호표 66
A70: 5ED9E46343A4057D20459DFD8AC249 | B70: 절연전선(6열동시포설) | C70: HFIX, 2.5㎟, 관내배선 | D70: m | E70: =일위대가!F523 -> 685 | F70: =일위대가!H523 -> 2271 | G70: =일위대가!J523 -> 0 | H70: =E70+F70+G70 -> 2956 | I70: 호표 67
A71: 5ED9E46343A4057D20459DFD8AC1A6 | B71: 절연전선(7열동시포설) | C71: HFIX, 2.5㎟, 관내배선 | D71: m | E71: =일위대가!F531 -> 685 | F71: =일위대가!H531 -> 2271 | G71: =일위대가!J531 -> 0 | H71: =E71+F71+G71 -> 2956 | I71: 호표 68
A72: 5ED9F44E73CA057E5E4A295685E763 | B72: 등기구 "F"TYPE | C72: LED 12W X 1 (LED 센서등) | D72: 개 | E72: =일위대가!F537 -> 960 | F72: =일위대가!H537 -> 32020 | G72: =일위대가!J537 -> 0 | H72: =E72+F72+G72 -> 32980 | I72: 호표 69
A73: 5ED994E333EF05A5664543CF4A6704 | B73: 파상형 경질폴리에틸렌 전선관 | C73: 30mm | D73: m | E73: =일위대가!F547 -> 557 | F73: =일위대가!H547 -> 4898 | G73: =일위대가!J547 -> 0 | H73: =E73+F73+G73 -> 5455 | I73: 호표 70
A74: 5ED9F44E73CA057E5E43FA46C77091 | B74: 등기구 "G"TYPE | C74: LED 50W X 1 (LED 보안등, 재사용) | D74: 개 | E74: =일위대가!F553 -> 751 | F74: =일위대가!H553 -> 25041 | G74: =일위대가!J553 -> 0 | H74: =E74+F74+G74 -> 25792 | I74: 호표 71
A75: 5ED9F44093EA05A12845AEDC1DF532 | B75: POLE LIGHT 인력설치 (재사용) | C75: 5m이하, 1등용 | D75: 본 | E75: =일위대가!F559 -> 13793 | F75: =일위대가!H559 -> 459775 | G75: =일위대가!J559 -> 0 | H75: =E75+F75+G75 -> 473568 | I75: 호표 72
A76: 5ED994E333EF05949E4B67753B9953 | B76: 파상형 경질폴리에틸렌 전선관 | C76: 40mm | D76: m | E76: =일위대가!F569 -> 806 | F76: =일위대가!H569 -> 6001 | G76: =일위대가!J569 -> 0 | H76: =E76+F76+G76 -> 6807 | I76: 호표 73
A77: 5ED9E460F32A05F09B46EE3DACCABB | B77: 전력케이블 | C77: F-CV, 0.6/1kV, 2C 6㎟ | D77: m | E77: =일위대가!F577 -> 3175 | F77: =일위대가!H577 -> 6995 | G77: =일위대가!J577 -> 0 | H77: =E77+F77+G77 -> 10170 | I77: 호표 74
A78: 5ED9D47E33F3059A2344960A401D72 | B78: 절연전선 | C78: F-GV, 6㎟, 관내포설 | D78: m | E78: =일위대가!F585 -> 1228 | F78: =일위대가!H585 -> 2463 | G78: =일위대가!J585 -> 0 | H78: =E78+F78+G78 -> 3691 | I78: 호표 75
A79: 5ED994E3339705A06D413BAA71A388 | B79: 1종금속제가요전선관 | C79: 28mm 방수, 노출 | D79: m | E79: =일위대가!F594 -> 2240 | F79: =일위대가!H594 -> 14532 | G79: =일위대가!J594 -> 0 | H79: =E79+F79+G79 -> 16772 | I79: 호표 76
A80: 5ED994E333970585874AD51217E2E2 | B80: 1종금속제가요전선관 | C80: 42mm 방수, 노출 | D80: m | E80: =일위대가!F603 -> 4295 | F80: =일위대가!H603 -> 25616 | G80: =일위대가!J603 -> 0 | H80: =E80+F80+G80 -> 29911 | I80: 호표 77
A81: 5ED9E460F32A058D8F4B02FD913966 | B81: 전력케이블 | C81: F-CV, 0.6/1kV, 4C 4㎟ | D81: m | E81: =일위대가!F611 -> 3881 | F81: =일위대가!H611 -> 8820 | G81: =일위대가!J611 -> 0 | H81: =E81+F81+G81 -> 12701 | I81: 호표 78
A82: 5ED9D47E33F30588524E012E5119E9 | B82: 절연전선 | C82: F-GV, 4㎟, 관내포설 | D82: m | E82: =일위대가!F619 -> 1105 | F82: =일위대가!H619 -> 2463 | G82: =일위대가!J619 -> 0 | H82: =E82+F82+G82 -> 3568 | I82: 호표 79
A83: 5ED994E5E38B05EB114266F99590FF | B83: 케이블트레이 | C83: W700x100Hx2.3t | D83: m | E83: =일위대가!F625 -> 21528 | F83: =일위대가!H625 -> 131364 | G83: =일위대가!J625 -> 0 | H83: =E83+F83+G83 -> 152892 | I83: 호표 80
A84: 5ED994ED33B80533224D19213B4E4D | B84: 케이블트레이지지대(옥외수평) | C84: W700 | D84: 개소 | E84: =일위대가!F633 -> 62833 | F84: =일위대가!H633 -> 8894 | G84: =일위대가!J633 -> 0 | H84: =E84+F84+G84 -> 71727 | I84: 호표 81
A85: 5ED994E5E38B05EB11426C02A2F611 | B85: 케이블트레이 | C85: W300x100Hx2.3t | D85: m | E85: =일위대가!F639 -> 14982 | F85: =일위대가!H639 -> 56650 | G85: =일위대가!J639 -> 0 | H85: =E85+F85+G85 -> 71632 | I85: 호표 82
A86: 5ED994ED33AF05E2FE49AB0A4CD670 | B86: 케이블트레이지지대(수직) | C86: W300 | D86: 개소 | E86: =일위대가!F651 -> 22779 | F86: =일위대가!H651 -> 19704 | G86: =일위대가!J651 -> 0 | H86: =E86+F86+G86 -> 42483 | I86: 호표 83
A87: 5ED9D47E33F4058284438A6438BDF3 | B87: 절연전선 | C87: F-GV, 120㎟, 직매포설 | D87: m | E87: =일위대가!F659 -> 18242 | F87: =일위대가!H659 -> 3010 | G87: =일위대가!J659 -> 0 | H87: =E87+F87+G87 -> 21252 | I87: 호표 84
A88: 5E975467E3D905992646AD78D308CA | B88: 터파기(기계9:1) | C88: 보통토사.백호90%+인력10% | D88: ㎥ | E88: =일위대가!F663 -> 318 | F88: =일위대가!H663 -> 7715 | G88: =일위대가!J663 -> 267 | H88: =E88+F88+G88 -> 8300 | I88: 호표 85
A89: 5E975461432C058C87426A2BF8C4D0 | B89: 되메우기 | C89: 토사,인력 | D89: ㎥ | E89: =일위대가!F667 -> 0 | F89: =일위대가!H667 -> 17206 | G89: =일위대가!J667 -> 0 | H89: =E89+F89+G89 -> 17206 | I89: 호표 86
A90: 5E975461432C058CCE4C6BF4E16E80 | B90: 현장내잔토처리 | C90: 소운반.고르기 | D90: ㎥ | E90: =일위대가!F671 -> 0 | F90: =일위대가!H671 -> 34413 | G90: =일위대가!J671 -> 0 | H90: =E90+F90+G90 -> 34413 | I90: 호표 87
A91: 5E97447F838E057E3B45235E45A008 | B91: 잡석깔기지정 | C91: 떨공이다지기 | D91: ㎥ | E91: =일위대가!F677 -> 35685 | F91: =일위대가!H677 -> 189274 | G91: =일위대가!J677 -> 0 | H91: =E91+F91+G91 -> 224959 | I91: 호표 88
A92: 5980549793F90520F4416E2D1C6953A39AFED1C8 | B92: 굴삭기 (무한궤도) | C92: 0.7 ㎥ | D92: HR | E92: =일위대가!F684 -> 22586 | F92: =일위대가!H684 -> 59020 | G92: =일위대가!J684 -> 18961 | H92: =E92+F92+G92 -> 100567 | I92: 호표 89 | K92: A | N92: T
A93: 5980549793F90520BE463C683713754CEA52F251 | B93: 덤프트럭 | C93: 15 ton | D93: HR | E93: =일위대가!F691 -> 35019 | F93: =일위대가!H691 -> 59020 | G93: =일위대가!J691 -> 14383 | H93: =E93+F93+G93 -> 108422 | I93: 호표 90 | K93: A | N93: T
A94: 5980549793F905315A4F296E9978B8307204A811 | B94: 래 머 | C94: 80 kg | D94: HR | E94: =일위대가!F698 -> 1275 | F94: =일위대가!H698 -> 36248 | G94: =일위대가!J698 -> 412 | H94: =E94+F94+G94 -> 37935 | I94: 호표 91 | K94: A | N94: T
A95: 5ED8044903D00580D74C43D1AE7C66 | B95: CONC인력비빔타설(1:4:8) | C95: 무근구조물 | D95: 개소 | E95: =일위대가!F707 -> 94073 | F95: =일위대가!H707 -> 373604 | G95: =일위대가!J707 -> 0 | H95: =E95+F95+G95 -> 467677 | I95: 호표 92

Sheet 일위대가
A1: [ SDV보안평가지원센터전기공사 ]
A2: 품 명 | B2: 규 격 | C2: 단위 | D2: 수량 | E2: 재 료 비 | G2: 노 무 비 | I2: 경 비 | K2: 합 계 | M2: 비 고 | N2: 일위대가 | O2: 품목코드 | P2: 일위 | Q2: 단산 | R2: 자재 | S2: 손료적용 | T2: 손료저장 | U2: 적용율 | V2: JUK1 | W2: JUK2 | X2: JUK3 | Y2: JUK4 | Z2: JUK5 | AA2: JUK6 | AB2: JUK7 | AC2: JUK8 | AD2: JUK9 | AE2: JUK10 | AF2: JUK11 | AG2: JUK12 | AH2: JUK13 | AI2: JUK14 | AJ2: JUK15 | AK2: JUK16 | AL2: JUK17 | AM2: JUK18 | AN2: JUK19 | AO2: JUK20 | AP2: 할증적용 | AQ2: 할증저장 | AR2: 할증율 | AS2: HAL1 | AT2: HAL2 | AU2: HAL3 | AV2: 자재구분 | AW2: 일위대가+자재 | AX2: 장비일위 | AY2: 설정
E3: 단 가 | F3: 금 액 | G3: 단 가 | H3: 금 액 | I3: 단 가 | J3: 금 액 | K3: 단 가 | L3: 금 액
A4: 파상형 경질폴리에틸렌 전선관 80mm m ( 호표 1 ) | N4: 5ED994E0632C05A58C44EC7258E7B5
A5: 파상형경질폴리에틸렌전선관 | B5: 80mm | C5: m | D5: 1 | E5: =단가대비표!O132 -> 1180 | F5: =TRUNC(E5*D5,2) -> 1180 | G5: =단가대비표!P132 -> 0 | H5: =TRUNC(G5*D5,2) -> 0 | I5: =단가대비표!V132 -> 0 | J5: =TRUNC(I5*D5,2) -> 0 | K5: =TRUNC(E5+G5+I5,2) -> 1180 | L5: =TRUNC(F5+H5+J5,2) -> 1180 | N5: 5ED994E0632C05A58C44EC7258E7B5 | O5: 59BD04D943560546DA4DF4059EE0CD25C7313E | P5: F | Q5: F | R5: T | V5: 1 | W5: 2 | AW5: 5ED994E0632C05A58C44EC7258E7B559BD04D943560546DA4DF4059EE0CD25C7313E
A6: 파상형경질폴리에틸렌전선관 | B6: 80mm | C6: m | D6: 0.03 | E6: =단가대비표!O132 -> 1180 | F6: =TRUNC(E6*D6,2) -> 35.4 | G6: =단가대비표!P132 -> 0 | H6: =TRUNC(G6*D6,2) -> 0 | I6: =단가대비표!V132 -> 0 | J6: =TRUNC(I6*D6,2) -> 0 | K6: =TRUNC(E6+G6+I6,2) -> 1180 | L6: =TRUNC(F6+H6+J6,2) -> 35.4 | N6: 5ED994E0632C05A58C44EC7258E7B5 | O6: 59BD04D943560546DA4DF4059EE0CD25C7313E | P6: F | Q6: F | R6: T | AW6: 5ED994E0632C05A58C44EC7258E7B559BD04D943560546DA4DF4059EE0CD25C7313E
A7: 전선관부속품 | B7: 전선관의 15% | C7: 식 | D7: 1 | E7: =TRUNC(SUMIF(V5:V11, RIGHTB(O7, 1), F5:F11)*U7, 2) -> 177 | F7: =TRUNC(E7*D7,2) -> 177 | G7: 0 | H7: =TRUNC(G7*D7,2) -> 0 | I7: 0 | J7: =TRUNC(I7*D7,2) -> 0 | K7: =TRUNC(E7+G7+I7,2) -> 177 | L7: =TRUNC(F7+H7+J7,2) -> 177 | N7: 5ED994E0632C05A58C44EC7258E7B5 | O7: 5F8EC49E238505677B46C060FE9D001 | P7: F | Q7: F | R7: F | S7: 0 | T7: 0 | U7: 0.15 | AW7: 5ED994E0632C05A58C44EC7258E7B55F8EC49E238505677B46C060FE9E002
A8: 소모잡자재 | B8: 배관배선의 2% | C8: 식 | D8: 1 | E8: =TRUNC(SUMIF(W5:W11, RIGHTB(O8, 1), F5:F11)*U8, 2) -> 23.6 | F8: =TRUNC(E8*D8,2) -> 23.6 | G8: 0 | H8: =TRUNC(G8*D8,2) -> 0 | I8: 0 | J8: =TRUNC(I8*D8,2) -> 0 | K8: =TRUNC(E8+G8+I8,2) -> 23.6 | L8: =TRUNC(F8+H8+J8,2) -> 23.6 | N8: 5ED994E0632C05A58C44EC7258E7B5 | O8: 5F8EC49E238505677B46C060FE9E002 | P8: F | Q8: F | R8: F | S8: 0 | T8: 0 | U8: 0.02 | AW8: 5ED994E0632C05A58C44EC7258E7B55F8EC49E238505677B46C060FE9F003
A9: 보통인부 | B9: 일반공사 직종 | C9: 인 | D9: =공량산출근거서!K9 -> 0.022 | E9: =단가대비표!O162 -> 0 | F9: =TRUNC(E9*D9,2) -> 0 | G9: =단가대비표!P162 -> 172068 | H9: =TRUNC(G9*D9,2) -> 3785.49 | I9: =단가대비표!V162 -> 0 | J9: =TRUNC(I9*D9,2) -> 0 | K9: =TRUNC(E9+G9+I9,2) -> 172068 | L9: =TRUNC(F9+H9+J9,2) -> 3785.49 | N9: 5ED994E0632C05A58C44EC7258E7B5 | O9: 5E48649BA312059493492DA425E3C8A9219B85 | P9: F | Q9: F | R9: T | X9: 3 | AW9: 5ED994E0632C05A58C44EC7258E7B55E48649BA312059493492DA425E3C8A9219B85
A10: 배전전공 | B10: 일반공사 직종 | C10: 인 | D10: =공량산출근거서!K10 -> 0.009 | E10: =단가대비표!O172 -> 0 | F10: =TRUNC(E10*D10,2) -> 0 | G10: =단가대비표!P172 -> 414968 | H10: =TRUNC(G10*D10,2) -> 3734.71 | I10: =단가대비표!V172 -> 0 | J10: =TRUNC(I10*D10,2) -> 0 | K10: =TRUNC(E10+G10+I10,2) -> 414968 | L10: =TRUNC(F10+H10+J10,2) -> 3734.71 | N10: 5ED994E0632C05A58C44EC7258E7B5 | O10: 5E48649BA312059493492DA425E3C8A92193B0 | P10: F | Q10: F | R10: T | X10: 3 | AW10: 5ED994E0632C05A58C44EC7258E7B55E48649BA312059493492DA425E3C8A92193B0
A11: 공구손료 | B11: 노무비의 3% | C11: 식 | D11: 1 | E11: =TRUNC(SUMIF(X5:X11, RIGHTB(O11, 1), H5:H11)*U11, 2) -> 225.6 | F11: =TRUNC(E11*D11,2) -> 225.6 | G11: 0 | H11: =TRUNC(G11*D11,2) -> 0 | I11: 0 | J11: =TRUNC(I11*D11,2) -> 0 | K11: =TRUNC(E11+G11+I11,2) -> 225.6 | L11: =TRUNC(F11+H11+J11,2) -> 225.6 | N11: 5ED994E0632C05A58C44EC7258E7B5 | O11: 5F8EC49E238505677B46C060FE9F003 | P11: F | Q11: F | R11: F | S11: 1 | T11: 0 | U11: 0.03 | AW11: 5ED994E0632C05A58C44EC7258E7B55F8EC49E238505677B46C060FE98004
A12: [ 합 계 ] | F12: =TRUNC(SUMIF(N5:N11, N4, F5:F11),0) -> 1641 | H12: =TRUNC(SUMIF(N5:N11, N4, H5:H11),0) -> 7520 | J12: =TRUNC(SUMIF(N5:N11, N4, J5:J11),0) -> 0 | L12: =F12+H12+J12 -> 9161 | N12: TOTAL | O12: TOTAL
A14: 절연전선 F-GV, 150㎟, 관내포설 m ( 호표 2 ) | N14: 5ED9D47E33F405936E444F49029855
A15: 절연전선및피복선 | B15: 접지용비닐절연전선, F-GV, 150㎟ | C15: m | D15: 1 | E15: =단가대비표!O24 -> 12010 | F15: =TRUNC(E15*D15,2) -> 12010 | G15: =단가대비표!P24 -> 0 | H15: =TRUNC(G15*D15,2) -> 0 | I15: =단가대비표!V24 -> 0 | J15: =TRUNC(I15*D15,2) -> 0 | K15: =TRUNC(E15+G15+I15,2) -> 12010 | L15: =TRUNC(F15+H15+J15,2) -> 12010 | N15: 5ED9D47E33F405936E444F49029855 | O15: 59A344B813EF05160541291C4BCB9380C226D3 | P15: F | Q15: F | R15: T | V15: 1 | AW15: 5ED9D47E33F405936E444F4902985559A344B813EF05160541291C4BCB9380C226D3
A16: 절연전선및피복선 | B16: 접지용비닐절연전선, F-GV, 150㎟ | C16: m | D16: 0.1 | E16: =단가대비표!O24 -> 12010 | F16: =TRUNC(E16*D16,2) -> 1201 | G16: =단가대비표!P24 -> 0 | H16: =TRUNC(G16*D16,2) -> 0 | I16: =단가대비표!V24 -> 0 | J16: =TRUNC(I16*D16,2) -> 0 | K16: =TRUNC(E16+G16+I16,2) -> 12010 | L16: =TRUNC(F16+H16+J16,2) -> 1201 | N16: 5ED9D47E33F405936E444F49029855 | O16: 59A344B813EF05160541291C4BCB9380C226D3 | P16: F | Q16: F | R16: T | AW16: 5ED9D47E33F405936E444F4902985559A344B813EF05160541291C4BCB9380C226D3
A17: 소모잡자재 | B17: 배관배선의 2% | C17: 식 | D17: 1 | E17: =TRUNC(SUMIF(V15:V19, RIGHTB(O17, 1), F15:F19)*U17, 2) -> 240.2 | F17: =TRUNC(E17*D17,2) -> 240.2 | G17: 0 | H17: =TRUNC(G17*D17,2) -> 0 | I17: 0 | J17: =TRUNC(I17*D17,2) -> 0 | K17: =TRUNC(E17+G17+I17,2) -> 240.2 | L17: =TRUNC(F17+H17+J17,2) -> 240.2 | N17: 5ED9D47E33F405936E444F49029855 | O17: 5F8EC49E238505677B46C060FE9D001 | P17: F | Q17: F | R17: F | S17: 0 | T17: 0 | U17: 0.02 | AW17: 5ED9D47E33F405936E444F490298555F8EC49E238505677B46C060FE9F003
A18: 내선전공 | B18: 일반공사 직종 | C18: 인 | D18: =공량산출근거서!K14 -> 0.0165 | E18: =단가대비표!O169 -> 0 | F18: =TRUNC(E18*D18,2) -> 0 | G18: =단가대비표!P169 -> 273676 | H18: =TRUNC(G18*D18,2) -> 4515.65 | I18: =단가대비표!V169 -> 0 | J18: =TRUNC(I18*D18,2) -> 0 | K18: =TRUNC(E18+G18+I18,2) -> 273676 | L18: =TRUNC(F18+H18+J18,2) -> 4515.65 | N18: 5ED9D47E33F405936E444F49029855 | O18: 5E48649BA312059493492DA425E3C8A9219CA8 | P18: F | Q18: F | R18: T | W18: 2 | AW18: 5ED9D47E33F405936E444F490298555E48649BA312059493492DA425E3C8A9219CA8
A19: 공구손료 | B19: 인력품의 3% | C19: 식 | D19: 1 | E19: =TRUNC(SUMIF(W15:W19, RIGHTB(O19, 1), H15:H19)*U19, 2) -> 135.46 | F19: =TRUNC(E19*D19,2) -> 135.46 | G19: 0 | H19: =TRUNC(G19*D19,2) -> 0 | I19: 0 | J19: =TRUNC(I19*D19,2) -> 0 | K19: =TRUNC(E19+G19+I19,2) -> 135.46 | L19: =TRUNC(F19+H19+J19,2) -> 135.46 | N19: 5ED9D47E33F405936E444F49029855 | O19: 5F8EC49E238505677B46C060FE9E002 | P19: F | Q19: F | R19: F | S19: 1 | T19: 0 | U19: 0.03 | AW19: 5ED9D47E33F405936E444F490298555F8EC49E238505677B46C060FE98004
A20: [ 합 계 ] | F20: =TRUNC(SUMIF(N15:N19, N14, F15:F19),0) -> 13586 | H20: =TRUNC(SUMIF(N15:N19, N14, H15:H19),0) -> 4515 | J20: =TRUNC(SUMIF(N15:N19, N14, J15:J19),0) -> 0 | L20: =F20+H20+J20 -> 18101 | N20: TOTAL | O20: TOTAL
A22: 전주입상관 특고압용 개소 ( 호표 3 ) | N22: 5ED984FD83030590FD4B6B4892E4ED
A23: 지중선용가선철물 | B23: 전주용입상관, D130×2m | C23: 개 | D23: 1 | E23: =단가대비표!O108 -> 0 | F23: =TRUNC(E23*D23,2) -> 0 | G23: =단가대비표!P108 -> 0 | H23: =TRUNC(G23*D23,2) -> 0 | I23: =단가대비표!V108 -> 0 | J23: =TRUNC(I23*D23,2) -> 0 | K23: =TRUNC(E23+G23+I23,2) -> 0 | L23: =TRUNC(F23+H23+J23,2) -> 0 | N23: 5ED984FD83030590FD4B6B4892E4ED | O23: 59BD04D9434505C5324CE1AA8DAD0634C512EB | P23: F | Q23: F | R23: T | AW23: 5ED984FD83030590FD4B6B4892E4ED59BD04D9434505C5324CE1AA8DAD0634C512EB
A24: 보통인부 | B24: 일반공사 직종 | C24: 인 | D24: =공량산출근거서!K18 -> 0.11 | E24: =단가대비표!O162 -> 0 | F24: =TRUNC(E24*D24,2) -> 0 | G24: =단가대비표!P162 -> 172068 | H24: =TRUNC(G24*D24,2) -> 18927.48 | I24: =단가대비표!V162 -> 0 | J24: =TRUNC(I24*D24,2) -> 0 | K24: =TRUNC(E24+G24+I24,2) -> 172068 | L24: =TRUNC(F24+H24+J24,2) -> 18927.48 | N24: 5ED984FD83030590FD4B6B4892E4ED | O24: 5E48649BA312059493492DA425E3C8A9219B85 | P24: F | Q24: F | R24: T | V24: 1 | AW24: 5ED984FD83030590FD4B6B4892E4ED5E48649BA312059493492DA425E3C8A9219B85
A25: 배전전공 | B25: 일반공사 직종 | C25: 인 | D25: =공량산출근거서!K19 -> 0.22 | E25: =단가대비표!O172 -> 0 | F25: =TRUNC(E25*D25,2) -> 0 | G25: =단가대비표!P172 -> 414968 | H25: =TRUNC(G25*D25,2) -> 91292.96 | I25: =단가대비표!V172 -> 0 | J25: =TRUNC(I25*D25,2) -> 0 | K25: =TRUNC(E25+G25+I25,2) -> 414968 | L25: =TRUNC(F25+H25+J25,2) -> 91292.96 | N25: 5ED984FD83030590FD4B6B4892E4ED | O25: 5E48649BA312059493492DA425E3C8A92193B0 | P25: F | Q25: F | R25: T | V25: 1 | AW25: 5ED984FD83030590FD4B6B4892E4ED5E48649BA312059493492DA425E3C8A92193B0
A26: 공구손료 | B26: 인력품의 3% | C26: 식 | D26: 1 | E26: =TRUNC(SUMIF(V23:V26, RIGHTB(O26, 1), H23:H26)*U26, 2) -> 3306.61 | F26: =TRUNC(E26*D26,2) -> 3306.61 | G26: 0 | H26: =TRUNC(G26*D26,2) -> 0 | I26: 0 | J26: =TRUNC(I26*D26,2) -> 0 | K26: =TRUNC(E26+G26+I26,2) -> 3306.61 | L26: =TRUNC(F26+H26+J26,2) -> 3306.61 | N26: 5ED984FD83030590FD4B6B4892E4ED | O26: 5F8EC49E238505677B46C060FE9D001 | P26: F | Q26: F | R26: F | S26: 1 | T26: 0 | U26: 0.03 | AW26: 5ED984FD83030590FD4B6B4892E4ED5F8EC49E238505677B46C060FE9D001
A27: [ 합 계 ] | F27: =TRUNC(SUMIF(N23:N26, N22, F23:F26),0) -> 3306 | H27: =TRUNC(SUMIF(N23:N26, N22, H23:H26),0) -> 110220 | J27: =TRUNC(SUMIF(N23:N26, N22, J23:J26),0) -> 0 | L27: =F27+H27+J27 -> 113526 | N27: TOTAL | O27: TOTAL
A29: 파상형 경질폴리에틸렌 전선관 125mm m ( 호표 4 ) | N29: 5ED994E0632C05FDBE44617D46C6EF
A30: 파상형경질폴리에틸렌전선관 | B30: 125mm | C30: m | D30: 1 | E30: =단가대비표!O134 -> 2796 | F30: =TRUNC(E30*D30,2) -> 2796 | G30: =단가대비표!P134 -> 0 | H30: =TRUNC(G30*D30,2) -> 0 | I30: =단가대비표!V134 -> 0 | J30: =TRUNC(I30*D30,2) -> 0 | K30: =TRUNC(E30+G30+I30,2) -> 2796 | L30: =TRUNC(F30+H30+J30,2) -> 2796 | N30: 5ED994E0632C05FDBE44617D46C6EF | O30: 59BD04D943560546DA4DF4059EE0CD25C7313C | P30: F | Q30: F | R30: T | V30: 1 | W30: 2 | AW30: 5ED994E0632C05FDBE44617D46C6EF59BD04D943560546DA4DF4059EE0CD25C7313C
A31: 파상형경질폴리에틸렌전선관 | B31: 125mm | C31: m | D31: 0.03 | E31: =단가대비표!O134 -> 2796 | F31: =TRUNC(E31*D31,2) -> 83.88 | G31: =단가대비표!P134 -> 0 | H31: =TRUNC(G31*D31,2) -> 0 | I31: =단가대비표!V134 -> 0 | J31: =TRUNC(I31*D31,2) -> 0 | K31: =TRUNC(E31+G31+I31,2) -> 2796 | L31: =TRUNC(F31+H31+J31,2) -> 83.88 | N31: 5ED994E0632C05FDBE44617D46C6EF | O31: 59BD04D943560546DA4DF4059EE0CD25C7313C | P31: F | Q31: F | R31: T | AW31: 5ED994E0632C05FDBE44617D46C6EF59BD04D943560546DA4DF4059EE0CD25C7313C
A32: 전선관부속품 | B32: 전선관의 15% | C32: 식 | D32: 1 | E32: =TRUNC(SUMIF(V30:V36, RIGHTB(O32, 1), F30:F36)*U32, 2) -> 419.4 | F32: =TRUNC(E32*D32,2) -> 419.4 | G32: 0 | H32: =TRUNC(G32*D32,2) -> 0 | I32: 0 | J32: =TRUNC(I32*D32,2) -> 0 | K32: =TRUNC(E32+G32+I32,2) -> 419.4 | L32: =TRUNC(F32+H32+J32,2) -> 419.4 | N32: 5ED994E0632C05FDBE44617D46C6EF | O32: 5F8EC49E238505677B46C060FE9D001 | P32: F | Q32: F | R32: F | S32: 0 | T32: 0 | U32: 0.15 | AW32: 5ED994E0632C05FDBE44617D46C6EF5F8EC49E238505677B46C060FE9E002
A33: 소모잡자재 | B33: 배관,배선의 2% | C33: 식 | D33: 1 | E33: =TRUNC(SUMIF(W30:W36, RIGHTB(O33, 1), F30:F36)*U33, 2) -> 55.92 | F33: =TRUNC(E33*D33,2) -> 55.92 | G33: 0 | H33: =TRUNC(G33*D33,2) -> 0 | I33: 0 | J33: =TRUNC(I33*D33,2) -> 0 | K33: =TRUNC(E33+G33+I33,2) -> 55.92 | L33: =TRUNC(F33+H33+J33,2) -> 55.92 | N33: 5ED994E0632C05FDBE44617D46C6EF | O33: 5F8EC49E238505677B46C060FE9E002 | P33: F | Q33: F | R33: F | S33: 0 | T33: 0 | U33: 0.02 | AW33: 5ED994E0632C05FDBE44617D46C6EF5F8EC49E238505677B46C060FE9F003
A34: 보통인부 | B34: 일반공사 직종 | C34: 인 | D34: =공량산출근거서!K25 -> 0.048 | E34: =단가대비표!O162 -> 0 | F34: =TRUNC(E34*D34,2) -> 0 | G34: =단가대비표!P162 -> 172068 | H34: =TRUNC(G34*D34,2) -> 8259.26 | I34: =단가대비표!V162 -> 0 | J34: =TRUNC(I34*D34,2) -> 0 | K34: =TRUNC(E34+G34+I34,2) -> 172068 | L34: =TRUNC(F34+H34+J34,2) -> 8259.26 | N34: 5ED994E0632C05FDBE44617D46C6EF | O34: 5E48649BA312059493492DA425E3C8A9219B85 | P34: F | Q34: F | R34: T | X34: 3 | AW34: 5ED994E0632C05FDBE44617D46C6EF5E48649BA312059493492DA425E3C8A9219B85
A35: 배전전공 | B35: 일반공사 직종 | C35: 인 | D35: =공량산출근거서!K26 -> 0.016 | E35: =단가대비표!O172 -> 0 | F35: =TRUNC(E35*D35,2) -> 0 | G35: =단가대비표!P172 -> 414968 | H35: =TRUNC(G35*D35,2) -> 6639.48 | I35: =단가대비표!V172 -> 0 | J35: =TRUNC(I35*D35,2) -> 0 | K35: =TRUNC(E35+G35+I35,2) -> 414968 | L35: =TRUNC(F35+H35+J35,2) -> 6639.48 | N35: 5ED994E0632C05FDBE44617D46C6EF | O35: 5E48649BA312059493492DA425E3C8A92193B0 | P35: F | Q35: F | R35: T | X35: 3 | AW35: 5ED994E0632C05FDBE44617D46C6EF5E48649BA312059493492DA425E3C8A92193B0
A36: 공구손료 | B36: 노무비의 3% | C36: 식 | D36: 1 | E36: =TRUNC(SUMIF(X30:X36, RIGHTB(O36, 1), H30:H36)*U36, 2) -> 446.96 | F36: =TRUNC(E36*D36,2) -> 446.96 | G36: 0 | H36: =TRUNC(G36*D36,2) -> 0 | I36: 0 | J36: =TRUNC(I36*D36,2) -> 0 | K36: =TRUNC(E36+G36+I36,2) -> 446.96 | L36: =TRUNC(F36+H36+J36,2) -> 446.96 | N36: 5ED994E0632C05FDBE44617D46C6EF | O36: 5F8EC49E238505677B46C060FE9F003 | P36: F | Q36: F | R36: F | S36: 1 | T36: 0 | U36: 0.03 | AW36: 5ED994E0632C05FDBE44617D46C6EF5F8EC49E238505677B46C060FE98004
A37: [ 합 계 ] | F37: =TRUNC(SUMIF(N30:N36, N29, F30:F36),0) -> 3802 | H37: =TRUNC(SUMIF(N30:N36, N29, H30:H36),0) -> 14898 | J37: =TRUNC(SUMIF(N30:N36, N29, J30:J36),0) -> 0 | L37: =F37+H37+J37 -> 18700 | N37: TOTAL | O37: TOTAL
A39: 관로구방수 ø125 개 ( 호표 5 ) | N39: 5ED994EC13B205C7524B6045FF0C32
A40: 전선관피팅 | B40: 관구밀폐기, 실링가스켓, D125 | C40: 개 | D40: 1 | E40: =단가대비표!O147 -> 25049 | F40: =TRUNC(E40*D40,2) -> 25049 | G40: =단가대비표!P147 -> 0 | H40: =TRUNC(G40*D40,2) -> 0 | I40: =단가대비표!V147 -> 0 | J40: =TRUNC(I40*D40,2) -> 0 | K40: =TRUNC(E40+G40+I40,2) -> 25049 | L40: =TRUNC(F40+H40+J40,2) -> 25049 | N40: 5ED994EC13B205C7524B6045FF0C32 | O40: 59BD04D943560546DA4DFAAEA1349E5D674BC3 | P40: F | Q40: F | R40: T | AW40: 5ED994EC13B205C7524B6045FF0C3259BD04D943560546DA4DFAAEA1349E5D674BC3
A41: 관구밀폐기 | B41: 관구밀폐기, 이종연결관, Φ125mm | C41: 개 | D41: 1 | E41: =단가대비표!O153 -> 5415 | F41: =TRUNC(E41*D41,2) -> 5415 | G41: =단가대비표!P153 -> 0 | H41: =TRUNC(G41*D41,2) -> 0 | I41: =단가대비표!V153 -> 0 | J41: =TRUNC(I41*D41,2) -> 0 | K41: =TRUNC(E41+G41+I41,2) -> 5415 | L41: =TRUNC(F41+H41+J41,2) -> 5415 | N41: 5ED994EC13B205C7524B6045FF0C32 | O41: 59BD04D943560546DA4DFAAEA027188DE702AE | P41: F | Q41: F | R41: T | AW41: 5ED994EC13B205C7524B6045FF0C3259BD04D943560546DA4DFAAEA027188DE702AE
A42: 통신용발포지수제 | B42: 통신용발포지수제, 발포지수제, D150이하 | C42: 개 | D42: 1 | E42: =단가대비표!O85 -> 30264 | F42: =TRUNC(E42*D42,2) -> 30264 | G42: =단가대비표!P85 -> 0 | H42: =TRUNC(G42*D42,2) -> 0 | I42: =단가대비표!V85 -> 0 | J42: =TRUNC(I42*D42,2) -> 0 | K42: =TRUNC(E42+G42+I42,2) -> 30264 | L42: =TRUNC(F42+H42+J42,2) -> 30264 | N42: 5ED994EC13B205C7524B6045FF0C32 | O42: 59BD04D9434505F25D4F7C29C1250E50261B60 | P42: F | Q42: F | R42: T | AW42: 5ED994EC13B205C7524B6045FF0C3259BD04D9434505F25D4F7C29C1250E50261B60
A43: 통신용발포지수제 | B43: 통신용발포지수제, 수밀보호테이프 | C43: 개 | D43: 1 | E43: =단가대비표!O86 -> 2470 | F43: =TRUNC(E43*D43,2) -> 2470 | G43: =단가대비표!P86 -> 0 | H43: =TRUNC(G43*D43,2) -> 0 | I43: =단가대비표!V86 -> 0 | J43: =TRUNC(I43*D43,2) -> 0 | K43: =TRUNC(E43+G43+I43,2) -> 2470 | L43: =TRUNC(F43+H43+J43,2) -> 2470 | N43: 5ED994EC13B205C7524B6045FF0C32 | O43: 59BD04D9434505F25D4F7C29C128C13DC9DFC8 | P43: F | Q43: F | R43: T | AW43: 5ED994EC13B205C7524B6045FF0C3259BD04D9434505F25D4F7C29C128C13DC9DFC8
A44: 보통인부 | B44: 일반공사 직종 | C44: 인 | D44: =공량산출근거서!K30 -> 0.1188 | E44: =단가대비표!O162 -> 0 | F44: =TRUNC(E44*D44,2) -> 0 | G44: =단가대비표!P162 -> 172068 | H44: =TRUNC(G44*D44,2) -> 20441.67 | I44: =단가대비표!V162 -> 0 | J44: =TRUNC(I44*D44,2) -> 0 | K44: =TRUNC(E44+G44+I44,2) -> 172068 | L44: =TRUNC(F44+H44+J44,2) -> 20441.67 | N44: 5ED994EC13B205C7524B6045FF0C32 | O44: 5E48649BA312059493492DA425E3C8A9219B85 | P44: F | Q44: F | R44: T | V44: 1 | AW44: 5ED994EC13B205C7524B6045FF0C325E48649BA312059493492DA425E3C8A9219B85
A45: 특고압케이블전공 | B45: 일반공사 직종 | C45: 인 | D45: =공량산출근거서!K31 -> 0.1188 | E45: =단가대비표!O170 -> 0 | F45: =TRUNC(E45*D45,2) -> 0 | G45: =단가대비표!P170 -> 440616 | H45: =TRUNC(G45*D45,2) -> 52345.18 | I45: =단가대비표!V170 -> 0 | J45: =TRUNC(I45*D45,2) -> 0 | K45: =TRUNC(E45+G45+I45,2) -> 440616 | L45: =TRUNC(F45+H45+J45,2) -> 52345.18 | N45: 5ED994EC13B205C7524B6045FF0C32 | O45: 5E48649BA312059493492DA425E3C8A9219CAB | P45: F | Q45: F | R45: T | V45: 1 | AW45: 5ED994EC13B205C7524B6045FF0C325E48649BA312059493492DA425E3C8A9219CAB
A46: 공구손료 | B46: 인력품의 3% | C46: 식 | D46: 1 | E46: =TRUNC(SUMIF(V40:V46, RIGHTB(O46, 1), H40:H46)*U46, 2) -> 2183.6 | F46: =TRUNC(E46*D46,2) -> 2183.6 | G46: 0 | H46: =TRUNC(G46*D46,2) -> 0 | I46: 0 | J46: =TRUNC(I46*D46,2) -> 0 | K46: =TRUNC(E46+G46+I46,2) -> 2183.6 | L46: =TRUNC(F46+H46+J46,2) -> 2183.6 | N46: 5ED994EC13B205C7524B6045FF0C32 | O46: 5F8EC49E238505677B46C060FE9D001 | P46: F | Q46: F | R46: F | S46: 1 | T46: 0 | U46: 0.03 | AW46: 5ED994EC13B205C7524B6045FF0C325F8EC49E238505677B46C060FE9D001
A47: [ 합 계 ] | F47: =TRUNC(SUMIF(N40:N46, N39, F40:F46),0) -> 65381 | H47: =TRUNC(SUMIF(N40:N46, N39, H40:H46),0) -> 72786 | J47: =TRUNC(SUMIF(N40:N46, N39, J40:J46),0) -> 0 | L47: =F47+H47+J47 -> 138167 | N47: TOTAL | O47: TOTAL
A49: 맨홀 2,000*1,500*1,500 개소 ( 호표 6 ) | N49: 5ED9749463430510F841DF09D28106
A50: 터파기(기계9:1) | B50: 보통토사.백호90%+인력10% | C50: ㎥ | D50: 16.1 | E50: =일위대가목록!E88 -> 318 | F50: =TRUNC(E50*D50,2) -> 5119.8 | G50: =일위대가목록!F88 -> 7715 | H50: =TRUNC(G50*D50,2) -> 124211.5 | I50: =일위대가목록!G88 -> 267 | J50: =TRUNC(I50*D50,2) -> 4298.7 | K50: =TRUNC(E50+G50+I50,2) -> 8300 | L50: =TRUNC(F50+H50+J50,2) -> 133630 | M50: 호표 85 | N50: 5ED9749463430510F841DF09D28106 | O50: 5E975467E3D905992646AD78D308CA | P50: T | Q50: F | R50: F | AW50: 5ED9749463430510F841DF09D281065E975467E3D905992646AD78D308CA
A51: 되메우기 | B51: 토사,인력 | C51: ㎥ | D51: 6.524 | E51: =일위대가목록!E89 -> 0 | F51: =TRUNC(E51*D51,2) -> 0 | G51: =일위대가목록!F89 -> 17206 | H51: =TRUNC(G51*D51,2) -> 112251.94 | I51: =일위대가목록!G89 -> 0 | J51: =TRUNC(I51*D51,2) -> 0 | K51: =TRUNC(E51+G51+I51,2) -> 17206 | L51: =TRUNC(F51+H51+J51,2) -> 112251.94 | M51: 호표 86 | N51: 5ED9749463430510F841DF09D28106 | O51: 5E975461432C058C87426A2BF8C4D0 | P51: T | Q51: F | R51: F | AW51: 5ED9749463430510F841DF09D281065E975461432C058C87426A2BF8C4D0
A52: 현장내잔토처리 | B52: 소운반.고르기 | C52: ㎥ | D52: 9.576 | E52: =일위대가목록!E90 -> 0 | F52: =TRUNC(E52*D52,2) -> 0 | G52: =일위대가목록!F90 -> 34413 | H52: =TRUNC(G52*D52,2) -> 329538.88 | I52: =일위대가목록!G90 -> 0 | J52: =TRUNC(I52*D52,2) -> 0 | K52: =TRUNC(E52+G52+I52,2) -> 34413 | L52: =TRUNC(F52+H52+J52,2) -> 329538.88 | M52: 호표 87 | N52: 5ED9749463430510F841DF09D28106 | O52: 5E975461432C058CCE4C6BF4E16E80 | P52: T | Q52: F | R52: F | AW52: 5ED9749463430510F841DF09D281065E975461432C058CCE4C6BF4E16E80
A53: 잡석깔기지정 | B53: 떨공이다지기 | C53: ㎥ | D53: 0.912 | E53: =일위대가목록!E91 -> 35685 | F53: =TRUNC(E53*D53,2) -> 32544.72 | G53: =일위대가목록!F91 -> 189274 | H53: =TRUNC(G53*D53,2) -> 172617.88 | I53: =일위대가목록!G91 -> 0 | J53: =TRUNC(I53*D53,2) -> 0 | K53: =TRUNC(E53+G53+I53,2) -> 224959 | L53: =TRUNC(F53+H53+J53,2) -> 205162.6 | M53: 호표 88 | N53: 5ED9749463430510F841DF09D28106 | O53: 5E97447F838E057E3B45235E45A008 | P53: T | Q53: F | R53: F | AW53: 5ED9749463430510F841DF09D281065E97447F838E057E3B45235E45A008
A54: 핸드홀카바 | B54: 주철각형(1120x680x132) | C54: 조 | D54: 1 | E54: =단가대비표!O46 -> 370000 | F54: =TRUNC(E54*D54,2) -> 370000 | G54: =단가대비표!P46 -> 0 | H54: =TRUNC(G54*D54,2) -> 0 | I54: =단가대비표!V46 -> 0 | J54: =TRUNC(I54*D54,2) -> 0 | K54: =TRUNC(E54+G54+I54,2) -> 370000 | L54: =TRUNC(F54+H54+J54,2) -> 370000 | N54: 5ED9749463430510F841DF09D28106 | O54: 59BD9435438A054B0540E3D636E2E225140081 | P54: F | Q54: F | R54: T | AW54: 5ED9749463430510F841DF09D2810659BD9435438A054B0540E3D636E2E225140081
A55: 핸드홀 | B55: 2000x1500x1500 | C55: 조 | D55: 1 | E55: =단가대비표!O45 -> 590000 | F55: =TRUNC(E55*D55,2) -> 590000 | G55: =단가대비표!P45 -> 0 | H55: =TRUNC(G55*D55,2) -> 0 | I55: =단가대비표!V45 -> 0 | J55: =TRUNC(I55*D55,2) -> 0 | K55: =TRUNC(E55+G55+I55,2) -> 590000 | L55: =TRUNC(F55+H55+J55,2) -> 590000 | N55: 5ED9749463430510F841DF09D28106 | O55: 59BD9435438A054B0540E3D636E2E2251401AF | P55: F | Q55: F | R55: T | AW55: 5ED9749463430510F841DF09D2810659BD9435438A054B0540E3D636E2E2251401AF
A56: 접지장치또는조립품 | B56: 접지봉, 14Φ×1000mm | C56: 개 | D56: 1 | E56: =단가대비표!O97 -> 3316 | F56: =TRUNC(E56*D56,2) -> 3316 | G56: =단가대비표!P97 -> 0 | H56: =TRUNC(G56*D56,2) -> 0 | I56: =단가대비표!V97 -> 0 | J56: =TRUNC(I56*D56,2) -> 0 | K56: =TRUNC(E56+G56+I56,2) -> 3316 | L56: =TRUNC(F56+H56+J56,2) -> 3316 | N56: 5ED9749463430510F841DF09D28106 | O56: 59BD04D9434505F205441DF8005D9C825F57D0 | P56: F | Q56: F | R56: T | AW56: 5ED9749463430510F841DF09D2810659BD04D9434505F205441DF8005D9C825F57D0
A57: 접지용비닐절연전선 | B57: F-GV, 35㎟ | C57: m | D57: 5 | E57: =단가대비표!O20 -> 5377 | F57: =TRUNC(E57*D57,2) -> 26885 | G57: =단가대비표!P20 -> 0 | H57: =TRUNC(G57*D57,2) -> 0 | I57: =단가대비표!V20 -> 0 | J57: =TRUNC(I57*D57,2) -> 0 | K57: =TRUNC(E57+G57+I57,2) -> 5377 | L57: =TRUNC(F57+H57+J57,2) -> 26885 | N57: 5ED9749463430510F841DF09D28106 | O57: 59A344B813EF05160541291C4BCB9380C226D4 | P57: F | Q57: F | R57: T | AW57: 5ED9749463430510F841DF09D2810659A344B813EF05160541291C4BCB9380C226D4
A58: 전기용행어 | B58: 케이블받침대, 75×40×5×750mm | C58: 개 | D58: 2 | E58: =단가대비표!O105 -> 0 | F58: =TRUNC(E58*D58,2) -> 0 | G58: =단가대비표!P105 -> 0 | H58: =TRUNC(G58*D58,2) -> 0 | I58: =단가대비표!V105 -> 0 | J58: =TRUNC(I58*D58,2) -> 0 | K58: =TRUNC(E58+G58+I58,2) -> 0 | L58: =TRUNC(F58+H58+J58,2) -> 0 | N58: 5ED9749463430510F841DF09D28106 | O58: 59BD04D9434505F2174B2972C19D4614AC184A | P58: F | Q58: F | R58: T | AW58: 5ED9749463430510F841DF09D2810659BD04D9434505F2174B2972C19D4614AC184A
A59: 전기용행어 | B59: 케이블걸이, 걸이쇠, 2조 | C59: 개 | D59: 2 | E59: =단가대비표!O104 -> 0 | F59: =TRUNC(E59*D59,2) -> 0 | G59: =단가대비표!P104 -> 0 | H59: =TRUNC(G59*D59,2) -> 0 | I59: =단가대비표!V104 -> 0 | J59: =TRUNC(I59*D59,2) -> 0 | K59: =TRUNC(E59+G59+I59,2) -> 0 | L59: =TRUNC(F59+H59+J59,2) -> 0 | N59: 5ED9749463430510F841DF09D28106 | O59: 59BD04D9434505F2174B2972C19D4613819ACF | P59: F | Q59: F | R59: T | AW59: 5ED9749463430510F841DF09D2810659BD04D9434505F2174B2972C19D4613819ACF
A60: 지중선용가선철물 | B60: 지중선용가선철물, 맨홀용훅크, 100×250mm | C60: 개 | D60: 4 | E60: =단가대비표!O110 -> 0 | F60: =TRUNC(E60*D60,2) -> 0 | G60: =단가대비표!P110 -> 0 | H60: =TRUNC(G60*D60,2) -> 0 | I60: =단가대비표!V110 -> 0 | J60: =TRUNC(I60*D60,2) -> 0 | K60: =TRUNC(E60+G60+I60,2) -> 0 | L60: =TRUNC(F60+H60+J60,2) -> 0 | N60: 5ED9749463430510F841DF09D28106 | O60: 59BD04D9434505C5324CE1AA8DAD0634C515BA | P60: F | Q60: F | R60: T | AW60: 5ED9749463430510F841DF09D2810659BD04D9434505C5324CE1AA8DAD0634C515BA
A61: 지중선용가선철물 | B61: 지중선용가선철물, 맨홀용발판볼트, 200×330mm | C61: 개 | D61: 4 | E61: =단가대비표!O109 -> 1300 | F61: =TRUNC(E61*D61,2) -> 5200 | G61: =단가대비표!P109 -> 0 | H61: =TRUNC(G61*D61,2) -> 0 | I61: =단가대비표!V109 -> 0 | J61: =TRUNC(I61*D61,2) -> 0 | K61: =TRUNC(E61+G61+I61,2) -> 1300 | L61: =TRUNC(F61+H61+J61,2) -> 5200 | N61: 5ED9749463430510F841DF09D28106 | O61: 59BD04D9434505C5324CE1AA8DAD0634C515BB | P61: F | Q61: F | R61: T | AW61: 5ED9749463430510F841DF09D2810659BD04D9434505C5324CE1AA8DAD0634C515BB
A62: 내선전공 | B62: 일반공사 직종 | C62: 인 | D62: =공량산출근거서!K37 -> 0.145 | E62: =단가대비표!O169 -> 0 | F62: =TRUNC(E62*D62,2) -> 0 | G62: =단가대비표!P169 -> 273676 | H62: =TRUNC(G62*D62,2) -> 39683.02 | I62: =단가대비표!V169 -> 0 | J62: =TRUNC(I62*D62,2) -> 0 | K62: =TRUNC(E62+G62+I62,2) -> 273676 | L62: =TRUNC(F62+H62+J62,2) -> 39683.02 | N62: 5ED9749463430510F841DF09D28106 | O62: 5E48649BA312059493492DA425E3C8A9219CA8 | P62: F | Q62: F | R62: T | AW62: 5ED9749463430510F841DF09D281065E48649BA312059493492DA425E3C8A9219CA8
A63: 보통인부 | B63: 일반공사 직종 | C63: 인 | D63: =공량산출근거서!K36 -> 0.08 | E63: =단가대비표!O162 -> 0 | F63: =TRUNC(E63*D63,2) -> 0 | G63: =단가대비표!P162 -> 172068 | H63: =TRUNC(G63*D63,2) -> 13765.44 | I63: =단가대비표!V162 -> 0 | J63: =TRUNC(I63*D63,2) -> 0 | K63: =TRUNC(E63+G63+I63,2) -> 172068 | L63: =TRUNC(F63+H63+J63,2) -> 13765.44 | N63: 5ED9749463430510F841DF09D28106 | O63: 5E48649BA312059493492DA425E3C8A9219B85 | P63: F | Q63: F | R63: T | AW63: 5ED9749463430510F841DF09D281065E48649BA312059493492DA425E3C8A9219B85
A64: 저압케이블전공 | B64: 일반공사 직종 | C64: 인 | D64: 0.45 | E64: =단가대비표!O171 -> 0 | F64: =TRUNC(E64*D64,2) -> 0 | G64: =단가대비표!P171 -> 304156 | H64: =TRUNC(G64*D64,2) -> 136870.2 | I64: =단가대비표!V171 -> 0 | J64: =TRUNC(I64*D64,2) -> 0 | K64: =TRUNC(E64+G64+I64,2) -> 304156 | L64: =TRUNC(F64+H64+J64,2) -> 136870.2 | N64: 5ED9749463430510F841DF09D28106 | O64: 5E48649BA312059493492DA425E3C8A9219CA5 | P64: F | Q64: F | R64: T | AW64: 5ED9749463430510F841DF09D281065E48649BA312059493492DA425E3C8A9219CA5
A65: 줄눈공 | B65: 일반공사 직종 | C65: 인 | D65: 0.04 | E65: =단가대비표!O166 -> 0 | F65: =TRUNC(E65*D65,2) -> 0 | G65: =단가대비표!P166 -> 211653 | H65: =TRUNC(G65*D65,2) -> 8466.12 | I65: =단가대비표!V166 -> 0 | J65: =TRUNC(I65*D65,2) -> 0 | K65: =TRUNC(E65+G65+I65,2) -> 211653 | L65: =TRUNC(F65+H65+J65,2) -> 8466.12 | N65: 5ED9749463430510F841DF09D28106 | O65: 5E48649BA312059493492DA425E3C8A9219836 | P65: F | Q65: F | R65: T | AW65: 5ED9749463430510F841DF09D281065E48649BA312059493492DA425E3C8A9219836
A66: 철공 | B66: 일반공사 직종 | C66: 인 | D66: 0.06 | E66: =단가대비표!O164 -> 0 | F66: =TRUNC(E66*D66,2) -> 0 | G66: =단가대비표!P164 -> 239808 | H66: =TRUNC(G66*D66,2) -> 14388.48 | I66: =단가대비표!V164 -> 0 | J66: =TRUNC(I66*D66,2) -> 0 | K66: =TRUNC(E66+G66+I66,2) -> 239808 | L66: =TRUNC(F66+H66+J66,2) -> 14388.48 | N66: 5ED9749463430510F841DF09D28106 | O66: 5E48649BA312059493492DA425E3C8A9219B8E | P66: F | Q66: F | R66: T | AW66: 5ED9749463430510F841DF09D281065E48649BA312059493492DA425E3C8A9219B8E
A67: 특별인부 | B67: 일반공사 직종 | C67: 인 | D67: 0.09 | E67: =단가대비표!O163 -> 0 | F67: =TRUNC(E67*D67,2) -> 0 | G67: =단가대비표!P163 -> 226122 | H67: =TRUNC(G67*D67,2) -> 20350.98 | I67: =단가대비표!V163 -> 0 | J67: =TRUNC(I67*D67,2) -> 0 | K67: =TRUNC(E67+G67+I67,2) -> 226122 | L67: =TRUNC(F67+H67+J67,2) -> 20350.98 | N67: 5ED9749463430510F841DF09D28106 | O67: 5E48649BA312059493492DA425E3C8A9219B84 | P67: F | Q67: F | R67: T | AW67: 5ED9749463430510F841DF09D281065E48649BA312059493492DA425E3C8A9219B84
A68: 변전전공 | B68: 기타 직종 | C68: 인 | D68: 0.0298 | E68: =단가대비표!O173 -> 0 | F68: =TRUNC(E68*D68,2) -> 0 | G68: =단가대비표!P173 -> 485075 | H68: =TRUNC(G68*D68,2) -> 14455.23 | I68: =단가대비표!V173 -> 0 | J68: =TRUNC(I68*D68,2) -> 0 | K68: =TRUNC(E68+G68+I68,2) -> 485075 | L68: =TRUNC(F68+H68+J68,2) -> 14455.23 | N68: 5ED9749463430510F841DF09D28106 | O68: 5E48649BA3120594934929C955134E67D0A9BC | P68: F | Q68: F | R68: T | AW68: 5ED9749463430510F841DF09D281065E48649BA3120594934929C955134E67D0A9BC
A69: [ 합 계 ] | F69: =TRUNC(SUMIF(N50:N68, N49, F50:F68),0) -> 1033065 | H69: =TRUNC(SUMIF(N50:N68, N49, H50:H68),0) -> 986599 | J69: =TRUNC(SUMIF(N50:N68, N49, J50:J68),0) -> 4298 | L69: =F69+H69+J69 -> 2023962 | N69: TOTAL | O69: TOTAL
A71: 전력케이블 FR-CN/CO-W, 22.9KV, 1C 60㎟, 3열포설 1열당 m ( 호표 7 ) | N71: 5ED9E46193E9056D6840F4BC4E2DED
A72: 전력케이블 | B72: FR-CNCO-W, 수밀형무독성난연, 22.9kV, 60㎟ | C72: m | D72: 1 | E72: =단가대비표!O35 -> 17478 | F72: =TRUNC(E72*D72,2) -> 17478 | G72: =단가대비표!P35 -> 0 | H72: =TRUNC(G72*D72,2) -> 0 | I72: =단가대비표!V35 -> 0 | J72: =TRUNC(I72*D72,2) -> 0 | K72: =TRUNC(E72+G72+I72,2) -> 17478 | L72: =TRUNC(F72+H72+J72,2) -> 17478 | N72: 5ED9E46193E9056D6840F4BC4E2DED | O72: 59A344B813EF0516324A0471957AB09866416C | P72: F | Q72: F | R72: T | V72: 1 | AW72: 5ED9E46193E9056D6840F4BC4E2DED59A344B813EF0516324A0471957AB09866416C
A73: 전력케이블 | B73: FR-CNCO-W, 수밀형무독성난연, 22.9kV, 60㎟ | C73: m | D73: 0.03 | E73: =단가대비표!O35 -> 17478 | F73: =TRUNC(E73*D73,2) -> 524.34 | G73: =단가대비표!P35 -> 0 | H73: =TRUNC(G73*D73,2) -> 0 | I73: =단가대비표!V35 -> 0 | J73: =TRUNC(I73*D73,2) -> 0 | K73: =TRUNC(E73+G73+I73,2) -> 17478 | L73: =TRUNC(F73+H73+J73,2) -> 524.34 | N73: 5ED9E46193E9056D6840F4BC4E2DED | O73: 59A344B813EF0516324A0471957AB09866416C | P73: F | Q73: F | R73: T | AW73: 5ED9E46193E9056D6840F4BC4E2DED59A344B813EF0516324A0471957AB09866416C
A74: 소모잡자재 | B74: 배관,배선의 2% | C74: 식 | D74: 1 | E74: =TRUNC(SUMIF(V72:V77, RIGHTB(O74, 1), F72:F77)*U74, 2) -> 349.56 | F74: =TRUNC(E74*D74,2) -> 349.56 | G74: 0 | H74: =TRUNC(G74*D74,2) -> 0 | I74: 0 | J74: =TRUNC(I74*D74,2) -> 0 | K74: =TRUNC(E74+G74+I74,2) -> 349.56 | L74: =TRUNC(F74+H74+J74,2) -> 349.56 | N74: 5ED9E46193E9056D6840F4BC4E2DED | O74: 5F8EC49E238505677B46C060FE9D001 | P74: F | Q74: F | R74: F | S74: 0 | T74: 0 | U74: 0.02 | AW74: 5ED9E46193E9056D6840F4BC4E2DED5F8EC49E238505677B46C060FE9F003
A75: 특고압케이블전공 | B75: 일반공사 직종 | C75: 인 | D75: =공량산출근거서!K44 -> 0.0074 | E75: =단가대비표!O170 -> 0 | F75: =TRUNC(E75*D75,2) -> 0 | G75: =단가대비표!P170 -> 440616 | H75: =TRUNC(G75*D75,2) -> 3260.55 | I75: =단가대비표!V170 -> 0 | J75: =TRUNC(I75*D75,2) -> 0 | K75: =TRUNC(E75+G75+I75,2) -> 440616 | L75: =TRUNC(F75+H75+J75,2) -> 3260.55 | N75: 5ED9E46193E9056D6840F4BC4E2DED | O75: 5E48649BA312059493492DA425E3C8A9219CAB | P75: F | Q75: F | R75: T | W75: 2 | AW75: 5ED9E46193E9056D6840F4BC4E2DED5E48649BA312059493492DA425E3C8A9219CAB
A76: 보통인부 | B76: 일반공사 직종 | C76: 인 | D76: =공량산출근거서!K43 -> 0.0074 | E76: =단가대비표!O162 -> 0 | F76: =TRUNC(E76*D76,2) -> 0 | G76: =단가대비표!P162 -> 172068 | H76: =TRUNC(G76*D76,2) -> 1273.3 | I76: =단가대비표!V162 -> 0 | J76: =TRUNC(I76*D76,2) -> 0 | K76: =TRUNC(E76+G76+I76,2) -> 172068 | L76: =TRUNC(F76+H76+J76,2) -> 1273.3 | N76: 5ED9E46193E9056D6840F4BC4E2DED | O76: 5E48649BA312059493492DA425E3C8A9219B85 | P76: F | Q76: F | R76: T | W76: 2 | AW76: 5ED9E46193E9056D6840F4BC4E2DED5E48649BA312059493492DA425E3C8A9219B85
A77: 공구손료 | B77: 노무비의 3% | C77: 식 | D77: 1 | E77: =TRUNC(SUMIF(W72:W77, RIGHTB(O77, 1), H72:H77)*U77, 2) -> 136.01 | F77: =TRUNC(E77*D77,2) -> 136.01 | G77: 0 | H77: =TRUNC(G77*D77,2) -> 0 | I77: 0 | J77: =TRUNC(I77*D77,2) -> 0 | K77: =TRUNC(E77+G77+I77,2) -> 136.01 | L77: =TRUNC(F77+H77+J77,2) -> 136.01 | N77: 5ED9E46193E9056D6840F4BC4E2DED | O77: 5F8EC49E238505677B46C060FE9E002 | P77: F | Q77: F | R77: F | S77: 1 | T77: 0 | U77: 0.03 | AW77: 5ED9E46193E9056D6840F4BC4E2DED5F8EC49E238505677B46C060FE98004
A78: [ 합 계 ] | F78: =TRUNC(SUMIF(N72:N77, N71, F72:F77),0) -> 18487 | H78: =TRUNC(SUMIF(N72:N77, N71, H72:H77),0) -> 4533 | J78: =TRUNC(SUMIF(N72:N77, N71, J72:J77),0) -> 0 | L78: =F78+H78+J78 -> 23020 | N78: TOTAL | O78: TOTAL
A80: 케이블단말접속자재 자기수축, 23KV, 1C, 60-70㎟, 구내 Kit ( 호표 8 ) | N80: 5ED9E46B93BB059652431E849B12B0
A81: 케이블단말접속자재 | B81: 케이블단말접속자재, 자기수축, 23kV, 1C×60㎟ | C81: 개 | D81: 1 | E81: =단가대비표!O91 -> 59645 | F81: =TRUNC(E81*D81,2) -> 59645 | G81: =단가대비표!P91 -> 0 | H81: =TRUNC(G81*D81,2) -> 0 | I81: =단가대비표!V91 -> 0 | J81: =TRUNC(I81*D81,2) -> 0 | K81: =TRUNC(E81+G81+I81,2) -> 59645 | L81: =TRUNC(F81+H81+J81,2) -> 59645 | N81: 5ED9E46B93BB059652431E849B12B0 | O81: 59BD04D9434505F22042F35ABC3D495F0581D9 | P81: F | Q81: F | R81: T | AW81: 5ED9E46B93BB059652431E849B12B059BD04D9434505F22042F35ABC3D495F0581D9
A82: 특고압케이블전공 | B82: 일반공사 직종 | C82: 인 | D82: =공량산출근거서!K47 -> 0.86 | E82: =단가대비표!O170 -> 0 | F82: =TRUNC(E82*D82,2) -> 0 | G82: =단가대비표!P170 -> 440616 | H82: =TRUNC(G82*D82,2) -> 378929.76 | I82: =단가대비표!V170 -> 0 | J82: =TRUNC(I82*D82,2) -> 0 | K82: =TRUNC(E82+G82+I82,2) -> 440616 | L82: =TRUNC(F82+H82+J82,2) -> 378929.76 | N82: 5ED9E46B93BB059652431E849B12B0 | O82: 5E48649BA312059493492DA425E3C8A9219CAB | P82: F | Q82: F | R82: T | V82: 1 | AW82: 5ED9E46B93BB059652431E849B12B05E48649BA312059493492DA425E3C8A9219CAB
A83: 공구손료 | B83: 노무비의 3% | C83: 식 | D83: 1 | E83: =TRUNC(SUMIF(V81:V83, RIGHTB(O83, 1), H81:H83)*U83, 2) -> 11367.89 | F83: =TRUNC(E83*D83,2) -> 11367.89 | G83: 0 | H83: =TRUNC(G83*D83,2) -> 0 | I83: 0 | J83: =TRUNC(I83*D83,2) -> 0 | K83: =TRUNC(E83+G83+I83,2) -> 11367.89 | L83: =TRUNC(F83+H83+J83,2) -> 11367.89 | N83: 5ED9E46B93BB059652431E849B12B0 | O83: 5F8EC49E238505677B46C060FE9D001 | P83: F | Q83: F | R83: F | S83: 1 | T83: 0 | U83: 0.03 | AW83: 5ED9E46B93BB059652431E849B12B05F8EC49E238505677B46C060FE98004
A84: [ 합 계 ] | F84: =TRUNC(SUMIF(N81:N83, N80, F81:F83),0) -> 71012 | H84: =TRUNC(SUMIF(N81:N83, N80, H81:H83),0) -> 378929 | J84: =TRUNC(SUMIF(N81:N83, N80, J81:J83),0) -> 0 | L84: =F84+H84+J84 -> 449941 | N84: TOTAL | O84: TOTAL
A86: 접지봉 14Φ×1000mm 개소 ( 호표 9 ) | N86: 5ED9D47C03E605A4F241FEA84595D6
A87: 접지장치또는조립품 | B87: 접지봉, 14Φ×1000mm | C87: 개 | D87: 1 | E87: =단가대비표!O97 -> 3316 | F87: =TRUNC(E87*D87,2) -> 3316 | G87: =단가대비표!P97 -> 0 | H87: =TRUNC(G87*D87,2) -> 0 | I87: =단가대비표!V97 -> 0 | J87: =TRUNC(I87*D87,2) -> 0 | K87: =TRUNC(E87+G87+I87,2) -> 3316 | L87: =TRUNC(F87+H87+J87,2) -> 3316 | N87: 5ED9D47C03E605A4F241FEA84595D6 | O87: 59BD04D9434505F205441DF8005D9C825F57D0 | P87: F | Q87: F | R87: T | AW87: 5ED9D47C03E605A4F241FEA84595D659BD04D9434505F205441DF8005D9C825F57D0
A88: 내선전공 | B88: 일반공사 직종 | C88: 인 | D88: =공량산출근거서!K52 -> 0.11 | E88: =단가대비표!O169 -> 0 | F88: =TRUNC(E88*D88,2) -> 0 | G88: =단가대비표!P169 -> 273676 | H88: =TRUNC(G88*D88,2) -> 30104.36 | I88: =단가대비표!V169 -> 0 | J88: =TRUNC(I88*D88,2) -> 0 | K88: =TRUNC(E88+G88+I88,2) -> 273676 | L88: =TRUNC(F88+H88+J88,2) -> 30104.36 | N88: 5ED9D47C03E605A4F241FEA84595D6 | O88: 5E48649BA312059493492DA425E3C8A9219CA8 | P88: F | Q88: F | R88: T | V88: 1 | AW88: 5ED9D47C03E605A4F241FEA84595D65E48649BA312059493492DA425E3C8A9219CA8
A89: 보통인부 | B89: 일반공사 직종 | C89: 인 | D89: =공량산출근거서!K51 -> 0.08 | E89: =단가대비표!O162 -> 0 | F89: =TRUNC(E89*D89,2) -> 0 | G89: =단가대비표!P162 -> 172068 | H89: =TRUNC(G89*D89,2) -> 13765.44 | I89: =단가대비표!V162 -> 0 | J89: =TRUNC(I89*D89,2) -> 0 | K89: =TRUNC(E89+G89+I89,2) -> 172068 | L89: =TRUNC(F89+H89+J89,2) -> 13765.44 | N89: 5ED9D47C03E605A4F241FEA84595D6 | O89: 5E48649BA312059493492DA425E3C8A9219B85 | P89: F | Q89: F | R89: T | V89: 1 | AW89: 5ED9D47C03E605A4F241FEA84595D65E48649BA312059493492DA425E3C8A9219B85
A90: 공구손료 | B90: 노무비의 3% | C90: 식 | D90: 1 | E90: =TRUNC(SUMIF(V87:V90, RIGHTB(O90, 1), H87:H90)*U90, 2) -> 1316.09 | F90: =TRUNC(E90*D90,2) -> 1316.09 | G90: 0 | H90: =TRUNC(G90*D90,2) -> 0 | I90: 0 | J90: =TRUNC(I90*D90,2) -> 0 | K90: =TRUNC(E90+G90+I90,2) -> 1316.09 | L90: =TRUNC(F90+H90+J90,2) -> 1316.09 | N90: 5ED9D47C03E605A4F241FEA84595D6 | O90: 5F8EC49E238505677B46C060FE9D001 | P90: F | Q90: F | R90: F | S90: 1 | T90: 0 | U90: 0.03 | AW90: 5ED9D47C03E605A4F241FEA84595D65F8EC49E238505677B46C060FE98004
A91: [ 합 계 ] | F91: =TRUNC(SUMIF(N87:N90, N86, F87:F90),0) -> 4632 | H91: =TRUNC(SUMIF(N87:N90, N86, H87:H90),0) -> 43869 | J91: =TRUNC(SUMIF(N87:N90, N86, J87:J90),0) -> 0 | L91: =F91+H91+J91 -> 48501 | N91: TOTAL | O91: TOTAL
A93: 모래깔기지정 인력 ㎥ ( 호표 10 ) | N93: 5E97447F83A90555F74574794298B6
A94: 모래 | B94: 모래(별도) | C94: ㎥ | D94: 1.2 | E94: =단가대비표!O10 -> 50000 | F94: =TRUNC(E94*D94,2) -> 60000 | G94: =단가대비표!P10 -> 0 | H94: =TRUNC(G94*D94,2) -> 0 | I94: =단가대비표!V10 -> 0 | J94: =TRUNC(I94*D94,2) -> 0 | K94: =TRUNC(E94+G94+I94,2) -> 50000 | L94: =TRUNC(F94+H94+J94,2) -> 60000 | M94: 별도 | N94: 5E97447F83A90555F74574794298B6 | O94: 5992D44623490595DC4E5FCFD4B966F84CD84E | P94: F | Q94: F | R94: T | AW94: 5E97447F83A90555F74574794298B65992D44623490595DC4E5FCFD4B966F84CD84E
A95: 보통인부 | B95: 일반공사 직종 | C95: 인 | D95: 0.4 | E95: =단가대비표!O162 -> 0 | F95: =TRUNC(E95*D95,2) -> 0 | G95: =단가대비표!P162 -> 172068 | H95: =TRUNC(G95*D95,2) -> 68827.2 | I95: =단가대비표!V162 -> 0 | J95: =TRUNC(I95*D95,2) -> 0 | K95: =TRUNC(E95+G95+I95,2) -> 172068 | L95: =TRUNC(F95+H95+J95,2) -> 68827.2 | N95: 5E97447F83A90555F74574794298B6 | O95: 5E48649BA312059493492DA425E3C8A9219B85 | P95: F | Q95: F | R95: T | V95: 1 | AW95: 5E97447F83A90555F74574794298B65E48649BA312059493492DA425E3C8A9219B85
A96: 공구손료 | B96: 노무비의2% | C96: 식 | D96: 1 | E96: =TRUNC(SUMIF(V94:V96, RIGHTB(O96, 1), H94:H96)*U96, 2) -> 1376.54 | F96: =TRUNC(E96*D96,2) -> 1376.54 | G96: 0 | H96: =TRUNC(G96*D96,2) -> 0 | I96: 0 | J96: =TRUNC(I96*D96,2) -> 0 | K96: =TRUNC(E96+G96+I96,2) -> 1376.54 | L96: =TRUNC(F96+H96+J96,2) -> 1376.54 | N96: 5E97447F83A90555F74574794298B6 | O96: 5F8EC49E238505677B46C060FE9D001 | P96: F | Q96: F | R96: F | S96: 1 | T96: 0 | U96: 0.02 | AW96: 5E97447F83A90555F74574794298B65F8EC49E238505677B46C060FE9D001
A97: [ 합 계 ] | F97: =TRUNC(SUMIF(N94:N96, N93, F94:F96),0) -> 61376 | H97: =TRUNC(SUMIF(N94:N96, N93, H94:H96),0) -> 68827 | J97: =TRUNC(SUMIF(N94:N96, N93, J94:J96),0) -> 0 | L97: =F97+H97+J97 -> 130203 | N97: TOTAL | O97: TOTAL
A99: 맨홀 1,000*1,000*1,000 개소 ( 호표 11 ) | N99: 5ED9749463430510F841DF09D28333
A100: 터파기(기계9:1) | B100: 보통토사.백호90%+인력10% | C100: ㎥ | D100: 6.48 | E100: =일위대가목록!E88 -> 318 | F100: =TRUNC(E100*D100,2) -> 2060.64 | G100: =일위대가목록!F88 -> 7715 | H100: =TRUNC(G100*D100,2) -> 49993.2 | I100: =일위대가목록!G88 -> 267 | J100: =TRUNC(I100*D100,2) -> 1730.16 | K100: =TRUNC(E100+G100+I100,2) -> 8300 | L100: =TRUNC(F100+H100+J100,2) -> 53784 | M100: 호표 85 | N100: 5ED9749463430510F841DF09D28333 | O100: 5E975467E3D905992646AD78D308CA | P100: T | Q100: F | R100: F | AW100: 5ED9749463430510F841DF09D283335E975467E3D905992646AD78D308CA
A101: 되메우기 | B101: 토사,인력 | C101: ㎥ | D101: 3.344 | E101: =일위대가목록!E89 -> 0 | F101: =TRUNC(E101*D101,2) -> 0 | G101: =일위대가목록!F89 -> 17206 | H101: =TRUNC(G101*D101,2) -> 57536.86 | I101: =일위대가목록!G89 -> 0 | J101: =TRUNC(I101*D101,2) -> 0 | K101: =TRUNC(E101+G101+I101,2) -> 17206 | L101: =TRUNC(F101+H101+J101,2) -> 57536.86 | M101: 호표 86 | N101: 5ED9749463430510F841DF09D28333 | O101: 5E975461432C058C87426A2BF8C4D0 | P101: T | Q101: F | R101: F | AW101: 5ED9749463430510F841DF09D283335E975461432C058C87426A2BF8C4D0
A102: 현장내잔토처리 | B102: 소운반.고르기 | C102: ㎥ | D102: 0.136 | E102: =일위대가목록!E90 -> 0 | F102: =TRUNC(E102*D102,2) -> 0 | G102: =일위대가목록!F90 -> 34413 | H102: =TRUNC(G102*D102,2) -> 4680.16 | I102: =일위대가목록!G90 -> 0 | J102: =TRUNC(I102*D102,2) -> 0 | K102: =TRUNC(E102+G102+I102,2) -> 34413 | L102: =TRUNC(F102+H102+J102,2) -> 4680.16 | M102: 호표 87 | N102: 5ED9749463430510F841DF09D28333 | O102: 5E975461432C058CCE4C6BF4E16E80 | P102: T | Q102: F | R102: F | AW102: 5ED9749463430510F841DF09D283335E975461432C058CCE4C6BF4E16E80
A103: 잡석깔기지정 | B103: 떨공이다지기 | C103: ㎥ | D103: 0.392 | E103: =일위대가목록!E91 -> 35685 | F103: =TRUNC(E103*D103,2) -> 13988.52 | G103: =일위대가목록!F91 -> 189274 | H103: =TRUNC(G103*D103,2) -> 74195.4 | I103: =일위대가목록!G91 -> 0 | J103: =TRUNC(I103*D103,2) -> 0 | K103: =TRUNC(E103+G103+I103,2) -> 224959 | L103: =TRUNC(F103+H103+J103,2) -> 88183.92 | M103: 호표 88 | N103: 5ED9749463430510F841DF09D28333 | O103: 5E97447F838E057E3B45235E45A008 | P103: T | Q103: F | R103: F | AW103: 5ED9749463430510F841DF09D283335E97447F838E057E3B45235E45A008
A104: 핸드홀카바 | B104: 주철각형(1120x680x132) | C104: 조 | D104: 1 | E104: =단가대비표!O46 -> 370000 | F104: =TRUNC(E104*D104,2) -> 370000 | G104: =단가대비표!P46 -> 0 | H104: =TRUNC(G104*D104,2) -> 0 | I104: =단가대비표!V46 -> 0 | J104: =TRUNC(I104*D104,2) -> 0 | K104: =TRUNC(E104+G104+I104,2) -> 370000 | L104: =TRUNC(F104+H104+J104,2) -> 370000 | N104: 5ED9749463430510F841DF09D28333 | O104: 59BD9435438A054B0540E3D636E2E225140081 | P104: F | Q104: F | R104: T | AW104: 5ED9749463430510F841DF09D2833359BD9435438A054B0540E3D636E2E225140081
A105: 핸드홀 | B105: 1000x1000x1000 | C105: 조 | D105: 1 | E105: =단가대비표!O44 -> 220000 | F105: =TRUNC(E105*D105,2) -> 220000 | G105: =단가대비표!P44 -> 0 | H105: =TRUNC(G105*D105,2) -> 0 | I105: =단가대비표!V44 -> 0 | J105: =TRUNC(I105*D105,2) -> 0 | K105: =TRUNC(E105+G105+I105,2) -> 220000 | L105: =TRUNC(F105+H105+J105,2) -> 220000 | N105: 5ED9749463430510F841DF09D28333 | O105: 59BD9435438A054B0540E3D636E2E2251401A1 | P105: F | Q105: F | R105: T | AW105: 5ED9749463430510F841DF09D2833359BD9435438A054B0540E3D636E2E2251401A1
A106: 접지장치또는조립품 | B106: 접지봉, 14Φ×1000mm | C106: 개 | D106: 1 | E106: =단가대비표!O97 -> 3316 | F106: =TRUNC(E106*D106,2) -> 3316 | G106: =단가대비표!P97 -> 0 | H106: =TRUNC(G106*D106,2) -> 0 | I106: =단가대비표!V97 -> 0 | J106: =TRUNC(I106*D106,2) -> 0 | K106: =TRUNC(E106+G106+I106,2) -> 3316 | L106: =TRUNC(F106+H106+J106,2) -> 3316 | N106: 5ED9749463430510F841DF09D28333 | O106: 59BD04D9434505F205441DF8005D9C825F57D0 | P106: F | Q106: F | R106: T | AW106: 5ED9749463430510F841DF09D2833359BD04D9434505F205441DF8005D9C825F57D0
A107: 접지용비닐절연전선 | B107: F-GV, 35㎟ | C107: m | D107: 5 | E107: =단가대비표!O20 -> 5377 | F107: =TRUNC(E107*D107,2) -> 26885 | G107: =단가대비표!P20 -> 0 | H107: =TRUNC(G107*D107,2) -> 0 | I107: =단가대비표!V20 -> 0 | J107: =TRUNC(I107*D107,2) -> 0 | K107: =TRUNC(E107+G107+I107,2) -> 5377 | L107: =TRUNC(F107+H107+J107,2) -> 26885 | N107: 5ED9749463430510F841DF09D28333 | O107: 59A344B813EF05160541291C4BCB9380C226D4 | P107: F | Q107: F | R107: T | AW107: 5ED9749463430510F841DF09D2833359A344B813EF05160541291C4BCB9380C226D4
A108: 전기용행어 | B108: 케이블받침대, 75×40×5×750mm | C108: 개 | D108: 2 | E108: =단가대비표!O105 -> 0 | F108: =TRUNC(E108*D108,2) -> 0 | G108: =단가대비표!P105 -> 0 | H108: =TRUNC(G108*D108,2) -> 0 | I108: =단가대비표!V105 -> 0 | J108: =TRUNC(I108*D108,2) -> 0 | K108: =TRUNC(E108+G108+I108,2) -> 0 | L108: =TRUNC(F108+H108+J108,2) -> 0 | N108: 5ED9749463430510F841DF09D28333 | O108: 59BD04D9434505F2174B2972C19D4614AC184A | P108: F | Q108: F | R108: T | AW108: 5ED9749463430510F841DF09D2833359BD04D9434505F2174B2972C19D4614AC184A
A109: 전기용행어 | B109: 케이블걸이, 걸이쇠, 2조 | C109: 개 | D109: 2 | E109: =단가대비표!O104 -> 0 | F109: =TRUNC(E109*D109,2) -> 0 | G109: =단가대비표!P104 -> 0 | H109: =TRUNC(G109*D109,2) -> 0 | I109: =단가대비표!V104 -> 0 | J109: =TRUNC(I109*D109,2) -> 0 | K109: =TRUNC(E109+G109+I109,2) -> 0 | L109: =TRUNC(F109+H109+J109,2) -> 0 | N109: 5ED9749463430510F841DF09D28333 | O109: 59BD04D9434505F2174B2972C19D4613819ACF | P109: F | Q109: F | R109: T | AW109: 5ED9749463430510F841DF09D2833359BD04D9434505F2174B2972C19D4613819ACF
A110: 지중선용가선철물 | B110: 지중선용가선철물, 맨홀용훅크, 100×250mm | C110: 개 | D110: 4 | E110: =단가대비표!O110 -> 0 | F110: =TRUNC(E110*D110,2) -> 0 | G110: =단가대비표!P110 -> 0 | H110: =TRUNC(G110*D110,2) -> 0 | I110: =단가대비표!V110 -> 0 | J110: =TRUNC(I110*D110,2) -> 0 | K110: =TRUNC(E110+G110+I110,2) -> 0 | L110: =TRUNC(F110+H110+J110,2) -> 0 | N110: 5ED9749463430510F841DF09D28333 | O110: 59BD04D9434505C5324CE1AA8DAD0634C515BA | P110: F | Q110: F | R110: T | AW110: 5ED9749463430510F841DF09D2833359BD04D9434505C5324CE1AA8DAD0634C515BA
...

Sheet 공량산출근거서
A1: 공 량 산 출 근 거 서
A2: [ SDV보안평가지원센터전기공사 ]
A3: 코 드 | B3: 품 명 | C3: 규 격 | D3: 단위 | E3: 품 셈 목 록 | F3: 수 량 | G3: 할증 | H3: 노임할증-1 | I3: 노임할증-2 | J3: 노임할증-3 | K3: 내역수량 | L3: 직 종 명 | M3: 공 량 | N3: 계 | O3: 번 호 | P3: 비 고 | T3: 일위대가목록+자재 | V3: 보통인부 | W3: 일반공사 직종 | X3: 배전전공 | Y3: 내선전공 | Z3: 특고압케이블전공 | AA3: 저압케이블전공
A4: 파상형 경질폴리에틸렌 전선관 80mm m (호표 1)
A5: 59BD04D943560546DA4DF4059EE0CD25C7313E | B5: 파상형경질폴리에틸렌전선관 | C5: 80mm | D5: m | E5: 전기품셈 4-31 | F5: 1 | H5: 0 | K5: 1 | L5: 보통인부 | M5: =0.022*(H5+100)/100*(I5+100)/100*(J5+100)/100 -> 0.022 | N5: =F5*M5 -> 0.022 | O5: 노임 1 | P5: 0.022*1 | Q5: 5ED994E0632C05A58C44EC7258E7B5 | R5: 5E48649BA312059493492DA425E3C8A9219B85 | S5: 0.022 | T5: 5ED994E0632C05A58C44EC7258E7B559BD04D943560546DA4DF4059EE0CD25C7313E | V5: =N5 -> 0.022
L6: 배전전공 | M6: =0.009*(H5+100)/100*(I5+100)/100*(J5+100)/100 -> 0.009 | N6: =F5*M6 -> 0.009 | O6: 노임 11 | P6: 0.009*1 | Q6: 5ED994E0632C05A58C44EC7258E7B5 | R6: 5E48649BA312059493492DA425E3C8A92193B0 | S6: 0.009 | T6: 5ED994E0632C05A58C44EC7258E7B559BD04D943560546DA4DF4059EE0CD25C7313E | X6: =N6 -> 0.009
A7: 59BD04D943560546DA4DF4059EE0CD25C7313E | B7: 파상형경질폴리에틸렌전선관 | C7: 80mm | D7: m | E7: 전기품셈 4-31 | F7: 0 | H7: 0 | K7: 0.03 | L7: 보통인부 | M7: =0.022*(H7+100)/100*(I7+100)/100*(J7+100)/100 -> 0.022 | N7: =F7*M7 -> 0 | O7: 노임 1 | P7: 0.022*1 | Q7: 5ED994E0632C05A58C44EC7258E7B5 | R7: 5E48649BA312059493492DA425E3C8A9219B85 | S7: 0.022 | T7: 5ED994E0632C05A58C44EC7258E7B559BD04D943560546DA4DF4059EE0CD25C7313E | V7: =N7 -> 0
L8: 배전전공 | M8: =0.009*(H7+100)/100*(I7+100)/100*(J7+100)/100 -> 0.009 | N8: =F7*M8 -> 0 | O8: 노임 11 | P8: 0.009*1 | Q8: 5ED994E0632C05A58C44EC7258E7B5 | R8: 5E48649BA312059493492DA425E3C8A92193B0 | S8: 0.009 | T8: 5ED994E0632C05A58C44EC7258E7B559BD04D943560546DA4DF4059EE0CD25C7313E | X8: =N8 -> 0
A9: 5E48649BA312059493492DA425E3C8A9219B85 | B9: 보통인부 | C9: 일반공사 직종 | D9: 인 | F9: =SUM(V5:V8) -> 0.022 | K9: =ROUND(F9*공량설정_일위대가!B2/100, 공량설정_일위대가!C3) -> 0.022 | O9: 노임 1 | Q9: 5ED994E0632C05A58C44EC7258E7B5 | T9: 5ED994E0632C05A58C44EC7258E7B55E48649BA312059493492DA425E3C8A9219B85
A10: 5E48649BA312059493492DA425E3C8A92193B0 | B10: 배전전공 | C10: 일반공사 직종 | D10: 인 | F10: =SUM(X5:X8) -> 0.009 | K10: =ROUND(F10*공량설정_일위대가!B2/100, 공량설정_일위대가!C4) -> 0.009 | O10: 노임 11 | Q10: 5ED994E0632C05A58C44EC7258E7B5 | T10: 5ED994E0632C05A58C44EC7258E7B55E48649BA312059493492DA425E3C8A92193B0
A11: 절연전선 F-GV, 150㎟, 관내포설 m (호표 2)
A12: 59A344B813EF05160541291C4BCB9380C226D3 | B12: 절연전선및피복선 | C12: 접지용비닐절연전선, F-GV, 150㎟ | D12: m | E12: 전기품셈 3-38 | F12: 1 | H12: 50 | K12: 1 | L12: 내선전공 | M12: =0.011*(H12+100)/100*(I12+100)/100*(J12+100)/100 -> 0.0165 | N12: =F12*M12 -> 0.0165 | O12: 노임 8 | P12: 0.011*1 * 150% | Q12: 5ED9D47E33F405936E444F49029855 | R12: 5E48649BA312059493492DA425E3C8A9219CA8 | S12: 0.011 | T12: 5ED9D47E33F405936E444F4902985559A344B813EF05160541291C4BCB9380C226D3 | Y12: =N12 -> 0.0165
A13: 59A344B813EF05160541291C4BCB9380C226D3 | B13: 절연전선및피복선 | C13: 접지용비닐절연전선, F-GV, 150㎟ | D13: m | E13: 전기품셈 3-38 | F13: 0 | H13: 0 | K13: 0.1 | L13: 내선전공 | M13: =0.011*(H13+100)/100*(I13+100)/100*(J13+100)/100 -> 0.011 | N13: =F13*M13 -> 0 | O13: 노임 8 | P13: 0.011*1 | Q13: 5ED9D47E33F405936E444F49029855 | R13: 5E48649BA312059493492DA425E3C8A9219CA8 | S13: 0.011 | T13: 5ED9D47E33F405936E444F4902985559A344B813EF05160541291C4BCB9380C226D3 | Y13: =N13 -> 0
A14: 5E48649BA312059493492DA425E3C8A9219CA8 | B14: 내선전공 | C14: 일반공사 직종 | D14: 인 | F14: =SUM(Y12:Y13) -> 0.0165 | K14: =ROUND(F14*공량설정_일위대가!B5/100, 공량설정_일위대가!C6) -> 0.0165 | O14: 노임 8 | Q14: 5ED9D47E33F405936E444F49029855 | T14: 5ED9D47E33F405936E444F490298555E48649BA312059493492DA425E3C8A9219CA8
A15: 전주입상관 특고압용 개소 (호표 3)
A16: 59BD04D9434505C5324CE1AA8DAD0634C512EB | B16: 지중선용가선철물 | C16: 전주용입상관, D130×2m | D16: 개 | E16: 전기4-33 | F16: 1 | G16: 0 | K16: 1 | L16: 보통인부 | M16: =0.11*(H16+100)/100*(I16+100)/100*(J16+100)/100 -> 0.11 | N16: =F16*M16 -> 0.11 | O16: 노임 1 | P16: 0.11*1 | Q16: 5ED984FD83030590FD4B6B4892E4ED | R16: 5E48649BA312059493492DA425E3C8A9219B85 | S16: 0.11 | T16: 5ED984FD83030590FD4B6B4892E4ED59BD04D9434505C5324CE1AA8DAD0634C512EB | V16: =N16 -> 0.11
L17: 배전전공 | M17: =0.22*(H16+100)/100*(I16+100)/100*(J16+100)/100 -> 0.22 | N17: =F16*M17 -> 0.22 | O17: 노임 11 | P17: 0.22*1 | Q17: 5ED984FD83030590FD4B6B4892E4ED | R17: 5E48649BA312059493492DA425E3C8A92193B0 | S17: 0.22 | T17: 5ED984FD83030590FD4B6B4892E4ED59BD04D9434505C5324CE1AA8DAD0634C512EB | X17: =N17 -> 0.22
A18: 5E48649BA312059493492DA425E3C8A9219B85 | B18: 보통인부 | C18: 일반공사 직종 | D18: 인 | F18: =SUM(V16:V17) -> 0.11 | K18: =ROUND(F18*공량설정_일위대가!B7/100, 공량설정_일위대가!C8) -> 0.11 | O18: 노임 1 | Q18: 5ED984FD83030590FD4B6B4892E4ED | T18: 5ED984FD83030590FD4B6B4892E4ED5E48649BA312059493492DA425E3C8A9219B85
A19: 5E48649BA312059493492DA425E3C8A92193B0 | B19: 배전전공 | C19: 일반공사 직종 | D19: 인 | F19: =SUM(X16:X17) -> 0.22 | K19: =ROUND(F19*공량설정_일위대가!B7/100, 공량설정_일위대가!C9) -> 0.22 | O19: 노임 11 | Q19: 5ED984FD83030590FD4B6B4892E4ED | T19: 5ED984FD83030590FD4B6B4892E4ED5E48649BA312059493492DA425E3C8A92193B0
A20: 파상형 경질폴리에틸렌 전선관 125mm m (호표 4)
A21: 59BD04D943560546DA4DF4059EE0CD25C7313C | B21: 파상형경질폴리에틸렌전선관 | C21: 125mm | D21: m | E21: 전기품셈 4-31 | F21: 1 | H21: 0 | K21: 1 | L21: 보통인부 | M21: =0.048*(H21+100)/100*(I21+100)/100*(J21+100)/100 -> 0.048 | N21: =F21*M21 -> 0.048 | O21: 노임 1 | P21: 0.048*1 | Q21: 5ED994E0632C05FDBE44617D46C6EF | R21: 5E48649BA312059493492DA425E3C8A9219B85 | S21: 0.048 | T21: 5ED994E0632C05FDBE44617D46C6EF59BD04D943560546DA4DF4059EE0CD25C7313C | V21: =N21 -> 0.048
L22: 배전전공 | M22: =0.016*(H21+100)/100*(I21+100)/100*(J21+100)/100 -> 0.016 | N22: =F21*M22 -> 0.016 | O22: 노임 11 | P22: 0.016*1 | Q22: 5ED994E0632C05FDBE44617D46C6EF | R22: 5E48649BA312059493492DA425E3C8A92193B0 | S22: 0.016 | T22: 5ED994E0632C05FDBE44617D46C6EF59BD04D943560546DA4DF4059EE0CD25C7313C | X22: =N22 -> 0.016
A23: 59BD04D943560546DA4DF4059EE0CD25C7313C | B23: 파상형경질폴리에틸렌전선관 | C23: 125mm | D23: m | E23: 전기품셈 4-31 | F23: 0 | H23: 0 | K23: 0.03 | L23: 보통인부 | M23: =0.048*(H23+100)/100*(I23+100)/100*(J23+100)/100 -> 0.048 | N23: =F23*M23 -> 0 | O23: 노임 1 | P23: 0.048*1 | Q23: 5ED994E0632C05FDBE44617D46C6EF | R23: 5E48649BA312059493492DA425E3C8A9219B85 | S23: 0.048 | T23: 5ED994E0632C05FDBE44617D46C6EF59BD04D943560546DA4DF4059EE0CD25C7313C | V23: =N23 -> 0
L24: 배전전공 | M24: =0.016*(H23+100)/100*(I23+100)/100*(J23+100)/100 -> 0.016 | N24: =F23*M24 -> 0 | O24: 노임 11 | P24: 0.016*1 | Q24: 5ED994E0632C05FDBE44617D46C6EF | R24: 5E48649BA312059493492DA425E3C8A92193B0 | S24: 0.016 | T24: 5ED994E0632C05FDBE44617D46C6EF59BD04D943560546DA4DF4059EE0CD25C7313C | X24: =N24 -> 0
A25: 5E48649BA312059493492DA425E3C8A9219B85 | B25: 보통인부 | C25: 일반공사 직종 | D25: 인 | F25: =SUM(V21:V24) -> 0.048 | K25: =ROUND(F25*공량설정_일위대가!B10/100, 공량설정_일위대가!C11) -> 0.048 | O25: 노임 1 | Q25: 5ED994E0632C05FDBE44617D46C6EF | T25: 5ED994E0632C05FDBE44617D46C6EF5E48649BA312059493492DA425E3C8A9219B85
A26: 5E48649BA312059493492DA425E3C8A92193B0 | B26: 배전전공 | C26: 일반공사 직종 | D26: 인 | F26: =SUM(X21:X24) -> 0.016 | K26: =ROUND(F26*공량설정_일위대가!B10/100, 공량설정_일위대가!C12) -> 0.016 | O26: 노임 11 | Q26: 5ED994E0632C05FDBE44617D46C6EF | T26: 5ED994E0632C05FDBE44617D46C6EF5E48649BA312059493492DA425E3C8A92193B0
A27: 관로구방수 ø125 개 (호표 5)
A28: 59BD04D943560546DA4DFAAEA027188DE702AE | B28: 관구밀폐기 | C28: 관구밀폐기, 이종연결관, Φ125mm | D28: 개 | E28: 전기품셈 2-18 | F28: 1 | G28: 0 | K28: 1 | L28: 보통인부 | M28: =0.1188*(H28+100)/100*(I28+100)/100*(J28+100)/100 -> 0.1188 | N28: =F28*M28 -> 0.1188 | O28: 노임 1 | P28: 0.132*0.9 | Q28: 5ED994EC13B205C7524B6045FF0C32 | R28: 5E48649BA312059493492DA425E3C8A9219B85 | S28: 0.1188 | T28: 5ED994EC13B205C7524B6045FF0C3259BD04D943560546DA4DFAAEA027188DE702AE | V28: =N28 -> 0.1188
L29: 특고압케이블전공 | M29: =0.1188*(H28+100)/100*(I28+100)/100*(J28+100)/100 -> 0.1188 | N29: =F28*M29 -> 0.1188 | O29: 노임 9 | P29: 0.132*0.9 | Q29: 5ED994EC13B205C7524B6045FF0C32 | R29: 5E48649BA312059493492DA425E3C8A9219CAB | S29: 0.1188 | T29: 5ED994EC13B205C7524B6045FF0C3259BD04D943560546DA4DFAAEA027188DE702AE | Z29: =N29 -> 0.1188
A30: 5E48649BA312059493492DA425E3C8A9219B85 | B30: 보통인부 | C30: 일반공사 직종 | D30: 인 | F30: =SUM(V28:V29) -> 0.1188 | K30: =ROUND(F30*공량설정_일위대가!B13/100, 공량설정_일위대가!C14) -> 0.1188 | O30: 노임 1 | Q30: 5ED994EC13B205C7524B6045FF0C32 | T30: 5ED994EC13B205C7524B6045FF0C325E48649BA312059493492DA425E3C8A9219B85
A31: 5E48649BA312059493492DA425E3C8A9219CAB | B31: 특고압케이블전공 | C31: 일반공사 직종 | D31: 인 | F31: =SUM(Z28:Z29) -> 0.1188 | K31: =ROUND(F31*공량설정_일위대가!B13/100, 공량설정_일위대가!C15) -> 0.1188 | O31: 노임 9 | Q31: 5ED994EC13B205C7524B6045FF0C32 | T31: 5ED994EC13B205C7524B6045FF0C325E48649BA312059493492DA425E3C8A9219CAB
A32: 맨홀 2,000*1,500*1,500 개소 (호표 6)
A33: 59BD04D9434505F205441DF8005D9C825F57D0 | B33: 접지장치또는조립품 | C33: 접지봉, 14Φ×1000mm | D33: 개 | E33: 전기품셈 3-38 | F33: 1 | G33: 0 | K33: 1 | L33: 보통인부 | M33: =0.08*(H33+100)/100*(I33+100)/100*(J33+100)/100 -> 0.08 | N33: =F33*M33 -> 0.08 | O33: 노임 1 | P33: 0.08*1 | Q33: 5ED9749463430510F841DF09D28106 | R33: 5E48649BA312059493492DA425E3C8A9219B85 | S33: 0.08 | T33: 5ED9749463430510F841DF09D2810659BD04D9434505F205441DF8005D9C825F57D0 | V33: =N33 -> 0.08
L34: 내선전공 | M34: =0.11*(H33+100)/100*(I33+100)/100*(J33+100)/100 -> 0.11 | N34: =F33*M34 -> 0.11 | O34: 노임 8 | P34: 0.11*1 | Q34: 5ED9749463430510F841DF09D28106 | R34: 5E48649BA312059493492DA425E3C8A9219CA8 | S34: 0.11 | T34: 5ED9749463430510F841DF09D2810659BD04D9434505F205441DF8005D9C825F57D0 | Y34: =N34 -> 0.11
A35: 59A344B813EF05160541291C4BCB9380C226D4 | B35: 접지용비닐절연전선 | C35: F-GV, 35㎟ | D35: m | E35: 전기품셈 3-38 | F35: 5 | G35: 10 | K35: 5 | L35: 내선전공 | M35: =0.007*(H35+100)/100*(I35+100)/100*(J35+100)/100 -> 0.007 | N35: =F35*M35 -> 0.035 | O35: 노임 8 | P35: 0.007*1 | Q35: 5ED9749463430510F841DF09D28106 | R35: 5E48649BA312059493492DA425E3C8A9219CA8 | S35: 0.007 | T35: 5ED9749463430510F841DF09D2810659A344B813EF05160541291C4BCB9380C226D4 | Y35: =N35 -> 0.035
A36: 5E48649BA312059493492DA425E3C8A9219B85 | B36: 보통인부 | C36: 일반공사 직종 | D36: 인 | F36: =SUM(V33:V35) -> 0.08 | K36: =ROUND(F36*공량설정_일위대가!B16/100, 공량설정_일위대가!C18) -> 0.08 | O36: 노임 1 | Q36: 5ED9749463430510F841DF09D28106 | T36: 5ED9749463430510F841DF09D281065E48649BA312059493492DA425E3C8A9219B85
A37: 5E48649BA312059493492DA425E3C8A9219CA8 | B37: 내선전공 | C37: 일반공사 직종 | D37: 인 | F37: =SUM(Y33:Y35) -> 0.145 | K37: =ROUND(F37*공량설정_일위대가!B16/100, 공량설정_일위대가!C17) -> 0.145 | O37: 노임 8 | Q37: 5ED9749463430510F841DF09D28106 | T37: 5ED9749463430510F841DF09D281065E48649BA312059493492DA425E3C8A9219CA8
A38: 전력케이블 FR-CN/CO-W, 22.9KV, 1C 60㎟, 3열포설 1열당 m (호표 7)
A39: 59A344B813EF0516324A0471957AB09866416C | B39: 전력케이블 | C39: FR-CNCO-W, 수밀형무독성난연, 22.9kV, 60㎟ | D39: m | E39: 전기품셈 4-34 | F39: 1 | H39: -13 | K39: 1 | L39: 보통인부 | M39: =0.00846*(H39+100)/100*(I39+100)/100*(J39+100)/100 -> 0.0073602 | N39: =F39*M39 -> 0.0073602 | O39: 노임 1 | P39: 0.00846*1 * 87% | Q39: 5ED9E46193E9056D6840F4BC4E2DED | R39: 5E48649BA312059493492DA425E3C8A9219B85 | S39: 0.00846 | T39: 5ED9E46193E9056D6840F4BC4E2DED59A344B813EF0516324A0471957AB09866416C | V39: =N39 -> 0.0073602
L40: 특고압케이블전공 | M40: =0.00846*(H39+100)/100*(I39+100)/100*(J39+100)/100 -> 0.0073602 | N40: =F39*M40 -> 0.0073602 | O40: 노임 9 | P40: 0.00846*1 * 87% | Q40: 5ED9E46193E9056D6840F4BC4E2DED | R40: 5E48649BA312059493492DA425E3C8A9219CAB | S40: 0.00846 | T40: 5ED9E46193E9056D6840F4BC4E2DED59A344B813EF0516324A0471957AB09866416C | Z40: =N40 -> 0.0073602
A41: 59A344B813EF0516324A0471957AB09866416C | B41: 전력케이블 | C41: FR-CNCO-W, 수밀형무독성난연, 22.9kV, 60㎟ | D41: m | E41: 전기품셈 4-34 | F41: 0 | H41: 0 | K41: 0.03 | L41: 보통인부 | M41: =0.00846*(H41+100)/100*(I41+100)/100*(J41+100)/100 -> 0.00846 | N41: =F41*M41 -> 0 | O41: 노임 1 | P41: 0.00846*1 | Q41: 5ED9E46193E9056D6840F4BC4E2DED | R41: 5E48649BA312059493492DA425E3C8A9219B85 | S41: 0.00846 | T41: 5ED9E46193E9056D6840F4BC4E2DED59A344B813EF0516324A0471957AB09866416C | V41: =N41 -> 0
L42: 특고압케이블전공 | M42: =0.00846*(H41+100)/100*(I41+100)/100*(J41+100)/100 -> 0.00846 | N42: =F41*M42 -> 0 | O42: 노임 9 | P42: 0.00846*1 | Q42: 5ED9E46193E9056D6840F4BC4E2DED | R42: 5E48649BA312059493492DA425E3C8A9219CAB | S42: 0.00846 | T42: 5ED9E46193E9056D6840F4BC4E2DED59A344B813EF0516324A0471957AB09866416C | Z42: =N42 -> 0
A43: 5E48649BA312059493492DA425E3C8A9219B85 | B43: 보통인부 | C43: 일반공사 직종 | D43: 인 | F43: =SUM(V39:V42) -> 0.0073602 | K43: =ROUND(F43*공량설정_일위대가!B24/100, 공량설정_일위대가!C26) -> 0.0074 | O43: 노임 1 | Q43: 5ED9E46193E9056D6840F4BC4E2DED | T43: 5ED9E46193E9056D6840F4BC4E2DED5E48649BA312059493492DA425E3C8A9219B85
A44: 5E48649BA312059493492DA425E3C8A9219CAB | B44: 특고압케이블전공 | C44: 일반공사 직종 | D44: 인 | F44: =SUM(Z39:Z42) -> 0.0073602 | K44: =ROUND(F44*공량설정_일위대가!B24/100, 공량설정_일위대가!C25) -> 0.0074 | O44: 노임 9 | Q44: 5ED9E46193E9056D6840F4BC4E2DED | T44: 5ED9E46193E9056D6840F4BC4E2DED5E48649BA312059493492DA425E3C8A9219CAB
A45: 케이블단말접속자재 자기수축, 23KV, 1C, 60-70㎟, 구내 Kit (호표 8)
A46: 59BD04D9434505F22042F35ABC3D495F0581D9 | B46: 케이블단말접속자재 | C46: 케이블단말접속자재, 자기수축, 23kV, 1C×60㎟ | D46: 개 | E46: 전기품셈 4-37 | F46: 1 | H46: 0 | K46: 1 | L46: 특고압케이블전공 | M46: =0.86*(H46+100)/100*(I46+100)/100*(J46+100)/100 -> 0.86 | N46: =F46*M46 -> 0.86 | O46: 노임 9 | P46: 0.86*1 | Q46: 5ED9E46B93BB059652431E849B12B0 | R46: 5E48649BA312059493492DA425E3C8A9219CAB | S46: 0.86 | T46: 5ED9E46B93BB059652431E849B12B059BD04D9434505F22042F35ABC3D495F0581D9 | Z46: =N46 -> 0.86
A47: 5E48649BA312059493492DA425E3C8A9219CAB | B47: 특고압케이블전공 | C47: 일반공사 직종 | D47: 인 | F47: =SUM(Z46:Z46) -> 0.86 | K47: =ROUND(F47*공량설정_일위대가!B27/100, 공량설정_일위대가!C28) -> 0.86 | O47: 노임 9 | Q47: 5ED9E46B93BB059652431E849B12B0 | T47: 5ED9E46B93BB059652431E849B12B05E48649BA312059493492DA425E3C8A9219CAB
A48: 접지봉 14Φ×1000mm 개소 (호표 9)
A49: 59BD04D9434505F205441DF8005D9C825F57D0 | B49: 접지장치또는조립품 | C49: 접지봉, 14Φ×1000mm | D49: 개 | E49: 전기품셈 3-38 | F49: 1 | H49: 0 | K49: 1 | L49: 보통인부 | M49: =0.08*(H49+100)/100*(I49+100)/100*(J49+100)/100 -> 0.08 | N49: =F49*M49 -> 0.08 | O49: 노임 1 | P49: 0.08*1 | Q49: 5ED9D47C03E605A4F241FEA84595D6 | R49: 5E48649BA312059493492DA425E3C8A9219B85 | S49: 0.08 | T49: 5ED9D47C03E605A4F241FEA84595D659BD04D9434505F205441DF8005D9C825F57D0 | V49: =N49 -> 0.08
L50: 내선전공 | M50: =0.11*(H49+100)/100*(I49+100)/100*(J49+100)/100 -> 0.11 | N50: =F49*M50 -> 0.11 | O50: 노임 8 | P50: 0.11*1 | Q50: 5ED9D47C03E605A4F241FEA84595D6 | R50: 5E48649BA312059493492DA425E3C8A9219CA8 | S50: 0.11 | T50: 5ED9D47C03E605A4F241FEA84595D659BD04D9434505F205441DF8005D9C825F57D0 | Y50: =N50 -> 0.11
A51: 5E48649BA312059493492DA425E3C8A9219B85 | B51: 보통인부 | C51: 일반공사 직종 | D51: 인 | F51: =SUM(V49:V50) -> 0.08 | K51: =ROUND(F51*공량설정_일위대가!B29/100, 공량설정_일위대가!C31) -> 0.08 | O51: 노임 1 | Q51: 5ED9D47C03E605A4F241FEA84595D6 | T51: 5ED9D47C03E605A4F241FEA84595D65E48649BA312059493492DA425E3C8A9219B85
A52: 5E48649BA312059493492DA425E3C8A9219CA8 | B52: 내선전공 | C52: 일반공사 직종 | D52: 인 | F52: =SUM(Y49:Y50) -> 0.11 | K52: =ROUND(F52*공량설정_일위대가!B29/100, 공량설정_일위대가!C30) -> 0.11 | O52: 노임 8 | Q52: 5ED9D47C03E605A4F241FEA84595D6 | T52: 5ED9D47C03E605A4F241FEA84595D65E48649BA312059493492DA425E3C8A9219CA8
A53: 맨홀 1,000*1,000*1,000 개소 (호표 11)
A54: 59BD04D9434505F205441DF8005D9C825F57D0 | B54: 접지장치또는조립품 | C54: 접지봉, 14Φ×1000mm | D54: 개 | E54: 전기품셈 3-38 | F54: 1 | G54: 0 | K54: 1 | L54: 보통인부 | M54: =0.08*(H54+100)/100*(I54+100)/100*(J54+100)/100 -> 0.08 | N54: =F54*M54 -> 0.08 | O54: 노임 1 | P54: 0.08*1 | Q54: 5ED9749463430510F841DF09D28333 | R54: 5E48649BA312059493492DA425E3C8A9219B85 | S54: 0.08 | T54: 5ED9749463430510F841DF09D2833359BD04D9434505F205441DF8005D9C825F57D0 | V54: =N54 -> 0.08
L55: 내선전공 | M55: =0.11*(H54+100)/100*(I54+100)/100*(J54+100)/100 -> 0.11 | N55: =F54*M55 -> 0.11 | O55: 노임 8 | P55: 0.11*1 | Q55: 5ED9749463430510F841DF09D28333 | R55: 5E48649BA312059493492DA425E3C8A9219CA8 | S55: 0.11 | T55: 5ED9749463430510F841DF09D2833359BD04D9434505F205441DF8005D9C825F57D0 | Y55: =N55 -> 0.11
A56: 59A344B813EF05160541291C4BCB9380C226D4 | B56: 접지용비닐절연전선 | C56: F-GV, 35㎟ | D56: m | E56: 전기품셈 3-38 | F56: 5 | G56: 10 | K56: 5 | L56: 내선전공 | M56: =0.007*(H56+100)/100*(I56+100)/100*(J56+100)/100 -> 0.007 | N56: =F56*M56 -> 0.035 | O56: 노임 8 | P56: 0.007*1 | Q56: 5ED9749463430510F841DF09D28333 | R56: 5E48649BA312059493492DA425E3C8A9219CA8 | S56: 0.007 | T56: 5ED9749463430510F841DF09D2833359A344B813EF05160541291C4BCB9380C226D4 | Y56: =N56 -> 0.035
A57: 5E48649BA312059493492DA425E3C8A9219B85 | B57: 보통인부 | C57: 일반공사 직종 | D57: 인 | F57: =SUM(V54:V56) -> 0.08 | K57: =ROUND(F57*공량설정_일위대가!B34/100, 공량설정_일위대가!C36) -> 0.08 | O57: 노임 1 | Q57: 5ED9749463430510F841DF09D28333 | T57: 5ED9749463430510F841DF09D283335E48649BA312059493492DA425E3C8A9219B85
A58: 5E48649BA312059493492DA425E3C8A9219CA8 | B58: 내선전공 | C58: 일반공사 직종 | D58: 인 | F58: =SUM(Y54:Y56) -> 0.145 | K58: =ROUND(F58*공량설정_일위대가!B34/100, 공량설정_일위대가!C35) -> 0.145 | O58: 노임 8 | Q58: 5ED9749463430510F841DF09D28333 | T58: 5ED9749463430510F841DF09D283335E48649BA312059493492DA425E3C8A9219CA8
A59: 경질비닐전선관 22mm, 매입 m (호표 12)
A60: 59BD04D943560546DA4DF4059EE0CD2432C50E | B60: 경질비닐전선관 | C60: HI, 22mm | D60: m | E60: 전기품셈 5-1 | F60: 1 | H60: -10 | K60: 1 | L60: 내선전공 | M60: =0.06*(H60+100)/100*(I60+100)/100*(J60+100)/100 -> 0.054 | N60: =F60*M60 -> 0.054 | O60: 노임 8 | P60: 0.06*1 * 90% | Q60: 5ED994E3338505400A48116F64D173 | R60: 5E48649BA312059493492DA425E3C8A9219CA8 | S60: 0.06 | T60: 5ED994E3338505400A48116F64D17359BD04D943560546DA4DF4059EE0CD2432C50E | Y60: =N60 -> 0.054
A61: 59BD04D943560546DA4DF4059EE0CD2432C50E | B61: 경질비닐전선관 | C61: HI, 22mm | D61: m | E61: 전기품셈 5-1 | F61: 0 | H61: 0 | K61: 0.1 | L61: 내선전공 | M61: =0.06*(H61+100)/100*(I61+100)/100*(J61+100)/100 -> 0.06 | N61: =F61*M61 -> 0 | O61: 노임 8 | P61: 0.06*1 | Q61: 5ED994E3338505400A48116F64D173 | R61: 5E48649BA312059493492DA425E3C8A9219CA8 | S61: 0.06 | T61: 5ED994E3338505400A48116F64D17359BD04D943560546DA4DF4059EE0CD2432C50E | Y61: =N61 -> 0
A62: 5E48649BA312059493492DA425E3C8A9219CA8 | B62: 내선전공 | C62: 일반공사 직종 | D62: 인 | F62: =SUM(Y60:Y61) -> 0.054 | K62: =ROUND(F62*공량설정_일위대가!B42/100, 공량설정_일위대가!C43) -> 0.054 | O62: 노임 8 | Q62: 5ED994E3338505400A48116F64D173 | T62: 5ED994E3338505400A48116F64D1735E48649BA312059493492DA425E3C8A9219CA8
A63: 경질비닐전선관 28mm, 매입 m (호표 13)
A64: 59BD04D943560546DA4DF4059EE0CD2432C50F | B64: 경질비닐전선관 | C64: HI, 28mm | D64: m | E64: 전기품셈 5-1 | F64: 1 | H64: -10 | K64: 1 | L64: 내선전공 | M64: =0.08*(H64+100)/100*(I64+100)/100*(J64+100)/100 -> 0.072 | N64: =F64*M64 -> 0.072 | O64: 노임 8 | P64: 0.08*1 * 90% | Q64: 5ED994E3338505379D45ABAB55FDF3 | R64: 5E48649BA312059493492DA425E3C8A9219CA8 | S64: 0.08 | T64: 5ED994E3338505379D45ABAB55FDF359BD04D943560546DA4DF4059EE0CD2432C50F | Y64: =N64 -> 0.072
A65: 59BD04D943560546DA4DF4059EE0CD2432C50F | B65: 경질비닐전선관 | C65: HI, 28mm | D65: m | E65: 전기품셈 5-1 | F65: 0 | H65: 0 | K65: 0.1 | L65: 내선전공 | M65: =0.08*(H65+100)/100*(I65+100)/100*(J65+100)/100 -> 0.08 | N65: =F65*M65 -> 0 | O65: 노임 8 | P65: 0.08*1 | Q65: 5ED994E3338505379D45ABAB55FDF3 | R65: 5E48649BA312059493492DA425E3C8A9219CA8 | S65: 0.08 | T65: 5ED994E3338505379D45ABAB55FDF359BD04D943560546DA4DF4059EE0CD2432C50F | Y65: =N65 -> 0
A66: 5E48649BA312059493492DA425E3C8A9219CA8 | B66: 내선전공 | C66: 일반공사 직종 | D66: 인 | F66: =SUM(Y64:Y65) -> 0.072 | K66: =ROUND(F66*공량설정_일위대가!B44/100, 공량설정_일위대가!C45) -> 0.072 | O66: 노임 8 | Q66: 5ED994E3338505379D45ABAB55FDF3 | T66: 5ED994E3338505379D45ABAB55FDF35E48649BA312059493492DA425E3C8A9219CA8
A67: 파상형 경질폴리에틸렌 전선관 100mm m (호표 14)
A68: 59BD04D943560546DA4DF4059EE0CD25C7313D | B68: 파상형경질폴리에틸렌전선관 | C68: 100mm | D68: m | E68: 전기품셈 4-31 | F68: 1 | H68: 0 | K68: 1 | L68: 보통인부 | M68: =0.036*(H68+100)/100*(I68+100)/100*(J68+100)/100 -> 0.036 | N68: =F68*M68 -> 0.036 | O68: 노임 1 | P68: 0.036*1 | Q68: 5ED994E0632C058AA64805C763C518 | R68: 5E48649BA312059493492DA425E3C8A9219B85 | S68: 0.036 | T68: 5ED994E0632C058AA64805C763C51859BD04D943560546DA4DF4059EE0CD25C7313D | V68: =N68 -> 0.036
L69: 배전전공 | M69: =0.012*(H68+100)/100*(I68+100)/100*(J68+100)/100 -> 0.012 | N69: =F68*M69 -> 0.012 | O69: 노임 11 | P69: 0.012*1 | Q69: 5ED994E0632C058AA64805C763C518 | R69: 5E48649BA312059493492DA425E3C8A92193B0 | S69: 0.012 | T69: 5ED994E0632C058AA64805C763C51859BD04D943560546DA4DF4059EE0CD25C7313D | X69: =N69 -> 0.012
A70: 59BD04D943560546DA4DF4059EE0CD25C7313D | B70: 파상형경질폴리에틸렌전선관 | C70: 100mm | D70: m | E70: 전기품셈 4-31 | F70: 0 | H70: 0 | K70: 0.03 | L70: 보통인부 | M70: =0.036*(H70+100)/100*(I70+100)/100*(J70+100)/100 -> 0.036 | N70: =F70*M70 -> 0 | O70: 노임 1 | P70: 0.036*1 | Q70: 5ED994E0632C058AA64805C763C518 | R70: 5E48649BA312059493492DA425E3C8A9219B85 | S70: 0.036 | T70: 5ED994E0632C058AA64805C763C51859BD04D943560546DA4DF4059EE0CD25C7313D | V70: =N70 -> 0
L71: 배전전공 | M71: =0.012*(H70+100)/100*(I70+100)/100*(J70+100)/100 -> 0.012 | N71: =F70*M71 -> 0 | O71: 노임 11 | P71: 0.012*1 | Q71: 5ED994E0632C058AA64805C763C518 | R71: 5E48649BA312059493492DA425E3C8A92193B0 | S71: 0.012 | T71: 5ED994E0632C058AA64805C763C51859BD04D943560546DA4DF4059EE0CD25C7313D | X71: =N71 -> 0
A72: 5E48649BA312059493492DA425E3C8A9219B85 | B72: 보통인부 | C72: 일반공사 직종 | D72: 인 | F72: =SUM(V68:V71) -> 0.036 | K72: =ROUND(F72*공량설정_일위대가!B46/100, 공량설정_일위대가!C47) -> 0.036 | O72: 노임 1 | Q72: 5ED994E0632C058AA64805C763C518 | T72: 5ED994E0632C058AA64805C763C5185E48649BA312059493492DA425E3C8A9219B85
A73: 5E48649BA312059493492DA425E3C8A92193B0 | B73: 배전전공 | C73: 일반공사 직종 | D73: 인 | F73: =SUM(X68:X71) -> 0.012 | K73: =ROUND(F73*공량설정_일위대가!B46/100, 공량설정_일위대가!C48) -> 0.012 | O73: 노임 11 | Q73: 5ED994E0632C058AA64805C763C518 | T73: 5ED994E0632C058AA64805C763C5185E48649BA312059493492DA425E3C8A92193B0
A74: 풀박스 400X400X300mm, 노출, 천정 개 (호표 15)
A75: 59BD04D9434505F25D461BE495C2EFD463AEA4 | B75: 풀박스 | C75: 400×400×300mm | D75: 개 | E75: 전기품셈 5-4 | F75: 1 | H75: 20 | K75: 1 | L75: 내선전공 | M75: =0.35*(H75+100)/100*(I75+100)/100*(J75+100)/100 -> 0.42 | N75: =F75*M75 -> 0.42 | O75: 노임 8 | P75: 0.35*1 * 120% | Q75: 5ED994EEC3790513764CAF4AFE62FA | R75: 5E48649BA312059493492DA425E3C8A9219CA8 | S75: 0.35 | T75: 5ED994EEC3790513764CAF4AFE62FA59BD04D9434505F25D461BE495C2EFD463AEA4 | Y75: =N75 -> 0.42
A76: 5E48649BA312059493492DA425E3C8A9219CA8 | B76: 내선전공 | C76: 일반공사 직종 | D76: 인 | F76: =SUM(Y75:Y75) -> 0.42 | K76: =ROUND(F76*공량설정_일위대가!B49/100, 공량설정_일위대가!C50) -> 0.42 | O76: 노임 8 | Q76: 5ED994EEC3790513764CAF4AFE62FA | T76: 5ED994EEC3790513764CAF4AFE62FA5E48649BA312059493492DA425E3C8A9219CA8
A77: 관로구방수 ø100 1개 (호표 16)
A78: 59BD04D943560546DA4DFAAEA13CECFED448E3 | B78: 전선관피팅 | C78: 관구밀폐기, 이종연결관, Φ100mm | D78: 개 | E78: 전기품셈 2-18 | F78: 1 | H78: 0 | K78: 1 | L78: 보통인부 | M78: =0.08179*(H78+100)/100*(I78+100)/100*(J78+100)/100 -> 0.08179 | N78: =F78*M78 -> 0.08179 | O78: 노임 1 | P78: 0.132*0.62 | Q78: 5ED994EC13B205FC9249512EC0690B | R78: 5E48649BA312059493492DA425E3C8A9219B85 | S78: 0.08179 | T78: 5ED994EC13B205FC9249512EC0690B59BD04D943560546DA4DFAAEA13CECFED448E3 | V78: =N78 -> 0.08179
L79: 특고압케이블전공 | M79: =0.08179*(H78+100)/100*(I78+100)/100*(J78+100)/100 -> 0.08179 | N79: =F78*M79 -> 0.08179 | O79: 노임 9 | P79: 0.132*0.62 | Q79: 5ED994EC13B205FC9249512EC0690B | R79: 5E48649BA312059493492DA425E3C8A9219CAB | S79: 0.08179 | T79: 5ED994EC13B205FC9249512EC0690B59BD04D943560546DA4DFAAEA13CECFED448E3 | Z79: =N79 -> 0.08179
A80: 5E48649BA312059493492DA425E3C8A9219B85 | B80: 보통인부 | C80: 일반공사 직종 | D80: 인 | F80: =SUM(V78:V79) -> 0.08179 | K80: =ROUND(F80*공량설정_일위대가!B51/100, 공량설정_일위대가!C53) -> 0.0818 | O80: 노임 1 | Q80: 5ED994EC13B205FC9249512EC0690B | T80: 5ED994EC13B205FC9249512EC0690B5E48649BA312059493492DA425E3C8A9219B85
A81: 5E48649BA312059493492DA425E3C8A9219CAB | B81: 특고압케이블전공 | C81: 일반공사 직종 | D81: 인 | F81: =SUM(Z78:Z79) -> 0.08179 | K81: =ROUND(F81*공량설정_일위대가!B51/100, 공량설정_일위대가!C52) -> 0.0818 | O81: 노임 9 | Q81: 5ED994EC13B205FC9249512EC0690B | T81: 5ED994EC13B205FC9249512EC0690B5E48649BA312059493492DA425E3C8A9219CAB
A82: 전력케이블 F-CV, 0.6/1kV, 1C 240㎟ m (호표 17)
A83: 59A344B813EF0516324A0472BC02388E33C207 | B83: 전력케이블 | C83: 600V폴리에틸렌케이블, 0.6/1kV, F-CV, 1C×240㎟ | D83: m | E83: 전기품셈 5-11 | F83: 1 | H83: 0 | K83: 1 | L83: 저압케이블전공 | M83: =0.136*(H83+100)/100*(I83+100)/100*(J83+100)/100 -> 0.136 | N83: =F83*M83 -> 0.136 | O83: 노임 10 | P83: 0.136*1 | Q83: 5ED9E46193DF05696D4DFB439A0F76 | R83: 5E48649BA312059493492DA425E3C8A9219CA5 | S83: 0.136 | T83: 5ED9E46193DF05696D4DFB439A0F7659A344B813EF0516324A0472BC02388E33C207 | AA83: =N83 -> 0.136
A84: 59A344B813EF0516324A0472BC02388E33C207 | B84: 전력케이블 | C84: 600V폴리에틸렌케이블, 0.6/1kV, F-CV, 1C×240㎟ | D84: m | E84: 전기품셈 5-11 | F84: 0 | H84: 0 | K84: 0.05 | L84: 저압케이블전공 | M84: =0.136*(H84+100)/100*(I84+100)/100*(J84+100)/100 -> 0.136 | N84: =F84*M84 -> 0 | O84: 노임 10 | P84: 0.136*1 | Q84: 5ED9E46193DF05696D4DFB439A0F76 | R84: 5E48649BA312059493492DA425E3C8A9219CA5 | S84: 0.136 | T84: 5ED9E46193DF05696D4DFB439A0F7659A344B813EF0516324A0472BC02388E33C207 | AA84: =N84 -> 0
A85: 5E48649BA312059493492DA425E3C8A9219CA5 | B85: 저압케이블전공 | C85: 일반공사 직종 | D85: 인 | F85: =SUM(AA83:AA84) -> 0.136 | K85: =ROUND(F85*공량설정_일위대가!B54/100, 공량설정_일위대가!C55) -> 0.136 | O85: 노임 10 | Q85: 5ED9E46193DF05696D4DFB439A0F76 | T85: 5ED9E46193DF05696D4DFB439A0F765E48649BA312059493492DA425E3C8A9219CA5
A86: 압착단자 압착터미널, 35㎟, 1C 구내 개소 (호표 18)
A87: 59BD04D9434505F22041D6B386886DE7CF4649 | B87: 압착단자 | C87: 터미널, 35㎟ | D87: 개 | E87: 전기품셈 4-37 | F87: 1 | H87: -70 | I87: -50 | K87: 1 | L87: 저압케이블전공 | M87: =0.36*(H87+100)/100*(I87+100)/100*(J87+100)/100 -> 0.054 | N87: =F87*M87 -> 0.054 | O87: 노임 10 | P87: 0.36*1 * 30% * 50% | Q87: 5ED9E476A38A05BF324C9623679EBD | R87: 5E48649BA312059493492DA425E3C8A9219CA5 | S87: 0.36 | T87: 5ED9E476A38A05BF324C9623679EBD59BD04D9434505F22041D6B386886DE7CF4649 | AA87: =N87 -> 0.054
A88: 5E48649BA312059493492DA425E3C8A9219CA5 | B88: 저압케이블전공 | C88: 일반공사 직종 | D88: 인 | F88: =SUM(AA87:AA87) -> 0.054 | K88: =ROUND(F88*공량설정_일위대가!B56/100, 공량설정_일위대가!C57) -> 0.054 | O88: 노임 10 | Q88: 5ED9E476A38A05BF324C9623679EBD | T88: 5ED9E476A38A05BF324C9623679EBD5E48649BA312059493492DA425E3C8A9219CA5
A89: 압착단자 압착터미널, 150㎟, 1C 구내 개소 (호표 19)
A90: 59BD04D9434505F22041D6B386886DE7CF464D | B90: 압착단자 | C90: 터미널, 150㎟ | D90: 개 | E90: 전기품셈 4-37 | F90: 1 | H90: -70 | I90: -50 | K90: 1 | L90: 저압케이블전공 | M90: =0.68*(H90+100)/100*(I90+100)/100*(J90+100)/100 -> 0.102 | N90: =F90*M90 -> 0.102 | O90: 노임 10 | P90: 0.68*1 * 30% * 50% | Q90: 5ED9E47743E7053DA74D6CDAC50302 | R90: 5E48649BA312059493492DA425E3C8A9219CA5 | S90: 0.68 | T90: 5ED9E47743E7053DA74D6CDAC5030259BD04D9434505F22041D6B386886DE7CF464D | AA90: =N90 -> 0.102
A91: 5E48649BA312059493492DA425E3C8A9219CA5 | B91: 저압케이블전공 | C91: 일반공사 직종 | D91: 인 | F91: =SUM(AA90:AA90) -> 0.102 | K91: =ROUND(F91*공량설정_일위대가!B58/100, 공량설정_일위대가!C59) -> 0.102 | O91: 노임 10 | Q91: 5ED9E47743E7053DA74D6CDAC50302 | T91: 5ED9E47743E7053DA74D6CDAC503025E48649BA312059493492DA425E3C8A9219CA5
A92: 러그단자 동관단자 2홀, 240㎟, 1C 구내 개소 (호표 20)
A93: 59BD04D9434505F22041D6B03397F25C4C7015 | B93: 러그단자 | C93: 러그단자, 동관단자, 2홀, 250㎟ | D93: 개 | E93: 전기품셈 4-37 | F93: 1 | H93: -70 | I93: -50 | K93: 1 | L93: 저압케이블전공 | M93: =0.84*(H93+100)/100*(I93+100)/100*(J93+100)/100 -> 0.126 | N93: =F93*M93 -> 0.126 | O93: 노임 10 | P93: 0.84*1 * 30% * 50% | Q93: 5ED9E47743D60580FC441B13771A9E | R93: 5E48649BA312059493492DA425E3C8A9219CA5 | S93: 0.84 | T93: 5ED9E47743D60580FC441B13771A9E59BD04D9434505F22041D6B03397F25C4C7015 | AA93: =N93 -> 0.126
A94: 5E48649BA312059493492DA425E3C8A9219CA5 | B94: 저압케이블전공 | C94: 일반공사 직종 | D94: 인 | F94: =SUM(AA93:AA93) -> 0.126 | K94: =ROUND(F94*공량설정_일위대가!B60/100, 공량설정_일위대가!C61) -> 0.126 | O94: 노임 10 | Q94: 5ED9E47743D60580FC441B13771A9E | T94: 5ED9E47743D60580FC441B13771A9E5E48649BA312059493492DA425E3C8A9219CA5
A95: 절연전선 F-GV, 16㎟, 관내포설 m (호표 21)
A96: 59A344B813EF05160541291C4BCB9380C3C42B | B96: 절연전선및피복선 | C96: 접지용비닐절연전선, F-GV, 16㎟ | D96: m | E96: 전기3-38 | F96: 1 | H96: 50 | K96: 1 | L96: 내선전공 | M96: =0.007*(H96+100)/100*(I96+100)/100*(J96+100)/100 -> 0.0105 | N96: =F96*M96 -> 0.0105 | O96: 노임 8 | P96: 0.007*1 * 150% | Q96: 5ED9D47E33F305FCA941C7657E3821 | R96: 5E48649BA312059493492DA425E3C8A9219CA8 | S96: 0.007 | T96: 5ED9D47E33F305FCA941C7657E382159A344B813EF05160541291C4BCB9380C3C42B | Y96: =N96 -> 0.0105
A97: 59A344B813EF05160541291C4BCB9380C3C42B | B97: 절연전선및피복선 | C97: 접지용비닐절연전선, F-GV, 16㎟ | D97: m | E97: 전기3-38 | F97: 0 | H97: 0 | K97: 0.1 | L97: 내선전공 | M97: =0.007*(H97+100)/100*(I97+100)/100*(J97+100)/100 -> 0.007 | N97: =F97*M97 -> 0 | O97: 노임 8 | P97: 0.007*1 | Q97: 5ED9D47E33F305FCA941C7657E3821 | R97: 5E48649BA312059493492DA425E3C8A9219CA8 | S97: 0.007 | T97: 5ED9D47E33F305FCA941C7657E382159A344B813EF05160541291C4BCB9380C3C42B | Y97: =N97 -> 0
A98: 5E48649BA312059493492DA425E3C8A9219CA8 | B98: 내선전공 | C98: 일반공사 직종 | D98: 인 | F98: =SUM(Y96:Y97) -> 0.0105 | K98: =ROUND(F98*공량설정_일위대가!B62/100, 공량설정_일위대가!C63) -> 0.0105 | O98: 노임 8 | Q98: 5ED9D47E33F305FCA941C7657E3821 | T98: 5ED9D47E33F305FCA941C7657E38215E48649BA312059493492DA425E3C8A9219CA8
A99: 절연전선 F-GV, 25㎟, 관내포설 m (호표 22)
A100: 59A344B813EF05160541291C4BCB9380C226D5 | B100: 접지용비닐절연전선 | C100: F-GV, 25㎟ | D100: m | E100: 전기품셈 3-38 | F100: 1 | H100: 50 | K100: 1 | L100: 내선전공 | M100: =0.007*(H100+100)/100*(I100+100)/100*(J100+100)/100 -> 0.0105 | N100: =F100*M100 -> 0.0105 | O100: 노임 8 | P100: 0.007*1 * 150% | Q100: 5ED9D47E33F305C7EE494EA0D17798 | R100: 5E48649BA312059493492DA425E3C8A9219CA8 | S100: 0.007 | T100: 5ED9D47E33F305C7EE494EA0D1779859A344B813EF05160541291C4BCB9380C226D5 | Y100: =N100 -> 0.0105
...

Sheet 단가대비표
A1: 단 가 대 비 표
A2: [ SDV보안평가지원센터전기공사 ]
A3: 코 드 | B3: 품 명 | C3: 규격 | D3: 단위 | E3: 재 료 비 | P3: 노 무 비 | Q3: 경 비 | W3: 번 호 | X3: 비 고 | Y3: 품목구분 | Z3: 노임구분 | AA3: 소수점처리 | AB3: 자재구분
E4: 가격정보 | F4: PAGE | G4: 물가자료 | H4: PAGE | I4: 물가정보 | J4: PAGE | K4: 유통물가 | L4: PAGE | M4: 조사가격 | N4: PAGE | O4: 적용단가 | Q4: 가격정보 | R4: 물가자료 | S4: 물가정보 | T4: 유통물가 | U4: 조사가격 | V4: 적용단가
A5: 5980549793F90520F4416E2D1C6953A39AFED1 | B5: 굴삭기(유압식백호) | C5: 0.7㎥ | D5: 대 | E5: 0 | G5: 0 | I5: 0 | K5: 0 | M5: 0 | O5: 0 | P5: 0 | Q5: 0 | R5: 0 | S5: 0 | T5: 0 | U5: 93042 | V5: 93042 | W5: 자재 1 | X5: 천원
A6: 5980549793F90520BE463C683713754CEA52F2 | B6: 덤프트럭 | C6: 15ton | D6: 대 | E6: 0 | G6: 0 | I6: 0 | K6: 0 | M6: 0 | O6: 0 | P6: 0 | Q6: 0 | R6: 0 | S6: 0 | T6: 0 | U6: 64995 | V6: 64995 | W6: 자재 2 | X6: 천원
A7: 5980549793F905315A4F296E9978B8307204A8 | B7: 래머 | C7: 80KG | D7: 대 | E7: 0 | G7: 0 | I7: 0 | K7: 0 | M7: 0 | O7: 0 | P7: 0 | Q7: 0 | R7: 0 | S7: 0 | T7: 0 | U7: 1134 | V7: 1134 | W7: 자재 3 | X7: 천원
A8: 5992D44623490595C2460F0ACC166440153C7E | B8: 자갈 | C8: (별도) | D8: ㎥ | E8: 0 | G8: 29000 | H8: 62 | I8: 48000 | J8: 55 | K8: 0 | M8: 0 | O8: 29000 | P8: 0 | Q8: 0 | R8: 0 | S8: 0 | T8: 0 | U8: 0 | V8: 0 | W8: 자재 4 | X8: 별도
A9: 5992D44623490595C2460F0ACC1664401539AC | B9: 자갈 | C9: 자갈, 부산, 도착도, #57 | D9: ㎥ | E9: 0 | G9: 29000 | H9: 62 | I9: 48000 | J9: 55 | K9: 0 | M9: 0 | O9: 29000 | P9: 0 | Q9: 0 | R9: 0 | S9: 0 | T9: 0 | U9: 0 | V9: 0 | W9: 자재 5
A10: 5992D44623490595DC4E5FCFD4B966F84CD84E | B10: 모래 | C10: 모래(별도) | D10: ㎥ | E10: 0 | G10: 50000 | H10: 62 | I10: 68000 | J10: 55 | K10: 0 | M10: 0 | O10: 50000 | P10: 0 | Q10: 0 | R10: 0 | S10: 0 | T10: 0 | U10: 0 | V10: 0 | W10: 자재 6 | X10: 별도
A11: 5992D44623490595DC4E5FCFD4B966F84CDED1 | B11: 모래 | C11: 모래, 부산, 도착도 | D11: ㎥ | E11: 0 | G11: 50000 | H11: 62 | I11: 68000 | J11: 55 | K11: 0 | M11: 0 | O11: 50000 | P11: 0 | Q11: 0 | R11: 0 | S11: 0 | T11: 0 | U11: 0 | V11: 0 | W11: 자재 7
A12: 599294EDA32305A002416AE660D80CE70EE445 | B12: 경유 | C12: 경유, 저유황 | D12: L | E12: 0 | G12: 1596 | H12: 하 32 | I12: 1788 | J12: 1438 | K12: 0 | M12: 0 | O12: 1596 | P12: 0 | Q12: 0 | R12: 0 | S12: 0 | T12: 0 | U12: 0 | V12: 0 | W12: 자재 8
A13: 599294EDA32305A0024169DF0E9903083C0685 | B13: 공업용휘발유 | C13: 공업용휘발유, 무연 | D13: L | E13: 0 | G13: 1656 | H13: 하 32 | I13: 1898 | J13: 1438 | K13: 0 | M13: 0 | O13: 1656 | P13: 0 | Q13: 0 | R13: 0 | S13: 0 | T13: 0 | U13: 0 | V13: 0 | W13: 자재 9
A14: 59A344B813DE058408411451B1FE09FFA6CDFB | B14: PVC관 | C14: 150A | D14: EA | E14: 0 | G14: 0 | I14: 0 | K14: 0 | M14: 9282 | O14: 9282 | P14: 0 | Q14: 0 | R14: 0 | S14: 0 | T14: 0 | U14: 0 | V14: 0 | W14: 자재 10
A15: 59A344B813DE058408411451B1FE09FFA6CDFA | B15: 자철물제작설치(철제) | C15: 간단 | D15: Kg | E15: 0 | G15: 0 | I15: 0 | K15: 0 | M15: 27297 | O15: 27297 | P15: 3700 | Q15: 0 | R15: 0 | S15: 0 | T15: 0 | U15: 0 | V15: 0 | W15: 자재 11
A16: 59A344B813EF05160541291C4BCB9380C3C424 | B16: 접지용비닐절연전선 | C16: F-GV, 4㎟ | D16: m | E16: 921 | F16: 20683696 | G16: 1172 | H16: 1075 | I16: 1255 | J16: 1165 | K16: 0 | M16: 0 | O16: 921 | P16: 0 | Q16: 0 | R16: 0 | S16: 0 | T16: 0 | U16: 0 | V16: 0 | W16: 자재 12
A17: 59A344B813EF05160541291C4BCB9380C3C425 | B17: 접지용비닐절연전선 | C17: F-GV, 6㎟ | D17: m | E17: 1031 | F17: 20683697 | G17: 1535 | H17: 1075 | I17: 1429 | J17: 1165 | K17: 0 | M17: 0 | O17: 1031 | P17: 0 | Q17: 0 | R17: 0 | S17: 0 | T17: 0 | U17: 0 | V17: 0 | W17: 자재 13
A18: 59A344B813EF05160541291C4BCB9380C3C42B | B18: 절연전선및피복선 | C18: 접지용비닐절연전선, F-GV, 16㎟ | D18: m | E18: 2365 | F18: 20683699 | G18: 3274 | H18: 1075 | I18: 3288 | J18: 1165 | K18: 0 | M18: 0 | O18: 2365 | P18: 0 | Q18: 0 | R18: 0 | S18: 0 | T18: 0 | U18: 0 | V18: 0 | W18: 자재 14
A19: 59A344B813EF05160541291C4BCB9380C226D5 | B19: 접지용비닐절연전선 | C19: F-GV, 25㎟ | D19: m | E19: 3796 | F19: 20683700 | G19: 5078 | H19: 1075 | I19: 5050 | J19: 1165 | K19: 0 | M19: 0 | O19: 3796 | P19: 0 | Q19: 0 | R19: 0 | S19: 0 | T19: 0 | U19: 0 | V19: 0 | W19: 자재 15
A20: 59A344B813EF05160541291C4BCB9380C226D4 | B20: 접지용비닐절연전선 | C20: F-GV, 35㎟ | D20: m | E20: 5377 | F20: 20683701 | G20: 6905 | H20: 1075 | I20: 7132 | J20: 1165 | K20: 0 | M20: 0 | O20: 5377 | P20: 0 | Q20: 0 | R20: 0 | S20: 0 | T20: 0 | U20: 0 | V20: 0 | W20: 자재 16
A21: 59A344B813EF05160541291C4BCB9380C226D7 | B21: 접지용비닐절연전선 | C21: F-GV, 50㎟ | D21: m | E21: 7083 | F21: 20683702 | G21: 9307 | H21: 1075 | I21: 9695 | J21: 1165 | K21: 0 | M21: 0 | O21: 7083 | P21: 0 | Q21: 0 | R21: 0 | S21: 0 | T21: 0 | U21: 0 | V21: 0 | W21: 자재 17
A22: 59A344B813EF05160541291C4BCB9380C226D6 | B22: 접지용비닐절연전선 | C22: F-GV, 70㎟ | D22: m | E22: 10058 | F22: 20683703 | G22: 13178 | H22: 1075 | I22: 12444 | J22: 1161 | K22: 0 | M22: 0 | O22: 10058 | P22: 0 | Q22: 0 | R22: 0 | S22: 0 | T22: 0 | U22: 0 | V22: 0 | W22: 자재 18
A23: 59A344B813EF05160541291C4BCB9380C226D0 | B23: 접지용비닐절연전선 | C23: F-GV, 120㎟ | D23: m | E23: 16965 | F23: 20683705 | G23: 22701 | H23: 1075 | I23: 22474 | J23: 1165 | K23: 0 | M23: 0 | O23: 16965 | P23: 0 | Q23: 0 | R23: 0 | S23: 0 | T23: 0 | U23: 0 | V23: 0 | W23: 자재 19
A24: 59A344B813EF05160541291C4BCB9380C226D3 | B24: 절연전선및피복선 | C24: 접지용비닐절연전선, F-GV, 150㎟ | D24: m | E24: 12417 | F24: 20683706 | G24: 12010 | H24: 1084 | I24: 21730 | J24: 1233 | K24: 0 | M24: 0 | O24: 12010 | P24: 0 | Q24: 0 | R24: 0 | S24: 0 | T24: 0 | U24: 0 | V24: 0 | W24: 자재 20
A25: 59A344B813EF05160541291C4BCB9380C2242C | B25: 접지용 절연전선 | C25: F-GV, 16㎟ | D25: m | E25: 0 | G25: 0 | I25: 0 | K25: 0 | M25: 3048 | O25: 3048 | P25: 6292 | Q25: 0 | R25: 0 | S25: 0 | T25: 0 | U25: 0 | V25: 0 | W25: 자재 21
A26: 59A344B813EF05160541291C4BCB9380CD311A | B26: BC WIRE | C26: BC WIRE 70SQ | D26: m | E26: 0 | G26: 16070 | H26: 1080 | I26: 11953 | J26: 1180 | K26: 0 | M26: 10773 | O26: 10773 | P26: 2189 | Q26: 0 | R26: 0 | S26: 0 | T26: 0 | U26: 0 | V26: 0 | W26: 자재 22
A27: 59A344B813EF05163248460ADAF0A828410D21 | B27: 등기구 "A"TYPE | D27: EA | E27: 0 | G27: 0 | I27: 0 | K27: 0 | M27: 0 | O27: 0 | P27: 0 | Q27: 0 | R27: 0 | S27: 0 | T27: 0 | U27: 0 | V27: 0 | W27: 자재 23
A28: 59A344B813EF05163248460ADAF0A828410D20 | B28: 등기구 "B"TYPE | D28: EA | E28: 0 | G28: 0 | I28: 0 | K28: 0 | M28: 0 | O28: 0 | P28: 0 | Q28: 0 | R28: 0 | S28: 0 | T28: 0 | U28: 0 | V28: 0 | W28: 자재 24
A29: 59A344B813EF05163248460ADAF0A828410C03 | B29: 등기구 "C"TYPE | D29: EA | E29: 0 | G29: 0 | I29: 0 | K29: 0 | M29: 0 | O29: 0 | P29: 0 | Q29: 0 | R29: 0 | S29: 0 | T29: 0 | U29: 0 | V29: 0 | W29: 자재 25
A30: 59A344B813EF05163248460ADAF0A828410C02 | B30: 등기구 "D"TYPE | D30: EA | E30: 0 | G30: 0 | I30: 0 | K30: 0 | M30: 0 | O30: 0 | P30: 0 | Q30: 0 | R30: 0 | S30: 0 | T30: 0 | U30: 0 | V30: 0 | W30: 자재 26
A31: 59A344B813EF05163248460ADAF0A828410C01 | B31: 등기구 "E"TYPE | D31: EA | E31: 0 | G31: 0 | I31: 0 | K31: 0 | M31: 0 | O31: 0 | P31: 0 | Q31: 0 | R31: 0 | S31: 0 | T31: 0 | U31: 0 | V31: 0 | W31: 자재 27
A32: 59A344B813EF05163248460ADAF0A828410C00 | B32: 등기구 "F"TYPE | D32: EA | E32: 0 | G32: 0 | I32: 0 | K32: 0 | M32: 0 | O32: 0 | P32: 0 | Q32: 0 | R32: 0 | S32: 0 | T32: 0 | U32: 0 | V32: 0 | W32: 자재 28
A33: 59A344B813EF05163248460ADAF0A828410A57 | B33: 등기구 "G"TYPE | D33: EA | E33: 0 | G33: 0 | I33: 0 | K33: 0 | M33: 0 | O33: 0 | P33: 0 | Q33: 0 | R33: 0 | S33: 0 | T33: 0 | U33: 0 | V33: 0 | W33: 자재 29
A34: 59A344B813EF05163248460ADAF0A828410A56 | B34: POLE LIGHT | C34: 5m이하, 1등용 | D34: EA | E34: 0 | G34: 0 | I34: 0 | K34: 0 | M34: 0 | O34: 0 | P34: 0 | Q34: 0 | R34: 0 | S34: 0 | T34: 0 | U34: 0 | V34: 0 | W34: 자재 30
A35: 59A344B813EF0516324A0471957AB09866416C | B35: 전력케이블 | C35: FR-CNCO-W, 수밀형무독성난연, 22.9kV, 60㎟ | D35: m | E35: 17478 | F35: 10040270 | G35: 23403 | H35: 1074 | I35: 23446 | J35: 1170 | K35: 0 | M35: 0 | O35: 17478 | P35: 0 | Q35: 0 | R35: 0 | S35: 0 | T35: 0 | U35: 0 | V35: 0 | W35: 자재 31
A36: 59A344B813EF0516324A0472BC02388E33C202 | B36: 전력케이블 | C36: 0.6/1kV, F-CV, 1C×70㎟ | D36: m | E36: 12127 | F36: 20683890 | G36: 13487 | H36: 1075 | I36: 13984 | J36: 1168 | K36: 0 | M36: 0 | O36: 12127 | P36: 0 | Q36: 0 | R36: 0 | S36: 0 | T36: 0 | U36: 0 | V36: 0 | W36: 자재 32
A37: 59A344B813EF0516324A0472BC02388E33C207 | B37: 전력케이블 | C37: 600V폴리에틸렌케이블, 0.6/1kV, F-CV, 1C×240㎟ | D37: m | E37: 40247 | F37: 20683895 | G37: 45867 | H37: 1075 | I37: 45638 | J37: 1168 | K37: 0 | M37: 0 | O37: 40247 | P37: 0 | Q37: 0 | R37: 0 | S37: 0 | T37: 0 | U37: 0 | V37: 0 | W37: 자재 33
A38: 59A344B813EF0516324A0472BC02388E322432 | B38: 전력케이블 | C38: 0.6/1kV, F-CV, 2C×6㎟ | D38: m | E38: 2772 | F38: 20683904 | G38: 3101 | H38: 1075 | I38: 3256 | J38: 1168 | K38: 0 | M38: 0 | O38: 2772 | P38: 0 | Q38: 0 | R38: 0 | S38: 0 | T38: 0 | U38: 0 | V38: 0 | W38: 자재 34
A39: 59A344B813EF0516324A0472BC02388E32205F | B39: 전력케이블 | C39: 0.6/1kV, F-CV, 4C×4㎟ | D39: m | E39: 3380 | F39: 20683944 | G39: 4068 | H39: 1075 | I39: 4036 | J39: 1168 | K39: 0 | M39: 0 | O39: 3380 | P39: 0 | Q39: 0 | R39: 0 | S39: 0 | T39: 0 | U39: 0 | V39: 0 | W39: 자재 35
A40: 59A344B813EF0516324A0472BC02388E32205C | B40: 전력케이블 | C40: 0.6/1kV, F-CV, 4C×16㎟ | D40: m | E40: 12452 | F40: 20683947 | G40: 13153 | H40: 1075 | I40: 14459 | J40: 1168 | K40: 0 | M40: 0 | O40: 12452 | P40: 0 | Q40: 0 | R40: 0 | S40: 0 | T40: 0 | U40: 0 | V40: 0 | W40: 자재 36
A41: 59A344B813EF0516324A0472BE32FE83D02DF8 | B41: 저독성난연케이블 | C41: HFIX, 2.5mm² | D41: m | E41: 551 | F41: 22076729 | G41: 557 | H41: 1074 | I41: 836 | J41: 1165 | K41: 0 | M41: 0 | O41: 551 | P41: 0 | Q41: 0 | R41: 0 | S41: 0 | T41: 0 | U41: 0 | V41: 0 | W41: 자재 37
A42: 59BD943543A50533C648B8D2B290B4439FDD0B | B42: ㄱ형강 | C42: 75×75×6mm | D42: kg | E42: 0 | G42: 0 | I42: 0 | K42: 0 | M42: 1010 | O42: 1010 | P42: 0 | Q42: 0 | R42: 0 | S42: 0 | T42: 0 | U42: 0 | V42: 0 | W42: 자재 38
A43: 59BD943543B705813B4479B06D48D9DE0A2FA9 | B43: 시멘트 | C43: 시멘트, 분공장도 | D43: 포 | E43: 0 | G43: 7300 | H43: 65 | I43: 7500 | J43: 58 | K43: 0 | M43: 0 | O43: 7300 | P43: 0 | Q43: 0 | R43: 0 | S43: 0 | T43: 0 | U43: 0 | V43: 0 | W43: 자재 39 | X43: 일반
A44: 59BD9435438A054B0540E3D636E2E2251401A1 | B44: 핸드홀 | C44: 1000x1000x1000 | D44: 조 | E44: 0 | G44: 0 | I44: 220000 | J44: 207 | K44: 0 | M44: 0 | O44: 220000 | P44: 0 | Q44: 0 | R44: 0 | S44: 0 | T44: 0 | U44: 0 | V44: 0 | W44: 자재 40
A45: 59BD9435438A054B0540E3D636E2E2251401AF | B45: 핸드홀 | C45: 2000x1500x1500 | D45: 조 | E45: 0 | G45: 0 | I45: 590000 | J45: 207 | K45: 0 | M45: 0 | O45: 590000 | P45: 0 | Q45: 0 | R45: 0 | S45: 0 | T45: 0 | U45: 0 | V45: 0 | W45: 자재 41
A46: 59BD9435438A054B0540E3D636E2E225140081 | B46: 핸드홀카바 | C46: 주철각형(1120x680x132) | D46: 조 | E46: 0 | G46: 0 | I46: 370000 | J46: 207 | K46: 0 | M46: 0 | O46: 370000 | P46: 0 | Q46: 0 | R46: 0 | S46: 0 | T46: 0 | U46: 0 | V46: 0 | W46: 자재 42
A47: 59BD94354332052BB448C92F7BC34FA3C75A07 | B47: 겐트리(다차로구조물) | C47: 제작, 기초공사, 접지공사 포함 | D47: 개 | E47: 0 | G47: 0 | I47: 0 | K47: 0 | M47: 50050000 | O47: 50050000 | P47: 0 | Q47: 0 | R47: 0 | S47: 0 | T47: 0 | U47: 0 | V47: 0 | W47: 자재 43
A48: 59BD842F739105D026485D2E176907838A2DFE | B48: 라운드헤드볼트 | C48: 라운드헤드볼트, M10×25 | D48: 개 | E48: 0 | G48: 105 | H48: 46 | I48: 160.6 | J48: 39 | K48: 0 | M48: 0 | O48: 105 | P48: 0 | Q48: 0 | R48: 0 | S48: 0 | T48: 0 | U48: 0 | V48: 0 | W48: 자재 44
A49: 59BD842F739105D0264856FF07ABAEFD45814B | B49: 행어볼트 | C49: 행어볼트, ∮9×1000mm | D49: 개 | E49: 0 | G49: 1205 | H49: 46 | I49: 1167 | J49: 43 | K49: 0 | M49: 0 | O49: 1167 | P49: 0 | Q49: 0 | R49: 0 | S49: 0 | T49: 0 | U49: 0 | V49: 0 | W49: 자재 45
A50: 59BD842F739105D0304A40A0259504A25A9A77 | B50: 육각너트 | C50: 육각너트, M10 | D50: 개 | E50: 0 | G50: 33.2 | H50: 51 | I50: 25.1 | J50: 39 | K50: 0 | M50: 0 | O50: 25.1 | P50: 0 | Q50: 0 | R50: 0 | S50: 0 | T50: 0 | U50: 0 | V50: 0 | W50: 자재 46
A51: 59BD842F739105D0C6445D0EC02BC6FD347721 | B51: 스프링와셔 | C51: 용융아연도, 호칭경10mm | D51: 개 | E51: 0 | G51: 10.98 | H51: 48 | I51: 9.2 | J51: 43 | K51: 0 | M51: 0 | O51: 9.2 | P51: 0 | Q51: 0 | R51: 0 | S51: 0 | T51: 0 | U51: 0 | V51: 0 | W51: 자재 47
A52: 59BD842F739105E2B34864546C030FF6368930 | B52: 스트롱앵커 | C52: 스트롱앵커, M10, 9.5mm | D52: 개 | E52: 0 | G52: 120 | H52: 52 | I52: 200 | J52: 642 | K52: 0 | M52: 0 | O52: 120 | P52: 0 | Q52: 0 | R52: 0 | S52: 0 | T52: 0 | U52: 0 | V52: 0 | W52: 자재 48
A53: 59BD04D94371053EB94C6E35439D9F16C571EE | B53: "A"TYPE | C53: LED 40W (LED 슬림매입등)300x1200 | D53: 개 | E53: 0 | G53: 0 | I53: 0 | K53: 0 | M53: 94100 | O53: 94100 | P53: 0 | Q53: 0 | R53: 0 | S53: 0 | T53: 0 | U53: 0 | V53: 0 | W53: 자재 49 | X53: 관급자재
A54: 59BD04D94371053EB94C6E35439D9F16C570C6 | B54: "B"TYPE | C54: LED 40W (LED 슬림직부등)300x1200 | D54: 개 | E54: 0 | G54: 0 | I54: 0 | K54: 0 | M54: 94100 | O54: 94100 | P54: 0 | Q54: 0 | R54: 0 | S54: 0 | T54: 0 | U54: 0 | V54: 0 | W54: 자재 50
A55: 59BD04D94371053EB94C6E35439D9F16C570C5 | B55: "C"TYPE | C55: LED 15W (LED 다운라이트) | D55: 개 | E55: 0 | G55: 0 | I55: 0 | K55: 0 | M55: 48600 | O55: 48600 | P55: 0 | Q55: 0 | R55: 0 | S55: 0 | T55: 0 | U55: 0 | V55: 0 | W55: 자재 51
A56: 59BD04D94371053EB94C6E35439D9F16C570C4 | B56: "D"TYPE | C56: LED 15W (LED 원형직부등) | D56: 개 | E56: 0 | G56: 0 | I56: 0 | K56: 0 | M56: 59000 | O56: 59000 | P56: 0 | Q56: 0 | R56: 0 | S56: 0 | T56: 0 | U56: 0 | V56: 0 | W56: 자재 52
A57: 59BD04D94371053EB94C6E35439D9F16C570C3 | B57: "E"TYPE | C57: LED 15W (LED 벽부등) | D57: 개 | E57: 0 | G57: 0 | I57: 0 | K57: 0 | M57: 89000 | O57: 89000 | P57: 0 | Q57: 0 | R57: 0 | S57: 0 | T57: 0 | U57: 0 | V57: 0 | W57: 자재 53
A58: 59BD04D94371053EB94C6E35439D9F16C570C2 | B58: "F"TYPE | C58: LED 12W (LED 센서등) | D58: 개 | E58: 0 | G58: 0 | I58: 0 | K58: 0 | M58: 66000 | O58: 66000 | P58: 0 | Q58: 0 | R58: 0 | S58: 0 | T58: 0 | U58: 0 | V58: 0 | W58: 자재 54
A59: 59BD04D9434505F27844F521813B0ED8286856 | B59: 분전함 L-1-M | D59: 면 | E59: 0 | G59: 0 | I59: 0 | K59: 0 | M59: 8890949 | O59: 8890949 | P59: 0 | Q59: 0 | R59: 0 | S59: 0 | T59: 0 | U59: 0 | V59: 0 | W59: 자재 55
A60: 59BD04D9434505F27844F521813B0ED8286B13 | B60: 분전함 L-1-A | D60: 면 | E60: 0 | G60: 0 | I60: 0 | K60: 0 | M60: 433741 | O60: 433741 | P60: 0 | Q60: 0 | R60: 0 | S60: 0 | T60: 0 | U60: 0 | V60: 0 | W60: 자재 56
A61: 59BD04D9434505F27844F521813B0ED8286B11 | B61: 분전함 L-2-M | D61: 면 | E61: 0 | G61: 0 | I61: 0 | K61: 0 | M61: 2823485 | O61: 2823485 | P61: 0 | Q61: 0 | R61: 0 | S61: 0 | T61: 0 | U61: 0 | V61: 0 | W61: 자재 57
A62: 59BD04D9434505F27844F521813B0ED8286B17 | B62: 분전함 L-3-M | D62: 면 | E62: 0 | G62: 0 | I62: 0 | K62: 0 | M62: 3572452 | O62: 3572452 | P62: 0 | Q62: 0 | R62: 0 | S62: 0 | T62: 0 | U62: 0 | V62: 0 | W62: 자재 58
A63: 59BD04D9434505F27844F521813B0ED8297D2C | B63: 분전함 P-AC | D63: 면 | E63: 0 | G63: 0 | I63: 0 | K63: 0 | M63: 7505237 | O63: 7505237 | P63: 0 | Q63: 0 | R63: 0 | S63: 0 | T63: 0 | U63: 0 | V63: 0 | W63: 자재 59
A64: 59BD04D9434505F27844F521813B0ED82A1243 | B64: HV-1 | D64: 면 | E64: 0 | G64: 0 | I64: 0 | K64: 0 | M64: 18660309 | O64: 18660309 | P64: 0 | Q64: 0 | R64: 0 | S64: 0 | T64: 0 | U64: 0 | V64: 0 | W64: 자재 60
A65: 59BD04D9434505F27844F521813B0ED82A1244 | B65: HV-2 | D65: 식 | E65: 0 | G65: 0 | I65: 0 | K65: 0 | M65: 19977882 | O65: 19977882 | P65: 0 | Q65: 0 | R65: 0 | S65: 0 | T65: 0 | U65: 0 | V65: 0 | W65: 자재 61
A66: 59BD04D9434505F27844F521813B0ED82A1245 | B66: HV-3 | D66: 면 | E66: 0 | G66: 0 | I66: 0 | K66: 0 | M66: 49314354 | O66: 49314354 | P66: 0 | Q66: 0 | R66: 0 | S66: 0 | T66: 0 | U66: 0 | V66: 0 | W66: 자재 62
A67: 59BD04D9434505F27844F521813B0ED82A1246 | B67: HV-4 | D67: 면 | E67: 0 | G67: 0 | I67: 0 | K67: 0 | M67: 44944548 | O67: 44944548 | P67: 0 | Q67: 0 | R67: 0 | S67: 0 | T67: 0 | U67: 0 | V67: 0 | W67: 자재 63
A68: 59BD04D9434505F27844F521813B0ED82A1247 | B68: TR-1 | D68: 면 | E68: 0 | G68: 0 | I68: 0 | K68: 0 | M68: 58116914 | O68: 58116914 | P68: 0 | Q68: 0 | R68: 0 | S68: 0 | T68: 0 | U68: 0 | V68: 0 | W68: 자재 64
A69: 59BD04D9434505F27844F521813B0ED82A1248 | B69: LV-1 | D69: 면 | E69: 0 | G69: 0 | I69: 0 | K69: 0 | M69: 18806034 | O69: 18806034 | P69: 0 | Q69: 0 | R69: 0 | S69: 0 | T69: 0 | U69: 0 | V69: 0 | W69: 자재 65
A70: 59BD04D9434505F27844F521813B0ED82A1249 | B70: LV-2 | D70: 면 | E70: 0 | G70: 0 | I70: 0 | K70: 0 | M70: 24534305 | O70: 24534305 | P70: 0 | Q70: 0 | R70: 0 | S70: 0 | T70: 0 | U70: 0 | V70: 0 | W70: 자재 66
... A73: 59BD04D9434505F27844F521813B0ED82A1364 | B73: 분전함 P-N | D73: 면 | E73: 0 | G73: 0 | I73: 0 | K73: 0 | M73: 3043114 | O73: 3043114 | P73: 0 | Q73: 0 | R73: 0 | S73: 0 | T73: 0 | U73: 0 | V73: 0 | W73: 자재 69
A74: 59BD04D9434505F25D461BE769A2AD92C44DC2 | B74: 풀박스 | C74: 100×100×100mm | D74: 개 | E74: 2861 | F74: 10035796 | G74: 3370 | H74: 1105 | I74: 3520 | J74: 1206 | K74: 0 | M74: 0 | O74: 2861 | P74: 0 | Q74: 0 | R74: 0 | S74: 0 | T74: 0 | U74: 0 | V74: 0 | W74: 자재 70
A75: 59BD04D9434505F25D461BE495C2EFD463AEA4 | B75: 풀박스 | C75: 400×400×300mm | D75: 개 | E75: 21019 | F75: 20174772 | G75: 31900 | H75: 1105 | I75: 24730 | J75: 1206 | K75: 0 | M75: 0 | O75: 21019 | P75: 0 | Q75: 0 | R75: 0 | S75: 0 | T75: 0 | U75: 0 | V75: 0 | W75: 자재 71
A76: 59BD04D9434505F25D461BE4943B539D000D03 | B76: 접지단자함 | C76: 5CCT | D76: 개 | E76: 0 | G76: 0 | I76: 0 | K76: 0 | M76: 255000 | O76: 255000 | P76: 180536 | Q76: 0 | R76: 0 | S76: 0 | T76: 0 | U76: 0 | V76: 0 | W76: 자재 72
A77: 59BD04D9434505F25D461EBBC8E11A54E6352E | B77: 스위치박스 | C77: 1개용, 54mm | D77: 개 | E77: 591 | F77: 10035778 | G77: 650 | H77: 1105 | I77: 700 | J77: 1206 | K77: 0 | M77: 0 | O77: 591 | P77: 0 | Q77: 0 | R77: 0 | S77: 0 | T77: 0 | U77: 0 | V77: 0 | W77: 자재 73
A78: 59BD04D9434505F25D4610DDCA09F4A8864A1B | B78: 아웃렛박스 | C78: 8각, 54mm | D78: 개 | E78: 626 | F78: 10035750 | G78: 790 | H78: 1105 | I78: 845 | J78: 1206 | K78: 0 | M78: 0 | O78: 626 | P78: 0 | Q78: 0 | R78: 0 | S78: 0 | T78: 0 | U78: 0 | V78: 0 | W78: 자재 74
A79: 59BD04D9434505F25D4610DDCA09F4A8864A18 | B79: 아웃렛박스 | C79: 중형4각, 54mm | D79: 개 | E79: 0 | G79: 3100 | H79: 1105 | I79: 3480 | J79: 1206 | K79: 0 | M79: 0 | O79: 3100 | P79: 0 | Q79: 0 | R79: 0 | S79: 0 | T79: 0 | U79: 0 | V79: 0 | W79: 자재 75
A80: 59BD04D9434505F25D4610DED17BE90757BF31 | B80: 박스커버 | C80: 8각, 둥근구멍, 평 | D80: 개 | E80: 0 | G80: 290 | H80: 1105 | I80: 343 | J80: 1206 | K80: 0 | M80: 0 | O80: 290 | P80: 0 | Q80: 0 | R80: 0 | S80: 0 | T80: 0 | U80: 0 | V80: 0 | W80: 자재 76
A81: 59BD04D9434505F25D4610DED17BE90757BF37 | B81: 박스커버 | C81: 4각, 둥근구멍, 오목 | D81: 개 | E81: 0 | G81: 400 | H81: 1105 | I81: 0 | K81: 0 | M81: 0 | O81: 400 | P81: 0 | Q81: 0 | R81: 0 | S81: 0 | T81: 0 | U81: 0 | V81: 0 | W81: 자재 77
A82: 59BD04D9434505F25D4610DED17BE90757BF36 | B82: 박스커버 | C82: 4각, 둥근구멍, 평 | D82: 개 | E82: 0 | G82: 400 | H82: 1105 | I82: 0 | K82: 0 | M82: 0 | O82: 400 | P82: 0 | Q82: 0 | R82: 0 | S82: 0 | T82: 0 | U82: 0 | V82: 0 | W82: 자재 78
A83: 59BD04D9434505F25D473F39D250189AB67553 | B83: 시스템박스 | C83: 전선관용, 매입 | D83: 개 | E83: 54967 | F83: 20170560 | G83: 55000 | H83: 638 | I83: 0 | K83: 0 | M83: 0 | O83: 54967 | P83: 0 | Q83: 0 | R83: 0 | S83: 0 | T83: 0 | U83: 0 | V83: 0 | W83: 자재 79
A84: 59BD04D9434505F25D4F7C29C1250E50261B61 | B84: 통신용발포지수제 | C84: 통신용발포지수제, 발포지수재, D100이하 | D84: 개 | E84: 21707 | F84: 20409528 | G84: 0 | I84: 0 | K84: 0 | M84: 0 | O84: 21707 | P84: 0 | Q84: 0 | R84: 0 | S84: 0 | T84: 0 | U84: 0 | V84: 0 | W84: 자재 80
A85: 59BD04D9434505F25D4F7C29C1250E50261B60 | B85: 통신용발포지수제 | C85: 통신용발포지수제, 발포지수제, D150이하 | D85: 개 | E85: 30264 | F85: 20409529 | G85: 0 | I85: 0 | K85: 0 | M85: 0 | O85: 30264 | P85: 0 | Q85: 0 | R85: 0 | S85: 0 | T85: 0 | U85: 0 | V85: 0 | W85: 자재 81
A86: 59BD04D9434505F25D4F7C29C128C13DC9DFC8 | B86: 통신용발포지수제 | C86: 통신용발포지수제, 수밀보호테이프 | D86: 개 | E86: 2470 | F86: 20935638 | G86: 0 | I86: 0 | K86: 0 | M86: 0 | O86: 2470 | P86: 0 | Q86: 0 | R86: 0 | S86: 0 | T86: 0 | U86: 0 | V86: 0 | W86: 자재 82
A87: 59BD04D9434505F22042FCB67F2C71775C67AA | B87: 콘센트 | C87: 1구, 15A, 250V, 매입형, 접지 | D87: 개 | E87: 934 | F87: 20170849 | G87: 2000 | H87: 1205 | I87: 1843 | J87: 1280 | K87: 0 | M87: 0 | O87: 934 | P87: 0 | Q87: 0 | R87: 0 | S87: 0 | T87: 0 | U87: 0 | V87: 0 | W87: 자재 83
A88: 59BD04D9434505F22042FCB67F2C71775C669C | B88: 콘센트 | C88: 2구, 15A, 250V, 매입형, 접지 | D88: 개 | E88: 1384 | F88: 20170850 | G88: 2200 | H88: 1205 | I88: 2273 | J88: 1280 | K88: 0 | M88: 0 | O88: 1384 | P88: 0 | Q88: 0 | R88: 0 | S88: 0 | T88: 0 | U88: 0 | V88: 0 | W88: 자재 84
A89: 59BD04D9434505F22042FCB67E0677FC5C68F5 | B89: 콘센트 | C89: 1구, 15A, 250V, 방우형 | D89: 개 | E89: 2035 | F89: 21030227 | G89: 3950 | H89: 1206 | I89: 3355 | J89: 1280 | K89: 0 | M89: 0 | O89: 2035 | P89: 0 | Q89: 0 | R89: 0 | S89: 0 | T89: 0 | U89: 0 | V89: 0 | W89: 자재 85
A90: 59BD04D9434505F22042FCB7078442BE9D30CC | B90: 대기전력자동차단 콘센트 | C90: 2구 16A 250V | D90: 개 | E90: 0 | G90: 55000 | H90: 1206 | I90: 0 | K90: 0 | M90: 0 | O90: 55000 | P90: 0 | Q90: 0 | R90: 0 | S90: 0 | T90: 0 | U90: 0 | V90: 0 | W90: 자재 86
A91: 59BD04D9434505F22042F35ABC3D495F0581D9 | B91: 케이블단말접속자재 | C91: 케이블단말접속자재, 자기수축, 23kV, 1C×60㎟ | D91: 개 | E91: 59645 | F91: 20174174 | G91: 222000 | H91: 1096 | I91: 85100 | J91: 1197 | K91: 0 | M91: 0 | O91: 59645 | P91: 0 | Q91: 0 | R91: 0 | S91: 0 | T91: 0 | U91: 0 | V91: 0 | W91: 자재 87
A92: 59BD04D9434505F22041D6B03397F25C431AF4 | B92: 러그단자 | C92: 러그단자, 동관단자, 2홀, 38㎟ | D92: 개 | E92: 0 | G92: 1210 | H92: 1100 | I92: 2067 | J92: 1198 | K92: 0 | M92: 0 | O92: 1210 | P92: 0 | Q92: 0 | R92: 0 | S92: 0 | T92: 0 | U92: 0 | V92: 0 | W92: 자재 88
A93: 59BD04D9434505F22041D6B03397F25C4C7015 | B93: 러그단자 | C93: 러그단자, 동관단자, 2홀, 250㎟ | D93: 개 | E93: 0 | G93: 10920 | H93: 1100 | I93: 16493 | J93: 1198 | K93: 0 | M93: 0 | O93: 10920 | P93: 0 | Q93: 0 | R93: 0 | S93: 0 | T93: 0 | U93: 0 | V93: 0 | W93: 자재 89
A94: 59BD04D9434505F22041D6B38794DC368AF8A6 | B94: 러그단자 | C94: 러그단자, 동관단자, 2홀, 80㎟ | D94: 개 | E94: 0 | G94: 3520 | H94: 1100 | I94: 5559 | J94: 1198 | K94: 0 | M94: 0 | O94: 3520 | P94: 0 | Q94: 0 | R94: 0 | S94: 0 | T94: 0 | U94: 0 | V94: 0 | W94: 자재 90
A95: 59BD04D9434505F22041D6B386886DE7CF4649 | B95: 압착단자 | C95: 터미널, 35㎟ | D95: 개 | E95: 241 | F95: 21650913 | G95: 305.8 | H95: 1100 | I95: 1040 | J95: 1198 | K95: 0 | M95: 0 | O95: 241 | P95: 0 | Q95: 0 | R95: 0 | S95: 0 | T95: 0 | U95: 0 | V95: 0 | W95: 자재 91
A96: 59BD04D9434505F22041D6B386886DE7CF464D | B96: 압착단자 | C96: 터미널, 150㎟ | D96: 개 | E96: 1270 | F96: 21650917 | G96: 1823 | H96: 1100 | I96: 4732 | J96: 1198 | K96: 0 | M96: 0 | O96: 1270 | P96: 0 | Q96: 0 | R96: 0 | S96: 0 | T96: 0 | U96: 0 | V96: 0 | W96: 자재 92
A97: 59BD04D9434505F205441DF8005D9C825F57D0 | B97: 접지장치또는조립품 | C97: 접지봉, 14Φ×1000mm | D97: 개 | E97: 3316 | F97: 10034844 | G97: 5780 | H97: 1198 | I97: 6500 | J97: 1270 | K97: 0 | M97: 0 | O97: 3316 | P97: 0 | Q97: 0 | R97: 0 | S97: 0 | T97: 0 | U97: 0 | V97: 0 | W97: 자재 93
A98: 59BD04D9434505F205441DF8005D9C825F57DD | B98: CHEM ROD접지봉 | C98: JEGR-1600 | D98: SET | E98: 0 | G98: 0 | I98: 0 | K98: 0 | M98: 750000 | O98: 750000 | P98: 188650 | Q98: 0 | R98: 0 | S98: 0 | T98: 0 | U98: 0 | V98: 0 | W98: 자재 94
A99: 59BD04D9434505F205441DF8005D9C825F56CE | B99: 접지동봉 | C99: 14Φ×1000mm | D99: 개 | E99: 0 | G99: 0 | I99: 0 | K99: 0 | M99: 8000 | O99: 8000 | P99: 43773 | Q99: 0 | R99: 0 | S99: 0 | T99: 0 | U99: 0 | V99: 0 | W99: 자재 95
A100: 59BD04D9434505F205441DFBD4F22F4A698A86 | B100: 수막처리동봉 | C100: Φ18×500L | D100: 개 | E100: 0 | G100: 0 | I100: 55000 | J100: 1270 | K100: 0 | M100: 55000 | O100: 55000 | P100: 22157 | Q100: 0 | R100: 0 | S100: 0 | T100: 0 | U100: 0 | V100: 0 | W100: 자재 96
A101: 59BD04D9434505F20547D204E4EC818E1FD432 | B101: 피뢰장치및액세서리 | C101: 피뢰기, 18kV, 2.5kA | D101: 개 | E101: 0 | G101: 109000 | H101: 1194 | I101: 0 | K101: 0 | M101: 0 | O101: 109000 | P101: 0 | Q101: 0 | R101: 0 | S101: 0 | T101: 0 | U101: 0 | V101: 0 | W101: 자재 97
A102: 59BD04D9434505F20547D207B84A7AD20F9475 | B102: 단 말 처 리 재 | C102: 23kV 1/C 60° | D102: 개 | E102: 0 | G102: 222000 | H102: 1096 | I102: 0 | K102: 0 | M102: 0 | O102: 222000 | P102: 0 | Q102: 0 | R102: 0 | S102: 0 | T102: 0 | U102: 0 | V102: 0 | W102: 자재 98
...

Sheet 공량설정_일위대가
A1: 일위대가 | B1: 적용율(%) | C1: 소수점이하자릿수 | D1: 일위대가 코드
A2: 파상형 경질폴리에틸렌 전선관 80mm (호표 1) | B2: 100 | D2: 5ED994E0632C05A58C44EC7258E7B5
A3: 보통인부 | C3: 3 | D3: 5ED994E0632C05A58C44EC7258E7B55E48649BA312059493492DA425E3C8A9219B85
A4: 배전전공 | C4: 3 | D4: 5ED994E0632C05A58C44EC7258E7B55E48649BA312059493492DA425E3C8A92193B0
A5: 절연전선 F-GV, 150㎟, 관내포설 (호표 2) | B5: 100 | D5: 5ED9D47E33F405936E444F49029855
A6: 내선전공 | C6: 4 | D6: 5ED9D47E33F405936E444F490298555E48649BA312059493492DA425E3C8A9219CA8
A7: 전주입상관 특고압용 (호표 3) | B7: 100 | D7: 5ED984FD83030590FD4B6B4892E4ED
A8: 보통인부 | C8: 2 | D8: 5ED984FD83030590FD4B6B4892E4ED5E48649BA312059493492DA425E3C8A9219B85
A9: 배전전공 | C9: 2 | D9: 5ED984FD83030590FD4B6B4892E4ED5E48649BA312059493492DA425E3C8A92193B0
A10: 파상형 경질폴리에틸렌 전선관 125mm (호표 4) | B10: 100 | D10: 5ED994E0632C05FDBE44617D46C6EF
A11: 보통인부 | C11: 3 | D11: 5ED994E0632C05FDBE44617D46C6EF5E48649BA312059493492DA425E3C8A9219B85
A12: 배전전공 | C12: 3 | D12: 5ED994E0632C05FDBE44617D46C6EF5E48649BA312059493492DA425E3C8A92193B0
A13: 관로구방수 ø125 (호표 5) | B13: 100 | D13: 5ED994EC13B205C7524B6045FF0C32
A14: 보통인부 | C14: 4 | D14: 5ED994EC13B205C7524B6045FF0C325E48649BA312059493492DA425E3C8A9219B85
A15: 특고압케이블전공 | C15: 4 | D15: 5ED994EC13B205C7524B6045FF0C325E48649BA312059493492DA425E3C8A9219CAB
A16: 맨홀 2,000*1,500*1,500 (호표 6) | B16: 100 | D16: 5ED9749463430510F841DF09D28106
A17: 내선전공 | C17: 3 | D17: 5ED9749463430510F841DF09D281065E48649BA312059493492DA425E3C8A9219CA8
A18: 보통인부 | C18: 2 | D18: 5ED9749463430510F841DF09D281065E48649BA312059493492DA425E3C8A9219B85
A19: 저압케이블전공 | C19: 2 | D19: 5ED9749463430510F841DF09D281065E48649BA312059493492DA425E3C8A9219CA5
A20: 줄눈공 | C20: 2 | D20: 5ED9749463430510F841DF09D281065E48649BA312059493492DA425E3C8A9219836
A21: 철공 | C21: 2 | D21: 5ED9749463430510F841DF09D281065E48649BA312059493492DA425E3C8A9219B8E
A22: 특별인부 | C22: 2 | D22: 5ED9749463430510F841DF09D281065E48649BA312059493492DA425E3C8A9219B84
A23: 변전전공 | C23: 4 | D23: 5ED9749463430510F841DF09D281065E48649BA3120594934929C955134E67D0A9BC
A24: 전력케이블 FR-CN/CO-W, 22.9KV, 1C 60㎟, 3열포설 1열당 (호표 7) | B24: 100 | D24: 5ED9E46193E9056D6840F4BC4E2DED
A25: 특고압케이블전공 | C25: 4 | D25: 5ED9E46193E9056D6840F4BC4E2DED5E48649BA312059493492DA425E3C8A9219CAB
A26: 보통인부 | C26: 4 | D26: 5ED9E46193E9056D6840F4BC4E2DED5E48649BA312059493492DA425E3C8A9219B85
A27: 케이블단말접속자재 자기수축, 23KV, 1C, 60-70㎟, 구내 (호표 8) | B27: 100 | D27: 5ED9E46B93BB059652431E849B12B0
A28: 특고압케이블전공 | C28: 2 | D28: 5ED9E46B93BB059652431E849B12B05E48649BA312059493492DA425E3C8A9219CAB
A29: 접지봉 14Φ×1000mm (호표 9) | B29: 100 | D29: 5ED9D47C03E605A4F241FEA84595D6
A30: 내선전공 | C30: 2 | D30: 5ED9D47C03E605A4F241FEA84595D65E48649BA312059493492DA425E3C8A9219CA8
A31: 보통인부 | C31: 2 | D31: 5ED9D47C03E605A4F241FEA84595D65E48649BA312059493492DA425E3C8A9219B85
A32: 모래깔기지정 인력 (호표 10) | B32: 100 | D32: 5E97447F83A90555F74574794298B6
A33: 보통인부 | C33: 1 | D33: 5E97447F83A90555F74574794298B65E48649BA312059493492DA425E3C8A9219B85
A34: 맨홀 1,000*1,000*1,000 (호표 11) | B34: 100 | D34: 5ED9749463430510F841DF09D28333
A35: 내선전공 | C35: 3 | D35: 5ED9749463430510F841DF09D283335E48649BA312059493492DA425E3C8A9219CA8
A36: 보통인부 | C36: 2 | D36: 5ED9749463430510F841DF09D283335E48649BA312059493492DA425E3C8A9219B85
A37: 저압케이블전공 | C37: 2 | D37: 5ED9749463430510F841DF09D283335E48649BA312059493492DA425E3C8A9219CA5
A38: 줄눈공 | C38: 2 | D38: 5ED9749463430510F841DF09D283335E48649BA312059493492DA425E3C8A9219836
A39: 철공 | C39: 2 | D39: 5ED9749463430510F841DF09D283335E48649BA312059493492DA425E3C8A9219B8E
A40: 특별인부 | C40: 2 | D40: 5ED9749463430510F841DF09D283335E48649BA312059493492DA425E3C8A9219B84
A41: 변전전공 | C41: 4 | D41: 5ED9749463430510F841DF09D283335E48649BA3120594934929C955134E67D0A9BC
A42: 경질비닐전선관 22mm, 매입 (호표 12) | B42: 100 | D42: 5ED994E3338505400A48116F64D173
A43: 내선전공 | C43: 3 | D43: 5ED994E3338505400A48116F64D1735E48649BA312059493492DA425E3C8A9219CA8
A44: 경질비닐전선관 28mm, 매입 (호표 13) | B44: 100 | D44: 5ED994E3338505379D45ABAB55FDF3
A45: 내선전공 | C45: 3 | D45: 5ED994E3338505379D45ABAB55FDF35E48649BA312059493492DA425E3C8A9219CA8
A46: 파상형 경질폴리에틸렌 전선관 100mm (호표 14) | B46: 100 | D46: 5ED994E0632C058AA64805C763C518
A47: 보통인부 | C47: 3 | D47: 5ED994E0632C058AA64805C763C5185E48649BA312059493492DA425E3C8A9219B85
A48: 배전전공 | C48: 3 | D48: 5ED994E0632C058AA64805C763C5185E48649BA312059493492DA425E3C8A92193B0
A49: 풀박스 400X400X300mm, 노출, 천정 (호표 15) | B49: 100 | D49: 5ED994EEC3790513764CAF4AFE62FA
A50: 내선전공 | C50: 2 | D50: 5ED994EEC3790513764CAF4AFE62FA5E48649BA312059493492DA425E3C8A9219CA8
A51: 관로구방수 ø100 (호표 16) | B51: 100 | D51: 5ED994EC13B205FC9249512EC0690B
A52: 특고압케이블전공 | C52: 4 | D52: 5ED994EC13B205FC9249512EC0690B5E48649BA312059493492DA425E3C8A9219CAB
A53: 보통인부 | C53: 4 | D53: 5ED994EC13B205FC9249512EC0690B5E48649BA312059493492DA425E3C8A9219B85
A54: 전력케이블 F-CV, 0.6/1kV, 1C 240㎟ (호표 17) | B54: 100 | D54: 5ED9E46193DF05696D4DFB439A0F76
A55: 저압케이블전공 | C55: 3 | D55: 5ED9E46193DF05696D4DFB439A0F765E48649BA312059493492DA425E3C8A9219CA5
A56: 압착단자 압착터미널, 35㎟, 1C 구내 (호표 18) | B56: 100 | D56: 5ED9E476A38A05BF324C9623679EBD
A57: 저압케이블전공 | C57: 3 | D57: 5ED9E476A38A05BF324C9623679EBD5E48649BA312059493492DA425E3C8A9219CA5
A58: 압착단자 압착터미널, 150㎟, 1C 구내 (호표 19) | B58: 100 | D58: 5ED9E47743E7053DA74D6CDAC50302
A59: 저압케이블전공 | C59: 3 | D59: 5ED9E47743E7053DA74D6CDAC503025E48649BA312059493492DA425E3C8A9219CA5
A60: 러그단자 동관단자 2홀, 240㎟, 1C 구내 (호표 20) | B60: 100 | D60: 5ED9E47743D60580FC441B13771A9E
A61: 저압케이블전공 | C61: 3 | D61: 5ED9E47743D60580FC441B13771A9E5E48649BA312059493492DA425E3C8A9219CA5
A62: 절연전선 F-GV, 16㎟, 관내포설 (호표 21) | B62: 100 | D62: 5ED9D47E33F305FCA941C7657E3821
A63: 내선전공 | C63: 4 | D63: 5ED9D47E33F305FCA941C7657E38215E48649BA312059493492DA425E3C8A9219CA8
A64: 절연전선 F-GV, 25㎟, 관내포설 (호표 22) | B64: 100 | D64: 5ED9D47E33F305C7EE494EA0D17798
A65: 내선전공 | C65: 4 | D65: 5ED9D47E33F305C7EE494EA0D177985E48649BA312059493492DA425E3C8A9219CA8
A66: 절연전선 F-GV, 35㎟, 관내포설 (호표 23) | B66: 100 | D66: 5ED9D47E33F305D07648E28F1BA7B6
A67: 내선전공 | C67: 4 | D67: 5ED9D47E33F305D07648E28F1BA7B65E48649BA312059493492DA425E3C8A9219CA8
A68: 절연전선 F-GV, 50㎟, 관내포설 (호표 24) | B68: 100 | D68: 5ED9D47E33F30527254FE207244BDA
A69: 내선전공 | C69: 3 | D69: 5ED9D47E33F30527254FE207244BDA5E48649BA312059493492DA425E3C8A9219CA8
A70: 절연전선 F-GV, 70㎟, 관내포설 (호표 25) | B70: 100 | D70: 5ED9D47E33F30531BF46E89E1DB294
A71: 내선전공 | C71: 3 | D71: 5ED9D47E33F30531BF46E89E1DB2945E48649BA312059493492DA425E3C8A9219CA8
A72: 분전함 L-1-A (호표 26) | B72: 100 | D72: 5ED97497334305662E41609DF03D8A
A73: 내선전공 | C73: 4 | D73: 5ED97497334305662E41609DF03D8A5E48649BA312059493492DA425E3C8A9219CA8
A74: 분전함 P-N (호표 27) | B74: 100 | D74: 5ED97497334305C8A54E8A78066AEE
A75: 내선전공 | C75: 4 | D75: 5ED97497334305C8A54E8A78066AEE5E48649BA312059493492DA425E3C8A9219CA8
A76: 분전함 L-1-M (호표 28) | B76: 100 | D76: 5ED9749733430570B1483E945750CE
A77: 내선전공 | C77: 4 | D77: 5ED9749733430570B1483E945750CE5E48649BA312059493492DA425E3C8A9219CA8
A78: 분전함 L-2-M (호표 29) | B78: 100 | D78: 5ED974973343050DB6429DBEBFF3AB
A79: 내선전공 | C79: 4 | D79: 5ED974973343050DB6429DBEBFF3AB5E48649BA312059493492DA425E3C8A9219CA8
A80: 분전함 L-3-M (호표 30) | B80: 100 | D80: 5ED97497334305289D4E1C9CAE941A
A81: 내선전공 | C81: 4 | D81: 5ED97497334305289D4E1C9CAE941A5E48649BA312059493492DA425E3C8A9219CA8
A82: 분전함 P-AC (호표 31) | B82: 100 | D82: 5ED97497334305C8A54E8A78066AE6
A83: 내선전공 | C83: 4 | D83: 5ED97497334305C8A54E8A78066AE65E48649BA312059493492DA425E3C8A9219CA8
A84: 강제전선관 아연도, 54mm, 매입(또는 앵커볼트 설치에 따른 노출공사) (호표 32) | B84: 100 | D84: 5ED994E333A005383149C76F9E7531
A85: 내선전공 | C85: 3 | D85: 5ED994E333A005383149C76F9E75315E48649BA312059493492DA425E3C8A9219CA8
A86: 강제전선관 아연도, 70mm, 매입(또는 앵커볼트 설치에 따른 노출공사) (호표 33) | B86: 100 | D86: 5ED994E333A005CE7142F8FEA40313
A87: 내선전공 | C87: 3 | D87: 5ED994E333A005CE7142F8FEA403135E48649BA312059493492DA425E3C8A9219CA8
A88: 파이프행거 54C (호표 34) | B88: 100 | D88: 5ED994ED33B8054DA74DDB748F09F0
A89: 내선전공 | C89: 3 | D89: 5ED994ED33B8054DA74DDB748F09F05E48649BA312059493492DA425E3C8A9219CA8
A90: 파이프행거 70C (호표 35) | B90: 100 | D90: 5ED994ED33B8054DA74DDA6EA4A4BC
A91: 내선전공 | C91: 3 | D91: 5ED994ED33B8054DA74DDA6EA4A4BC5E48649BA312059493492DA425E3C8A9219CA8
A92: 전력케이블 F-CV, 0.6/1kV, 4C 16㎟ (호표 36) | B92: 100 | D92: 5ED9E460F32A05D5A3452CCB9306A2
A93: 저압케이블전공 | C93: 3 | D93: 5ED9E460F32A05D5A3452CCB9306A25E48649BA312059493492DA425E3C8A9219CA5
A94: 전력케이블 F-CV, 0.6/1kV, 1C 70㎟ (호표 37) | B94: 100 | D94: 5ED9E46193DF05114C42A82DD074CF
A95: 저압케이블전공 | C95: 3 | D95: 5ED9E46193DF05114C42A82DD074CF5E48649BA312059493492DA425E3C8A9219CA5
A96: 러그단자 동관단자 2홀, 35㎟, 1C 구내 (호표 38) | B96: 100 | D96: 5ED9E476A3B60578F64B93D587B3D0
A97: 저압케이블전공 | C97: 3 | D97: 5ED9E476A3B60578F64B93D587B3D05E48649BA312059493492DA425E3C8A9219CA5
A98: 러그단자 동관단자 2홀, 70㎟, 1C 구내 (호표 39) | B98: 100 | D98: 5ED9E476A3B6055C0341BEEC294D79
A99: 저압케이블전공 | C99: 4 | D99: 5ED9E476A3B6055C0341BEEC294D795E48649BA312059493492DA425E3C8A9219CA5
A100: 합성수지제 가요전선관 하이렉스-CD(난연성), 16mm, 매입 (호표 40) | B100: 100 | D100: 5ED994E333F8054FD049099AAA1449
...

Sheet  공사설정 
A1: 이 Sheet는 수정하지 마십시요
A2: 공사구분 | B2: D | C2: 타이틀
A3: 확정내역 | B3: 원내역
A4: 자재단가적용 | B4: 5
A5: 경비단가적용 | B5: 5
A6: 품목코드형식 | B6: XXXX-XXXXXXXXXXXXX
A7: 내역금액소수점처리 | B7: C | C7: 1
A8: 일위대가내역소수점처리 | B8: C | C8: 3
A9: 단가명 | B9: 가격정보 | C9: 물가자료 | D9: 물가정보 | E9: 유통물가 | F9: 조사가격 | G9: TTTFT
A10: 환율 | B10: 1153.3 | C10: 0 | D10: 0
A11: 시간당작업량 | B11: R | C11: 4
A12: 1회 사이클시간 | B12: R | C12: 4
A13: 시간당 작업사이클 | B13: R | C13: 3
A14: 일반변수 | B14: C | C14: 5
A15: 시간당 노임산출 계수 | B15: A | C15: 1/8*16/12*25/20 | D15: 1/8*16/12*25/20 | E15: 1/8*16/12*25/20 | F15: 1
A16: 재료비 할증 계수 | B16: 0 | C16: 0
A17: 노무비 할증 계수 | B17: 0 | C17: 0 | D17: 0 | E17: 0 | F17: 0 | G17: 0 | H17: 0 | I17: 0 | J17: 0 | K17: 0 | L17: 0 | M17: 0
A18: 경비 할증 계수 | B18: 0 | C18: 0
A19: 내역,일위대가 품명,규격,단위 따로적용
A20: 내역단가 소수점처리 | C20: 1
A21: 코드 | B21: 공종구분명 | C21: 원가비목코드
A22: 1 | B22: 작 업 부 산 물 | C22: A3
A23: 2 | B23: 운 반 비 | C23: C1
A24: 3 | B24: 관급자 관급자재 | C24: DJ
A25: 4 | B25: 도급자 관급자재 | C25: DK
A26: 5 | B26: 한전불입금 및 재해예방기술지도비 | C26: E1
A27: 6 | B27: 겐트리 구조물설치 | C27: E2
A28: 7
A29: 8 | B29: ...
A30: 9 | B30: ...

Sheet Sheet1
