Workbook

Sheet 원가계산서
B1: 공 사 원 가 계 산 서
B2: 공사명 : SDV보안평가지원센터정보통신공사 | F2: ="금액 : "&TEXT(E30,"[DBNUM4]")&"원(\" & TEXT(E30,"#,###")&")" -> 금액 : 영원(\)
B3: 비 목 | E3: 금 액 | F3: 구 성 비 | G3: 비 고
A4: A1 | B4: 순 공 사 원 가 | C4: 재 료 비 | D4: 직 접 재 료 비 | E4: =TRUNC(공종별집계표!F5, 0) -> 0
A5: A2 | D5: 간 접 재 료 비 | E5: 0
A6: A3 | D6: 작업설, 부산물(△) | E6: 0
A7: AS | D7: [ 소 계 ] | E7: =TRUNC(E4+E5-E6, 0) -> 0
A8: B1 | C8: 노 무 비 | D8: 직 접 노 무 비 | E8: =TRUNC(공종별집계표!H5, 0) -> 0
A9: B2 | D9: 간 접 노 무 비 | E9: =TRUNC(E8*0.15, 0) -> 0 | F9: 직접노무비 * 15%
A10: BS | D10: [ 소 계 ] | E10: =TRUNC(E8+E9, 0) -> 0
A11: C2 | C11: 경 비 | D11: 경 비 | E11: =TRUNC(공종별집계표!J5, 0) -> 0
A12: C4 | D12: 산 재 보 험 료 | E12: =TRUNC(E10*0.0356, 0) -> 0 | F12: 노무비 * 3.56%
A13: C5 | D13: 고 용 보 험 료 | E13: =TRUNC(E10*0.0101, 0) -> 0 | F13: 노무비 * 1.01%
A14: C6 | D14: 국민 건강 보험료 | E14: =TRUNC(E8*0.03595, 0) -> 0 | F14: 직접노무비 * 3.595%
A15: C7 | D15: 국민 연금 보험료 | E15: =TRUNC(E8*0.0475, 0) -> 0 | F15: 직접노무비 * 4.75%
A16: C8 | D16: 퇴직 공제 부금비 | E16: =TRUNC(E8*0.023, 0) -> 0 | F16: 직접노무비 * 2.3%
A17: CA | D17: 산업안전보건관리비 | E17: =TRUNC((E7+E8)*0.0311*1.2, 0) -> 0 | F17: (재료비+직노) * 3.11%*1.2
A18: CB | D18: 노인장기요양보험료 | E18: =TRUNC(E14*0.1314, 0) -> 0 | F18: 건강보험료 * 13.14%
A19: CG | D19: 기 타 경 비 | E19: =TRUNC((E7+E10)*0.046, 0) -> 0 | F19: (재료비+노무비) * 4.6%
A20: CS | D20: [ 소 계 ] | E20: =TRUNC(E11+E12+E13+E14+E15+E16+E17+E18+E19, 0) -> 0
A21: S1 | B21: 계 | E21: =TRUNC(E7+E10+E20, 0) -> 0
A22: D1 | B22: 일 반 관 리 비 | E22: =TRUNC(E21*0.04, 0) -> 0 | F22: 계 * 4%
A23: D2 | B23: 이 윤 | E23: =TRUNC((E10+E20+E22)*0.1, 0) -> 0 | F23: (노무비+경비+일반관리비) * 10%
A24: D9 | B24: 공 급 가 액 | E24: =TRUNC(E21+E22+E23, 0) -> 0
A25: DB | B25: 부 가 가 치 세 | E25: =TRUNC(E24*0.1, 0) -> 0 | F25: 공급가액 * 10%
A26: DH | B26: 도 급 액 | E26: =TRUNC(E24+E25, -3) -> 0 | G26: 천단위미만 절사
A27: DJ | B27: 관 급 자 재 비 | E27: =ROUNDUP(공종별집계표!T11, -3) -> 0 | G27: 천단위미만 절상
A28: S2 | B28: 총 공 사 비 | E28: =TRUNC(E26+E27, 0) -> 0
A29: E1 | B29: 재해예방기술지도수수료 | E29: =TRUNC(공종별집계표!T14, 0) -> 0
A30: S3 | B30: 총 계 | E30: =TRUNC(E28+E29, 0) -> 0

Sheet 공종별집계표
A1: 공 종 별 집 계 표
A2: [ SDV보안평가지원센터통신공사 ]
A3: 품 명 | B3: 규 격 | C3: 단위 | D3: 수량 | E3: 재 료 비 | G3: 노 무 비 | I3: 경 비 | K3: 합 계 | M3: 비 고 | N3: 공종코드 | O3: 변수 | P3: 상위공종 | Q3: 공종구분 | R3: 공종레벨 | S3: 공종소계 | T3: 원가계산서 연결금액
E4: 단 가 | F4: 금 액 | G4: 단 가 | H4: 금 액 | I4: 단 가 | J4: 금 액 | K4: 단 가 | L4: 금 액
A5: 01 SDV보안평가지원센터통신공사1 | D5: 1 | E5: =F6 -> 0 | F5: =E5*D5 -> 0 | G5: =H6 -> 0 | H5: =G5*D5 -> 0 | I5: =J6 -> 0 | J5: =I5*D5 -> 0 | K5: =E5+G5+I5 -> 0 | L5: =F5+H5+J5 -> 0 | N5: 01 | R5: 1
A6: 통신공사 | D6: 1 | E6: =F7+F8+F9+F10 -> 0 | F6: =E6*D6 -> 0 | G6: =H7+H8+H9+H10 -> 0 | H6: =G6*D6 -> 0 | I6: =J7+J8+J9+J10 -> 0 | J6: =I6*D6 -> 0 | K6: =E6+G6+I6 -> 0 | L6: =F6+H6+J6 -> 0 | N6: 0101 | P6: 01 | R6: 2
A7: 0101 옥외인입 설비공사 | D7: 1 | E7: =공종별내역서!F27 -> 0 | F7: =E7*D7 -> 0 | G7: =공종별내역서!H27 -> 0 | H7: =G7*D7 -> 0 | I7: =공종별내역서!J27 -> 0 | J7: =I7*D7 -> 0 | K7: =E7+G7+I7 -> 0 | L7: =F7+H7+J7 -> 0 | N7: 010101 | P7: 0101 | R7: 3
A8: 0102 통합배선반 설비공사 | D8: 1 | E8: =공종별내역서!F51 -> 0 | F8: =E8*D8 -> 0 | G8: =공종별내역서!H51 -> 0 | H8: =G8*D8 -> 0 | I8: =공종별내역서!J51 -> 0 | J8: =I8*D8 -> 0 | K8: =E8+G8+I8 -> 0 | L8: =F8+H8+J8 -> 0 | N8: 010102 | P8: 0101 | R8: 3
A9: 0103 A/V 설비공사 | D9: 1 | E9: =공종별내역서!F75 -> 0 | F9: =E9*D9 -> 0 | G9: =공종별내역서!H75 -> 0 | H9: =G9*D9 -> 0 | I9: =공종별내역서!J75 -> 0 | J9: =I9*D9 -> 0 | K9: =E9+G9+I9 -> 0 | L9: =F9+H9+J9 -> 0 | N9: 010104 | P9: 0101 | R9: 3
A10: 0104 CABLE TREAY 설비공사 | D10: 1 | E10: =공종별내역서!F99 -> 0 | F10: =E10*D10 -> 0 | G10: =공종별내역서!H99 -> 0 | H10: =G10*D10 -> 0 | I10: =공종별내역서!J99 -> 0 | J10: =I10*D10 -> 0 | K10: =E10+G10+I10 -> 0 | L10: =F10+H10+J10 -> 0 | N10: 010105 | P10: 0101 | R10: 3
A11: 02 관급자재 | D11: 1 | E11: =F12 -> 0 | F11: =E11*D11 -> 0 | G11: =H12 -> 0 | H11: =G11*D11 -> 0 | I11: =J12 -> 0 | J11: =I11*D11 -> 0 | K11: =E11+G11+I11 -> 0 | L11: =F11+H11+J11 -> 0 | N11: 0102 | Q11: 3 | R11: 2 | T11: =L11*1 -> 0
A12: 0201 통합배선반 설비 | D12: 1 | E12: =공종별내역서!F123 -> 0 | F12: =E12*D12 -> 0 | G12: =공종별내역서!H123 -> 0 | H12: =G12*D12 -> 0 | I12: =공종별내역서!J123 -> 0 | J12: =I12*D12 -> 0 | K12: =E12+G12+I12 -> 0 | L12: =F12+H12+J12 -> 0 | N12: 010201 | P12: 0102 | R12: 3
A13: 03 별도공사 | D13: 1 | E13: =F14 -> 0 | F13: =E13*D13 -> 0 | G13: =H14 -> 0 | H13: =G13*D13 -> 0 | I13: =J14 -> 0 | J13: =I13*D13 -> 0 | K13: =E13+G13+I13 -> 0 | L13: =F13+H13+J13 -> 0 | N13: 0103 | P13: 01 | R13: 2
A14: 0301 재해예방기술지도 수수료 | D14: 1 | E14: =공종별내역서!F147 -> 0 | F14: =E14*D14 -> 0 | G14: =공종별내역서!H147 -> 0 | H14: =G14*D14 -> 0 | I14: =공종별내역서!J147 -> 0 | J14: =I14*D14 -> 0 | K14: =E14+G14+I14 -> 0 | L14: =F14+H14+J14 -> 0 | N14: 010301 | Q14: 6 | R14: 3 | T14: =L14*1 -> 0
A25: [ 합 계 ] | F25: =F5 -> 0 | H25: =H5 -> 0 | J25: =J5 -> 0 | L25: =L5 -> 0

Sheet 공종별내역서
A1: [ SDV보안평가지원센터통신공사 ]
A2: 품 명 | B2: 규 격 | C2: 단위 | D2: 수량 | E2: 재 료 비 | G2: 노 무 비 | I2: 경 비 | K2: 합 계 | M2: 비 고 | N2: 품목코드 | O2: 변수 | P2: 설정 | Q2: 공종코드 | R2: 일위 | S2: 단산 | T2: 자재 | U2: 손료적용 | V2: 손료저장 | W2: 적용율 | X2: JUK1 | Y2: JUK2 | Z2: JUK3 | AA2: JUK4 | AB2: JUK5 | AC2: JUK6 | AD2: JUK7 | AE2: JUK8 | AF2: JUK9 | AG2: JUK10 | AH2: JUK11 | AI2: JUK12 | AJ2: JUK13 | AK2: JUK14 | AL2: JUK15 | AM2: JUK16 | AN2: JUK17 | AO2: JUK18 | AP2: JUK19 | AQ2: JUK20 | AR2: 자재구분 | AS2: 공종구분 | AT2: 공종레벨 | AU2: 공종+자재 | AV2: 고유번호
E3: 단 가 | F3: 금 액 | G3: 단 가 | H3: 금 액 | I3: 단 가 | J3: 금 액 | K3: 단 가 | L3: 금 액
A4: 0101 옥외인입 설비공사 | Q4: 010101
A5: 관로구방수 | B5: ø65, 3개설치 | C5: 3개 | M5: 호표 1 | N5: 44CA6E94702E897707835FDA4E31A | Q5: 010101 | R5: T | S5: F | T5: F | AU5: 01010144CA6E94702E897707835FDA4E31A | AV5: 4
A6: 경질비닐전선관 | B6: 54mm, 매입 | C6: m | M6: 호표 2 | N6: 44CA6E9BA1268133FBA757370969C | Q6: 010101 | R6: T | S6: F | T6: F | AU6: 01010144CA6E9BA1268133FBA757370969C | AV6: 5
A7: 풀박스 | B7: 150X150X100mm, 매입, 천정 | C7: 개 | M7: 호표 3 | N7: 44CA6E96212188D448405D6BC5EA8 | Q7: 010101 | R7: T | S7: F | T7: F | AU7: 01010144CA6E96212188D448405D6BC5EA8 | AV7: 6
A8: 핸드홀(수공1호) | B8: 950*450*700 | C8: 조 | M8: 호표 4 | N8: 44CB66564623873A93E458B04DE63 | Q8: 010101 | R8: T | S8: F | T8: F | AU8: 01010144CB66564623873A93E458B04DE63 | AV8: 7
Q9: 010101
Q10: 010101
Q11: 010101
Q12: 010101
Q13: 010101
Q14: 010101
Q15: 010101
Q16: 010101
Q17: 010101
Q18: 010101
Q19: 010101
Q20: 010101
... Q26: 010101
A27: [ 합 계 ] | N27: TOTAL
A28: 0102 통합배선반 설비공사 | Q28: 010102
A29: 박스커버 | B29: 4각, 둥근구멍, 평 | C29: 개 | N29: 42B16FD2C12082490BC85D3F3B75D945456CF | Q29: 010102 | R29: F | S29: F | T29: T | AU29: 01010242B16FD2C12082490BC85D3F3B75D945456CF | AV29: 9
A30: 경질비닐전선관 | B30: 28mm, 노출 | C30: m | M30: 호표 5 | N30: 44CA6E9BA12682DFA69D57AFC7831 | Q30: 010102 | R30: T | S30: F | T30: F | AU30: 01010244CA6E9BA12682DFA69D57AFC7831 | AV30: 10
A31: 박스커넥터(비방수) | B31: 1종금속제가요전선관, 16mm | C31: 개 | N31: 42B16FD2C0278DA1CDD85DC57355A4C3E9FC0 | Q31: 010102 | R31: F | S31: F | T31: T | AU31: 01010242B16FD2C0278DA1CDD85DC57355A4C3E9FC0 | AV31: 11
A32: 경질비닐전선관 | B32: 42mm, 노출 | C32: m | M32: 호표 6 | N32: 44CA6E9BA1268011536057AF8242A | Q32: 010102 | R32: T | S32: F | T32: F | AU32: 01010244CA6E9BA1268011536057AF8242A | AV32: 12
A33: 1종금속제가요전선관 | B33: 16mm 비방수, 노출 | C33: m | M33: 호표 7 | N33: 44CA6E9BA0258D98F7D35A945350F | Q33: 010102 | R33: T | S33: F | T33: F | AU33: 01010244CA6E9BA0258D98F7D35A945350F | AV33: 13
A34: 통신용케이블 | B34: UTP Cat.6 4P * 6 | C34: m | M34: 호표 8 | N34: 44CA6915CA2582A72B0F5690EE172 | Q34: 010102 | R34: T | S34: F | T34: F | AU34: 01010244CA6915CA2582A72B0F5690EE172 | AV34: 14
A35: 광케이블 | B35: F/O 12C | C35: m | M35: 호표 9 | N35: 44CA6915CB278E33CF5C51C9046C4 | Q35: 010102 | R35: T | S35: F | T35: F | AU35: 01010244CA6915CB278E33CF5C51C9046C4 | AV35: 15
A36: 합성수지제 가요전선관 | B36: 하이렉스-CD, 16mm, 매입 | C36: m | M36: 호표 10 | N36: 44CA6E9BA62E8A6413E358A52718E | Q36: 010102 | R36: T | S36: F | T36: F | AU36: 01010244CA6E9BA62E8A6413E358A52718E | AV36: 16
A37: 합성수지제 가요전선관 | B37: 하이렉스-CD, 22mm, 매입 | C37: m | M37: 호표 11 | N37: 44CA6E9BA62E8B02BEB455E61F593 | Q37: 010102 | R37: T | S37: F | T37: F | AU37: 01010244CA6E9BA62E8B02BEB455E61F593 | AV37: 17
A38: 합성수지제 가요전선관 | B38: 하이렉스-CD, 28mm, 매입 | C38: m | M38: 호표 12 | N38: 44CA6E9BA62E8C2948FE5D4E73B75 | Q38: 010102 | R38: T | S38: F | T38: F | AU38: 01010244CA6E9BA62E8C2948FE5D4E73B75 | AV38: 18
A39: 스위치박스 | B39: ST, 1개용 54mm | C39: 개 | M39: 호표 13 | N39: 44CA6E91BC2280F88FFF57A8C5676 | Q39: 010102 | R39: T | S39: F | T39: F | AU39: 01010244CA6E91BC2280F88FFF57A8C5676 | AV39: 19
A40: 아우트렛박스 | B40: 4각 54mm | C40: 개 | M40: 호표 14 | N40: 44CA6E91BC228603426850C653A77 | Q40: 010102 | R40: T | S40: F | T40: F | AU40: 01010244CA6E91BC228603426850C653A77 | AV40: 20
A41: UTP 케이블(구내) | B41: UTP Cat.5e 25P * 2 | C41: m | M41: 호표 15 | N41: 44CA6915CA25857AE3C253D97E663 | Q41: 010102 | R41: T | S41: F | T41: F | AU41: 01010244CA6915CA25857AE3C253D97E663 | AV41: 21
A42: 통신용케이블 | B42: UTP Cat.6 4P * 1 | C42: m | M42: 호표 16 | N42: 44CA6915CA2582A72B0C5948857CE | Q42: 010102 | R42: T | S42: F | T42: F | AU42: 01010244CA6915CA2582A72B0C5948857CE | AV42: 22
A43: 통신용케이블 | B43: UTP Cat.6 4P * 2 | C43: m | M43: 호표 17 | N43: 44CA6915CA2582A72B0D5BB92205E | Q43: 010102 | R43: T | S43: F | T43: F | AU43: 01010244CA6915CA2582A72B0D5BB92205E | AV43: 23
... A46: 모듈러잭 | B46: 2구용 | C46: 개 | M46: 호표 20 | N46: 44CA683F27268EDCD3C7573D1E4BD | Q46: 010102 | R46: T | S46: F | T46: F | AU46: 01010244CA683F27268EDCD3C7573D1E4BD | AV46: 26
Q47: 010102
Q48: 010102
Q49: 010102
Q50: 010102
A51: [ 합 계 ] | N51: TOTAL
A52: 0103 A/V 설비공사 | Q52: 010104
A53: 제어케이블 | B53: TFR-CVV, 3CX1.5㎟ | C53: m | M53: 호표 22 | N53: 44CA69127A2381313A685CAFDBD1B | Q53: 010104 | R53: T | S53: F | T53: F | AU53: 01010444CA69127A2381313A685CAFDBD1B | AV53: 33
A54: 합성수지제 가요전선관 | B54: 하이렉스-CD, 16mm, 매입 | C54: m | M54: 호표 10 | N54: 44CA6E9BA62E8A6413E358A52718E | Q54: 010104 | R54: T | S54: F | T54: F | AU54: 01010444CA6E9BA62E8A6413E358A52718E | AV54: 34
A55: 합성수지제 가요전선관 | B55: 하이렉스-CD, 22mm, 매입 | C55: m | M55: 호표 11 | N55: 44CA6E9BA62E8B02BEB455E61F593 | Q55: 010104 | R55: T | S55: F | T55: F | AU55: 01010444CA6E9BA62E8B02BEB455E61F593 | AV55: 35
A56: 합성수지제 가요전선관 | B56: 하이렉스-CD, 28mm, 매입 | C56: m | M56: 호표 12 | N56: 44CA6E9BA62E8C2948FE5D4E73B75 | Q56: 010104 | R56: T | S56: F | T56: F | AU56: 01010444CA6E9BA62E8C2948FE5D4E73B75 | AV56: 36
A57: 전력케이블 | B57: F-CV, 0.6/1kV, 3C 2.5㎟ | C57: m | M57: 호표 23 | N57: 44CA691D0220871BF4C351320AC05 | Q57: 010104 | R57: T | S57: F | T57: F | AU57: 01010444CA691D0220871BF4C351320AC05 | AV57: 37
A58: HDMI 케이블 | B58: HDMI CABLE | C58: m | M58: 호표 24 | N58: 44CA6912702C8A6A4F5C5CC633084 | Q58: 010104 | R58: T | S58: F | T58: F | AU58: 01010444CA6912702C8A6A4F5C5CC633084 | AV58: 38
A59: 스피커케이블 | B59: SW-2300 | C59: m | M59: 호표 25 | N59: 44CA6912702C8A6B55A7519E5DCA6 | Q59: 010104 | R59: T | S59: F | T59: F | AU59: 01010444CA6912702C8A6B55A7519E5DCA6 | AV59: 39
A60: 마이크케이블 | B60: MW-3300 | C60: m | M60: 호표 26 | N60: 44CA6912702C8A6B55A7519E5DCA1 | Q60: 010104 | R60: T | S60: F | T60: F | AU60: 01010444CA6912702C8A6B55A7519E5DCA1 | AV60: 40
Q61: 010104
Q62: 010104
Q63: 010104
Q64: 010104
Q65: 010104
Q66: 010104
Q67: 010104
Q68: 010104
Q69: 010104
Q70: 010104
Q71: 010104
Q72: 010104
... Q74: 010104
A75: [ 합 계 ] | N75: TOTAL
A76: 0104 CABLE TREAY 설비공사 | Q76: 010105
A77: Joint connector | B77: 아연도, 100×t2.3mm | C77: m | N77: 42B16FD2C0278DA1CDDB5912535B750F67F53 | Q77: 010105 | R77: F | S77: F | T77: T | AU77: 01010542B16FD2C0278DA1CDDB5912535B750F67F53 | AV77: 42
A78: 절연전선 | B78: F-GV, 16㎟, 직매포설 | C78: m | M78: 호표 27 | N78: 44CA6A7CA42589B5BF31521038424 | Q78: 010105 | R78: T | S78: F | T78: F | AU78: 01010544CA6A7CA42589B5BF31521038424 | AV78: 43
A79: Shank bolt and nut | B79: 아연도 | C79: m | N79: 42B16FD2C0278DA1CDDB5912535B750F67C87 | Q79: 010105 | R79: F | S79: F | T79: T | AU79: 01010542B16FD2C0278DA1CDDB5912535B750F67C87 | AV79: 44
A80: Bonding jumper | B80: 22㎟ | C80: m | N80: 42B16FD2C0278DA1CDDB5912535B750F67C84 | Q80: 010105 | R80: F | S80: F | T80: T | AU80: 01010542B16FD2C0278DA1CDDB5912535B750F67C84 | AV80: 45
A81: 하이텍케이블트레이 | B81: 분체도장, W300×100H×1.0t | C81: m | M81: 호표 28 | N81: 44CA6E9D532B8CE3E3DE5E4D36B0C | Q81: 010105 | R81: T | S81: F | T81: F | AU81: 01010544CA6E9D532B8CE3E3DE5E4D36B0C | AV81: 46
A82: 케이블트레이지지대(수직) | B82: W300 | C82: 개소 | M82: 호표 29 | N82: 44CA6E951F2A893FBACB52F1AD345 | Q82: 010105 | R82: T | S82: F | T82: F | AU82: 01010544CA6E951F2A893FBACB52F1AD345 | AV82: 47
Q83: 010105
Q84: 010105
Q85: 010105
Q86: 010105
Q87: 010105
Q88: 010105
Q89: 010105
Q90: 010105
Q91: 010105
Q92: 010105
Q93: 010105
Q94: 010105
... Q98: 010105
A99: [ 합 계 ] | N99: TOTAL
A100: 0201 통합배선반 설비 | Q100: 010201
A101: 통합배선설비 시스템 | C101: 식 | N101: 42DC66DE992A8398997E54359DC969E90C712 | Q101: 010201 | R101: F | S101: F | T101: T | AU101: 01020142DC66DE992A8398997E54359DC969E90C712 | AV101: 62
A102: 조달수수료 | B102: 2천만원초과 5천만원까지 | C102: 식 | N102: 44816A3989288629444258D0243001 | Q102: 010201 | R102: F | S102: F | T102: F | AU102: 01020144816A3989288629444258D0243001 | AV102: 63
Q103: 010201
Q104: 010201
Q105: 010201
Q106: 010201
Q107: 010201
Q108: 010201
Q109: 010201
Q110: 010201
Q111: 010201
...

Sheet 일위대가목록
B1: 일 위 대 가 목 록
B2: [ SDV보안평가지원센터통신공사 ]
A3: 코 드 | B3: 품 명 | C3: 규 격 | D3: 단위 | E3: 재 료 비 | F3: 노 무 비 | G3: 경 비 | H3: 합 계 | I3: 번 호 | J3: 비 고 | K3: 노임계수 | L3: 할증 | M3: 품셈개요 | N3: 장비일위
A4: 44CA6E94702E897707835FDA4E31A | B4: 관로구방수 | C4: ø65, 3개설치 | D4: 3개 | E4: =일위대가!F10 -> 121602 | F4: =일위대가!H10 -> 0 | G4: =일위대가!J10 -> 0 | H4: =E4+F4+G4 -> 121602 | I4: 호표 1
A5: 44CA6E9BA1268133FBA757370969C | B5: 경질비닐전선관 | C5: 54mm, 매입 | D5: m | E5: =일위대가!F19 -> 2444 | F5: =일위대가!H19 -> 39025 | G5: =일위대가!J19 -> 0 | H5: =E5+F5+G5 -> 41469 | I5: 호표 2
A6: 44CA6E96212188D448405D6BC5EA8 | B6: 풀박스 | C6: 150X150X100mm, 매입, 천정 | D6: 개 | E6: =일위대가!F25 -> 2856 | F6: =일위대가!H25 -> 64553 | G6: =일위대가!J25 -> 0 | H6: =E6+F6+G6 -> 67409 | I6: 호표 3
A7: 44CB66564623873A93E458B04DE63 | B7: 핸드홀(수공1호) | C7: 950*450*700 | D7: 조 | E7: =일위대가!F42 -> 977793 | F7: =일위대가!H42 -> 701312 | G7: =일위대가!J42 -> 47691 | H7: =E7+F7+G7 -> 1726796 | I7: 호표 4
A8: 44CA6E9BA12682DFA69D57AFC7831 | B8: 경질비닐전선관 | C8: 28mm, 노출 | D8: m | E8: =일위대가!F51 -> 924 | F8: =일위대가!H51 -> 28168 | G8: =일위대가!J51 -> 0 | H8: =E8+F8+G8 -> 29092 | I8: 호표 5
A9: 44CA6E9BA1268011536057AF8242A | B9: 경질비닐전선관 | C9: 42mm, 노출 | D9: m | E9: =일위대가!F60 -> 2977 | F9: =일위대가!H60 -> 44441 | G9: =일위대가!J60 -> 0 | H9: =E9+F9+G9 -> 47418 | I9: 호표 6
A10: 44CA6E9BA0258D98F7D35A945350F | B10: 1종금속제가요전선관 | C10: 16mm 비방수, 노출 | D10: m | E10: =일위대가!F69 -> 718 | F10: =일위대가!H69 -> 13937 | G10: =일위대가!J69 -> 0 | H10: =E10+F10+G10 -> 14655 | I10: 호표 7
A11: 44CA6915CA2582A72B0F5690EE172 | B11: 통신용케이블 | C11: UTP Cat.6 4P * 6 | D11: m | E11: =일위대가!F76 -> 639 | F11: =일위대가!H76 -> 6150 | G11: =일위대가!J76 -> 0 | H11: =E11+F11+G11 -> 6789 | I11: 호표 8
A12: 44CA6915CB278E33CF5C51C9046C4 | B12: 광케이블 | C12: F/O 12C | D12: m | E12: =일위대가!F85 -> 1440 | F12: =일위대가!H85 -> 3124 | G12: =일위대가!J85 -> 0 | H12: =E12+F12+G12 -> 4564 | I12: 호표 9
A13: 44CA6E9BA62E8A6413E358A52718E | B13: 합성수지제 가요전선관 | C13: 하이렉스-CD, 16mm, 매입 | D13: m | E13: =일위대가!F94 -> 243 | F13: =일위대가!H94 -> 10563 | G13: =일위대가!J94 -> 0 | H13: =E13+F13+G13 -> 10806 | I13: 호표 10
A14: 44CA6E9BA62E8B02BEB455E61F593 | B14: 합성수지제 가요전선관 | C14: 하이렉스-CD, 22mm, 매입 | D14: m | E14: =일위대가!F103 -> 364 | F14: =일위대가!H103 -> 12676 | G14: =일위대가!J103 -> 0 | H14: =E14+F14+G14 -> 13040 | I14: 호표 11
A15: 44CA6E9BA62E8C2948FE5D4E73B75 | B15: 합성수지제 가요전선관 | C15: 하이렉스-CD, 28mm, 매입 | D15: m | E15: =일위대가!F112 -> 501 | F15: =일위대가!H112 -> 16901 | G15: =일위대가!J112 -> 0 | H15: =E15+F15+G15 -> 17402 | I15: 호표 12
A16: 44CA6E91BC2280F88FFF57A8C5676 | B16: 스위치박스 | C16: ST, 1개용 54mm | D16: 개 | E16: =일위대가!F118 -> 591 | F16: =일위대가!H118 -> 52816 | G16: =일위대가!J118 -> 0 | H16: =E16+F16+G16 -> 53407 | I16: 호표 13
A17: 44CA6E91BC228603426850C653A77 | B17: 아우트렛박스 | C17: 4각 54mm | D17: 개 | E17: =일위대가!F124 -> 3100 | F17: =일위대가!H124 -> 52816 | G17: =일위대가!J124 -> 0 | H17: =E17+F17+G17 -> 55916 | I17: 호표 14
A18: 44CA6915CA25857AE3C253D97E663 | B18: UTP 케이블(구내) | C18: UTP Cat.5e 25P * 2 | D18: m | E18: =일위대가!F132 -> 3484 | F18: =일위대가!H132 -> 10469 | G18: =일위대가!J132 -> 0 | H18: =E18+F18+G18 -> 13953 | I18: 호표 15
A19: 44CA6915CA2582A72B0C5948857CE | B19: 통신용케이블 | C19: UTP Cat.6 4P * 1 | D19: m | E19: =일위대가!F139 -> 624 | F19: =일위대가!H139 -> 6543 | G19: =일위대가!J139 -> 0 | H19: =E19+F19+G19 -> 7167 | I19: 호표 16
A20: 44CA6915CA2582A72B0D5BB92205E | B20: 통신용케이블 | C20: UTP Cat.6 4P * 2 | D20: m | E20: =일위대가!F146 -> 638 | F20: =일위대가!H146 -> 6543 | G20: =일위대가!J146 -> 0 | H20: =E20+F20+G20 -> 7181 | I20: 호표 17
A21: 44CA6915CA2582A72B0F5690EE174 | B21: 통신용케이블 | C21: UTP Cat.6 4P * 4 | D21: m | E21: =일위대가!F153 -> 638 | F21: =일위대가!H153 -> 6194 | G21: =일위대가!J153 -> 0 | H21: =E21+F21+G21 -> 6832 | I21: 호표 18
A22: 44CA6915CB278E33CF5C51C9046C2 | B22: 광케이블 | C22: F/O 4C (SMF) | D22: m | E22: =일위대가!F162 -> 1213 | F22: =일위대가!H162 -> 3124 | G22: =일위대가!J162 -> 0 | H22: =E22+F22+G22 -> 4337 | I22: 호표 19
A23: 44CA683F27268EDCD3C7573D1E4BD | B23: 모듈러잭 | C23: 2구용 | D23: 개 | E23: =일위대가!F168 -> 2728 | F23: =일위대가!H168 -> 9859 | G23: =일위대가!J168 -> 0 | H23: =E23+F23+G23 -> 12587 | I23: 호표 20
A24: 44CA6E9BA62E8B0720D652D06D68A | B24: 합성수지제 가요전선관 | C24: 하이렉스-CD, 22mm, 매입 | D24: m | E24: =일위대가!F177 -> 857 | F24: =일위대가!H177 -> 16409 | G24: =일위대가!J177 -> 0 | H24: =E24+F24+G24 -> 17266 | I24: 호표 21
A25: 44CA69127A2381313A685CAFDBD1B | B25: 제어케이블 | C25: TFR-CVV, 3CX1.5㎟ | D25: m | E25: =일위대가!F185 -> 1770 | F25: =일위대가!H185 -> 7415 | G25: =일위대가!J185 -> 0 | H25: =E25+F25+G25 -> 9185 | I25: 호표 22
A26: 44CA691D0220871BF4C351320AC05 | B26: 전력케이블 | C26: F-CV, 0.6/1kV, 3C 2.5㎟ | D26: m | E26: =일위대가!F193 -> 2138 | F26: =일위대가!H193 -> 8536 | G26: =일위대가!J193 -> 0 | H26: =E26+F26+G26 -> 10674 | I26: 호표 23
A27: 44CA6912702C8A6A4F5C5CC633084 | B27: HDMI 케이블 | C27: HDMI CABLE | D27: m | E27: =일위대가!F201 -> 16425 | F27: =일위대가!H201 -> 7188 | G27: =일위대가!J201 -> 0 | H27: =E27+F27+G27 -> 23613 | I27: 호표 24
A28: 44CA6912702C8A6B55A7519E5DCA6 | B28: 스피커케이블 | C28: SW-2300 | D28: m | E28: =일위대가!F209 -> 1018 | F28: =일위대가!H209 -> 8087 | G28: =일위대가!J209 -> 0 | H28: =E28+F28+G28 -> 9105 | I28: 호표 25
A29: 44CA6912702C8A6B55A7519E5DCA1 | B29: 마이크케이블 | C29: MW-3300 | D29: m | E29: =일위대가!F217 -> 1565 | F29: =일위대가!H217 -> 10783 | G29: =일위대가!J217 -> 0 | H29: =E29+F29+G29 -> 12348 | I29: 호표 26
A30: 44CA6A7CA42589B5BF31521038424 | B30: 절연전선 | C30: F-GV, 16㎟, 직매포설 | D30: m | E30: =일위대가!F225 -> 2982 | F30: =일위대가!H225 -> 4416 | G30: =일위대가!J225 -> 0 | H30: =E30+F30+G30 -> 7398 | I30: 호표 27
A31: 44CA6E9D532B8CE3E3DE5E4D36B0C | B31: 하이텍케이블트레이 | C31: 분체도장, W300×100H×1.0t | D31: m | E31: =일위대가!F231 -> 20820 | F31: =일위대가!H231 -> 92642 | G31: =일위대가!J231 -> 0 | H31: =E31+F31+G31 -> 113462 | I31: 호표 28
A32: 44CA6E951F2A893FBACB52F1AD345 | B32: 케이블트레이지지대(수직) | C32: W300 | D32: 개소 | E32: =일위대가!F242 -> 14865 | F32: =일위대가!H242 -> 22790 | G32: =일위대가!J242 -> 0 | H32: =E32+F32+G32 -> 37655 | I32: 호표 29
A33: 44CA6A7CA4258B7AD6C15D5A87E56 | B33: 절연전선 | C33: F-GV, 35㎟, 직매포설 | D33: m | E33: =일위대가!F250 -> 6018 | F33: =일위대가!H250 -> 7360 | G33: =일위대가!J250 -> 0 | H33: =E33+F33+G33 -> 13378 | I33: 호표 30
A34: 45D7677332228133BFA8529F1A6FB | B34: 접지봉 | C34: 14Φ×1000mm | D34: 개소 | E34: =일위대가!F257 -> 6285 | F34: =일위대가!H257 -> 98995 | G34: =일위대가!J257 -> 0 | H34: =E34+F34+G34 -> 105280 | I34: 호표 31
A35: 459D6EBEFD2987A58F7B534F5FE67 | B35: 잡석깔기지정 | C35: 떨공이다지기 | D35: ㎥ | E35: =일위대가!F263 -> 40085 | F35: =일위대가!H263 -> 189274 | G35: =일위대가!J263 -> 0 | H35: =E35+F35+G35 -> 229359 | I35: 호표 32
A36: 42846218E725856FE1E05420A759ABD6DCE2A0E | B36: 트럭탑재형 크레인 | C36: 10 ton | D36: HR | E36: =일위대가!F270 -> 20641 | F36: =일위대가!H270 -> 49778 | G36: =일위대가!J270 -> 20549 | H36: =E36+F36+G36 -> 90968 | I36: 호표 33 | K36: A | N36: T

Sheet 일위대가
A1: [ SDV보안평가지원센터통신공사 ]
A2: 품 명 | B2: 규 격 | C2: 단위 | D2: 수량 | E2: 재 료 비 | G2: 노 무 비 | I2: 경 비 | K2: 합 계 | M2: 비 고 | N2: 일위대가 | O2: 품목코드 | P2: 일위 | Q2: 단산 | R2: 자재 | S2: 손료적용 | T2: 손료저장 | U2: 적용율 | V2: JUK1 | W2: JUK2 | X2: JUK3 | Y2: JUK4 | Z2: JUK5 | AA2: JUK6 | AB2: JUK7 | AC2: JUK8 | AD2: JUK9 | AE2: JUK10 | AF2: JUK11 | AG2: JUK12 | AH2: JUK13 | AI2: JUK14 | AJ2: JUK15 | AK2: JUK16 | AL2: JUK17 | AM2: JUK18 | AN2: JUK19 | AO2: JUK20 | AP2: 할증적용 | AQ2: 할증저장 | AR2: 할증율 | AS2: HAL1 | AT2: HAL2 | AU2: HAL3 | AV2: 자재구분 | AW2: 일위대가+자재 | AX2: 장비일위 | AY2: 설정 | AZ2: 할증체크
E3: 단 가 | F3: 금 액 | G3: 단 가 | H3: 금 액 | I3: 단 가 | J3: 금 액 | K3: 단 가 | L3: 금 액
A4: 관로구방수 ø65, 3개설치 3개 ( 호표 1 ) | N4: 44CA6E94702E897707835FDA4E31A
A5: 전선관피팅 | B5: 관구밀폐기, 실링가스켓, D65 | C5: 개 | D5: 3 | E5: =단가대비표!O50 -> 13381 | F5: =TRUNC(E5*D5,1) -> 40143 | G5: =단가대비표!P50 -> 0 | H5: =TRUNC(G5*D5,1) -> 0 | I5: =단가대비표!V50 -> 0 | J5: =TRUNC(I5*D5,1) -> 0 | K5: =TRUNC(E5+G5+I5,1) -> 13381 | L5: =TRUNC(F5+H5+J5,1) -> 40143 | N5: 44CA6E94702E897707835FDA4E31A | O5: 42B16FD2C0278DA1CDD651386907E517F0D1C | P5: F | Q5: F | R5: T | AW5: 44CA6E94702E897707835FDA4E31A42B16FD2C0278DA1CDD651386907E517F0D1C
A6: 전선관피팅 | B6: 관구밀폐기, 이종연결관, Φ65mm | C6: 개 | D6: 3 | E6: =단가대비표!O51 -> 2976 | F6: =TRUNC(E6*D6,1) -> 8928 | G6: =단가대비표!P51 -> 0 | H6: =TRUNC(G6*D6,1) -> 0 | I6: =단가대비표!V51 -> 0 | J6: =TRUNC(I6*D6,1) -> 0 | K6: =TRUNC(E6+G6+I6,1) -> 2976 | L6: =TRUNC(F6+H6+J6,1) -> 8928 | N6: 44CA6E94702E897707835FDA4E31A | O6: 42B16FD2C0278DA1CDD651386984C5D0DC51C | P6: F | Q6: F | R6: T | AW6: 44CA6E94702E897707835FDA4E31A42B16FD2C0278DA1CDD651386984C5D0DC51C
A7: 통신용발포지수제 | B7: 통신용발포지수제, 발포지수재, D100이하 | C7: 개 | D7: 3 | E7: =단가대비표!O32 -> 21707 | F7: =TRUNC(E7*D7,1) -> 65121 | G7: =단가대비표!P32 -> 0 | H7: =TRUNC(G7*D7,1) -> 0 | I7: =단가대비표!V32 -> 0 | J7: =TRUNC(I7*D7,1) -> 0 | K7: =TRUNC(E7+G7+I7,1) -> 21707 | L7: =TRUNC(F7+H7+J7,1) -> 65121 | N7: 44CA6E94702E897707835FDA4E31A | O7: 42B16FD2C120824902EA5824073318EF11223 | P7: F | Q7: F | R7: T | AW7: 44CA6E94702E897707835FDA4E31A42B16FD2C120824902EA5824073318EF11223
A8: 통신용발포지수제 | B8: 통신용발포지수제, 수밀보호테이프 | C8: 개 | D8: 3 | E8: =단가대비표!O33 -> 2470 | F8: =TRUNC(E8*D8,1) -> 7410 | G8: =단가대비표!P33 -> 0 | H8: =TRUNC(G8*D8,1) -> 0 | I8: =단가대비표!V33 -> 0 | J8: =TRUNC(I8*D8,1) -> 0 | K8: =TRUNC(E8+G8+I8,1) -> 2470 | L8: =TRUNC(F8+H8+J8,1) -> 7410 | N8: 44CA6E94702E897707835FDA4E31A | O8: 42B16FD2C120824902EA582407EDFDC43D491 | P8: F | Q8: F | R8: T | AW8: 44CA6E94702E897707835FDA4E31A42B16FD2C120824902EA582407EDFDC43D491
A9: 공구손료 | B9: 노무비의 3% | C9: 식 | D9: 1 | E9: =TRUNC(SUMIF(V5:V9, RIGHTB(O9, 1), H5:H9)*U9, 2) -> 0 | F9: =TRUNC(E9*D9,1) -> 0 | G9: 0 | H9: =TRUNC(G9*D9,1) -> 0 | I9: 0 | J9: =TRUNC(I9*D9,1) -> 0 | K9: =TRUNC(E9+G9+I9,1) -> 0 | L9: =TRUNC(F9+H9+J9,1) -> 0 | N9: 44CA6E94702E897707835FDA4E31A | O9: 44816A3989288629444258D0243001 | P9: F | Q9: F | R9: F | S9: 1 | T9: 0 | U9: 0.03 | AW9: 44CA6E94702E897707835FDA4E31A44816A3989288629444258D0246004
A10: [ 합 계 ] | F10: =TRUNC(SUMIF(N5:N9, N4, F5:F9),0) -> 121602 | H10: =TRUNC(SUMIF(N5:N9, N4, H5:H9),0) -> 0 | J10: =TRUNC(SUMIF(N5:N9, N4, J5:J9),0) -> 0 | L10: =F10+H10+J10 -> 121602 | N10: TOTAL | O10: TOTAL
A12: 경질비닐전선관 54mm, 매입 m ( 호표 2 ) | N12: 44CA6E9BA1268133FBA757370969C
A13: 경질비닐전선관 | B13: HI, 54mm | C13: m | D13: 1 | E13: =단가대비표!O44 -> 1852 | F13: =TRUNC(E13*D13,1) -> 1852 | G13: =단가대비표!P44 -> 0 | H13: =TRUNC(G13*D13,1) -> 0 | I13: =단가대비표!V44 -> 0 | J13: =TRUNC(I13*D13,1) -> 0 | K13: =TRUNC(E13+G13+I13,1) -> 1852 | L13: =TRUNC(F13+H13+J13,1) -> 1852 | N13: 44CA6E9BA1268133FBA757370969C | O13: 42B16FD2C0278DA1CDD85DF2B93F51917CF2D | P13: F | Q13: F | R13: T | V13: 1 | W13: 2 | AW13: 44CA6E9BA1268133FBA757370969C42B16FD2C0278DA1CDD85DF2B93F51917CF2D
A14: 경질비닐전선관 | B14: HI, 54mm | C14: m | D14: 0.1 | E14: =단가대비표!O44 -> 1852 | F14: =TRUNC(E14*D14,1) -> 185.2 | G14: =단가대비표!P44 -> 0 | H14: =TRUNC(G14*D14,1) -> 0 | I14: =단가대비표!V44 -> 0 | J14: =TRUNC(I14*D14,1) -> 0 | K14: =TRUNC(E14+G14+I14,1) -> 1852 | L14: =TRUNC(F14+H14+J14,1) -> 185.2 | N14: 44CA6E9BA1268133FBA757370969C | O14: 42B16FD2C0278DA1CDD85DF2B93F51917CF2D | P14: F | Q14: F | R14: T | AW14: 44CA6E9BA1268133FBA757370969C42B16FD2C0278DA1CDD85DF2B93F51917CF2D
A15: 전선관부속품 | B15: 전선관의 20% | C15: 식 | D15: 1 | E15: =TRUNC(SUMIF(V13:V18, RIGHTB(O15, 1), F13:F18)*U15, 2) -> 370.4 | F15: =TRUNC(E15*D15,1) -> 370.4 | G15: 0 | H15: =TRUNC(G15*D15,1) -> 0 | I15: 0 | J15: =TRUNC(I15*D15,1) -> 0 | K15: =TRUNC(E15+G15+I15,1) -> 370.4 | L15: =TRUNC(F15+H15+J15,1) -> 370.4 | N15: 44CA6E9BA1268133FBA757370969C | O15: 44816A3989288629444258D0243001 | P15: F | Q15: F | R15: F | S15: 0 | T15: 0 | U15: 0.2 | AW15: 44CA6E9BA1268133FBA757370969C44816A3989288629444258D0240002
A16: 소모잡자재 | B16: 배관,배선의 2% | C16: 식 | D16: 1 | E16: =TRUNC(SUMIF(W13:W18, RIGHTB(O16, 1), F13:F18)*U16, 2) -> 37.04 | F16: =TRUNC(E16*D16,1) -> 37 | G16: 0 | H16: =TRUNC(G16*D16,1) -> 0 | I16: 0 | J16: =TRUNC(I16*D16,1) -> 0 | K16: =TRUNC(E16+G16+I16,1) -> 37 | L16: =TRUNC(F16+H16+J16,1) -> 37 | N16: 44CA6E9BA1268133FBA757370969C | O16: 44816A3989288629444258D0240002 | P16: F | Q16: F | R16: F | S16: 0 | T16: 0 | U16: 0.02 | AW16: 44CA6E9BA1268133FBA757370969C44816A3989288629444258D0241003
A17: 통신내선공 | B17: 일반공사 직종 | C17: 인 | D17: =공량산출근거서!K16 -> 0.133 | E17: =단가대비표!O63 -> 0 | F17: =TRUNC(E17*D17,1) -> 0 | G17: =단가대비표!P63 -> 284880 | H17: =TRUNC(G17*D17,1) -> 37889 | I17: =단가대비표!V63 -> 0 | J17: =TRUNC(I17*D17,1) -> 0 | K17: =TRUNC(E17+G17+I17,1) -> 284880 | L17: =TRUNC(F17+H17+J17,1) -> 37889 | N17: 44CA6E9BA1268133FBA757370969C | O17: 45426BEB79238CEA0F025211313A07CF37352 | P17: F | Q17: F | R17: T | X17: 3 | AW17: 44CA6E9BA1268133FBA757370969C45426BEB79238CEA0F025211313A07CF37352
A18: 공구손료 | B18: 노무비의 3% | C18: 식 | D18: 1 | E18: 0 | F18: =TRUNC(E18*D18,1) -> 0 | G18: =TRUNC(SUMIF(X13:X18, RIGHTB(O18, 1), H13:H18)*U18, 2) -> 1136.67 | H18: =TRUNC(G18*D18,1) -> 1136.6 | I18: 0 | J18: =TRUNC(I18*D18,1) -> 0 | K18: =TRUNC(E18+G18+I18,1) -> 1136.6 | L18: =TRUNC(F18+H18+J18,1) -> 1136.6 | N18: 44CA6E9BA1268133FBA757370969C | O18: 44816A3989288629444258D0241003 | P18: F | Q18: F | R18: F | S18: 1 | T18: 1 | U18: 0.03 | AW18: 44CA6E9BA1268133FBA757370969C44816A3989288629444258D0246004
A19: [ 합 계 ] | F19: =TRUNC(SUMIF(N13:N18, N12, F13:F18),0) -> 2444 | H19: =TRUNC(SUMIF(N13:N18, N12, H13:H18),0) -> 39025 | J19: =TRUNC(SUMIF(N13:N18, N12, J13:J18),0) -> 0 | L19: =F19+H19+J19 -> 41469 | N19: TOTAL | O19: TOTAL
A21: 풀박스 150X150X100mm, 매입, 천정 개 ( 호표 3 ) | N21: 44CA6E96212188D448405D6BC5EA8
A22: 전기함 | B22: 풀박스, HS-2004, 150×150×100mm | C22: 개 | D22: 1 | E22: =단가대비표!O28 -> 2856 | F22: =TRUNC(E22*D22,1) -> 2856 | G22: =단가대비표!P28 -> 0 | H22: =TRUNC(G22*D22,1) -> 0 | I22: =단가대비표!V28 -> 0 | J22: =TRUNC(I22*D22,1) -> 0 | K22: =TRUNC(E22+G22+I22,1) -> 2856 | L22: =TRUNC(F22+H22+J22,1) -> 2856 | N22: 44CA6E96212188D448405D6BC5EA8 | O22: 42B16FD2C12082490BC3551FACAE8319917A1 | P22: F | Q22: F | R22: T | AW22: 44CA6E96212188D448405D6BC5EA842B16FD2C12082490BC3551FACAE8319917A1
A23: 통신내선공 | B23: 일반공사 직종 | C23: 인 | D23: =공량산출근거서!K19 -> 0.22 | E23: =단가대비표!O63 -> 0 | F23: =TRUNC(E23*D23,1) -> 0 | G23: =단가대비표!P63 -> 284880 | H23: =TRUNC(G23*D23,1) -> 62673.6 | I23: =단가대비표!V63 -> 0 | J23: =TRUNC(I23*D23,1) -> 0 | K23: =TRUNC(E23+G23+I23,1) -> 284880 | L23: =TRUNC(F23+H23+J23,1) -> 62673.6 | N23: 44CA6E96212188D448405D6BC5EA8 | O23: 45426BEB79238CEA0F025211313A07CF37352 | P23: F | Q23: F | R23: T | V23: 1 | AW23: 44CA6E96212188D448405D6BC5EA845426BEB79238CEA0F025211313A07CF37352
A24: 공구손료 | B24: 노무비의 3% | C24: 식 | D24: 1 | E24: 0 | F24: =TRUNC(E24*D24,1) -> 0 | G24: =TRUNC(SUMIF(V22:V24, RIGHTB(O24, 1), H22:H24)*U24, 2) -> 1880.2 | H24: =TRUNC(G24*D24,1) -> 1880.2 | I24: 0 | J24: =TRUNC(I24*D24,1) -> 0 | K24: =TRUNC(E24+G24+I24,1) -> 1880.2 | L24: =TRUNC(F24+H24+J24,1) -> 1880.2 | N24: 44CA6E96212188D448405D6BC5EA8 | O24: 44816A3989288629444258D0243001 | P24: F | Q24: F | R24: F | S24: 1 | T24: 1 | U24: 0.03 | AW24: 44CA6E96212188D448405D6BC5EA844816A3989288629444258D0243001
A25: [ 합 계 ] | F25: =TRUNC(SUMIF(N22:N24, N21, F22:F24),0) -> 2856 | H25: =TRUNC(SUMIF(N22:N24, N21, H22:H24),0) -> 64553 | J25: =TRUNC(SUMIF(N22:N24, N21, J22:J24),0) -> 0 | L25: =F25+H25+J25 -> 67409 | N25: TOTAL | O25: TOTAL
A27: 핸드홀(수공1호) 950*450*700 조 ( 호표 4 ) | N27: 44CB66564623873A93E458B04DE63
A28: 맨홀보조물 | B28: 맨홀보조물, 핸드홀, 수공1호 | C28: 조 | D28: 1 | E28: =단가대비표!O22 -> 110000 | F28: =TRUNC(E28*D28,1) -> 110000 | G28: =단가대비표!P22 -> 0 | H28: =TRUNC(G28*D28,1) -> 0 | I28: =단가대비표!V22 -> 0 | J28: =TRUNC(I28*D28,1) -> 0 | K28: =TRUNC(E28+G28+I28,1) -> 110000 | L28: =TRUNC(F28+H28+J28,1) -> 110000 | N28: 44CB66564623873A93E458B04DE63 | O28: 42B166F744248FAF1A5F5C5D3222090FA0298 | P28: F | Q28: F | R28: T | AW28: 44CB66564623873A93E458B04DE6342B166F744248FAF1A5F5C5D3222090FA0298
A29: 맨홀보조물 | B29: 맨홀보조물, 핸드홀카바, 주철각형, 1120×620×132mm, 송배전용(일반규격) | C29: 조 | D29: 1 | E29: =단가대비표!O23 -> 778000 | F29: =TRUNC(E29*D29,1) -> 778000 | G29: =단가대비표!P23 -> 0 | H29: =TRUNC(G29*D29,1) -> 0 | I29: =단가대비표!V23 -> 0 | J29: =TRUNC(I29*D29,1) -> 0 | K29: =TRUNC(E29+G29+I29,1) -> 778000 | L29: =TRUNC(F29+H29+J29,1) -> 778000 | N29: 44CB66564623873A93E458B04DE63 | O29: 42B166F744248FAF1A5F5C5D3222090FA029D | P29: F | Q29: F | R29: T | AW29: 44CB66564623873A93E458B04DE6342B166F744248FAF1A5F5C5D3222090FA029D
A30: 절연전선 | B30: F-GV, 35㎟, 직매포설 | C30: m | D30: 5 | E30: =일위대가목록!E33 -> 6018 | F30: =TRUNC(E30*D30,1) -> 30090 | G30: =일위대가목록!F33 -> 7360 | H30: =TRUNC(G30*D30,1) -> 36800 | I30: =일위대가목록!G33 -> 0 | J30: =TRUNC(I30*D30,1) -> 0 | K30: =TRUNC(E30+G30+I30,1) -> 13378 | L30: =TRUNC(F30+H30+J30,1) -> 66890 | M30: 호표 30 | N30: 44CB66564623873A93E458B04DE63 | O30: 44CA6A7CA4258B7AD6C15D5A87E56 | P30: T | Q30: F | R30: F | AW30: 44CB66564623873A93E458B04DE6344CA6A7CA4258B7AD6C15D5A87E56
A31: 접지봉 | B31: 14Φ×1000mm | C31: 개소 | D31: 1 | E31: =일위대가목록!E34 -> 6285 | F31: =TRUNC(E31*D31,1) -> 6285 | G31: =일위대가목록!F34 -> 98995 | H31: =TRUNC(G31*D31,1) -> 98995 | I31: =일위대가목록!G34 -> 0 | J31: =TRUNC(I31*D31,1) -> 0 | K31: =TRUNC(E31+G31+I31,1) -> 105280 | L31: =TRUNC(F31+H31+J31,1) -> 105280 | M31: 호표 31 | N31: 44CB66564623873A93E458B04DE63 | O31: 45D7677332228133BFA8529F1A6FB | P31: T | Q31: F | R31: F | AW31: 44CB66564623873A93E458B04DE6345D7677332228133BFA8529F1A6FB
A32: 터파기/육상토사 | B32: 0-2m 인력30% | C32: m3 | D32: 1.793 | E32: =단가대비표!O54 -> 293 | F32: =TRUNC(E32*D32,1) -> 525.3 | G32: =단가대비표!P54 -> 5073 | H32: =TRUNC(G32*D32,1) -> 9095.8 | I32: =단가대비표!V54 -> 271 | J32: =TRUNC(I32*D32,1) -> 485.9 | K32: =TRUNC(E32+G32+I32,1) -> 5637 | L32: =TRUNC(F32+H32+J32,1) -> 10107 | M32: 실적단가 | N32: 44CB66564623873A93E458B04DE63 | O32: 45B26EA5A4238FBD9A775E1B6A036 | P32: F | Q32: F | R32: T | AW32: 44CB66564623873A93E458B04DE6345B26EA5A4238FBD9A775E1B6A036
A33: 되메우기/토사(인력30%) | B33: 다짐 | C33: m3 | D33: 1.397 | E33: =단가대비표!O56 -> 341 | F33: =TRUNC(E33*D33,1) -> 476.3 | G33: =단가대비표!P56 -> 6332 | H33: =TRUNC(G33*D33,1) -> 8845.8 | I33: =단가대비표!V56 -> 210 | J33: =TRUNC(I33*D33,1) -> 293.3 | K33: =TRUNC(E33+G33+I33,1) -> 6883 | L33: =TRUNC(F33+H33+J33,1) -> 9615.4 | M33: 실적단가 | N33: 44CB66564623873A93E458B04DE63 | O33: 45B26EA878298CCF2C1154746AC61 | P33: F | Q33: F | R33: T | AW33: 44CB66564623873A93E458B04DE6345B26EA878298CCF2C1154746AC61
A34: 잔토처리 | B34: 토사 | C34: m3 | D34: 0.396 | E34: =단가대비표!O55 -> 163 | F34: =TRUNC(E34*D34,1) -> 64.5 | G34: =단가대비표!P55 -> 141 | H34: =TRUNC(G34*D34,1) -> 55.8 | I34: =단가대비표!V55 -> 152 | J34: =TRUNC(I34*D34,1) -> 60.1 | K34: =TRUNC(E34+G34+I34,1) -> 456 | L34: =TRUNC(F34+H34+J34,1) -> 180.4 | M34: 실적단가 | N34: 44CB66564623873A93E458B04DE63 | O34: 45B26EA6482D84C8363D561264AFF | P34: F | Q34: F | R34: T | AW34: 44CB66564623873A93E458B04DE6345B26EA6482D84C8363D561264AFF
A35: 잡석깔기지정 | B35: 떨공이다지기 | C35: ㎥ | D35: 0.132 | E35: =일위대가목록!E35 -> 40085 | F35: =TRUNC(E35*D35,1) -> 5291.2 | G35: =일위대가목록!F35 -> 189274 | H35: =TRUNC(G35*D35,1) -> 24984.1 | I35: =일위대가목록!G35 -> 0 | J35: =TRUNC(I35*D35,1) -> 0 | K35: =TRUNC(E35+G35+I35,1) -> 229359 | L35: =TRUNC(F35+H35+J35,1) -> 30275.3 | M35: 호표 32 | N35: 44CB66564623873A93E458B04DE63 | O35: 459D6EBEFD2987A58F7B534F5FE67 | P35: T | Q35: F | R35: F | AW35: 44CB66564623873A93E458B04DE63459D6EBEFD2987A58F7B534F5FE67
A36: 트럭탑재형 크레인 | B36: 10 ton | C36: HR | D36: 2.28 | E36: =일위대가목록!E36 -> 20641 | F36: =TRUNC(E36*D36,1) -> 47061.4 | G36: =일위대가목록!F36 -> 49778 | H36: =TRUNC(G36*D36,1) -> 113493.8 | I36: =일위대가목록!G36 -> 20549 | J36: =TRUNC(I36*D36,1) -> 46851.7 | K36: =TRUNC(E36+G36+I36,1) -> 90968 | L36: =TRUNC(F36+H36+J36,1) -> 207406.9 | M36: 호표 33 | N36: 44CB66564623873A93E458B04DE63 | O36: 42846218E725856FE1E05420A759ABD6DCE2A0E | P36: T | Q36: F | R36: F | AW36: 44CB66564623873A93E458B04DE6342846218E725856FE1E05420A759ABD6DCE2A0E
A37: 특별인부 | B37: 일반공사 직종 | C37: 인 | D37: 0.8 | E37: =단가대비표!O59 -> 0 | F37: =TRUNC(E37*D37,1) -> 0 | G37: =단가대비표!P59 -> 226122 | H37: =TRUNC(G37*D37,1) -> 180897.6 | I37: =단가대비표!V59 -> 0 | J37: =TRUNC(I37*D37,1) -> 0 | K37: =TRUNC(E37+G37+I37,1) -> 226122 | L37: =TRUNC(F37+H37+J37,1) -> 180897.6 | M37: 전기4-43-3 | N37: 44CB66564623873A93E458B04DE63 | O37: 45426BEB79238CEA0F025211313A07CF37BA9 | P37: F | Q37: F | R37: T | V37: 1 | AW37: 44CB66564623873A93E458B04DE6345426BEB79238CEA0F025211313A07CF37BA9
A38: 비계공 | B38: 일반공사 직종 | C38: 인 | D38: 0.53 | E38: =단가대비표!O60 -> 0 | F38: =TRUNC(E38*D38,1) -> 0 | G38: =단가대비표!P60 -> 281939 | H38: =TRUNC(G38*D38,1) -> 149427.6 | I38: =단가대비표!V60 -> 0 | J38: =TRUNC(I38*D38,1) -> 0 | K38: =TRUNC(E38+G38+I38,1) -> 281939 | L38: =TRUNC(F38+H38+J38,1) -> 149427.6 | M38: 전기4-43-3 | N38: 44CB66564623873A93E458B04DE63 | O38: 45426BEB79238CEA0F025211313A07CF37BAC | P38: F | Q38: F | R38: T | V38: 1 | AW38: 44CB66564623873A93E458B04DE6345426BEB79238CEA0F025211313A07CF37BAC
A39: 작업반장 | B39: 일반공사 직종 | C39: 인 | D39: 0.28 | E39: =단가대비표!O57 -> 0 | F39: =TRUNC(E39*D39,1) -> 0 | G39: =단가대비표!P57 -> 215907 | H39: =TRUNC(G39*D39,1) -> 60453.9 | I39: =단가대비표!V57 -> 0 | J39: =TRUNC(I39*D39,1) -> 0 | K39: =TRUNC(E39+G39+I39,1) -> 215907 | L39: =TRUNC(F39+H39+J39,1) -> 60453.9 | M39: 전기4-43-3 | N39: 44CB66564623873A93E458B04DE63 | O39: 45426BEB79238CEA0F025211313A07CF37BAB | P39: F | Q39: F | R39: T | V39: 1 | AW39: 44CB66564623873A93E458B04DE6345426BEB79238CEA0F025211313A07CF37BAB
A40: 줄눈공 | B40: 일반공사 직종 | C40: 인 | D40: 0.03 | E40: =단가대비표!O61 -> 0 | F40: =TRUNC(E40*D40,1) -> 0 | G40: =단가대비표!P61 -> 211653 | H40: =TRUNC(G40*D40,1) -> 6349.5 | I40: =단가대비표!V61 -> 0 | J40: =TRUNC(I40*D40,1) -> 0 | K40: =TRUNC(E40+G40+I40,1) -> 211653 | L40: =TRUNC(F40+H40+J40,1) -> 6349.5 | M40: 전기4-43-3 | N40: 44CB66564623873A93E458B04DE63 | O40: 45426BEB79238CEA0F025211313A07CF378D2 | P40: F | Q40: F | R40: T | V40: 1 | AW40: 44CB66564623873A93E458B04DE6345426BEB79238CEA0F025211313A07CF378D2
A41: 공구손료 | B41: 노무비의 3% | C41: 식 | D41: 1 | E41: 0 | F41: =TRUNC(E41*D41,1) -> 0 | G41: =TRUNC(SUMIF(V28:V41, RIGHTB(O41, 1), H28:H41)*U41, 2) -> 11913.85 | H41: =TRUNC(G41*D41,1) -> 11913.8 | I41: 0 | J41: =TRUNC(I41*D41,1) -> 0 | K41: =TRUNC(E41+G41+I41,1) -> 11913.8 | L41: =TRUNC(F41+H41+J41,1) -> 11913.8 | N41: 44CB66564623873A93E458B04DE63 | O41: 44816A3989288629444258D0243001 | P41: F | Q41: F | R41: F | S41: 1 | T41: 1 | U41: 0.03 | AW41: 44CB66564623873A93E458B04DE6344816A3989288629444258D0243001
A42: [ 합 계 ] | F42: =TRUNC(SUMIF(N28:N41, N27, F28:F41),0) -> 977793 | H42: =TRUNC(SUMIF(N28:N41, N27, H28:H41),0) -> 701312 | J42: =TRUNC(SUMIF(N28:N41, N27, J28:J41),0) -> 47691 | L42: =F42+H42+J42 -> 1726796 | N42: TOTAL | O42: TOTAL
A44: 경질비닐전선관 28mm, 노출 m ( 호표 5 ) | N44: 44CA6E9BA12682DFA69D57AFC7831
A45: 경질비닐전선관 | B45: HI, 28mm | C45: m | D45: 1 | E45: =단가대비표!O42 -> 700 | F45: =TRUNC(E45*D45,1) -> 700 | G45: =단가대비표!P42 -> 0 | H45: =TRUNC(G45*D45,1) -> 0 | I45: =단가대비표!V42 -> 0 | J45: =TRUNC(I45*D45,1) -> 0 | K45: =TRUNC(E45+G45+I45,1) -> 700 | L45: =TRUNC(F45+H45+J45,1) -> 700 | N45: 44CA6E9BA12682DFA69D57AFC7831 | O45: 42B16FD2C0278DA1CDD85DF2B93F51917CE01 | P45: F | Q45: F | R45: T | V45: 1 | W45: 2 | AW45: 44CA6E9BA12682DFA69D57AFC783142B16FD2C0278DA1CDD85DF2B93F51917CE01
A46: 경질비닐전선관 | B46: HI, 28mm | C46: m | D46: 0.1 | E46: =단가대비표!O42 -> 700 | F46: =TRUNC(E46*D46,1) -> 70 | G46: =단가대비표!P42 -> 0 | H46: =TRUNC(G46*D46,1) -> 0 | I46: =단가대비표!V42 -> 0 | J46: =TRUNC(I46*D46,1) -> 0 | K46: =TRUNC(E46+G46+I46,1) -> 700 | L46: =TRUNC(F46+H46+J46,1) -> 70 | N46: 44CA6E9BA12682DFA69D57AFC7831 | O46: 42B16FD2C0278DA1CDD85DF2B93F51917CE01 | P46: F | Q46: F | R46: T | AW46: 44CA6E9BA12682DFA69D57AFC783142B16FD2C0278DA1CDD85DF2B93F51917CE01
A47: 전선관부속품 | B47: 전선관의 20% | C47: 식 | D47: 1 | E47: =TRUNC(SUMIF(V45:V50, RIGHTB(O47, 1), F45:F50)*U47, 2) -> 140 | F47: =TRUNC(E47*D47,1) -> 140 | G47: 0 | H47: =TRUNC(G47*D47,1) -> 0 | I47: 0 | J47: =TRUNC(I47*D47,1) -> 0 | K47: =TRUNC(E47+G47+I47,1) -> 140 | L47: =TRUNC(F47+H47+J47,1) -> 140 | N47: 44CA6E9BA12682DFA69D57AFC7831 | O47: 44816A3989288629444258D0243001 | P47: F | Q47: F | R47: F | S47: 0 | T47: 0 | U47: 0.2 | AW47: 44CA6E9BA12682DFA69D57AFC783144816A3989288629444258D0240002
A48: 소모잡자재 | B48: 배관,배선의 2% | C48: 식 | D48: 1 | E48: =TRUNC(SUMIF(W45:W50, RIGHTB(O48, 1), F45:F50)*U48, 2) -> 14 | F48: =TRUNC(E48*D48,1) -> 14 | G48: 0 | H48: =TRUNC(G48*D48,1) -> 0 | I48: 0 | J48: =TRUNC(I48*D48,1) -> 0 | K48: =TRUNC(E48+G48+I48,1) -> 14 | L48: =TRUNC(F48+H48+J48,1) -> 14 | N48: 44CA6E9BA12682DFA69D57AFC7831 | O48: 44816A3989288629444258D0240002 | P48: F | Q48: F | R48: F | S48: 0 | T48: 0 | U48: 0.02 | AW48: 44CA6E9BA12682DFA69D57AFC783144816A3989288629444258D0243001
A49: 통신내선공 | B49: 일반공사 직종 | C49: 인 | D49: =공량산출근거서!K23 -> 0.096 | E49: =단가대비표!O63 -> 0 | F49: =TRUNC(E49*D49,1) -> 0 | G49: =단가대비표!P63 -> 284880 | H49: =TRUNC(G49*D49,1) -> 27348.4 | I49: =단가대비표!V63 -> 0 | J49: =TRUNC(I49*D49,1) -> 0 | K49: =TRUNC(E49+G49+I49,1) -> 284880 | L49: =TRUNC(F49+H49+J49,1) -> 27348.4 | N49: 44CA6E9BA12682DFA69D57AFC7831 | O49: 45426BEB79238CEA0F025211313A07CF37352 | P49: F | Q49: F | R49: T | X49: 3 | AW49: 44CA6E9BA12682DFA69D57AFC783145426BEB79238CEA0F025211313A07CF37352
A50: 공구손료 | B50: 노무비의 3% | C50: 식 | D50: 1 | E50: 0 | F50: =TRUNC(E50*D50,1) -> 0 | G50: =TRUNC(SUMIF(X45:X50, RIGHTB(O50, 1), H45:H50)*U50, 2) -> 820.45 | H50: =TRUNC(G50*D50,1) -> 820.4 | I50: 0 | J50: =TRUNC(I50*D50,1) -> 0 | K50: =TRUNC(E50+G50+I50,1) -> 820.4 | L50: =TRUNC(F50+H50+J50,1) -> 820.4 | N50: 44CA6E9BA12682DFA69D57AFC7831 | O50: 44816A3989288629444258D0241003 | P50: F | Q50: F | R50: F | S50: 1 | T50: 1 | U50: 0.03 | AW50: 44CA6E9BA12682DFA69D57AFC783144816A3989288629444258D0241003
A51: [ 합 계 ] | F51: =TRUNC(SUMIF(N45:N50, N44, F45:F50),0) -> 924 | H51: =TRUNC(SUMIF(N45:N50, N44, H45:H50),0) -> 28168 | J51: =TRUNC(SUMIF(N45:N50, N44, J45:J50),0) -> 0 | L51: =F51+H51+J51 -> 29092 | N51: TOTAL | O51: TOTAL
A53: 경질비닐전선관 42mm, 노출 m ( 호표 6 ) | N53: 44CA6E9BA1268011536057AF8242A
A54: 경질비닐전선관 | B54: HI, 42mm | C54: m | D54: 1 | E54: =단가대비표!O43 -> 1246 | F54: =TRUNC(E54*D54,1) -> 1246 | G54: =단가대비표!P43 -> 0 | H54: =TRUNC(G54*D54,1) -> 0 | I54: =단가대비표!V43 -> 0 | J54: =TRUNC(I54*D54,1) -> 0 | K54: =TRUNC(E54+G54+I54,1) -> 1246 | L54: =TRUNC(F54+H54+J54,1) -> 1246 | N54: 44CA6E9BA1268011536057AF8242A | O54: 42B16FD2C0278DA1CDD85DF2B93F51917CE0F | P54: F | Q54: F | R54: T | V54: 1 | W54: 2 | AW54: 44CA6E9BA1268011536057AF8242A42B16FD2C0278DA1CDD85DF2B93F51917CE0F
A55: 경질비닐전선관 | B55: HI, 42mm | C55: m | D55: 0.1 | E55: =단가대비표!O43 -> 1246 | F55: =TRUNC(E55*D55,1) -> 124.6 | G55: =단가대비표!P43 -> 0 | H55: =TRUNC(G55*D55,1) -> 0 | I55: =단가대비표!V43 -> 0 | J55: =TRUNC(I55*D55,1) -> 0 | K55: =TRUNC(E55+G55+I55,1) -> 1246 | L55: =TRUNC(F55+H55+J55,1) -> 124.6 | N55: 44CA6E9BA1268011536057AF8242A | O55: 42B16FD2C0278DA1CDD85DF2B93F51917CE0F | P55: F | Q55: F | R55: T | AW55: 44CA6E9BA1268011536057AF8242A42B16FD2C0278DA1CDD85DF2B93F51917CE0F
A56: 전선관부속품 | B56: 전선관의 20% | C56: 식 | D56: 1 | E56: =TRUNC(SUMIF(V54:V59, RIGHTB(O56, 1), F54:F59)*U56, 2) -> 249.2 | F56: =TRUNC(E56*D56,1) -> 249.2 | G56: 0 | H56: =TRUNC(G56*D56,1) -> 0 | I56: 0 | J56: =TRUNC(I56*D56,1) -> 0 | K56: =TRUNC(E56+G56+I56,1) -> 249.2 | L56: =TRUNC(F56+H56+J56,1) -> 249.2 | N56: 44CA6E9BA1268011536057AF8242A | O56: 44816A3989288629444258D0243001 | P56: F | Q56: F | R56: F | S56: 0 | T56: 0 | U56: 0.2 | AW56: 44CA6E9BA1268011536057AF8242A44816A3989288629444258D0240002
A57: 소모잡자재 | B57: 배관,배선의 2% | C57: 식 | D57: 1 | E57: =TRUNC(SUMIF(W54:W59, RIGHTB(O57, 1), F54:F59)*U57, 2) -> 24.92 | F57: =TRUNC(E57*D57,1) -> 24.9 | G57: 0 | H57: =TRUNC(G57*D57,1) -> 0 | I57: 0 | J57: =TRUNC(I57*D57,1) -> 0 | K57: =TRUNC(E57+G57+I57,1) -> 24.9 | L57: =TRUNC(F57+H57+J57,1) -> 24.9 | N57: 44CA6E9BA1268011536057AF8242A | O57: 44816A3989288629444258D0240002 | P57: F | Q57: F | R57: F | S57: 0 | T57: 0 | U57: 0.02 | AW57: 44CA6E9BA1268011536057AF8242A44816A3989288629444258D0243001
A58: 통신내선공 | B58: 일반공사 직종 | C58: 인 | D58: =공량산출근거서!K27 -> 0.156 | E58: =단가대비표!O63 -> 0 | F58: =TRUNC(E58*D58,1) -> 0 | G58: =단가대비표!P63 -> 284880 | H58: =TRUNC(G58*D58,1) -> 44441.2 | I58: =단가대비표!V63 -> 0 | J58: =TRUNC(I58*D58,1) -> 0 | K58: =TRUNC(E58+G58+I58,1) -> 284880 | L58: =TRUNC(F58+H58+J58,1) -> 44441.2 | N58: 44CA6E9BA1268011536057AF8242A | O58: 45426BEB79238CEA0F025211313A07CF37352 | P58: F | Q58: F | R58: T | X58: 3 | AW58: 44CA6E9BA1268011536057AF8242A45426BEB79238CEA0F025211313A07CF37352
A59: 공구손료 | B59: 인력품의 3% | C59: 식 | D59: 1 | E59: =TRUNC(SUMIF(X54:X59, RIGHTB(O59, 1), H54:H59)*U59, 2) -> 1333.23 | F59: =TRUNC(E59*D59,1) -> 1333.2 | G59: 0 | H59: =TRUNC(G59*D59,1) -> 0 | I59: 0 | J59: =TRUNC(I59*D59,1) -> 0 | K59: =TRUNC(E59+G59+I59,1) -> 1333.2 | L59: =TRUNC(F59+H59+J59,1) -> 1333.2 | N59: 44CA6E9BA1268011536057AF8242A | O59: 44816A3989288629444258D0241003 | P59: F | Q59: F | R59: F | S59: 1 | T59: 0 | U59: 0.03 | AW59: 44CA6E9BA1268011536057AF8242A44816A3989288629444258D0241003
A60: [ 합 계 ] | F60: =TRUNC(SUMIF(N54:N59, N53, F54:F59),0) -> 2977 | H60: =TRUNC(SUMIF(N54:N59, N53, H54:H59),0) -> 44441 | J60: =TRUNC(SUMIF(N54:N59, N53, J54:J59),0) -> 0 | L60: =F60+H60+J60 -> 47418 | N60: TOTAL | O60: TOTAL
A62: 1종금속제가요전선관 16mm 비방수, 노출 m ( 호표 7 ) | N62: 44CA6E9BA0258D98F7D35A945350F
A63: 1종금속제가요전선관 | B63: 16mm, 비방수 | C63: 개 | D63: 1 | E63: =단가대비표!O48 -> 544 | F63: =TRUNC(E63*D63,1) -> 544 | G63: =단가대비표!P48 -> 0 | H63: =TRUNC(G63*D63,1) -> 0 | I63: =단가대비표!V48 -> 0 | J63: =TRUNC(I63*D63,1) -> 0 | K63: =TRUNC(E63+G63+I63,1) -> 544 | L63: =TRUNC(F63+H63+J63,1) -> 544 | N63: 44CA6E9BA0258D98F7D35A945350F | O63: 42B16FD2C0278DA1CDD85DC57355A4C3E9D17 | P63: F | Q63: F | R63: T | V63: 1 | W63: 2 | AW63: 44CA6E9BA0258D98F7D35A945350F42B16FD2C0278DA1CDD85DC57355A4C3E9D17
A64: 1종금속제가요전선관 | B64: 16mm, 비방수 | C64: 개 | D64: 0.1 | E64: =단가대비표!O48 -> 544 | F64: =TRUNC(E64*D64,1) -> 54.4 | G64: =단가대비표!P48 -> 0 | H64: =TRUNC(G64*D64,1) -> 0 | I64: =단가대비표!V48 -> 0 | J64: =TRUNC(I64*D64,1) -> 0 | K64: =TRUNC(E64+G64+I64,1) -> 544 | L64: =TRUNC(F64+H64+J64,1) -> 54.4 | N64: 44CA6E9BA0258D98F7D35A945350F | O64: 42B16FD2C0278DA1CDD85DC57355A4C3E9D17 | P64: F | Q64: F | R64: T | AW64: 44CA6E9BA0258D98F7D35A945350F42B16FD2C0278DA1CDD85DC57355A4C3E9D17
A65: 전선관부속품 | B65: 전선관의 20% | C65: 식 | D65: 1 | E65: =TRUNC(SUMIF(V63:V68, RIGHTB(O65, 1), F63:F68)*U65, 2) -> 108.8 | F65: =TRUNC(E65*D65,1) -> 108.8 | G65: 0 | H65: =TRUNC(G65*D65,1) -> 0 | I65: 0 | J65: =TRUNC(I65*D65,1) -> 0 | K65: =TRUNC(E65+G65+I65,1) -> 108.8 | L65: =TRUNC(F65+H65+J65,1) -> 108.8 | N65: 44CA6E9BA0258D98F7D35A945350F | O65: 44816A3989288629444258D0243001 | P65: F | Q65: F | R65: F | S65: 0 | T65: 0 | U65: 0.2 | AW65: 44CA6E9BA0258D98F7D35A945350F44816A3989288629444258D0240002
A66: 소모잡자재 | B66: 배관,배선의 2% | C66: 식 | D66: 1 | E66: =TRUNC(SUMIF(W63:W68, RIGHTB(O66, 1), F63:F68)*U66, 2) -> 10.88 | F66: =TRUNC(E66*D66,1) -> 10.8 | G66: 0 | H66: =TRUNC(G66*D66,1) -> 0 | I66: 0 | J66: =TRUNC(I66*D66,1) -> 0 | K66: =TRUNC(E66+G66+I66,1) -> 10.8 | L66: =TRUNC(F66+H66+J66,1) -> 10.8 | N66: 44CA6E9BA0258D98F7D35A945350F | O66: 44816A3989288629444258D0240002 | P66: F | Q66: F | R66: F | S66: 0 | T66: 0 | U66: 0.02 | AW66: 44CA6E9BA0258D98F7D35A945350F44816A3989288629444258D0241003
A67: 통신내선공 | B67: 일반공사 직종 | C67: 인 | D67: =공량산출근거서!K30 -> 0.0475 | E67: =단가대비표!O63 -> 0 | F67: =TRUNC(E67*D67,1) -> 0 | G67: =단가대비표!P63 -> 284880 | H67: =TRUNC(G67*D67,1) -> 13531.8 | I67: =단가대비표!V63 -> 0 | J67: =TRUNC(I67*D67,1) -> 0 | K67: =TRUNC(E67+G67+I67,1) -> 284880 | L67: =TRUNC(F67+H67+J67,1) -> 13531.8 | N67: 44CA6E9BA0258D98F7D35A945350F | O67: 45426BEB79238CEA0F025211313A07CF37352 | P67: F | Q67: F | R67: T | X67: 3 | AW67: 44CA6E9BA0258D98F7D35A945350F45426BEB79238CEA0F025211313A07CF37352
A68: 공구손료 | B68: 노무비의 3% | C68: 식 | D68: 1 | E68: 0 | F68: =TRUNC(E68*D68,1) -> 0 | G68: =TRUNC(SUMIF(X63:X68, RIGHTB(O68, 1), H63:H68)*U68, 2) -> 405.95 | H68: =TRUNC(G68*D68,1) -> 405.9 | I68: 0 | J68: =TRUNC(I68*D68,1) -> 0 | K68: =TRUNC(E68+G68+I68,1) -> 405.9 | L68: =TRUNC(F68+H68+J68,1) -> 405.9 | N68: 44CA6E9BA0258D98F7D35A945350F | O68: 44816A3989288629444258D0241003 | P68: F | Q68: F | R68: F | S68: 1 | T68: 1 | U68: 0.03 | AW68: 44CA6E9BA0258D98F7D35A945350F44816A3989288629444258D0246004
A69: [ 합 계 ] | F69: =TRUNC(SUMIF(N63:N68, N62, F63:F68),0) -> 718 | H69: =TRUNC(SUMIF(N63:N68, N62, H63:H68),0) -> 13937 | J69: =TRUNC(SUMIF(N63:N68, N62, J63:J68),0) -> 0 | L69: =F69+H69+J69 -> 14655 | N69: TOTAL | O69: TOTAL
A71: 통신용케이블 UTP Cat.6 4P * 6 m ( 호표 8 ) | N71: 44CA6915CA2582A72B0F5690EE172
A72: UTP 케이블 | B72: UTP Cat.6, 4P * 6 | C72: m | D72: 1 | E72: =단가대비표!O18 -> 570 | F72: =TRUNC(E72*D72,1) -> 570 | G72: =단가대비표!P18 -> 0 | H72: =TRUNC(G72*D72,1) -> 0 | I72: =단가대비표!V18 -> 0 | J72: =TRUNC(I72*D72,1) -> 0 | K72: =TRUNC(E72+G72+I72,1) -> 570 | L72: =TRUNC(F72+H72+J72,1) -> 570 | N72: 44CA6915CA2582A72B0F5690EE172 | O72: 42A766BD292D8B784AA1558CBB20E4EAEC023 | P72: F | Q72: F | R72: T | V72: 1 | AW72: 44CA6915CA2582A72B0F5690EE17242A766BD292D8B784AA1558CBB20E4EAEC023
A73: UTP 케이블 | B73: UTP Cat.6, 4P * 6 | C73: m | D73: 0.1 | E73: =단가대비표!O18 -> 570 | F73: =TRUNC(E73*D73,1) -> 57 | G73: =단가대비표!P18 -> 0 | H73: =TRUNC(G73*D73,1) -> 0 | I73: =단가대비표!V18 -> 0 | J73: =TRUNC(I73*D73,1) -> 0 | K73: =TRUNC(E73+G73+I73,1) -> 570 | L73: =TRUNC(F73+H73+J73,1) -> 57 | N73: 44CA6915CA2582A72B0F5690EE172 | O73: 42A766BD292D8B784AA1558CBB20E4EAEC023 | P73: F | Q73: F | R73: T | V73: 1 | AW73: 44CA6915CA2582A72B0F5690EE17242A766BD292D8B784AA1558CBB20E4EAEC023
A74: 소모잡자재 | B74: 배관,배선의 2% | C74: 식 | D74: 1 | E74: =TRUNC(SUMIF(V72:V75, RIGHTB(O74, 1), F72:F75)*U74, 2) -> 12.54 | F74: =TRUNC(E74*D74,1) -> 12.5 | G74: 0 | H74: =TRUNC(G74*D74,1) -> 0 | I74: 0 | J74: =TRUNC(I74*D74,1) -> 0 | K74: =TRUNC(E74+G74+I74,1) -> 12.5 | L74: =TRUNC(F74+H74+J74,1) -> 12.5 | N74: 44CA6915CA2582A72B0F5690EE172 | O74: 44816A3989288629444258D0243001 | P74: F | Q74: F | R74: F | S74: 0 | T74: 0 | U74: 0.02 | AW74: 44CA6915CA2582A72B0F5690EE17244816A3989288629444258D0243001
A75: 통신케이블공 | B75: 일반공사 직종 | C75: 인 | D75: =공량산출근거서!K34 -> 0.0141 | E75: =단가대비표!O65 -> 0 | F75: =TRUNC(E75*D75,1) -> 0 | G75: =단가대비표!P65 -> 436224 | H75: =TRUNC(G75*D75,1) -> 6150.7 | I75: =단가대비표!V65 -> 0 | J75: =TRUNC(I75*D75,1) -> 0 | K75: =TRUNC(E75+G75+I75,1) -> 436224 | L75: =TRUNC(F75+H75+J75,1) -> 6150.7 | N75: 44CA6915CA2582A72B0F5690EE172 | O75: 45426BEB79238CEA0F025211313A07CF3735D | P75: F | Q75: F | R75: T | AW75: 44CA6915CA2582A72B0F5690EE17245426BEB79238CEA0F025211313A07CF3735D
A76: [ 합 계 ] | F76: =TRUNC(SUMIF(N72:N75, N71, F72:F75),0) -> 639 | H76: =TRUNC(SUMIF(N72:N75, N71, H72:H75),0) -> 6150 | J76: =TRUNC(SUMIF(N72:N75, N71, J72:J75),0) -> 0 | L76: =F76+H76+J76 -> 6789 | N76: TOTAL | O76: TOTAL
A78: 광케이블 F/O 12C m ( 호표 9 ) | N78: 44CA6915CB278E33CF5C51C9046C4
A79: 광케이블 | B79: F/O 12C (SMF) | C79: m | D79: 1 | E79: =단가대비표!O21 -> 1200 | F79: =TRUNC(E79*D79,1) -> 1200 | G79: =단가대비표!P21 -> 0 | H79: =TRUNC(G79*D79,1) -> 0 | I79: =단가대비표!V21 -> 0 | J79: =TRUNC(I79*D79,1) -> 0 | K79: =TRUNC(E79+G79+I79,1) -> 1200 | L79: =TRUNC(F79+H79+J79,1) -> 1200 | N79: 44CA6915CB278E33CF5C51C9046C4 | O79: 42A766BD292D8B78498656098540D922D7B56 | P79: F | Q79: F | R79: T | V79: 1 | AW79: 44CA6915CB278E33CF5C51C9046C442A766BD292D8B78498656098540D922D7B56
A80: 광케이블 | B80: F/O 12C (SMF) | C80: m | D80: 0.1 | E80: =단가대비표!O21 -> 1200 | F80: =TRUNC(E80*D80,1) -> 120 | G80: =단가대비표!P21 -> 0 | H80: =TRUNC(G80*D80,1) -> 0 | I80: =단가대비표!V21 -> 0 | J80: =TRUNC(I80*D80,1) -> 0 | K80: =TRUNC(E80+G80+I80,1) -> 1200 | L80: =TRUNC(F80+H80+J80,1) -> 120 | N80: 44CA6915CB278E33CF5C51C9046C4 | O80: 42A766BD292D8B78498656098540D922D7B56 | P80: F | Q80: F | R80: T | V80: 1 | AW80: 44CA6915CB278E33CF5C51C9046C442A766BD292D8B78498656098540D922D7B56
A81: 소모잡자재 | B81: 배관,배선의 2% | C81: 식 | D81: 1 | E81: =TRUNC(SUMIF(V79:V84, RIGHTB(O81, 1), F79:F84)*U81, 2) -> 26.4 | F81: =TRUNC(E81*D81,1) -> 26.4 | G81: 0 | H81: =TRUNC(G81*D81,1) -> 0 | I81: 0 | J81: =TRUNC(I81*D81,1) -> 0 | K81: =TRUNC(E81+G81+I81,1) -> 26.4 | L81: =TRUNC(F81+H81+J81,1) -> 26.4 | N81: 44CA6915CB278E33CF5C51C9046C4 | O81: 44816A3989288629444258D0243001 | P81: F | Q81: F | R81: F | S81: 0 | T81: 0 | U81: 0.02 | AW81: 44CA6915CB278E33CF5C51C9046C444816A3989288629444258D0240002
A82: 보통인부 | B82: 일반공사 직종 | C82: 인 | D82: =공량산출근거서!K40 -> 0.0058 | E82: =단가대비표!O58 -> 0 | F82: =TRUNC(E82*D82,1) -> 0 | G82: =단가대비표!P58 -> 172068 | H82: =TRUNC(G82*D82,1) -> 997.9 | I82: =단가대비표!V58 -> 0 | J82: =TRUNC(I82*D82,1) -> 0 | K82: =TRUNC(E82+G82+I82,1) -> 172068 | L82: =TRUNC(F82+H82+J82,1) -> 997.9 | N82: 44CA6915CB278E33CF5C51C9046C4 | O82: 45426BEB79238CEA0F025211313A07CF37BA8 | P82: F | Q82: F | R82: T | W82: 2 | AW82: 44CA6915CB278E33CF5C51C9046C445426BEB79238CEA0F025211313A07CF37BA8
A83: 통신외선공 | B83: 일반공사 직종 | C83: 인 | D83: =공량산출근거서!K41 -> 0.0052 | E83: =단가대비표!O64 -> 0 | F83: =TRUNC(E83*D83,1) -> 0 | G83: =단가대비표!P64 -> 408942 | H83: =TRUNC(G83*D83,1) -> 2126.4 | I83: =단가대비표!V64 -> 0 | J83: =TRUNC(I83*D83,1) -> 0 | K83: =TRUNC(E83+G83+I83,1) -> 408942 | L83: =TRUNC(F83+H83+J83,1) -> 2126.4 | N83: 44CA6915CB278E33CF5C51C9046C4 | O83: 45426BEB79238CEA0F025211313A07CF3735C | P83: F | Q83: F | R83: T | W83: 2 | AW83: 44CA6915CB278E33CF5C51C9046C445426BEB79238CEA0F025211313A07CF3735C
A84: 공구손료 | B84: 인력품의 3% | C84: 식 | D84: 1 | E84: =TRUNC(SUMIF(W79:W84, RIGHTB(O84, 1), H79:H84)*U84, 2) -> 93.72 | F84: =TRUNC(E84*D84,1) -> 93.7 | G84: 0 | H84: =TRUNC(G84*D84,1) -> 0 | I84: 0 | J84: =TRUNC(I84*D84,1) -> 0 | K84: =TRUNC(E84+G84+I84,1) -> 93.7 | L84: =TRUNC(F84+H84+J84,1) -> 93.7 | N84: 44CA6915CB278E33CF5C51C9046C4 | O84: 44816A3989288629444258D0240002 | P84: F | Q84: F | R84: F | S84: 1 | T84: 0 | U84: 0.03 | AW84: 44CA6915CB278E33CF5C51C9046C444816A3989288629444258D0241003
A85: [ 합 계 ] | F85: =TRUNC(SUMIF(N79:N84, N78, F79:F84),0) -> 1440 | H85: =TRUNC(SUMIF(N79:N84, N78, H79:H84),0) -> 3124 | J85: =TRUNC(SUMIF(N79:N84, N78, J79:J84),0) -> 0 | L85: =F85+H85+J85 -> 4564 | N85: TOTAL | O85: TOTAL
A87: 합성수지제 가요전선관 하이렉스-CD, 16mm, 매입 m ( 호표 10 ) | N87: 44CA6E9BA62E8A6413E358A52718E
A88: 전선관 | B88: 합성수지제가요전선관, CD, 16mm | C88: m | D88: 1 | E88: =단가대비표!O45 -> 160 | F88: =TRUNC(E88*D88,1) -> 160 | G88: =단가대비표!P45 -> 0 | H88: =TRUNC(G88*D88,1) -> 0 | I88: =단가대비표!V45 -> 0 | J88: =TRUNC(I88*D88,1) -> 0 | K88: =TRUNC(E88+G88+I88,1) -> 160 | L88: =TRUNC(F88+H88+J88,1) -> 160 | N88: 44CA6E9BA62E8A6413E358A52718E | O88: 42B16FD2C0278DA1CDD85DF2B93F5187E3A3A | P88: F | Q88: F | R88: T | V88: 1 | W88: 2 | AW88: 44CA6E9BA62E8A6413E358A52718E42B16FD2C0278DA1CDD85DF2B93F5187E3A3A
A89: 전선관 | B89: 합성수지제가요전선관, CD, 16mm | C89: m | D89: 0.1 | E89: =단가대비표!O45 -> 160 | F89: =TRUNC(E89*D89,1) -> 16 | G89: =단가대비표!P45 -> 0 | H89: =TRUNC(G89*D89,1) -> 0 | I89: =단가대비표!V45 -> 0 | J89: =TRUNC(I89*D89,1) -> 0 | K89: =TRUNC(E89+G89+I89,1) -> 160 | L89: =TRUNC(F89+H89+J89,1) -> 16 | N89: 44CA6E9BA62E8A6413E358A52718E | O89: 42B16FD2C0278DA1CDD85DF2B93F5187E3A3A | P89: F | Q89: F | R89: T | AW89: 44CA6E9BA62E8A6413E358A52718E42B16FD2C0278DA1CDD85DF2B93F5187E3A3A
A90: 전선관부속품 | B90: 전선관의 40% | C90: 식 | D90: 1 | E90: =TRUNC(SUMIF(V88:V93, RIGHTB(O90, 1), F88:F93)*U90, 2) -> 64 | F90: =TRUNC(E90*D90,1) -> 64 | G90: 0 | H90: =TRUNC(G90*D90,1) -> 0 | I90: 0 | J90: =TRUNC(I90*D90,1) -> 0 | K90: =TRUNC(E90+G90+I90,1) -> 64 | L90: =TRUNC(F90+H90+J90,1) -> 64 | N90: 44CA6E9BA62E8A6413E358A52718E | O90: 44816A3989288629444258D0243001 | P90: F | Q90: F | R90: F | S90: 0 | T90: 0 | U90: 0.4 | AW90: 44CA6E9BA62E8A6413E358A52718E44816A3989288629444258D0240002
A91: 소모잡자재 | B91: 배관,배선의 2% | C91: 식 | D91: 1 | E91: =TRUNC(SUMIF(W88:W93, RIGHTB(O91, 1), F88:F93)*U91, 2) -> 3.2 | F91: =TRUNC(E91*D91,1) -> 3.2 | G91: 0 | H91: =TRUNC(G91*D91,1) -> 0 | I91: 0 | J91: =TRUNC(I91*D91,1) -> 0 | K91: =TRUNC(E91+G91+I91,1) -> 3.2 | L91: =TRUNC(F91+H91+J91,1) -> 3.2 | N91: 44CA6E9BA62E8A6413E358A52718E | O91: 44816A3989288629444258D0240002 | P91: F | Q91: F | R91: F | S91: 0 | T91: 0 | U91: 0.02 | AW91: 44CA6E9BA62E8A6413E358A52718E44816A3989288629444258D0241003
A92: 통신내선공 | B92: 일반공사 직종 | C92: 인 | D92: =공량산출근거서!K44 -> 0.036 | E92: =단가대비표!O63 -> 0 | F92: =TRUNC(E92*D92,1) -> 0 | G92: =단가대비표!P63 -> 284880 | H92: =TRUNC(G92*D92,1) -> 10255.6 | I92: =단가대비표!V63 -> 0 | J92: =TRUNC(I92*D92,1) -> 0 | K92: =TRUNC(E92+G92+I92,1) -> 284880 | L92: =TRUNC(F92+H92+J92,1) -> 10255.6 | N92: 44CA6E9BA62E8A6413E358A52718E | O92: 45426BEB79238CEA0F025211313A07CF37352 | P92: F | Q92: F | R92: T | X92: 3 | AW92: 44CA6E9BA62E8A6413E358A52718E45426BEB79238CEA0F025211313A07CF37352
A93: 공구손료 | B93: 노무비의 3% | C93: 식 | D93: 1 | E93: 0 | F93: =TRUNC(E93*D93,1) -> 0 | G93: =TRUNC(SUMIF(X88:X93, RIGHTB(O93, 1), H88:H93)*U93, 2) -> 307.66 | H93: =TRUNC(G93*D93,1) -> 307.6 | I93: 0 | J93: =TRUNC(I93*D93,1) -> 0 | K93: =TRUNC(E93+G93+I93,1) -> 307.6 | L93: =TRUNC(F93+H93+J93,1) -> 307.6 | N93: 44CA6E9BA62E8A6413E358A52718E | O93: 44816A3989288629444258D0241003 | P93: F | Q93: F | R93: F | S93: 1 | T93: 1 | U93: 0.03 | AW93: 44CA6E9BA62E8A6413E358A52718E44816A3989288629444258D0246004
A94: [ 합 계 ] | F94: =TRUNC(SUMIF(N88:N93, N87, F88:F93),0) -> 243 | H94: =TRUNC(SUMIF(N88:N93, N87, H88:H93),0) -> 10563 | J94: =TRUNC(SUMIF(N88:N93, N87, J88:J93),0) -> 0 | L94: =F94+H94+J94 -> 10806 | N94: TOTAL | O94: TOTAL
A96: 합성수지제 가요전선관 하이렉스-CD, 22mm, 매입 m ( 호표 11 ) | N96: 44CA6E9BA62E8B02BEB455E61F593
A97: 전선관 | B97: 합성수지제가요전선관, CD, 22mm | C97: m | D97: 1 | E97: =단가대비표!O46 -> 240 | F97: =TRUNC(E97*D97,1) -> 240 | G97: =단가대비표!P46 -> 0 | H97: =TRUNC(G97*D97,1) -> 0 | I97: =단가대비표!V46 -> 0 | J97: =TRUNC(I97*D97,1) -> 0 | K97: =TRUNC(E97+G97+I97,1) -> 240 | L97: =TRUNC(F97+H97+J97,1) -> 240 | N97: 44CA6E9BA62E8B02BEB455E61F593 | O97: 42B16FD2C0278DA1CDD85DF2B93F5187E3A3B | P97: F | Q97: F | R97: T | V97: 1 | W97: 2 | AW97: 44CA6E9BA62E8B02BEB455E61F59342B16FD2C0278DA1CDD85DF2B93F5187E3A3B
A98: 전선관 | B98: 합성수지제가요전선관, CD, 22mm | C98: m | D98: 0.1 | E98: =단가대비표!O46 -> 240 | F98: =TRUNC(E98*D98,1) -> 24 | G98: =단가대비표!P46 -> 0 | H98: =TRUNC(G98*D98,1) -> 0 | I98: =단가대비표!V46 -> 0 | J98: =TRUNC(I98*D98,1) -> 0 | K98: =TRUNC(E98+G98+I98,1) -> 240 | L98: =TRUNC(F98+H98+J98,1) -> 24 | N98: 44CA6E9BA62E8B02BEB455E61F593 | O98: 42B16FD2C0278DA1CDD85DF2B93F5187E3A3B | P98: F | Q98: F | R98: T | AW98: 44CA6E9BA62E8B02BEB455E61F59342B16FD2C0278DA1CDD85DF2B93F5187E3A3B
A99: 전선관부속품 | B99: 전선관의 40% | C99: 식 | D99: 1 | E99: =TRUNC(SUMIF(V97:V102, RIGHTB(O99, 1), F97:F102)*U99, 2) -> 96 | F99: =TRUNC(E99*D99,1) -> 96 | G99: 0 | H99: =TRUNC(G99*D99,1) -> 0 | I99: 0 | J99: =TRUNC(I99*D99,1) -> 0 | K99: =TRUNC(E99+G99+I99,1) -> 96 | L99: =TRUNC(F99+H99+J99,1) -> 96 | N99: 44CA6E9BA62E8B02BEB455E61F593 | O99: 44816A3989288629444258D0243001 | P99: F | Q99: F | R99: F | S99: 0 | T99: 0 | U99: 0.4 | AW99: 44CA6E9BA62E8B02BEB455E61F59344816A3989288629444258D0240002
A100: 소모잡자재 | B100: 배관,배선의 2% | C100: 식 | D100: 1 | E100: =TRUNC(SUMIF(W97:W102, RIGHTB(O100, 1), F97:F102)*U100, 2) -> 4.8 | F100: =TRUNC(E100*D100,1) -> 4.8 | G100: 0 | H100: =TRUNC(G100*D100,1) -> 0 | I100: 0 | J100: =TRUNC(I100*D100,1) -> 0 | K100: =TRUNC(E100+G100+I100,1) -> 4.8 | L100: =TRUNC(F100+H100+J100,1) -> 4.8 | N100: 44CA6E9BA62E8B02BEB455E61F593 | O100: 44816A3989288629444258D0240002 | P100: F | Q100: F | R100: F | S100: 0 | T100: 0 | U100: 0.02 | AW100: 44CA6E9BA62E8B02BEB455E61F59344816A3989288629444258D0241003
A101: 통신내선공 | B101: 일반공사 직종 | C101: 인 | D101: =공량산출근거서!K47 -> 0.0432 | E101: =단가대비표!O63 -> 0 | F101: =TRUNC(E101*D101,1) -> 0 | G101: =단가대비표!P63 -> 284880 | H101: =TRUNC(G101*D101,1) -> 12306.8 | I101: =단가대비표!V63 -> 0 | J101: =TRUNC(I101*D101,1) -> 0 | K101: =TRUNC(E101+G101+I101,1) -> 284880 | L101: =TRUNC(F101+H101+J101,1) -> 12306.8 | N101: 44CA6E9BA62E8B02BEB455E61F593 | O101: 45426BEB79238CEA0F025211313A07CF37352 | P101: F | Q101: F | R101: T | X101: 3 | AW101: 44CA6E9BA62E8B02BEB455E61F59345426BEB79238CEA0F025211313A07CF37352
A102: 공구손료 | B102: 노무비의 3% | C102: 식 | D102: 1 | E102: 0 | F102: =TRUNC(E102*D102,1) -> 0 | G102: =TRUNC(SUMIF(X97:X102, RIGHTB(O102, 1), H97:H102)*U102, 2) -> 369.2 | H102: =TRUNC(G102*D102,1) -> 369.2 | I102: 0 | J102: =TRUNC(I102*D102,1) -> 0 | K102: =TRUNC(E102+G102+I102,1) -> 369.2 | L102: =TRUNC(F102+H102+J102,1) -> 369.2 | N102: 44CA6E9BA62E8B02BEB455E61F593 | O102: 44816A3989288629444258D0241003 | P102: F | Q102: F | R102: F | S102: 1 | T102: 1 | U102: 0.03 | AW102: 44CA6E9BA62E8B02BEB455E61F59344816A3989288629444258D0246004
A103: [ 합 계 ] | F103: =TRUNC(SUMIF(N97:N102, N96, F97:F102),0) -> 364 | H103: =TRUNC(SUMIF(N97:N102, N96, H97:H102),0) -> 12676 | J103: =TRUNC(SUMIF(N97:N102, N96, J97:J102),0) -> 0 | L103: =F103+H103+J103 -> 13040 | N103: TOTAL | O103: TOTAL
A105: 합성수지제 가요전선관 하이렉스-CD, 28mm, 매입 m ( 호표 12 ) | N105: 44CA6E9BA62E8C2948FE5D4E73B75
A106: 전선관 | B106: 합성수지제가요전선관, CD, 28mm | C106: m | D106: 1 | E106: =단가대비표!O47 -> 330 | F106: =TRUNC(E106*D106,1) -> 330 | G106: =단가대비표!P47 -> 0 | H106: =TRUNC(G106*D106,1) -> 0 | I106: =단가대비표!V47 -> 0 | J106: =TRUNC(I106*D106,1) -> 0 | K106: =TRUNC(E106+G106+I106,1) -> 330 | L106: =TRUNC(F106+H106+J106,1) -> 330 | N106: 44CA6E9BA62E8C2948FE5D4E73B75 | O106: 42B16FD2C0278DA1CDD85DF2B93F5187E3A38 | P106: F | Q106: F | R106: T | V106: 1 | W106: 2 | AW106: 44CA6E9BA62E8C2948FE5D4E73B7542B16FD2C0278DA1CDD85DF2B93F5187E3A38
A107: 전선관 | B107: 합성수지제가요전선관, CD, 28mm | C107: m | D107: 0.1 | E107: =단가대비표!O47 -> 330 | F107: =TRUNC(E107*D107,1) -> 33 | G107: =단가대비표!P47 -> 0 | H107: =TRUNC(G107*D107,1) -> 0 | I107: =단가대비표!V47 -> 0 | J107: =TRUNC(I107*D107,1) -> 0 | K107: =TRUNC(E107+G107+I107,1) -> 330 | L107: =TRUNC(F107+H107+J107,1) -> 33 | N107: 44CA6E9BA62E8C2948FE5D4E73B75 | O107: 42B16FD2C0278DA1CDD85DF2B93F5187E3A38 | P107: F | Q107: F | R107: T | AW107: 44CA6E9BA62E8C2948FE5D4E73B7542B16FD2C0278DA1CDD85DF2B93F5187E3A38
A108: 전선관부속품 | B108: 전선관의 40% | C108: 식 | D108: 1 | E108: =TRUNC(SUMIF(V106:V111, RIGHTB(O108, 1), F106:F111)*U108, 2) -> 132 | F108: =TRUNC(E108*D108,1) -> 132 | G108: 0 | H108: =TRUNC(G108*D108,1) -> 0 | I108: 0 | J108: =TRUNC(I108*D108,1) -> 0 | K108: =TRUNC(E108+G108+I108,1) -> 132 | L108: =TRUNC(F108+H108+J108,1) -> 132 | N108: 44CA6E9BA62E8C2948FE5D4E73B75 | O108: 44816A3989288629444258D0243001 | P108: F | Q108: F | R108: F | S108: 0 | T108: 0 | U108: 0.4 | AW108: 44CA6E9BA62E8C2948FE5D4E73B7544816A3989288629444258D0240002
A109: 소모잡자재 | B109: 배관,배선의 2% | C109: 식 | D109: 1 | E109: =TRUNC(SUMIF(W106:W111, RIGHTB(O109, 1), F106:F111)*U109, 2) -> 6.6 | F109: =TRUNC(E109*D109,1) -> 6.6 | G109: 0 | H109: =TRUNC(G109*D109,1) -> 0 | I109: 0 | J109: =TRUNC(I109*D109,1) -> 0 | K109: =TRUNC(E109+G109+I109,1) -> 6.6 | L109: =TRUNC(F109+H109+J109,1) -> 6.6 | N109: 44CA6E9BA62E8C2948FE5D4E73B75 | O109: 44816A3989288629444258D0240002 | P109: F | Q109: F | R109: F | S109: 0 | T109: 0 | U109: 0.02 | AW109: 44CA6E9BA62E8C2948FE5D4E73B7544816A3989288629444258D0241003
A110: 통신내선공 | B110: 일반공사 직종 | C110: 인 | D110: =공량산출근거서!K50 -> 0.0576 | E110: =단가대비표!O63 -> 0 | F110: =TRUNC(E110*D110,1) -> 0 | G110: =단가대비표!P63 -> 284880 | H110: =TRUNC(G110*D110,1) -> 16409 | I110: =단가대비표!V63 -> 0 | J110: =TRUNC(I110*D110,1) -> 0 | K110: =TRUNC(E110+G110+I110,1) -> 284880 | L110: =TRUNC(F110+H110+J110,1) -> 16409 | N110: 44CA6E9BA62E8C2948FE5D4E73B75 | O110: 45426BEB79238CEA0F025211313A07CF37352 | P110: F | Q110: F | R110: T | X110: 3 | AW110: 44CA6E9BA62E8C2948FE5D4E73B7545426BEB79238CEA0F025211313A07CF37352
A111: 공구손료 | B111: 노무비의 3% | C111: 식 | D111: 1 | E111: 0 | F111: =TRUNC(E111*D111,1) -> 0 | G111: =TRUNC(SUMIF(X106:X111, RIGHTB(O111, 1), H106:H111)*U111, 2) -> 492.27 | H111: =TRUNC(G111*D111,1) -> 492.2 | I111: 0 | J111: =TRUNC(I111*D111,1) -> 0 | K111: =TRUNC(E111+G111+I111,1) -> 492.2 | L111: =TRUNC(F111+H111+J111,1) -> 492.2 | N111: 44CA6E9BA62E8C2948FE5D4E73B75 | O111: 44816A3989288629444258D0241003 | P111: F | Q111: F | R111: F | S111: 1 | T111: 1 | U111: 0.03 | AW111: 44CA6E9BA62E8C2948FE5D4E73B7544816A3989288629444258D0246004
...

Sheet 공량산출근거서
A1: 공 량 산 출 근 거 서
A2: [ SDV보안평가지원센터통신공사 ]
A3: 코 드 | B3: 품 명 | C3: 규 격 | D3: 단위 | E3: 품 셈 목 록 | F3: 수 량 | G3: 할증 | H3: 노임할증-1 | I3: 노임할증-2 | J3: 노임할증-3 | K3: 내역수량 | L3: 직 종 명 | M3: 공 량 | N3: 계 | O3: 번 호 | P3: 비 고 | T3: 일위대가목록+자재 | V3: 보통인부 | W3: 일반공사 직종 | X3: 특고압케이블전공 | Y3: 저압케이블전공 | Z3: 통신내선공 | AA3: 통신케이블공 | AB3: 통신외선공
B4: 관로구방수 ø65, 3개설치 3개 (호표 1)
A5: 42B16FD2C0278DA1CDD651386907E517F0D1C | B5: 전선관피팅 | C5: 관구밀폐기, 실링가스켓, D65 | D5: 개 | E5: 전기품셈 2-18 | F5: 0 | H5: 0 | K5: 3 | L5: 보통인부 | M5: =0.12*(H5+100)/100*(I5+100)/100*(J5+100)/100 -> 0.12 | N5: =F5*M5 -> 0 | O5: 노임 2 | P5: 0.12*1 | Q5: 44CA6E94702E897707835FDA4E31A | R5: 45426BEB79238CEA0F025211313A07CF37BA8 | S5: 0.12 | T5: 44CA6E94702E897707835FDA4E31A42B16FD2C0278DA1CDD651386907E517F0D1C | V5: =N5 -> 0
L6: 특고압케이블전공 | M6: =0.024*(H5+100)/100*(I5+100)/100*(J5+100)/100 -> 0.024 | N6: =F5*M6 -> 0 | O6: 노임 7 | P6: 0.024*1 | Q6: 44CA6E94702E897707835FDA4E31A | R6: 45426BEB79238CEA0F025211313A07CF37CB7 | S6: 0.024 | T6: 44CA6E94702E897707835FDA4E31A42B16FD2C0278DA1CDD651386907E517F0D1C | X6: =N6 -> 0
A7: 42B16FD2C0278DA1CDD651386984C5D0DC51C | B7: 전선관피팅 | C7: 관구밀폐기, 이종연결관, Φ65mm | D7: 개 | E7: 전기품셈 2-18 | F7: 0 | H7: 0 | K7: 3 | L7: 보통인부 | M7: =0.2376*(H7+100)/100*(I7+100)/100*(J7+100)/100 -> 0.2376 | N7: =F7*M7 -> 0 | O7: 노임 2 | P7: 0.2376*1 | Q7: 44CA6E94702E897707835FDA4E31A | R7: 45426BEB79238CEA0F025211313A07CF37BA8 | S7: 0.2376 | T7: 44CA6E94702E897707835FDA4E31A42B16FD2C0278DA1CDD651386984C5D0DC51C | V7: =N7 -> 0
L8: 특고압케이블전공 | M8: =0.2376*(H7+100)/100*(I7+100)/100*(J7+100)/100 -> 0.2376 | N8: =F7*M8 -> 0 | O8: 노임 7 | P8: 0.2376*1 | Q8: 44CA6E94702E897707835FDA4E31A | R8: 45426BEB79238CEA0F025211313A07CF37CB7 | S8: 0.2376 | T8: 44CA6E94702E897707835FDA4E31A42B16FD2C0278DA1CDD651386984C5D0DC51C | X8: =N8 -> 0
A9: 42B16FD2C120824902EA5824073318EF11223 | B9: 통신용발포지수제 | C9: 통신용발포지수제, 발포지수재, D100이하 | D9: 개 | E9: 전기품셈 4-47 | F9: 0 | H9: 0 | K9: 3 | L9: 보통인부 | M9: =0.076*(H9+100)/100*(I9+100)/100*(J9+100)/100 -> 0.076 | N9: =F9*M9 -> 0 | O9: 노임 2 | P9: 0.076*1 | Q9: 44CA6E94702E897707835FDA4E31A | R9: 45426BEB79238CEA0F025211313A07CF37BA8 | S9: 0.076 | T9: 44CA6E94702E897707835FDA4E31A42B16FD2C120824902EA5824073318EF11223 | V9: =N9 -> 0
L10: 저압케이블전공 | M10: =0.076*(H9+100)/100*(I9+100)/100*(J9+100)/100 -> 0.076 | N10: =F9*M10 -> 0 | O10: 노임 8 | P10: 0.076*1 | Q10: 44CA6E94702E897707835FDA4E31A | R10: 45426BEB79238CEA0F025211313A07CF37CB9 | S10: 0.076 | T10: 44CA6E94702E897707835FDA4E31A42B16FD2C120824902EA5824073318EF11223 | Y10: =N10 -> 0
A11: 45426BEB79238CEA0F025211313A07CF37BA8 | B11: 보통인부 | C11: 일반공사 직종 | D11: 인 | Q11: 44CA6E94702E897707835FDA4E31A | T11: 44CA6E94702E897707835FDA4E31A45426BEB79238CEA0F025211313A07CF37BA8
A12: 45426BEB79238CEA0F025211313A07CF37CB7 | B12: 특고압케이블전공 | C12: 일반공사 직종 | D12: 인 | Q12: 44CA6E94702E897707835FDA4E31A | T12: 44CA6E94702E897707835FDA4E31A45426BEB79238CEA0F025211313A07CF37CB7
A13: 45426BEB79238CEA0F025211313A07CF37CB9 | B13: 저압케이블전공 | C13: 일반공사 직종 | D13: 인 | Q13: 44CA6E94702E897707835FDA4E31A | T13: 44CA6E94702E897707835FDA4E31A45426BEB79238CEA0F025211313A07CF37CB9
B14: 경질비닐전선관 54mm, 매입 m (호표 2)
A15: 42B16FD2C0278DA1CDD85DF2B93F51917CF2D | B15: 경질비닐전선관 | C15: HI, 54mm | D15: m | E15: 통신품셈 3-1-1 | F15: 1 | G15: 0 | H15: -30 | K15: 1 | L15: 통신내선공 | M15: =0.19*(H15+100)/100*(I15+100)/100*(J15+100)/100 -> 0.133 | N15: =F15*M15 -> 0.133 | O15: 노임 7 | P15: 1.9*0.1 * 70% | Q15: 44CA6E9BA1268133FBA757370969C | R15: 45426BEB79238CEA0F025211313A07CF37352 | S15: 0.19 | T15: 44CA6E9BA1268133FBA757370969C42B16FD2C0278DA1CDD85DF2B93F51917CF2D | Z15: =N15 -> 0.133
A16: 45426BEB79238CEA0F025211313A07CF37352 | B16: 통신내선공 | C16: 일반공사 직종 | D16: 인 | F16: =SUM(Z15:Z15) -> 0.133 | K16: =TRUNC(ROUNDDOWN(F16,공량설정_일위대가!C4+1)*공량설정_일위대가!B3/100, 공량설정_일위대가!C4) -> 0.133 | O16: 노임 7 | Q16: 44CA6E9BA1268133FBA757370969C | T16: 44CA6E9BA1268133FBA757370969C45426BEB79238CEA0F025211313A07CF37352
B17: 풀박스 150X150X100mm, 매입, 천정 개 (호표 3)
A18: 42B16FD2C12082490BC3551FACAE8319917A1 | B18: 전기함 | C18: 풀박스, HS-2004, 150×150×100mm | D18: 개 | E18: 통신품셈 3-2-1 | F18: 1 | G18: 0 | K18: 1 | L18: 통신내선공 | M18: =0.22*(H18+100)/100*(I18+100)/100*(J18+100)/100 -> 0.22 | N18: =F18*M18 -> 0.22 | O18: 노임 7 | P18: 0.22*1 | Q18: 44CA6E96212188D448405D6BC5EA8 | R18: 45426BEB79238CEA0F025211313A07CF37352 | S18: 0.22 | T18: 44CA6E96212188D448405D6BC5EA842B16FD2C12082490BC3551FACAE8319917A1 | Z18: =N18 -> 0.22
A19: 45426BEB79238CEA0F025211313A07CF37352 | B19: 통신내선공 | C19: 일반공사 직종 | D19: 인 | F19: =SUM(Z18:Z18) -> 0.22 | K19: =TRUNC(ROUNDDOWN(F19,공량설정_일위대가!C6+1)*공량설정_일위대가!B5/100, 공량설정_일위대가!C6) -> 0.22 | O19: 노임 7 | Q19: 44CA6E96212188D448405D6BC5EA8 | T19: 44CA6E96212188D448405D6BC5EA845426BEB79238CEA0F025211313A07CF37352
B20: 경질비닐전선관 28mm, 노출 m (호표 5)
A21: 42B16FD2C0278DA1CDD85DF2B93F51917CE01 | B21: 경질비닐전선관 | C21: HI, 28mm | D21: m | E21: 통신품셈 3-1-1 | F21: 1 | G21: 0 | H21: 20 | K21: 1 | L21: 통신내선공 | M21: =0.08*(H21+100)/100*(I21+100)/100*(J21+100)/100 -> 0.096 | N21: =F21*M21 -> 0.096 | O21: 노임 7 | P21: 0.08*1 * 120% | Q21: 44CA6E9BA12682DFA69D57AFC7831 | R21: 45426BEB79238CEA0F025211313A07CF37352 | S21: 0.08 | T21: 44CA6E9BA12682DFA69D57AFC783142B16FD2C0278DA1CDD85DF2B93F51917CE01 | Z21: =N21 -> 0.096
A22: 42B16FD2C0278DA1CDD85DF2B93F51917CE01 | B22: 경질비닐전선관 | C22: HI, 28mm | D22: m | E22: 통신품셈 3-1-1 | F22: 0 | G22: 0 | K22: 0.1 | L22: 통신내선공 | M22: =0.08*(H22+100)/100*(I22+100)/100*(J22+100)/100 -> 0.08 | N22: =F22*M22 -> 0 | O22: 노임 7 | P22: 0.08*1 | Q22: 44CA6E9BA12682DFA69D57AFC7831 | R22: 45426BEB79238CEA0F025211313A07CF37352 | S22: 0.08 | T22: 44CA6E9BA12682DFA69D57AFC783142B16FD2C0278DA1CDD85DF2B93F51917CE01 | Z22: =N22 -> 0
A23: 45426BEB79238CEA0F025211313A07CF37352 | B23: 통신내선공 | C23: 일반공사 직종 | D23: 인 | F23: =SUM(Z21:Z22) -> 0.096 | K23: =TRUNC(ROUNDDOWN(F23,공량설정_일위대가!C13+1)*공량설정_일위대가!B12/100, 공량설정_일위대가!C13) -> 0.096 | O23: 노임 7 | Q23: 44CA6E9BA12682DFA69D57AFC7831 | T23: 44CA6E9BA12682DFA69D57AFC783145426BEB79238CEA0F025211313A07CF37352
B24: 경질비닐전선관 42mm, 노출 m (호표 6)
A25: 42B16FD2C0278DA1CDD85DF2B93F51917CE0F | B25: 경질비닐전선관 | C25: HI, 42mm | D25: m | E25: 통신품셈 3-1-1 | F25: 1 | G25: 0 | H25: 20 | K25: 1 | L25: 통신내선공 | M25: =0.13*(H25+100)/100*(I25+100)/100*(J25+100)/100 -> 0.156 | N25: =F25*M25 -> 0.156 | O25: 노임 7 | P25: 0.13*1 * 120% | Q25: 44CA6E9BA1268011536057AF8242A | R25: 45426BEB79238CEA0F025211313A07CF37352 | S25: 0.13 | T25: 44CA6E9BA1268011536057AF8242A42B16FD2C0278DA1CDD85DF2B93F51917CE0F | Z25: =N25 -> 0.156
A26: 42B16FD2C0278DA1CDD85DF2B93F51917CE0F | B26: 경질비닐전선관 | C26: HI, 42mm | D26: m | E26: 통신품셈 3-1-1 | F26: 0 | G26: 0 | K26: 0.1 | L26: 통신내선공 | M26: =0.13*(H26+100)/100*(I26+100)/100*(J26+100)/100 -> 0.13 | N26: =F26*M26 -> 0 | O26: 노임 7 | P26: 0.13*1 | Q26: 44CA6E9BA1268011536057AF8242A | R26: 45426BEB79238CEA0F025211313A07CF37352 | S26: 0.13 | T26: 44CA6E9BA1268011536057AF8242A42B16FD2C0278DA1CDD85DF2B93F51917CE0F | Z26: =N26 -> 0
A27: 45426BEB79238CEA0F025211313A07CF37352 | B27: 통신내선공 | C27: 일반공사 직종 | D27: 인 | F27: =SUM(Z25:Z26) -> 0.156 | K27: =TRUNC(ROUNDDOWN(F27,공량설정_일위대가!C15+1)*공량설정_일위대가!B14/100, 공량설정_일위대가!C15) -> 0.156 | O27: 노임 7 | Q27: 44CA6E9BA1268011536057AF8242A | T27: 44CA6E9BA1268011536057AF8242A45426BEB79238CEA0F025211313A07CF37352
B28: 1종금속제가요전선관 16mm 비방수, 노출 m (호표 7)
A29: 42B16FD2C0278DA1CDD85DC57355A4C3E9D17 | B29: 1종금속제가요전선관 | C29: 16mm, 비방수 | D29: 개 | E29: 통신품셈 3-1-1 | F29: 1 | G29: 0 | H29: 20 | I29: -10 | K29: 1 | L29: 통신내선공 | M29: =0.044*(H29+100)/100*(I29+100)/100*(J29+100)/100 -> 0.04752 | N29: =F29*M29 -> 0.04752 | O29: 노임 7 | P29: 0.044*1 * 120% * 90% | Q29: 44CA6E9BA0258D98F7D35A945350F | R29: 45426BEB79238CEA0F025211313A07CF37352 | S29: 0.044 | T29: 44CA6E9BA0258D98F7D35A945350F42B16FD2C0278DA1CDD85DC57355A4C3E9D17 | Z29: =N29 -> 0.04752
A30: 45426BEB79238CEA0F025211313A07CF37352 | B30: 통신내선공 | C30: 일반공사 직종 | D30: 인 | F30: =SUM(Z29:Z29) -> 0.04752 | K30: =TRUNC(ROUNDDOWN(F30,공량설정_일위대가!C17+1)*공량설정_일위대가!B16/100, 공량설정_일위대가!C17) -> 0.0475 | O30: 노임 7 | Q30: 44CA6E9BA0258D98F7D35A945350F | T30: 44CA6E9BA0258D98F7D35A945350F45426BEB79238CEA0F025211313A07CF37352
B31: 통신용케이블 UTP Cat.6 4P * 6 m (호표 8)
A32: 42A766BD292D8B784AA1558CBB20E4EAEC023 | B32: UTP 케이블 | C32: UTP Cat.6, 4P * 6 | D32: m | E32: 통신품셈 4-3-1 | F32: 1 | G32: 0 | H32: -16 | K32: 1 | L32: 통신케이블공 | M32: =0.015*(H32+100)/100*(I32+100)/100*(J32+100)/100 -> 0.0126 | N32: =F32*M32 -> 0.0126 | O32: 노임 9 | P32: 0.015*1 * 84% | Q32: 44CA6915CA2582A72B0F5690EE172 | R32: 45426BEB79238CEA0F025211313A07CF3735D | S32: 0.015 | T32: 44CA6915CA2582A72B0F5690EE17242A766BD292D8B784AA1558CBB20E4EAEC023 | AA32: =N32 -> 0.0126
A33: 42A766BD292D8B784AA1558CBB20E4EAEC023 | B33: UTP 케이블 | C33: UTP Cat.6, 4P * 6 | D33: m | E33: 통신품셈 4-3-1 | F33: 0.1 | G33: 0 | K33: 0.1 | L33: 통신케이블공 | M33: =0.015*(H33+100)/100*(I33+100)/100*(J33+100)/100 -> 0.015 | N33: =F33*M33 -> 0.0015 | O33: 노임 9 | P33: 0.015*1 | Q33: 44CA6915CA2582A72B0F5690EE172 | R33: 45426BEB79238CEA0F025211313A07CF3735D | S33: 0.015 | T33: 44CA6915CA2582A72B0F5690EE17242A766BD292D8B784AA1558CBB20E4EAEC023 | AA33: =N33 -> 0.0015
A34: 45426BEB79238CEA0F025211313A07CF3735D | B34: 통신케이블공 | C34: 일반공사 직종 | D34: 인 | F34: =SUM(AA32:AA33) -> 0.0141 | K34: =TRUNC(ROUNDDOWN(F34,공량설정_일위대가!C19+1)*공량설정_일위대가!B18/100, 공량설정_일위대가!C19) -> 0.0141 | O34: 노임 9 | Q34: 44CA6915CA2582A72B0F5690EE172 | T34: 44CA6915CA2582A72B0F5690EE17245426BEB79238CEA0F025211313A07CF3735D
B35: 광케이블 F/O 12C m (호표 9)
A36: 42A766BD292D8B78498656098540D922D7B56 | B36: 광케이블 | C36: F/O 12C (SMF) | D36: m | E36: 통신품셈 4-1-1 | F36: 1 | G36: 0 | K36: 1 | L36: 보통인부 | M36: =0.0053*(H36+100)/100*(I36+100)/100*(J36+100)/100 -> 0.0053 | N36: =F36*M36 -> 0.0053 | O36: 노임 2 | P36: 0.0053*1 | Q36: 44CA6915CB278E33CF5C51C9046C4 | R36: 45426BEB79238CEA0F025211313A07CF37BA8 | S36: 0.0053 | T36: 44CA6915CB278E33CF5C51C9046C442A766BD292D8B78498656098540D922D7B56 | V36: =N36 -> 0.0053
L37: 통신외선공 | M37: =0.0048*(H36+100)/100*(I36+100)/100*(J36+100)/100 -> 0.0048 | N37: =F36*M37 -> 0.0048 | O37: 노임 8 | P37: 0.0048*1 | Q37: 44CA6915CB278E33CF5C51C9046C4 | R37: 45426BEB79238CEA0F025211313A07CF3735C | S37: 0.0048 | T37: 44CA6915CB278E33CF5C51C9046C442A766BD292D8B78498656098540D922D7B56 | AB37: =N37 -> 0.0048
A38: 42A766BD292D8B78498656098540D922D7B56 | B38: 광케이블 | C38: F/O 12C (SMF) | D38: m | E38: 통신품셈 4-1-1 | F38: 0.1 | G38: 0 | K38: 0.1 | L38: 보통인부 | M38: =0.0053*(H38+100)/100*(I38+100)/100*(J38+100)/100 -> 0.0053 | N38: =F38*M38 -> 0.00053 | O38: 노임 2 | P38: 0.0053*1 | Q38: 44CA6915CB278E33CF5C51C9046C4 | R38: 45426BEB79238CEA0F025211313A07CF37BA8 | S38: 0.0053 | T38: 44CA6915CB278E33CF5C51C9046C442A766BD292D8B78498656098540D922D7B56 | V38: =N38 -> 0.00053
L39: 통신외선공 | M39: =0.0048*(H38+100)/100*(I38+100)/100*(J38+100)/100 -> 0.0048 | N39: =F38*M39 -> 0.00048 | O39: 노임 8 | P39: 0.0048*1 | Q39: 44CA6915CB278E33CF5C51C9046C4 | R39: 45426BEB79238CEA0F025211313A07CF3735C | S39: 0.0048 | T39: 44CA6915CB278E33CF5C51C9046C442A766BD292D8B78498656098540D922D7B56 | AB39: =N39 -> 0.00048
A40: 45426BEB79238CEA0F025211313A07CF37BA8 | B40: 보통인부 | C40: 일반공사 직종 | D40: 인 | F40: =SUM(V36:V39) -> 0.00583 | K40: =TRUNC(ROUNDDOWN(F40,공량설정_일위대가!C21+1)*공량설정_일위대가!B20/100, 공량설정_일위대가!C21) -> 0.0058 | O40: 노임 2 | Q40: 44CA6915CB278E33CF5C51C9046C4 | T40: 44CA6915CB278E33CF5C51C9046C445426BEB79238CEA0F025211313A07CF37BA8
A41: 45426BEB79238CEA0F025211313A07CF3735C | B41: 통신외선공 | C41: 일반공사 직종 | D41: 인 | F41: =SUM(AB36:AB39) -> 0.00528 | K41: =TRUNC(ROUNDDOWN(F41,공량설정_일위대가!C22+1)*공량설정_일위대가!B20/100, 공량설정_일위대가!C22) -> 0.0052 | O41: 노임 8 | Q41: 44CA6915CB278E33CF5C51C9046C4 | T41: 44CA6915CB278E33CF5C51C9046C445426BEB79238CEA0F025211313A07CF3735C
B42: 합성수지제 가요전선관 하이렉스-CD, 16mm, 매입 m (호표 10)
A43: 42B16FD2C0278DA1CDD85DF2B93F5187E3A3A | B43: 전선관 | C43: 합성수지제가요전선관, CD, 16mm | D43: m | E43: 통신품셈 3-1-1 | F43: 1 | G43: 0 | H43: -20 | I43: -10 | K43: 1 | L43: 통신내선공 | M43: =0.05*(H43+100)/100*(I43+100)/100*(J43+100)/100 -> 0.036 | N43: =F43*M43 -> 0.036 | O43: 노임 7 | P43: 0.05*1 * 80% * 90% | Q43: 44CA6E9BA62E8A6413E358A52718E | R43: 45426BEB79238CEA0F025211313A07CF37352 | S43: 0.05 | T43: 44CA6E9BA62E8A6413E358A52718E42B16FD2C0278DA1CDD85DF2B93F5187E3A3A | Z43: =N43 -> 0.036
A44: 45426BEB79238CEA0F025211313A07CF37352 | B44: 통신내선공 | C44: 일반공사 직종 | D44: 인 | F44: =SUM(Z43:Z43) -> 0.036 | K44: =TRUNC(ROUNDDOWN(F44,공량설정_일위대가!C24+1)*공량설정_일위대가!B23/100, 공량설정_일위대가!C24) -> 0.036 | O44: 노임 7 | Q44: 44CA6E9BA62E8A6413E358A52718E | T44: 44CA6E9BA62E8A6413E358A52718E45426BEB79238CEA0F025211313A07CF37352
B45: 합성수지제 가요전선관 하이렉스-CD, 22mm, 매입 m (호표 11)
A46: 42B16FD2C0278DA1CDD85DF2B93F5187E3A3B | B46: 전선관 | C46: 합성수지제가요전선관, CD, 22mm | D46: m | E46: 통신품셈 3-1-1 | F46: 1 | G46: 0 | H46: -20 | I46: -10 | K46: 1 | L46: 통신내선공 | M46: =0.06*(H46+100)/100*(I46+100)/100*(J46+100)/100 -> 0.0432 | N46: =F46*M46 -> 0.0432 | O46: 노임 7 | P46: 0.06*1 * 80% * 90% | Q46: 44CA6E9BA62E8B02BEB455E61F593 | R46: 45426BEB79238CEA0F025211313A07CF37352 | S46: 0.06 | T46: 44CA6E9BA62E8B02BEB455E61F59342B16FD2C0278DA1CDD85DF2B93F5187E3A3B | Z46: =N46 -> 0.0432
A47: 45426BEB79238CEA0F025211313A07CF37352 | B47: 통신내선공 | C47: 일반공사 직종 | D47: 인 | F47: =SUM(Z46:Z46) -> 0.0432 | K47: =TRUNC(ROUNDDOWN(F47,공량설정_일위대가!C26+1)*공량설정_일위대가!B25/100, 공량설정_일위대가!C26) -> 0.0432 | O47: 노임 7 | Q47: 44CA6E9BA62E8B02BEB455E61F593 | T47: 44CA6E9BA62E8B02BEB455E61F59345426BEB79238CEA0F025211313A07CF37352
B48: 합성수지제 가요전선관 하이렉스-CD, 28mm, 매입 m (호표 12)
A49: 42B16FD2C0278DA1CDD85DF2B93F5187E3A38 | B49: 전선관 | C49: 합성수지제가요전선관, CD, 28mm | D49: m | E49: 통신품셈 3-1-1 | F49: 1 | G49: 0 | H49: -20 | I49: -10 | K49: 1 | L49: 통신내선공 | M49: =0.08*(H49+100)/100*(I49+100)/100*(J49+100)/100 -> 0.0576 | N49: =F49*M49 -> 0.0576 | O49: 노임 7 | P49: 0.08*1 * 80% * 90% | Q49: 44CA6E9BA62E8C2948FE5D4E73B75 | R49: 45426BEB79238CEA0F025211313A07CF37352 | S49: 0.08 | T49: 44CA6E9BA62E8C2948FE5D4E73B7542B16FD2C0278DA1CDD85DF2B93F5187E3A38 | Z49: =N49 -> 0.0576
A50: 45426BEB79238CEA0F025211313A07CF37352 | B50: 통신내선공 | C50: 일반공사 직종 | D50: 인 | F50: =SUM(Z49:Z49) -> 0.0576 | K50: =TRUNC(ROUNDDOWN(F50,공량설정_일위대가!C28+1)*공량설정_일위대가!B27/100, 공량설정_일위대가!C28) -> 0.0576 | O50: 노임 7 | Q50: 44CA6E9BA62E8C2948FE5D4E73B75 | T50: 44CA6E9BA62E8C2948FE5D4E73B7545426BEB79238CEA0F025211313A07CF37352
B51: 스위치박스 ST, 1개용 54mm 개 (호표 13)
A52: 42B16FD2C12082490BC652558A42AC965F7FF | B52: 스위치박스 | C52: 스위치박스, 1개용, 54mm | D52: 개 | E52: 통신품셈 3-2-1 | F52: 1 | G52: 0 | K52: 1 | L52: 통신내선공 | M52: =0.18*(H52+100)/100*(I52+100)/100*(J52+100)/100 -> 0.18 | N52: =F52*M52 -> 0.18 | O52: 노임 7 | P52: 0.18*1 | Q52: 44CA6E91BC2280F88FFF57A8C5676 | R52: 45426BEB79238CEA0F025211313A07CF37352 | S52: 0.18 | T52: 44CA6E91BC2280F88FFF57A8C567642B16FD2C12082490BC652558A42AC965F7FF | Z52: =N52 -> 0.18
A53: 45426BEB79238CEA0F025211313A07CF37352 | B53: 통신내선공 | C53: 일반공사 직종 | D53: 인 | F53: =SUM(Z52:Z52) -> 0.18 | K53: =TRUNC(ROUNDDOWN(F53,공량설정_일위대가!C30+1)*공량설정_일위대가!B29/100, 공량설정_일위대가!C30) -> 0.18 | O53: 노임 7 | Q53: 44CA6E91BC2280F88FFF57A8C5676 | T53: 44CA6E91BC2280F88FFF57A8C567645426BEB79238CEA0F025211313A07CF37352
B54: 아우트렛박스 4각 54mm 개 (호표 14)
A55: 42B16FD2C12082490BC85D03F30DFC5DBF17F | B55: 아웃렛박스 | C55: 아웃렛박스, 중형4각, 54mm | D55: 개 | E55: 통신품셈 3-2-1 | F55: 1 | G55: 0 | K55: 1 | L55: 통신내선공 | M55: =0.18*(H55+100)/100*(I55+100)/100*(J55+100)/100 -> 0.18 | N55: =F55*M55 -> 0.18 | O55: 노임 7 | P55: 0.18*1 | Q55: 44CA6E91BC228603426850C653A77 | R55: 45426BEB79238CEA0F025211313A07CF37352 | S55: 0.18 | T55: 44CA6E91BC228603426850C653A7742B16FD2C12082490BC85D03F30DFC5DBF17F | Z55: =N55 -> 0.18
A56: 45426BEB79238CEA0F025211313A07CF37352 | B56: 통신내선공 | C56: 일반공사 직종 | D56: 인 | F56: =SUM(Z55:Z55) -> 0.18 | K56: =TRUNC(ROUNDDOWN(F56,공량설정_일위대가!C32+1)*공량설정_일위대가!B31/100, 공량설정_일위대가!C32) -> 0.18 | O56: 노임 7 | Q56: 44CA6E91BC228603426850C653A77 | T56: 44CA6E91BC228603426850C653A7745426BEB79238CEA0F025211313A07CF37352
B57: UTP 케이블(구내) UTP Cat.5e 25P * 2 m (호표 15)
A58: 42A766BD292D8B784AA155AF8A697149253F3 | B58: 네트워크케이블 | C58: UTP케이블, UTP Cat.5e 25P * 2 | D58: m | E58: 통신품셈 4-3-1 | F58: 1 | G58: 0 | H58: -10 | K58: 1 | L58: 통신케이블공 | M58: =0.024*(H58+100)/100*(I58+100)/100*(J58+100)/100 -> 0.0216 | N58: =F58*M58 -> 0.0216 | O58: 노임 9 | P58: 0.024*1 * 90% | Q58: 44CA6915CA25857AE3C253D97E663 | R58: 45426BEB79238CEA0F025211313A07CF3735D | S58: 0.024 | T58: 44CA6915CA25857AE3C253D97E66342A766BD292D8B784AA155AF8A697149253F3 | AA58: =N58 -> 0.0216
A59: 42A766BD292D8B784AA155AF8A697149253F3 | B59: 네트워크케이블 | C59: UTP케이블, UTP Cat.5e 25P * 2 | D59: m | E59: 통신품셈 4-3-1 | F59: 0.1 | G59: 0 | K59: 0.1 | L59: 통신케이블공 | M59: =0.024*(H59+100)/100*(I59+100)/100*(J59+100)/100 -> 0.024 | N59: =F59*M59 -> 0.0024 | O59: 노임 9 | P59: 0.024*1 | Q59: 44CA6915CA25857AE3C253D97E663 | R59: 45426BEB79238CEA0F025211313A07CF3735D | S59: 0.024 | T59: 44CA6915CA25857AE3C253D97E66342A766BD292D8B784AA155AF8A697149253F3 | AA59: =N59 -> 0.0024
A60: 45426BEB79238CEA0F025211313A07CF3735D | B60: 통신케이블공 | C60: 일반공사 직종 | D60: 인 | F60: =SUM(AA58:AA59) -> 0.024 | K60: =TRUNC(ROUNDDOWN(F60,공량설정_일위대가!C34+1)*공량설정_일위대가!B33/100, 공량설정_일위대가!C34) -> 0.024 | O60: 노임 9 | Q60: 44CA6915CA25857AE3C253D97E663 | T60: 44CA6915CA25857AE3C253D97E66345426BEB79238CEA0F025211313A07CF3735D
B61: 통신용케이블 UTP Cat.6 4P * 1 m (호표 16)
A62: 42A766BD292D8B784AA1558CBB20E4EAEC3FE | B62: UTP 케이블 | C62: UTP Cat.6, 4P | D62: m | E62: 통신품셈 4-3-1 | F62: 1 | G62: 0 | K62: 1 | L62: 통신케이블공 | M62: =0.015*(H62+100)/100*(I62+100)/100*(J62+100)/100 -> 0.015 | N62: =F62*M62 -> 0.015 | O62: 노임 9 | P62: 0.015*1 | Q62: 44CA6915CA2582A72B0C5948857CE | R62: 45426BEB79238CEA0F025211313A07CF3735D | S62: 0.015 | T62: 44CA6915CA2582A72B0C5948857CE42A766BD292D8B784AA1558CBB20E4EAEC3FE | AA62: =N62 -> 0.015
A63: 45426BEB79238CEA0F025211313A07CF3735D | B63: 통신케이블공 | C63: 일반공사 직종 | D63: 인 | F63: =SUM(AA62:AA62) -> 0.015 | K63: =TRUNC(ROUNDDOWN(F63,공량설정_일위대가!C36+1)*공량설정_일위대가!B35/100, 공량설정_일위대가!C36) -> 0.015 | O63: 노임 9 | Q63: 44CA6915CA2582A72B0C5948857CE | T63: 44CA6915CA2582A72B0C5948857CE45426BEB79238CEA0F025211313A07CF3735D
B64: 통신용케이블 UTP Cat.6 4P * 2 m (호표 17)
A65: 42A766BD292D8B784AA1558CBB20E4EAEC3FF | B65: UTP 케이블 | C65: UTP Cat.6, 4P * 2 | D65: m | E65: 통신품셈 4-3-1 | F65: 1 | G65: 0 | H65: -10 | K65: 1 | L65: 통신케이블공 | M65: =0.015*(H65+100)/100*(I65+100)/100*(J65+100)/100 -> 0.0135 | N65: =F65*M65 -> 0.0135 | O65: 노임 9 | P65: 0.015*1 * 90% | Q65: 44CA6915CA2582A72B0D5BB92205E | R65: 45426BEB79238CEA0F025211313A07CF3735D | S65: 0.015 | T65: 44CA6915CA2582A72B0D5BB92205E42A766BD292D8B784AA1558CBB20E4EAEC3FF | AA65: =N65 -> 0.0135
A66: 42A766BD292D8B784AA1558CBB20E4EAEC3FF | B66: UTP 케이블 | C66: UTP Cat.6, 4P * 2 | D66: m | E66: 통신품셈 4-3-1 | F66: 0.1 | G66: 0 | K66: 0.1 | L66: 통신케이블공 | M66: =0.015*(H66+100)/100*(I66+100)/100*(J66+100)/100 -> 0.015 | N66: =F66*M66 -> 0.0015 | O66: 노임 9 | P66: 0.015*1 | Q66: 44CA6915CA2582A72B0D5BB92205E | R66: 45426BEB79238CEA0F025211313A07CF3735D | S66: 0.015 | T66: 44CA6915CA2582A72B0D5BB92205E42A766BD292D8B784AA1558CBB20E4EAEC3FF | AA66: =N66 -> 0.0015
A67: 45426BEB79238CEA0F025211313A07CF3735D | B67: 통신케이블공 | C67: 일반공사 직종 | D67: 인 | F67: =SUM(AA65:AA66) -> 0.015 | K67: =TRUNC(ROUNDDOWN(F67,공량설정_일위대가!C38+1)*공량설정_일위대가!B37/100, 공량설정_일위대가!C38) -> 0.015 | O67: 노임 9 | Q67: 44CA6915CA2582A72B0D5BB92205E | T67: 44CA6915CA2582A72B0D5BB92205E45426BEB79238CEA0F025211313A07CF3735D
B68: 통신용케이블 UTP Cat.6 4P * 4 m (호표 18)
A69: 42A766BD292D8B784AA1558CBB20E4EAEC3F1 | B69: UTP 케이블 | C69: UTP Cat.6, 4P * 4 | D69: m | E69: 통신품셈 4-3-1 | F69: 1 | G69: 0 | H69: -15 | K69: 1 | L69: 통신케이블공 | M69: =0.015*(H69+100)/100*(I69+100)/100*(J69+100)/100 -> 0.01275 | N69: =F69*M69 -> 0.01275 | O69: 노임 9 | P69: 0.015*1 * 85% | Q69: 44CA6915CA2582A72B0F5690EE174 | R69: 45426BEB79238CEA0F025211313A07CF3735D | S69: 0.015 | T69: 44CA6915CA2582A72B0F5690EE17442A766BD292D8B784AA1558CBB20E4EAEC3F1 | AA69: =N69 -> 0.01275
A70: 42A766BD292D8B784AA1558CBB20E4EAEC3F1 | B70: UTP 케이블 | C70: UTP Cat.6, 4P * 4 | D70: m | E70: 통신품셈 4-3-1 | F70: 0.1 | G70: 0 | K70: 0.1 | L70: 통신케이블공 | M70: =0.015*(H70+100)/100*(I70+100)/100*(J70+100)/100 -> 0.015 | N70: =F70*M70 -> 0.0015 | O70: 노임 9 | P70: 0.015*1 | Q70: 44CA6915CA2582A72B0F5690EE174 | R70: 45426BEB79238CEA0F025211313A07CF3735D | S70: 0.015 | T70: 44CA6915CA2582A72B0F5690EE17442A766BD292D8B784AA1558CBB20E4EAEC3F1 | AA70: =N70 -> 0.0015
A71: 45426BEB79238CEA0F025211313A07CF3735D | B71: 통신케이블공 | C71: 일반공사 직종 | D71: 인 | F71: =SUM(AA69:AA70) -> 0.01425 | K71: =TRUNC(ROUNDDOWN(F71,공량설정_일위대가!C40+1)*공량설정_일위대가!B39/100, 공량설정_일위대가!C40) -> 0.0142 | O71: 노임 9 | Q71: 44CA6915CA2582A72B0F5690EE174 | T71: 44CA6915CA2582A72B0F5690EE17445426BEB79238CEA0F025211313A07CF3735D
B72: 광케이블 F/O 4C (SMF) m (호표 19)
A73: 42A766BD292D8B78498656098540D922D7AB8 | B73: 광케이블 | C73: F/O 4C | D73: m | E73: 통신품셈 4-1-1 | F73: 1 | G73: 0 | K73: 1 | L73: 보통인부 | M73: =0.0053*(H73+100)/100*(I73+100)/100*(J73+100)/100 -> 0.0053 | N73: =F73*M73 -> 0.0053 | O73: 노임 2 | P73: 0.0053*1 | Q73: 44CA6915CB278E33CF5C51C9046C2 | R73: 45426BEB79238CEA0F025211313A07CF37BA8 | S73: 0.0053 | T73: 44CA6915CB278E33CF5C51C9046C242A766BD292D8B78498656098540D922D7AB8 | V73: =N73 -> 0.0053
L74: 통신외선공 | M74: =0.0048*(H73+100)/100*(I73+100)/100*(J73+100)/100 -> 0.0048 | N74: =F73*M74 -> 0.0048 | O74: 노임 8 | P74: 0.0048*1 | Q74: 44CA6915CB278E33CF5C51C9046C2 | R74: 45426BEB79238CEA0F025211313A07CF3735C | S74: 0.0048 | T74: 44CA6915CB278E33CF5C51C9046C242A766BD292D8B78498656098540D922D7AB8 | AB74: =N74 -> 0.0048
A75: 42A766BD292D8B78498656098540D922D7AB8 | B75: 광케이블 | C75: F/O 4C | D75: m | E75: 통신품셈 4-1-1 | F75: 0.1 | G75: 0 | K75: 0.1 | L75: 보통인부 | M75: =0.0053*(H75+100)/100*(I75+100)/100*(J75+100)/100 -> 0.0053 | N75: =F75*M75 -> 0.00053 | O75: 노임 2 | P75: 0.0053*1 | Q75: 44CA6915CB278E33CF5C51C9046C2 | R75: 45426BEB79238CEA0F025211313A07CF37BA8 | S75: 0.0053 | T75: 44CA6915CB278E33CF5C51C9046C242A766BD292D8B78498656098540D922D7AB8 | V75: =N75 -> 0.00053
L76: 통신외선공 | M76: =0.0048*(H75+100)/100*(I75+100)/100*(J75+100)/100 -> 0.0048 | N76: =F75*M76 -> 0.00048 | O76: 노임 8 | P76: 0.0048*1 | Q76: 44CA6915CB278E33CF5C51C9046C2 | R76: 45426BEB79238CEA0F025211313A07CF3735C | S76: 0.0048 | T76: 44CA6915CB278E33CF5C51C9046C242A766BD292D8B78498656098540D922D7AB8 | AB76: =N76 -> 0.00048
A77: 45426BEB79238CEA0F025211313A07CF37BA8 | B77: 보통인부 | C77: 일반공사 직종 | D77: 인 | F77: =SUM(V73:V76) -> 0.00583 | K77: =TRUNC(ROUNDDOWN(F77,공량설정_일위대가!C42+1)*공량설정_일위대가!B41/100, 공량설정_일위대가!C42) -> 0.0058 | O77: 노임 2 | Q77: 44CA6915CB278E33CF5C51C9046C2 | T77: 44CA6915CB278E33CF5C51C9046C245426BEB79238CEA0F025211313A07CF37BA8
A78: 45426BEB79238CEA0F025211313A07CF3735C | B78: 통신외선공 | C78: 일반공사 직종 | D78: 인 | F78: =SUM(AB73:AB76) -> 0.00528 | K78: =TRUNC(ROUNDDOWN(F78,공량설정_일위대가!C43+1)*공량설정_일위대가!B41/100, 공량설정_일위대가!C43) -> 0.0052 | O78: 노임 8 | Q78: 44CA6915CB278E33CF5C51C9046C2 | T78: 44CA6915CB278E33CF5C51C9046C245426BEB79238CEA0F025211313A07CF3735C
B79: 모듈러잭 2구용 개 (호표 20)
A80: 42B16FD2C120824E8DDF545705A1CB7C0E53C | B80: 모듈러잭 | C80: 모듈러잭 2구용 | D80: 개 | E80: 통신품셈 4-3-2 | F80: 1 | G80: 0 | H80: 20 | K80: 1 | L80: 통신내선공 | M80: =0.028*(H80+100)/100*(I80+100)/100*(J80+100)/100 -> 0.0336 | N80: =F80*M80 -> 0.0336 | O80: 노임 7 | P80: 0.028*1 * 120% | Q80: 44CA683F27268EDCD3C7573D1E4BD | R80: 45426BEB79238CEA0F025211313A07CF37352 | S80: 0.028 | T80: 44CA683F27268EDCD3C7573D1E4BD42B16FD2C120824E8DDF545705A1CB7C0E53C | Z80: =N80 -> 0.0336
A81: 45426BEB79238CEA0F025211313A07CF37352 | B81: 통신내선공 | C81: 일반공사 직종 | D81: 인 | F81: =SUM(Z80:Z80) -> 0.0336 | K81: =TRUNC(ROUNDDOWN(F81,공량설정_일위대가!C45+1)*공량설정_일위대가!B44/100, 공량설정_일위대가!C45) -> 0.0336 | O81: 노임 7 | Q81: 44CA683F27268EDCD3C7573D1E4BD | T81: 44CA683F27268EDCD3C7573D1E4BD45426BEB79238CEA0F025211313A07CF37352
B82: 합성수지제 가요전선관 하이렉스-CD, 22mm, 노출 m (호표 21)
A83: 42B16FD2C0278DA1CDD85DF2B93F5187E3A3B | B83: 전선관 | C83: 합성수지제가요전선관, CD, 22mm | D83: m | E83: 통신품셈 3-1-1 | F83: 1 | G83: 0 | H83: -20 | I83: 20 | J83: 0 | K83: 1 | L83: 통신내선공 | M83: =0.06*(H83+100)/100*(I83+100)/100*(J83+100)/100 -> 0.0576 | N83: =F83*M83 -> 0.0576 | O83: 노임 7 | P83: 0.06*1 * 80% * 120% | Q83: 44CA6E9BA62E8B0720D652D06D68A | R83: 45426BEB79238CEA0F025211313A07CF37352 | S83: 0.06 | T83: 44CA6E9BA62E8B0720D652D06D68A42B16FD2C0278DA1CDD85DF2B93F5187E3A3B | Z83: =N83 -> 0.0576
A84: 45426BEB79238CEA0F025211313A07CF37352 | B84: 통신내선공 | C84: 일반공사 직종 | D84: 인 | F84: =SUM(Z83:Z83) -> 0.0576 | K84: =TRUNC(ROUNDDOWN(F84,공량설정_일위대가!C47+1)*공량설정_일위대가!B46/100, 공량설정_일위대가!C47) -> 0.0576 | O84: 노임 7 | Q84: 44CA6E9BA62E8B0720D652D06D68A | T84: 44CA6E9BA62E8B0720D652D06D68A45426BEB79238CEA0F025211313A07CF37352
B85: 제어케이블 TFR-CVV, 3CX1.5㎟ m (호표 22)
A86: 42A766BD292D8B784AAB55C1EF05758E2ECAA | B86: 제어케이블 | C86: 제어케이블, 0.6/1kV, TFR-CVV, 3C×1.5㎟ | D86: m | E86: 통신품셈 4-4-1 | F86: 1 | G86: 5 | K86: 1 | L86: 통신케이블공 | M86: =0.017*(H86+100)/100*(I86+100)/100*(J86+100)/100 -> 0.017 | N86: =F86*M86 -> 0.017 | O86: 노임 9 | P86: 0.017*1 | Q86: 44CA69127A2381313A685CAFDBD1B | R86: 45426BEB79238CEA0F025211313A07CF3735D | S86: 0.017 | T86: 44CA69127A2381313A685CAFDBD1B42A766BD292D8B784AAB55C1EF05758E2ECAA | AA86: =N86 -> 0.017
A87: 42A766BD292D8B784AAB55C1EF05758E2ECAA | B87: 제어케이블 | C87: 제어케이블, 0.6/1kV, TFR-CVV, 3C×1.5㎟ | D87: m | E87: 통신품셈 4-4-1 | F87: 0 | H87: 0 | K87: 0.05 | L87: 통신케이블공 | M87: =0.017*(H87+100)/100*(I87+100)/100*(J87+100)/100 -> 0.017 | N87: =F87*M87 -> 0 | O87: 노임 9 | P87: 0.017*1 | Q87: 44CA69127A2381313A685CAFDBD1B | R87: 45426BEB79238CEA0F025211313A07CF3735D | S87: 0.017 | T87: 44CA69127A2381313A685CAFDBD1B42A766BD292D8B784AAB55C1EF05758E2ECAA | AA87: =N87 -> 0
A88: 45426BEB79238CEA0F025211313A07CF3735D | B88: 통신케이블공 | C88: 일반공사 직종 | D88: 인 | F88: =SUM(AA86:AA87) -> 0.017 | K88: =TRUNC(ROUNDDOWN(F88,공량설정_일위대가!C49+1)*공량설정_일위대가!B48/100, 공량설정_일위대가!C49) -> 0.017 | O88: 노임 9 | Q88: 44CA69127A2381313A685CAFDBD1B | T88: 44CA69127A2381313A685CAFDBD1B45426BEB79238CEA0F025211313A07CF3735D
B89: 전력케이블 F-CV, 0.6/1kV, 3C 2.5㎟ m (호표 23)
A90: 42A766BD292D8B7848F25DA9935743991728E | B90: 전력케이블 | C90: 600V폴리에틸렌케이블, 0.6/1kV, F-CV, 3C×2.5㎟ | D90: m | E90: 통신품셈 4-4-1 | F90: 1 | G90: 0 | K90: 1 | L90: 통신케이블공 | M90: =0.019*(H90+100)/100*(I90+100)/100*(J90+100)/100 -> 0.019 | N90: =F90*M90 -> 0.019 | O90: 노임 9 | P90: 0.019*1 | Q90: 44CA691D0220871BF4C351320AC05 | R90: 45426BEB79238CEA0F025211313A07CF3735D | S90: 0.019 | T90: 44CA691D0220871BF4C351320AC0542A766BD292D8B7848F25DA9935743991728E | AA90: =N90 -> 0.019
A91: 45426BEB79238CEA0F025211313A07CF3735D | B91: 통신케이블공 | C91: 일반공사 직종 | D91: 인 | F91: =SUM(AA90:AA90) -> 0.019 | K91: =TRUNC(ROUNDDOWN(F91,공량설정_일위대가!C51+1)*공량설정_일위대가!B50/100, 공량설정_일위대가!C51) -> 0.019 | O91: 노임 9 | Q91: 44CA691D0220871BF4C351320AC05 | T91: 44CA691D0220871BF4C351320AC0545426BEB79238CEA0F025211313A07CF3735D
B92: HDMI 케이블 HDMI CABLE m (호표 24)
A93: 42A766BD292D8B784AA1558CBB20E4EAEC026 | B93: HDMI CABLE | C93: HDMI CABLE | D93: m | E93: 통신품셈 4-8-1 | F93: 1 | G93: 0 | K93: 1 | L93: 통신케이블공 | M93: =0.016*(H93+100)/100*(I93+100)/100*(J93+100)/100 -> 0.016 | N93: =F93*M93 -> 0.016 | O93: 노임 9 | P93: 0.016*1 | Q93: 44CA6912702C8A6A4F5C5CC633084 | R93: 45426BEB79238CEA0F025211313A07CF3735D | S93: 0.016 | T93: 44CA6912702C8A6A4F5C5CC63308442A766BD292D8B784AA1558CBB20E4EAEC026 | AA93: =N93 -> 0.016
A94: 42A766BD292D8B784AA1558CBB20E4EAEC026 | B94: HDMI CABLE | C94: HDMI CABLE | D94: m | E94: 통신품셈 4-8-1 | F94: 0 | G94: 0 | K94: 0.075 | L94: 통신케이블공 | M94: =0.016*(H94+100)/100*(I94+100)/100*(J94+100)/100 -> 0.016 | N94: =F94*M94 -> 0 | O94: 노임 9 | P94: 0.016*1 | Q94: 44CA6912702C8A6A4F5C5CC633084 | R94: 45426BEB79238CEA0F025211313A07CF3735D | S94: 0.016 | T94: 44CA6912702C8A6A4F5C5CC63308442A766BD292D8B784AA1558CBB20E4EAEC026 | AA94: =N94 -> 0
A95: 45426BEB79238CEA0F025211313A07CF3735D | B95: 통신케이블공 | C95: 일반공사 직종 | D95: 인 | F95: =SUM(AA93:AA94) -> 0.016 | K95: =TRUNC(ROUNDDOWN(F95,공량설정_일위대가!C53+1)*공량설정_일위대가!B52/100, 공량설정_일위대가!C53) -> 0.016 | O95: 노임 9 | Q95: 44CA6912702C8A6A4F5C5CC633084 | T95: 44CA6912702C8A6A4F5C5CC63308445426BEB79238CEA0F025211313A07CF3735D
B96: 스피커케이블 SW-2300 m (호표 25)
A97: 42A766BD292D8B784AA1558CBB20E4EAEC024 | B97: SPEAKER CABLE | C97: SW-2200 | D97: m | E97: 통신품셈 4-8-1 | F97: 1 | G97: 0 | K97: 1 | L97: 통신케이블공 | M97: =0.018*(H97+100)/100*(I97+100)/100*(J97+100)/100 -> 0.018 | N97: =F97*M97 -> 0.018 | O97: 노임 9 | P97: 0.018*1 | Q97: 44CA6912702C8A6B55A7519E5DCA6 | R97: 45426BEB79238CEA0F025211313A07CF3735D | S97: 0.018 | T97: 44CA6912702C8A6B55A7519E5DCA642A766BD292D8B784AA1558CBB20E4EAEC024 | AA97: =N97 -> 0.018
A98: 42A766BD292D8B784AA1558CBB20E4EAEC024 | B98: SPEAKER CABLE | C98: SW-2200 | D98: m | E98: 통신품셈 4-8-1 | F98: 0 | G98: 0 | K98: 0.075 | L98: 통신케이블공 | M98: =0.018*(H98+100)/100*(I98+100)/100*(J98+100)/100 -> 0.018 | N98: =F98*M98 -> 0 | O98: 노임 9 | P98: 0.018*1 | Q98: 44CA6912702C8A6B55A7519E5DCA6 | R98: 45426BEB79238CEA0F025211313A07CF3735D | S98: 0.018 | T98: 44CA6912702C8A6B55A7519E5DCA642A766BD292D8B784AA1558CBB20E4EAEC024 | AA98: =N98 -> 0
A99: 45426BEB79238CEA0F025211313A07CF3735D | B99: 통신케이블공 | C99: 일반공사 직종 | D99: 인 | F99: =SUM(AA97:AA98) -> 0.018 | K99: =TRUNC(ROUNDDOWN(F99,공량설정_일위대가!C55+1)*공량설정_일위대가!B54/100, 공량설정_일위대가!C55) -> 0.018 | O99: 노임 9 | Q99: 44CA6912702C8A6B55A7519E5DCA6 | T99: 44CA6912702C8A6B55A7519E5DCA645426BEB79238CEA0F025211313A07CF3735D
B100: 마이크케이블 MW-3300 m (호표 26)
...

Sheet 단가대비표
A1: 단 가 대 비 표
A2: [ SDV보안평가지원센터통신공사 ]
A3: 코 드 | B3: 품 명 | C3: 규격 | D3: 단위 | E3: 재 료 비 | P3: 노 무 비 | Q3: 경 비 | W3: 번 호 | X3: 비 고 | Y3: 품목구분 | Z3: 노임구분 | AA3: 소수점처리 | AB3: 자재구분
E4: 가격정보 | F4: PAGE | G4: 물가자료 | H4: PAGE | I4: 물가정보 | J4: PAGE | K4: 유통물가 | L4: PAGE | M4: 조사가격 | N4: PAGE | O4: 적용단가 | Q4: 가격정보 | R4: 물가자료 | S4: 물가정보 | T4: 유통물가 | U4: 조사가격 | V4: 적용단가
A5: 42846218E725856FE1E05420A759ABD6DCE2A | B5: 트럭탑재형 크레인 | C5: 10ton | D5: 대 | E5: 0 | G5: 0 | I5: 0 | K5: 0 | M5: 0 | O5: 0 | P5: 0 | Q5: 0 | R5: 0 | S5: 0 | T5: 0 | U5: 82100 | V5: =SMALL(Q5:U5,COUNTIF(Q5:U5,0)+1) -> 82100 | W5: 자재 1 | X5: 천원
A6: 4296681AB92E8DA2A7FC569C8807F550CBD9F | B6: 자갈 | C6: (별도) | D6: ㎥ | E6: 0 | G6: 33000 | H6: 62 | I6: 35800 | J6: 55 | K6: 0 | M6: 0 | O6: =SMALL(E6:M6,COUNTIF(E6:M6,0)+1) -> 33000 | P6: 0 | Q6: 0 | R6: 0 | S6: 0 | T6: 0 | U6: 0 | V6: 0 | W6: 자재 2 | X6: 별도
A7: 42966CF7F52D8D48D68454BDE4E378244A162 | B7: 경유 | C7: 경유, 저유황 | D7: L | E7: 0 | G7: 1670 | H7: 하 32 | I7: 1798 | J7: 1438 | K7: 0 | M7: 0 | O7: =SMALL(E7:M7,COUNTIF(E7:M7,0)+1) -> 1670 | P7: 0 | Q7: 0 | R7: 0 | S7: 0 | T7: 0 | U7: 0 | V7: 0 | W7: 자재 3
A8: 42A766BD292D8B7B1C5D508F0072CE441EE5F | B8: 절연전선및피복선 | C8: 접지용비닐절연전선, F-GV, 16㎟ | D8: m | E8: 2545 | F8: 20683699 | G8: 3274 | H8: 1075 | I8: 3379 | J8: 1165 | K8: 0 | M8: 0 | O8: =SMALL(E8:M8,COUNTIF(E8:M8,0)+1) -> 2545 | P8: 0 | Q8: 0 | R8: 0 | S8: 0 | T8: 0 | U8: 0 | V8: 0 | W8: 자재 4
A9: 42A766BD292D8B7B1C5D508F0072CE440C125 | B9: 절연전선및피복선 | C9: 접지용비닐절연전선, F-GV, 35㎟ | D9: m | E9: 5522 | F9: 20683701 | G9: 6905 | H9: 1075 | I9: 7331 | J9: 1165 | K9: 0 | M9: 0 | O9: =SMALL(E9:M9,COUNTIF(E9:M9,0)+1) -> 5522 | P9: 0 | Q9: 0 | R9: 0 | S9: 0 | T9: 0 | U9: 0 | V9: 0 | W9: 자재 5
A10: 42A766BD292D8B784AAB55C1EF05758E2ECAA | B10: 제어케이블 | C10: 제어케이블, 0.6/1kV, TFR-CVV, 3C×1.5㎟ | D10: m | E10: 1447 | F10: 20684228 | G10: 1867 | H10: 1076 | I10: 1848 | J10: 1179 | K10: 0 | M10: 0 | O10: =SMALL(E10:M10,COUNTIF(E10:M10,0)+1) -> 1447 | P10: 0 | Q10: 0 | R10: 0 | S10: 0 | T10: 0 | U10: 0 | V10: 0 | W10: 자재 6
A11: 42A766BD292D8B784AA155AF8A697149253F3 | B11: 네트워크케이블 | C11: UTP케이블, UTP Cat.5e 25P * 2 | D11: m | E11: 2831 | F11: 21650752 | G11: 0 | I11: 12934 | J11: 1176 | K11: 0 | M11: 0 | O11: =SMALL(E11:M11,COUNTIF(E11:M11,0)+1) -> 2831 | P11: 0 | Q11: 0 | R11: 0 | S11: 0 | T11: 0 | U11: 0 | V11: 0 | W11: 자재 7
A12: 42A766BD292D8B784AA1558CBB20E4EAEC3FE | B12: UTP 케이블 | C12: UTP Cat.6, 4P | D12: m | E12: 570 | F12: 21650753 | G12: 0 | I12: 1659 | J12: 1176 | K12: 0 | M12: 0 | O12: =SMALL(E12:M12,COUNTIF(E12:M12,0)+1) -> 570 | P12: 0 | Q12: 0 | R12: 0 | S12: 0 | T12: 0 | U12: 0 | V12: 0 | W12: 자재 8
A13: 42A766BD292D8B784AA1558CBB20E4EAEC3FF | B13: UTP 케이블 | C13: UTP Cat.6, 4P * 2 | D13: m | E13: 570 | F13: 21650753 | G13: 0 | I13: 1659 | J13: 1176 | K13: 0 | M13: 0 | O13: =SMALL(E13:M13,COUNTIF(E13:M13,0)+1) -> 570 | P13: 0 | Q13: 0 | R13: 0 | S13: 0 | T13: 0 | U13: 0 | V13: 0 | W13: 자재 9
A14: 42A766BD292D8B784AA1558CBB20E4EAEC3F1 | B14: UTP 케이블 | C14: UTP Cat.6, 4P * 4 | D14: m | E14: 570 | F14: 21650753 | G14: 0 | I14: 1659 | J14: 1176 | K14: 0 | M14: 0 | O14: =SMALL(E14:M14,COUNTIF(E14:M14,0)+1) -> 570 | P14: 0 | Q14: 0 | R14: 0 | S14: 0 | T14: 0 | U14: 0 | V14: 0 | W14: 자재 10
A15: 42A766BD292D8B784AA1558CBB20E4EAEC024 | B15: SPEAKER CABLE | C15: SW-2200 | D15: m | E15: 0 | G15: 930 | H15: 1252 | I15: 930 | J15: 1351 | K15: 0 | M15: 0 | O15: =SMALL(E15:M15,COUNTIF(E15:M15,0)+1) -> 930 | P15: 0 | Q15: 0 | R15: 0 | S15: 0 | T15: 0 | U15: 0 | V15: 0 | W15: 자재 11
A16: 42A766BD292D8B784AA1558CBB20E4EAEC025 | B16: MIC CABLE | C16: MW-3200 | D16: m | E16: 0 | G16: 1430 | H16: 1252 | I16: 1430 | J16: 1351 | K16: 0 | M16: 0 | O16: =SMALL(E16:M16,COUNTIF(E16:M16,0)+1) -> 1430 | P16: 0 | Q16: 0 | R16: 0 | S16: 0 | T16: 0 | U16: 0 | V16: 0 | W16: 자재 12
A17: 42A766BD292D8B784AA1558CBB20E4EAEC026 | B17: HDMI CABLE | C17: HDMI CABLE | D17: m | E17: 0 | G17: 15000 | H17: 1249 | I17: 0 | K17: 0 | M17: 0 | O17: =SMALL(E17:M17,COUNTIF(E17:M17,0)+1) -> 15000 | P17: 0 | Q17: 0 | R17: 0 | S17: 0 | T17: 0 | U17: 0 | V17: 0 | W17: 자재 13
A18: 42A766BD292D8B784AA1558CBB20E4EAEC023 | B18: UTP 케이블 | C18: UTP Cat.6, 4P * 6 | D18: m | E18: 570 | F18: 21650753 | G18: 0 | I18: 1659 | J18: 1176 | K18: 0 | M18: 0 | O18: =SMALL(E18:M18,COUNTIF(E18:M18,0)+1) -> 570 | P18: 0 | Q18: 0 | R18: 0 | S18: 0 | T18: 0 | U18: 0 | V18: 0 | W18: 자재 14
A19: 42A766BD292D8B7848F25DA9935743991728E | B19: 전력케이블 | C19: 600V폴리에틸렌케이블, 0.6/1kV, F-CV, 3C×2.5㎟ | D19: m | E19: 1953 | F19: 20683921 | G19: 2340 | H19: 1075 | I19: 2230 | J19: 1168 | K19: 0 | M19: 0 | O19: =SMALL(E19:M19,COUNTIF(E19:M19,0)+1) -> 1953 | P19: 0 | Q19: 0 | R19: 0 | S19: 0 | T19: 0 | U19: 0 | V19: 0 | W19: 자재 15
A20: 42A766BD292D8B78498656098540D922D7AB8 | B20: 광케이블 | C20: F/O 4C | D20: m | E20: 1016 | F20: 20177109 | G20: 1000 | H20: 1080 | I20: 1760 | J20: 1174 | K20: 0 | M20: 0 | O20: =SMALL(E20:M20,COUNTIF(E20:M20,0)+1) -> 1000 | P20: 0 | Q20: 0 | R20: 0 | S20: 0 | T20: 0 | U20: 0 | V20: 0 | W20: 자재 16
A21: 42A766BD292D8B78498656098540D922D7B56 | B21: 광케이블 | C21: F/O 12C (SMF) | D21: m | E21: 1211 | F21: 20177117 | G21: 1200 | H21: 1080 | I21: 2640 | J21: 1174 | K21: 0 | M21: 0 | O21: =SMALL(E21:M21,COUNTIF(E21:M21,0)+1) -> 1200 | P21: 0 | Q21: 0 | R21: 0 | S21: 0 | T21: 0 | U21: 0 | V21: 0 | W21: 자재 17
A22: 42B166F744248FAF1A5F5C5D3222090FA0298 | B22: 맨홀보조물 | C22: 맨홀보조물, 핸드홀, 수공1호 | D22: 조 | E22: 0 | G22: 0 | I22: 110000 | J22: 207 | K22: 0 | M22: 0 | O22: =SMALL(E22:M22,COUNTIF(E22:M22,0)+1) -> 110000 | P22: 0 | Q22: 0 | R22: 0 | S22: 0 | T22: 0 | U22: 0 | V22: 0 | W22: 자재 18
A23: 42B166F744248FAF1A5F5C5D3222090FA029D | B23: 맨홀보조물 | C23: 맨홀보조물, 핸드홀카바, 주철각형, 1120×620×132mm, 송배전용(일반규격) | D23: 조 | E23: 0 | G23: 0 | I23: 778000 | J23: 212 | K23: 0 | M23: 0 | O23: =SMALL(E23:M23,COUNTIF(E23:M23,0)+1) -> 778000 | P23: 0 | Q23: 0 | R23: 0 | S23: 0 | T23: 0 | U23: 0 | V23: 0 | W23: 자재 19
A24: 42B1679C052A87791B3156FC1CF5E3D87E4CE | B24: 행어볼트 | C24: 행어볼트, ∮9×1000mm | D24: 개 | E24: 0 | G24: 1409 | H24: 46 | I24: 1167 | J24: 43 | K24: 0 | M24: 0 | O24: =SMALL(E24:M24,COUNTIF(E24:M24,0)+1) -> 1167 | P24: 0 | Q24: 0 | R24: 0 | S24: 0 | T24: 0 | U24: 0 | V24: 0 | W24: 자재 20
A25: 42B1679C052A8778093A5F92971B484C59FBB | B25: 육각너트 | C25: 육각너트, M10 | D25: 개 | E25: 0 | G25: 33.2 | H25: 51 | I25: 25.1 | J25: 39 | K25: 0 | M25: 0 | O25: =SMALL(E25:M25,COUNTIF(E25:M25,0)+1) -> 25.1 | P25: 0 | Q25: 0 | R25: 0 | S25: 0 | T25: 0 | U25: 0 | V25: 0 | W25: 자재 21
A26: 42B1679C052A877765095B2911688C8B51C83 | B26: 스프링와셔 | C26: 스프링와셔, 용융아연도, 호칭경10mm | D26: 개 | E26: 0 | G26: 10.98 | H26: 48 | I26: 9.2 | J26: 43 | K26: 0 | M26: 0 | O26: =SMALL(E26:M26,COUNTIF(E26:M26,0)+1) -> 9.2 | P26: 0 | Q26: 0 | R26: 0 | S26: 0 | T26: 0 | U26: 0 | V26: 0 | W26: 자재 22
A27: 42B1679C052A84AA35955F080043B152A6EA8 | B27: 스트롱앵커 | C27: 스트롱앵커, M10, 9.5mm | D27: 개 | E27: 0 | G27: 120 | H27: 52 | I27: 200 | J27: 642 | K27: 0 | M27: 0 | O27: =SMALL(E27:M27,COUNTIF(E27:M27,0)+1) -> 120 | P27: 0 | Q27: 0 | R27: 0 | S27: 0 | T27: 0 | U27: 0 | V27: 0 | W27: 자재 23
A28: 42B16FD2C12082490BC3551FACAE8319917A1 | B28: 전기함 | C28: 풀박스, HS-2004, 150×150×100mm | D28: 개 | E28: 2856 | F28: 10035797 | G28: 3870 | H28: 1105 | I28: 3360 | J28: 1206 | K28: 0 | M28: 0 | O28: =SMALL(E28:M28,COUNTIF(E28:M28,0)+1) -> 2856 | P28: 0 | Q28: 0 | R28: 0 | S28: 0 | T28: 0 | U28: 0 | V28: 0 | W28: 자재 24
A29: 42B16FD2C12082490BC652558A42AC965F7FF | B29: 스위치박스 | C29: 스위치박스, 1개용, 54mm | D29: 개 | E29: 591 | F29: 10035778 | G29: 650 | H29: 1105 | I29: 700 | J29: 1206 | K29: 0 | M29: 0 | O29: =SMALL(E29:M29,COUNTIF(E29:M29,0)+1) -> 591 | P29: 0 | Q29: 0 | R29: 0 | S29: 0 | T29: 0 | U29: 0 | V29: 0 | W29: 자재 25
A30: 42B16FD2C12082490BC85D03F30DFC5DBF17F | B30: 아웃렛박스 | C30: 아웃렛박스, 중형4각, 54mm | D30: 개 | E30: 0 | G30: 3100 | H30: 1105 | I30: 3480 | J30: 1206 | K30: 0 | M30: 0 | O30: =SMALL(E30:M30,COUNTIF(E30:M30,0)+1) -> 3100 | P30: 0 | Q30: 0 | R30: 0 | S30: 0 | T30: 0 | U30: 0 | V30: 0 | W30: 자재 26
A31: 42B16FD2C12082490BC85D3F3B75D945456CF | B31: 박스커버 | C31: 4각, 둥근구멍, 평 | D31: 개 | E31: 0 | G31: 400 | H31: 1105 | I31: 343 | J31: 1206 | K31: 0 | M31: 0 | O31: =SMALL(E31:M31,COUNTIF(E31:M31,0)+1) -> 343 | P31: 0 | Q31: 0 | R31: 0 | S31: 0 | T31: 0 | U31: 0 | V31: 0 | W31: 자재 27
A32: 42B16FD2C120824902EA5824073318EF11223 | B32: 통신용발포지수제 | C32: 통신용발포지수제, 발포지수재, D100이하 | D32: 개 | E32: 21707 | F32: 20409528 | G32: 0 | I32: 0 | K32: 0 | M32: 0 | O32: =SMALL(E32:M32,COUNTIF(E32:M32,0)+1) -> 21707 | P32: 0 | Q32: 0 | R32: 0 | S32: 0 | T32: 0 | U32: 0 | V32: 0 | W32: 자재 28
A33: 42B16FD2C120824902EA582407EDFDC43D491 | B33: 통신용발포지수제 | C33: 통신용발포지수제, 수밀보호테이프 | D33: 개 | E33: 2470 | F33: 20935638 | G33: 0 | I33: 0 | K33: 0 | M33: 0 | O33: =SMALL(E33:M33,COUNTIF(E33:M33,0)+1) -> 2470 | P33: 0 | Q33: 0 | R33: 0 | S33: 0 | T33: 0 | U33: 0 | V33: 0 | W33: 자재 29
A34: 42B16FD2C120824E8DDF545705A1CB7C0E53C | B34: 모듈러잭 | C34: 모듈러잭 2구용 | D34: 개 | E34: 2728 | F34: 20935627 | G34: 3960 | H34: 1205 | I34: 0 | K34: 0 | M34: 0 | O34: =SMALL(E34:M34,COUNTIF(E34:M34,0)+1) -> 2728 | P34: 0 | Q34: 0 | R34: 0 | S34: 0 | T34: 0 | U34: 0 | V34: 0 | W34: 자재 30
A35: 42B16FD2C120824CC1705D5388C4B51CF2348 | B35: 접지장치또는조립품 | C35: 접지봉, 14Φ×1000mm | D35: 개 | E35: 3316 | F35: 10034844 | G35: 5780 | H35: 1198 | I35: 6500 | J35: 1270 | K35: 0 | M35: 0 | O35: =SMALL(E35:M35,COUNTIF(E35:M35,0)+1) -> 3316 | P35: 0 | Q35: 0 | R35: 0 | S35: 0 | T35: 0 | U35: 0 | V35: 0 | W35: 자재 31
A36: 42B16FD2C0278DA1CDDA58EAE0D8B55C4F007 | B36: 덕트형케이블트레이 | C36: 덕트형케이블트레이, 하이테크트레이, 분체, 300×t1.0(100)mm | D36: m | E36: 18041 | F36: 20938600 | G36: 29850 | H36: 1111 | I36: 30730 | J36: 1211 | K36: 0 | M36: 0 | O36: =SMALL(E36:M36,COUNTIF(E36:M36,0)+1) -> 18041 | P36: 0 | Q36: 0 | R36: 0 | S36: 0 | T36: 0 | U36: 0 | V36: 0 | W36: 자재 32
A37: 42B16FD2C0278DA1CDDB5912535B750F67F53 | B37: Joint connector | C37: 아연도, 100×t2.3mm | D37: m | E37: 1006 | F37: 20175118 | G37: 1680 | H37: 1114 | I37: 2640 | J37: 1211 | K37: 0 | M37: 0 | O37: =SMALL(E37:M37,COUNTIF(E37:M37,0)+1) -> 1006 | P37: 0 | Q37: 0 | R37: 0 | S37: 0 | T37: 0 | U37: 0 | V37: 0 | W37: 자재 33
A38: 42B16FD2C0278DA1CDDB5912535B750F67C87 | B38: Shank bolt and nut | C38: 아연도 | D38: m | E38: 77 | F38: 20175120 | G38: 210 | H38: 1114 | I38: 200 | J38: 1211 | K38: 0 | M38: 0 | O38: =SMALL(E38:M38,COUNTIF(E38:M38,0)+1) -> 77 | P38: 0 | Q38: 0 | R38: 0 | S38: 0 | T38: 0 | U38: 0 | V38: 0 | W38: 자재 34
A39: 42B16FD2C0278DA1CDDB5912535B750F67C84 | B39: Bonding jumper | C39: 22㎟ | D39: m | E39: 2536 | F39: 20175123 | G39: 2800 | H39: 1113 | I39: 4840 | J39: 1211 | K39: 0 | M39: 0 | O39: =SMALL(E39:M39,COUNTIF(E39:M39,0)+1) -> 2536 | P39: 0 | Q39: 0 | R39: 0 | S39: 0 | T39: 0 | U39: 0 | V39: 0 | W39: 자재 35
A40: 42B16FD2C0278DA1CDDB5912535B750F67C8F | B40: 케이블트레이부속품 | C40: U Channel, 41×41×t2.6mm | D40: m | E40: 6176 | F40: 20175128 | G40: 9100 | H40: 1114 | I40: 12630 | J40: 1211 | K40: 0 | M40: 0 | O40: =SMALL(E40:M40,COUNTIF(E40:M40,0)+1) -> 6176 | P40: 0 | Q40: 0 | R40: 0 | S40: 0 | T40: 0 | U40: 0 | V40: 0 | W40: 자재 36
A41: 42B16FD2C0278DA1CDDB591253D855D925298 | B41: 케이블트레이부속품 | C41: 레일클램프 | D41: m | E41: 0 | G41: 4700 | H41: 1111 | I41: 4500 | J41: 1211 | K41: 0 | M41: 0 | O41: =SMALL(E41:M41,COUNTIF(E41:M41,0)+1) -> 4500 | P41: 0 | Q41: 0 | R41: 0 | S41: 0 | T41: 0 | U41: 0 | V41: 0 | W41: 자재 37
A42: 42B16FD2C0278DA1CDD85DF2B93F51917CE01 | B42: 경질비닐전선관 | C42: HI, 28mm | D42: m | E42: 700 | F42: 10034967 | G42: 1010 | H42: 1107 | I42: 1021 | J42: 1203 | K42: 0 | M42: 0 | O42: =SMALL(E42:M42,COUNTIF(E42:M42,0)+1) -> 700 | P42: 0 | Q42: 0 | R42: 0 | S42: 0 | T42: 0 | U42: 0 | V42: 0 | W42: 자재 38
A43: 42B16FD2C0278DA1CDD85DF2B93F51917CE0F | B43: 경질비닐전선관 | C43: HI, 42mm | D43: m | E43: 1246 | F43: 10034969 | G43: 1880 | H43: 1107 | I43: 1794 | J43: 1203 | K43: 0 | M43: 0 | O43: =SMALL(E43:M43,COUNTIF(E43:M43,0)+1) -> 1246 | P43: 0 | Q43: 0 | R43: 0 | S43: 0 | T43: 0 | U43: 0 | V43: 0 | W43: 자재 39
A44: 42B16FD2C0278DA1CDD85DF2B93F51917CF2D | B44: 경질비닐전선관 | C44: HI, 54mm | D44: m | E44: 1852 | F44: 10034970 | G44: 2670 | H44: 1107 | I44: 2546 | J44: 1203 | K44: 0 | M44: 0 | O44: =SMALL(E44:M44,COUNTIF(E44:M44,0)+1) -> 1852 | P44: 0 | Q44: 0 | R44: 0 | S44: 0 | T44: 0 | U44: 0 | V44: 0 | W44: 자재 40
A45: 42B16FD2C0278DA1CDD85DF2B93F5187E3A3A | B45: 전선관 | C45: 합성수지제가요전선관, CD, 16mm | D45: m | E45: 170 | F45: 10035664 | G45: 160 | H45: 1104 | I45: 278 | J45: 1203 | K45: 0 | M45: 0 | O45: =SMALL(E45:M45,COUNTIF(E45:M45,0)+1) -> 160 | P45: 0 | Q45: 0 | R45: 0 | S45: 0 | T45: 0 | U45: 0 | V45: 0 | W45: 자재 41
A46: 42B16FD2C0278DA1CDD85DF2B93F5187E3A3B | B46: 전선관 | C46: 합성수지제가요전선관, CD, 22mm | D46: m | E46: 255 | F46: 10035665 | G46: 240 | H46: 1104 | I46: 416 | J46: 1203 | K46: 0 | M46: 0 | O46: =SMALL(E46:M46,COUNTIF(E46:M46,0)+1) -> 240 | P46: 0 | Q46: 0 | R46: 0 | S46: 0 | T46: 0 | U46: 0 | V46: 0 | W46: 자재 42
A47: 42B16FD2C0278DA1CDD85DF2B93F5187E3A38 | B47: 전선관 | C47: 합성수지제가요전선관, CD, 28mm | D47: m | E47: 348 | F47: 10035666 | G47: 330 | H47: 1104 | I47: 556 | J47: 1203 | K47: 0 | M47: 0 | O47: =SMALL(E47:M47,COUNTIF(E47:M47,0)+1) -> 330 | P47: 0 | Q47: 0 | R47: 0 | S47: 0 | T47: 0 | U47: 0 | V47: 0 | W47: 자재 43
A48: 42B16FD2C0278DA1CDD85DC57355A4C3E9D17 | B48: 1종금속제가요전선관 | C48: 16mm, 비방수 | D48: 개 | E48: 690 | F48: 20174478 | G48: 720 | H48: 1101 | I48: 544 | J48: 1204 | K48: 0 | M48: 0 | O48: =SMALL(E48:M48,COUNTIF(E48:M48,0)+1) -> 544 | P48: 0 | Q48: 0 | R48: 0 | S48: 0 | T48: 0 | U48: 0 | V48: 0 | W48: 자재 44
A49: 42B16FD2C0278DA1CDD85DC57355A4C3E9FC0 | B49: 박스커넥터(비방수) | C49: 1종금속제가요전선관, 16mm | D49: 개 | E49: 407 | F49: 20174434 | G49: 340 | H49: 1101 | I49: 346 | J49: 1204 | K49: 0 | M49: 0 | O49: =SMALL(E49:M49,COUNTIF(E49:M49,0)+1) -> 340 | P49: 0 | Q49: 0 | R49: 0 | S49: 0 | T49: 0 | U49: 0 | V49: 0 | W49: 자재 45
A50: 42B16FD2C0278DA1CDD651386907E517F0D1C | B50: 전선관피팅 | C50: 관구밀폐기, 실링가스켓, D65 | D50: 개 | E50: 13381 | F50: 20174927 | G50: 13860 | H50: 1106 | I50: 0 | K50: 0 | M50: 0 | O50: =SMALL(E50:M50,COUNTIF(E50:M50,0)+1) -> 13381 | P50: 0 | Q50: 0 | R50: 0 | S50: 0 | T50: 0 | U50: 0 | V50: 0 | W50: 자재 46
A51: 42B16FD2C0278DA1CDD651386984C5D0DC51C | B51: 전선관피팅 | C51: 관구밀폐기, 이종연결관, Φ65mm | D51: 개 | E51: 2976 | F51: 20935651 | G51: 4950 | H51: 1229 | I51: 0 | K51: 0 | M51: 0 | O51: =SMALL(E51:M51,COUNTIF(E51:M51,0)+1) -> 2976 | P51: 0 | Q51: 0 | R51: 0 | S51: 0 | T51: 0 | U51: 0 | V51: 0 | W51: 자재 47
A52: 42DC66DE992A8398997E54359DC969E90C713 | B52: AV설비 시스템 | D52: 식 | E52: 0 | G52: 0 | I52: 0 | K52: 0 | M52: 27949000 | O52: =SMALL(E52:M52,COUNTIF(E52:M52,0)+1) -> 27949000 | P52: 0 | Q52: 0 | R52: 0 | S52: 0 | T52: 0 | U52: 0 | V52: 0 | W52: 자재 48
A53: 42DC66DE992A8398997E54359DC969E90C712 | B53: 통합배선설비 시스템 | D53: 식 | E53: 0 | G53: 0 | I53: 0 | K53: 0 | M53: 38073200 | O53: =SMALL(E53:M53,COUNTIF(E53:M53,0)+1) -> 38073200 | P53: 0 | Q53: 0 | R53: 0 | S53: 0 | T53: 0 | U53: 0 | V53: 0 | W53: 자재 49
A54: 45B26EA5A4238FBD9A775E1B6A036 | B54: 터파기/육상토사 | C54: 0-2m 인력30% | D54: m3 | E54: 293 | G54: 0 | I54: 0 | K54: 0 | M54: 0 | O54: =SMALL(E54:M54,COUNTIF(E54:M54,0)+1) -> 293 | P54: 5073 | Q54: 271 | R54: 0 | S54: 0 | T54: 0 | U54: 0 | V54: =SMALL(Q54:U54,COUNTIF(Q54:U54,0)+1) -> 271 | W54: 자재 50 | Y54: 1
A55: 45B26EA6482D84C8363D561264AFF | B55: 잔토처리 | C55: 토사 | D55: m3 | E55: 163 | G55: 0 | I55: 0 | K55: 0 | M55: 0 | O55: =SMALL(E55:M55,COUNTIF(E55:M55,0)+1) -> 163 | P55: 141 | Q55: 152 | R55: 0 | S55: 0 | T55: 0 | U55: 0 | V55: =SMALL(Q55:U55,COUNTIF(Q55:U55,0)+1) -> 152 | W55: 자재 51 | Y55: 1
A56: 45B26EA878298CCF2C1154746AC61 | B56: 되메우기/토사(인력30%) | C56: 다짐 | D56: m3 | E56: 341 | G56: 0 | I56: 0 | K56: 0 | M56: 0 | O56: =SMALL(E56:M56,COUNTIF(E56:M56,0)+1) -> 341 | P56: 6332 | Q56: 210 | R56: 0 | S56: 0 | T56: 0 | U56: 0 | V56: =SMALL(Q56:U56,COUNTIF(Q56:U56,0)+1) -> 210 | W56: 자재 52 | Y56: 1
A57: 45426BEB79238CEA0F025211313A07CF37BAB | B57: 작업반장 | C57: 일반공사 직종 | D57: 인 | E57: 0 | G57: 0 | I57: 0 | K57: 0 | M57: 0 | O57: 0 | P57: 215907 | Q57: 0 | R57: 0 | S57: 0 | T57: 0 | U57: 0 | V57: 0 | W57: 노임 1 | Y57: B
A58: 45426BEB79238CEA0F025211313A07CF37BA8 | B58: 보통인부 | C58: 일반공사 직종 | D58: 인 | E58: 0 | G58: 0 | I58: 0 | K58: 0 | M58: 0 | O58: 0 | P58: 172068 | Q58: 0 | R58: 0 | S58: 0 | T58: 0 | U58: 0 | V58: 0 | W58: 노임 2 | Y58: B
A59: 45426BEB79238CEA0F025211313A07CF37BA9 | B59: 특별인부 | C59: 일반공사 직종 | D59: 인 | E59: 0 | G59: 0 | I59: 0 | K59: 0 | M59: 0 | O59: 0 | P59: 226122 | Q59: 0 | R59: 0 | S59: 0 | T59: 0 | U59: 0 | V59: 0 | W59: 노임 3 | Y59: B
A60: 45426BEB79238CEA0F025211313A07CF37BAC | B60: 비계공 | C60: 일반공사 직종 | D60: 인 | E60: 0 | G60: 0 | I60: 0 | K60: 0 | M60: 0 | O60: 0 | P60: 281939 | Q60: 0 | R60: 0 | S60: 0 | T60: 0 | U60: 0 | V60: 0 | W60: 노임 4 | Y60: B
A61: 45426BEB79238CEA0F025211313A07CF378D2 | B61: 줄눈공 | C61: 일반공사 직종 | D61: 인 | E61: 0 | G61: 0 | I61: 0 | K61: 0 | M61: 0 | O61: 0 | P61: 211653 | Q61: 0 | R61: 0 | S61: 0 | T61: 0 | U61: 0 | V61: 0 | W61: 노임 5 | Y61: B
A62: 45426BEB79238CEA0F025211313A07CF37F0C | B62: 화물차운전사 | C62: 일반공사 직종 | D62: 인 | E62: 0 | G62: 0 | I62: 0 | K62: 0 | M62: 0 | O62: 0 | P62: 238936 | Q62: 0 | R62: 0 | S62: 0 | T62: 0 | U62: 0 | V62: 0 | W62: 노임 6 | Y62: B
A63: 45426BEB79238CEA0F025211313A07CF37352 | B63: 통신내선공 | C63: 일반공사 직종 | D63: 인 | E63: 0 | G63: 0 | I63: 0 | K63: 0 | M63: 0 | O63: 0 | P63: 284880 | Q63: 0 | R63: 0 | S63: 0 | T63: 0 | U63: 0 | V63: 0 | W63: 노임 7 | Y63: B
A64: 45426BEB79238CEA0F025211313A07CF3735C | B64: 통신외선공 | C64: 일반공사 직종 | D64: 인 | E64: 0 | G64: 0 | I64: 0 | K64: 0 | M64: 0 | O64: 0 | P64: 408942 | Q64: 0 | R64: 0 | S64: 0 | T64: 0 | U64: 0 | V64: 0 | W64: 노임 8 | Y64: B
A65: 45426BEB79238CEA0F025211313A07CF3735D | B65: 통신케이블공 | C65: 일반공사 직종 | D65: 인 | E65: 0 | G65: 0 | I65: 0 | K65: 0 | M65: 0 | O65: 0 | P65: 436224 | Q65: 0 | R65: 0 | S65: 0 | T65: 0 | U65: 0 | V65: 0 | W65: 노임 9 | Y65: B
A66: 442A67B388208AFF18795BD7EEF77EC10163D | B66: 재해예방기술지도 수수료 | D66: 식 | E66: 0 | G66: 0 | I66: 0 | K66: 0 | M66: 2640000 | O66: =SMALL(E66:M66,COUNTIF(E66:M66,0)+1) -> 2640000 | P66: 0 | Q66: 0 | R66: 0 | S66: 0 | T66: 0 | U66: 0 | V66: 0 | W66: 자재 53

Sheet 공량설정_일위대가
A1: 일위대가 | B1: 적용율(%) | C1: 소수점이하자릿수 | D1: 일위대가 코드
A2: 관로구방수 ø65, 3개설치 (호표 1) | B2: 100 | D2: 44CA6E94702E897707835FDA4E31A
A3: 경질비닐전선관 54mm, 매입 (호표 2) | B3: 100 | D3: 44CA6E9BA1268133FBA757370969C
A4: 통신내선공 | C4: 3 | D4: 44CA6E9BA1268133FBA757370969C45426BEB79238CEA0F025211313A07CF37352
A5: 풀박스 150X150X100mm, 매입, 천정 (호표 3) | B5: 100 | D5: 44CA6E96212188D448405D6BC5EA8
A6: 통신내선공 | C6: 2 | D6: 44CA6E96212188D448405D6BC5EA845426BEB79238CEA0F025211313A07CF37352
A7: 핸드홀(수공1호) 950*450*700 (호표 4) | B7: 100 | D7: 44CB66564623873A93E458B04DE63
A8: 특별인부 | C8: 1 | D8: 44CB66564623873A93E458B04DE6345426BEB79238CEA0F025211313A07CF37BA9
A9: 비계공 | C9: 2 | D9: 44CB66564623873A93E458B04DE6345426BEB79238CEA0F025211313A07CF37BAC
A10: 작업반장 | C10: 2 | D10: 44CB66564623873A93E458B04DE6345426BEB79238CEA0F025211313A07CF37BAB
A11: 줄눈공 | C11: 2 | D11: 44CB66564623873A93E458B04DE6345426BEB79238CEA0F025211313A07CF378D2
A12: 경질비닐전선관 28mm, 노출 (호표 5) | B12: 100 | D12: 44CA6E9BA12682DFA69D57AFC7831
A13: 통신내선공 | C13: 3 | D13: 44CA6E9BA12682DFA69D57AFC783145426BEB79238CEA0F025211313A07CF37352
A14: 경질비닐전선관 42mm, 노출 (호표 6) | B14: 100 | D14: 44CA6E9BA1268011536057AF8242A
A15: 통신내선공 | C15: 3 | D15: 44CA6E9BA1268011536057AF8242A45426BEB79238CEA0F025211313A07CF37352
A16: 1종금속제가요전선관 16mm 비방수, 노출 (호표 7) | B16: 100 | D16: 44CA6E9BA0258D98F7D35A945350F
A17: 통신내선공 | C17: 4 | D17: 44CA6E9BA0258D98F7D35A945350F45426BEB79238CEA0F025211313A07CF37352
A18: 통신용케이블 UTP Cat.6 4P * 6 (호표 8) | B18: 100 | D18: 44CA6915CA2582A72B0F5690EE172
A19: 통신케이블공 | C19: 4 | D19: 44CA6915CA2582A72B0F5690EE17245426BEB79238CEA0F025211313A07CF3735D
A20: 광케이블 F/O 12C (호표 9) | B20: 100 | D20: 44CA6915CB278E33CF5C51C9046C4
A21: 보통인부 | C21: 4 | D21: 44CA6915CB278E33CF5C51C9046C445426BEB79238CEA0F025211313A07CF37BA8
A22: 통신외선공 | C22: 4 | D22: 44CA6915CB278E33CF5C51C9046C445426BEB79238CEA0F025211313A07CF3735C
A23: 합성수지제 가요전선관 하이렉스-CD, 16mm, 매입 (호표 10) | B23: 100 | D23: 44CA6E9BA62E8A6413E358A52718E
A24: 통신내선공 | C24: 3 | D24: 44CA6E9BA62E8A6413E358A52718E45426BEB79238CEA0F025211313A07CF37352
A25: 합성수지제 가요전선관 하이렉스-CD, 22mm, 매입 (호표 11) | B25: 100 | D25: 44CA6E9BA62E8B02BEB455E61F593
A26: 통신내선공 | C26: 4 | D26: 44CA6E9BA62E8B02BEB455E61F59345426BEB79238CEA0F025211313A07CF37352
A27: 합성수지제 가요전선관 하이렉스-CD, 28mm, 매입 (호표 12) | B27: 100 | D27: 44CA6E9BA62E8C2948FE5D4E73B75
A28: 통신내선공 | C28: 4 | D28: 44CA6E9BA62E8C2948FE5D4E73B7545426BEB79238CEA0F025211313A07CF37352
A29: 스위치박스 ST, 1개용 54mm (호표 13) | B29: 100 | D29: 44CA6E91BC2280F88FFF57A8C5676
A30: 통신내선공 | C30: 2 | D30: 44CA6E91BC2280F88FFF57A8C567645426BEB79238CEA0F025211313A07CF37352
A31: 아우트렛박스 4각 54mm (호표 14) | B31: 100 | D31: 44CA6E91BC228603426850C653A77
A32: 통신내선공 | C32: 2 | D32: 44CA6E91BC228603426850C653A7745426BEB79238CEA0F025211313A07CF37352
A33: UTP 케이블(구내) UTP Cat.5e 25P * 2 (호표 15) | B33: 100 | D33: 44CA6915CA25857AE3C253D97E663
A34: 통신케이블공 | C34: 3 | D34: 44CA6915CA25857AE3C253D97E66345426BEB79238CEA0F025211313A07CF3735D
A35: 통신용케이블 UTP Cat.6 4P * 1 (호표 16) | B35: 100 | D35: 44CA6915CA2582A72B0C5948857CE
A36: 통신케이블공 | C36: 3 | D36: 44CA6915CA2582A72B0C5948857CE45426BEB79238CEA0F025211313A07CF3735D
A37: 통신용케이블 UTP Cat.6 4P * 2 (호표 17) | B37: 100 | D37: 44CA6915CA2582A72B0D5BB92205E
A38: 통신케이블공 | C38: 3 | D38: 44CA6915CA2582A72B0D5BB92205E45426BEB79238CEA0F025211313A07CF3735D
A39: 통신용케이블 UTP Cat.6 4P * 4 (호표 18) | B39: 100 | D39: 44CA6915CA2582A72B0F5690EE174
A40: 통신케이블공 | C40: 4 | D40: 44CA6915CA2582A72B0F5690EE17445426BEB79238CEA0F025211313A07CF3735D
A41: 광케이블 F/O 4C (SMF) (호표 19) | B41: 100 | D41: 44CA6915CB278E33CF5C51C9046C2
A42: 보통인부 | C42: 4 | D42: 44CA6915CB278E33CF5C51C9046C245426BEB79238CEA0F025211313A07CF37BA8
A43: 통신외선공 | C43: 4 | D43: 44CA6915CB278E33CF5C51C9046C245426BEB79238CEA0F025211313A07CF3735C
A44: 모듈러잭 2구용 (호표 20) | B44: 100 | D44: 44CA683F27268EDCD3C7573D1E4BD
A45: 통신내선공 | C45: 4 | D45: 44CA683F27268EDCD3C7573D1E4BD45426BEB79238CEA0F025211313A07CF37352
A46: 합성수지제 가요전선관 하이렉스-CD, 22mm, 노출 (호표 21) | B46: 100 | D46: 44CA6E9BA62E8B0720D652D06D68A
A47: 통신내선공 | C47: 4 | D47: 44CA6E9BA62E8B0720D652D06D68A45426BEB79238CEA0F025211313A07CF37352
A48: 제어케이블 TFR-CVV, 3CX1.5㎟ (호표 22) | B48: 100 | D48: 44CA69127A2381313A685CAFDBD1B
A49: 통신케이블공 | C49: 3 | D49: 44CA69127A2381313A685CAFDBD1B45426BEB79238CEA0F025211313A07CF3735D
A50: 전력케이블 F-CV, 0.6/1kV, 3C 2.5㎟ (호표 23) | B50: 100 | D50: 44CA691D0220871BF4C351320AC05
A51: 통신케이블공 | C51: 3 | D51: 44CA691D0220871BF4C351320AC0545426BEB79238CEA0F025211313A07CF3735D
A52: HDMI 케이블 HDMI CABLE (호표 24) | B52: 100 | D52: 44CA6912702C8A6A4F5C5CC633084
A53: 통신케이블공 | C53: 3 | D53: 44CA6912702C8A6A4F5C5CC63308445426BEB79238CEA0F025211313A07CF3735D
A54: 스피커케이블 SW-2300 (호표 25) | B54: 100 | D54: 44CA6912702C8A6B55A7519E5DCA6
A55: 통신케이블공 | C55: 3 | D55: 44CA6912702C8A6B55A7519E5DCA645426BEB79238CEA0F025211313A07CF3735D
A56: 마이크케이블 MW-3300 (호표 26) | B56: 100 | D56: 44CA6912702C8A6B55A7519E5DCA1
A57: 통신케이블공 | C57: 3 | D57: 44CA6912702C8A6B55A7519E5DCA145426BEB79238CEA0F025211313A07CF3735D
A58: 절연전선 F-GV, 16㎟, 직매포설 (호표 27) | B58: 100 | D58: 44CA6A7CA42589B5BF31521038424
A59: 통신외선공 | C59: 4 | D59: 44CA6A7CA42589B5BF3152103842445426BEB79238CEA0F025211313A07CF3735C
A60: 하이텍케이블트레이 분체도장, W300×100H×1.0t (호표 28) | B60: 100 | D60: 44CA6E9D532B8CE3E3DE5E4D36B0C
A61: 통신내선공 | C61: 4 | D61: 44CA6E9D532B8CE3E3DE5E4D36B0C45426BEB79238CEA0F025211313A07CF37352
A62: 케이블트레이지지대(수직) W300 (호표 29) | B62: 100 | D62: 44CA6E951F2A893FBACB52F1AD345
A63: 통신내선공 | C63: 2 | D63: 44CA6E951F2A893FBACB52F1AD34545426BEB79238CEA0F025211313A07CF37352
A64: 절연전선 F-GV, 35㎟, 직매포설 (호표 30) | B64: 100 | D64: 44CA6A7CA4258B7AD6C15D5A87E56
A65: 통신외선공 | C65: 3 | D65: 44CA6A7CA4258B7AD6C15D5A87E5645426BEB79238CEA0F025211313A07CF3735C
A66: 접지봉 14Φ×1000mm (호표 31) | B66: 100 | D66: 45D7677332228133BFA8529F1A6FB
A67: 보통인부 | C67: 1 | D67: 45D7677332228133BFA8529F1A6FB45426BEB79238CEA0F025211313A07CF37BA8
A68: 통신외선공 | C68: 1 | D68: 45D7677332228133BFA8529F1A6FB45426BEB79238CEA0F025211313A07CF3735C
A69: 잡석깔기지정 떨공이다지기 (호표 32) | B69: 100 | D69: 459D6EBEFD2987A58F7B534F5FE67
A70: 보통인부 | C70: 1 | D70: 459D6EBEFD2987A58F7B534F5FE6745426BEB79238CEA0F025211313A07CF37BA8
A71: 트럭탑재형 크레인 10 ton (호표 33) | B71: 100 | D71: 42846218E725856FE1E05420A759ABD6DCE2A0E
A72: 화물차운전사 | C72: 0 | D72: 42846218E725856FE1E05420A759ABD6DCE2A0E45426BEB79238CEA0F025211313A07CF37F0C

Sheet  공사설정 
A1: 이 Sheet는 수정하지 마십시요
A2: 공사구분 | B2: D | C2: 타이틀
A3: 확정내역 | B3: 원내역
A4: 자재단가적용 | B4: 5
A5: 경비단가적용 | B5: 5
A6: 품목코드형식 | B6: XXXX-XXXXXXXXXXXXX
A7: 내역금액소수점처리 | B7: C | C7: 1
A8: 일위대가내역소수점처리 | B8: C | C8: 2
A9: 단가명 | B9: 가격정보 | C9: 물가자료 | D9: 물가정보 | E9: 유통물가 | F9: 조사가격 | G9: TTTTT
A10: 환율 | B10: 1153.3 | C10: 0 | D10: 0
A11: 시간당작업량 | B11: R | C11: 4
A12: 1회 사이클시간 | B12: R | C12: 4
A13: 시간당 작업사이클 | B13: R | C13: 3
A14: 일반변수 | B14: C | C14: 5
A15: 시간당 노임산출 계수 | B15: A | C15: 1/8*16/12*25/20 | D15: 1/8*16/12*25/20 | E15: 1/8*16/12*25/20 | F15: 1
A16: 재료비 할증 계수 | B16: 0 | C16: 0
A17: 노무비 할증 계수 | B17: 0 | C17: 0 | D17: 0 | E17: 0 | F17: 0 | G17: 0 | H17: 0 | I17: 0 | J17: 0 | K17: 0 | L17: 0 | M17: 0
A18: 경비 할증 계수 | B18: 0 | C18: 0
A19: 내역,일위대가 품명,규격,단위 따로적용
A20: 내역단가 소수점처리 | C20: 1
A21: 코드 | B21: 공종구분명 | C21: 원가비목코드
A22: 1 | B22: 작 업 부 산 물 | C22: A3
A23: 2 | B23: 운 반 비 | C23: C1
A24: 3 | B24: 관 급 자 재 비 | C24: DJ
A25: 4 | B25: 사 급 자 재 비 | C25: D3
A26: 5 | B26: 외 자 재
A27: 6 | B27: 재해예방기술지도수수료 | C27: E1
A28: 7 | B28: ...
A29: 8 | B29: ...
A30: 9 | B30: ...
A31: A | B31: ....
A32: B | B32: .....
A33: C | B33: ....
A34: D | B34: ....
A35: E | B35: ....
A36: F | B36: ....
A37: G | B37: ....
A38: H | B38: ....
A39: I | B39: ....
A40: J | B40: ....
A43: 단가 순서 | B43: 1234

Sheet Sheet1
